Workbook

Sheet 売掛
A1: 売掛金の年齢表 | E1: 黄色の列だけ入力。入金済みの行は消すか、別のシートに移す
A2: 取引先 | B2: 請求日 | C2: 金額 | D2: 締め日 | E2: 月差 | F2: 支払日 | G2: 締め | H2: 支払期日 | I2: 期日からの日数 | J2: 区分 | L2: 区分 | M2: 件数 | N2: 金額
D3: =IF($A3="","",VLOOKUP($A3,取引先!$A:$D,2,FALSE)) | E3: =IF($A3="","",VLOOKUP($A3,取引先!$A:$D,3,FALSE)) | F3: =IF($A3="","",VLOOKUP($A3,取引先!$A:$D,4,FALSE)) | G3: =IF($A3="","",IF($D3=0,EOMONTH($B3,0),IF(DAY($B3)<=$D3,DATE(YEAR($B3),MONTH($B3),$D3),DATE(YEAR($B3),MONTH($B3)+1,$D3)))) | H3: =IF($G3="","",IF($F3=0,EOMONTH($G3,$E3),DATE(YEAR(EDATE($G3,$E3)),MONTH(EDATE($G3,$E3)),$F3))) | I3: =IF($H3="","",設定!$B$3-$H3) | J3: =IF($I3="","",IF($I3<=0,"期日前",IF($I3<=30,"1-30",IF($I3<=60,"31-60",IF($I3<=90,"61-90","91日以上"))))) | L3: 期日前 | M3: =COUNTIF($J$3:$J$502,$L3) | N3: =SUMIF($J$3:$J$502,$L3,$C$3:$C$502)
D4: =IF($A4="","",VLOOKUP($A4,取引先!$A:$D,2,FALSE)) | E4: =IF($A4="","",VLOOKUP($A4,取引先!$A:$D,3,FALSE)) | F4: =IF($A4="","",VLOOKUP($A4,取引先!$A:$D,4,FALSE)) | G4: =IF($A4="","",IF($D4=0,EOMONTH($B4,0),IF(DAY($B4)<=$D4,DATE(YEAR($B4),MONTH($B4),$D4),DATE(YEAR($B4),MONTH($B4)+1,$D4)))) | H4: =IF($G4="","",IF($F4=0,EOMONTH($G4,$E4),DATE(YEAR(EDATE($G4,$E4)),MONTH(EDATE($G4,$E4)),$F4))) | I4: =IF($H4="","",設定!$B$3-$H4) | J4: =IF($I4="","",IF($I4<=0,"期日前",IF($I4<=30,"1-30",IF($I4<=60,"31-60",IF($I4<=90,"61-90","91日以上"))))) | L4: 1-30 | M4: =COUNTIF($J$3:$J$502,$L4) | N4: =SUMIF($J$3:$J$502,$L4,$C$3:$C$502)
D5: =IF($A5="","",VLOOKUP($A5,取引先!$A:$D,2,FALSE)) | E5: =IF($A5="","",VLOOKUP($A5,取引先!$A:$D,3,FALSE)) | F5: =IF($A5="","",VLOOKUP($A5,取引先!$A:$D,4,FALSE)) | G5: =IF($A5="","",IF($D5=0,EOMONTH($B5,0),IF(DAY($B5)<=$D5,DATE(YEAR($B5),MONTH($B5),$D5),DATE(YEAR($B5),MONTH($B5)+1,$D5)))) | H5: =IF($G5="","",IF($F5=0,EOMONTH($G5,$E5),DATE(YEAR(EDATE($G5,$E5)),MONTH(EDATE($G5,$E5)),$F5))) | I5: =IF($H5="","",設定!$B$3-$H5) | J5: =IF($I5="","",IF($I5<=0,"期日前",IF($I5<=30,"1-30",IF($I5<=60,"31-60",IF($I5<=90,"61-90","91日以上"))))) | L5: 31-60 | M5: =COUNTIF($J$3:$J$502,$L5) | N5: =SUMIF($J$3:$J$502,$L5,$C$3:$C$502)
D6: =IF($A6="","",VLOOKUP($A6,取引先!$A:$D,2,FALSE)) | E6: =IF($A6="","",VLOOKUP($A6,取引先!$A:$D,3,FALSE)) | F6: =IF($A6="","",VLOOKUP($A6,取引先!$A:$D,4,FALSE)) | G6: =IF($A6="","",IF($D6=0,EOMONTH($B6,0),IF(DAY($B6)<=$D6,DATE(YEAR($B6),MONTH($B6),$D6),DATE(YEAR($B6),MONTH($B6)+1,$D6)))) | H6: =IF($G6="","",IF($F6=0,EOMONTH($G6,$E6),DATE(YEAR(EDATE($G6,$E6)),MONTH(EDATE($G6,$E6)),$F6))) | I6: =IF($H6="","",設定!$B$3-$H6) | J6: =IF($I6="","",IF($I6<=0,"期日前",IF($I6<=30,"1-30",IF($I6<=60,"31-60",IF($I6<=90,"61-90","91日以上"))))) | L6: 61-90 | M6: =COUNTIF($J$3:$J$502,$L6) | N6: =SUMIF($J$3:$J$502,$L6,$C$3:$C$502)
D7: =IF($A7="","",VLOOKUP($A7,取引先!$A:$D,2,FALSE)) | E7: =IF($A7="","",VLOOKUP($A7,取引先!$A:$D,3,FALSE)) | F7: =IF($A7="","",VLOOKUP($A7,取引先!$A:$D,4,FALSE)) | G7: =IF($A7="","",IF($D7=0,EOMONTH($B7,0),IF(DAY($B7)<=$D7,DATE(YEAR($B7),MONTH($B7),$D7),DATE(YEAR($B7),MONTH($B7)+1,$D7)))) | H7: =IF($G7="","",IF($F7=0,EOMONTH($G7,$E7),DATE(YEAR(EDATE($G7,$E7)),MONTH(EDATE($G7,$E7)),$F7))) | I7: =IF($H7="","",設定!$B$3-$H7) | J7: =IF($I7="","",IF($I7<=0,"期日前",IF($I7<=30,"1-30",IF($I7<=60,"31-60",IF($I7<=90,"61-90","91日以上"))))) | L7: 91日以上 | M7: =COUNTIF($J$3:$J$502,$L7) | N7: =SUMIF($J$3:$J$502,$L7,$C$3:$C$502)
D8: =IF($A8="","",VLOOKUP($A8,取引先!$A:$D,2,FALSE)) | E8: =IF($A8="","",VLOOKUP($A8,取引先!$A:$D,3,FALSE)) | F8: =IF($A8="","",VLOOKUP($A8,取引先!$A:$D,4,FALSE)) | G8: =IF($A8="","",IF($D8=0,EOMONTH($B8,0),IF(DAY($B8)<=$D8,DATE(YEAR($B8),MONTH($B8),$D8),DATE(YEAR($B8),MONTH($B8)+1,$D8)))) | H8: =IF($G8="","",IF($F8=0,EOMONTH($G8,$E8),DATE(YEAR(EDATE($G8,$E8)),MONTH(EDATE($G8,$E8)),$F8))) | I8: =IF($H8="","",設定!$B$3-$H8) | J8: =IF($I8="","",IF($I8<=0,"期日前",IF($I8<=30,"1-30",IF($I8<=60,"31-60",IF($I8<=90,"61-90","91日以上")))))
D9: =IF($A9="","",VLOOKUP($A9,取引先!$A:$D,2,FALSE)) | E9: =IF($A9="","",VLOOKUP($A9,取引先!$A:$D,3,FALSE)) | F9: =IF($A9="","",VLOOKUP($A9,取引先!$A:$D,4,FALSE)) | G9: =IF($A9="","",IF($D9=0,EOMONTH($B9,0),IF(DAY($B9)<=$D9,DATE(YEAR($B9),MONTH($B9),$D9),DATE(YEAR($B9),MONTH($B9)+1,$D9)))) | H9: =IF($G9="","",IF($F9=0,EOMONTH($G9,$E9),DATE(YEAR(EDATE($G9,$E9)),MONTH(EDATE($G9,$E9)),$F9))) | I9: =IF($H9="","",設定!$B$3-$H9) | J9: =IF($I9="","",IF($I9<=0,"期日前",IF($I9<=30,"1-30",IF($I9<=60,"31-60",IF($I9<=90,"61-90","91日以上"))))) | L9: 合計 | M9: =SUM(M3:M7) | N9: =SUM(N3:N7)
D10: =IF($A10="","",VLOOKUP($A10,取引先!$A:$D,2,FALSE)) | E10: =IF($A10="","",VLOOKUP($A10,取引先!$A:$D,3,FALSE)) | F10: =IF($A10="","",VLOOKUP($A10,取引先!$A:$D,4,FALSE)) | G10: =IF($A10="","",IF($D10=0,EOMONTH($B10,0),IF(DAY($B10)<=$D10,DATE(YEAR($B10),MONTH($B10),$D10),DATE(YEAR($B10),MONTH($B10)+1,$D10)))) | H10: =IF($G10="","",IF($F10=0,EOMONTH($G10,$E10),DATE(YEAR(EDATE($G10,$E10)),MONTH(EDATE($G10,$E10)),$F10))) | I10: =IF($H10="","",設定!$B$3-$H10) | J10: =IF($I10="","",IF($I10<=0,"期日前",IF($I10<=30,"1-30",IF($I10<=60,"31-60",IF($I10<=90,"61-90","91日以上")))))
D11: =IF($A11="","",VLOOKUP($A11,取引先!$A:$D,2,FALSE)) | E11: =IF($A11="","",VLOOKUP($A11,取引先!$A:$D,3,FALSE)) | F11: =IF($A11="","",VLOOKUP($A11,取引先!$A:$D,4,FALSE)) | G11: =IF($A11="","",IF($D11=0,EOMONTH($B11,0),IF(DAY($B11)<=$D11,DATE(YEAR($B11),MONTH($B11),$D11),DATE(YEAR($B11),MONTH($B11)+1,$D11)))) | H11: =IF($G11="","",IF($F11=0,EOMONTH($G11,$E11),DATE(YEAR(EDATE($G11,$E11)),MONTH(EDATE($G11,$E11)),$F11))) | I11: =IF($H11="","",設定!$B$3-$H11) | J11: =IF($I11="","",IF($I11<=0,"期日前",IF($I11<=30,"1-30",IF($I11<=60,"31-60",IF($I11<=90,"61-90","91日以上"))))) | L11: 遅延の金額 | N11: =N4+N5+N6+N7
D12: =IF($A12="","",VLOOKUP($A12,取引先!$A:$D,2,FALSE)) | E12: =IF($A12="","",VLOOKUP($A12,取引先!$A:$D,3,FALSE)) | F12: =IF($A12="","",VLOOKUP($A12,取引先!$A:$D,4,FALSE)) | G12: =IF($A12="","",IF($D12=0,EOMONTH($B12,0),IF(DAY($B12)<=$D12,DATE(YEAR($B12),MONTH($B12),$D12),DATE(YEAR($B12),MONTH($B12)+1,$D12)))) | H12: =IF($G12="","",IF($F12=0,EOMONTH($G12,$E12),DATE(YEAR(EDATE($G12,$E12)),MONTH(EDATE($G12,$E12)),$F12))) | I12: =IF($H12="","",設定!$B$3-$H12) | J12: =IF($I12="","",IF($I12<=0,"期日前",IF($I12<=30,"1-30",IF($I12<=60,"31-60",IF($I12<=90,"61-90","91日以上"))))) | L12: 遅延の割合 | N12: =IF(N9=0,"",ROUND(N11/N9*100,1)&"%")
D13: =IF($A13="","",VLOOKUP($A13,取引先!$A:$D,2,FALSE)) | E13: =IF($A13="","",VLOOKUP($A13,取引先!$A:$D,3,FALSE)) | F13: =IF($A13="","",VLOOKUP($A13,取引先!$A:$D,4,FALSE)) | G13: =IF($A13="","",IF($D13=0,EOMONTH($B13,0),IF(DAY($B13)<=$D13,DATE(YEAR($B13),MONTH($B13),$D13),DATE(YEAR($B13),MONTH($B13)+1,$D13)))) | H13: =IF($G13="","",IF($F13=0,EOMONTH($G13,$E13),DATE(YEAR(EDATE($G13,$E13)),MONTH(EDATE($G13,$E13)),$F13))) | I13: =IF($H13="","",設定!$B$3-$H13) | J13: =IF($I13="","",IF($I13<=0,"期日前",IF($I13<=30,"1-30",IF($I13<=60,"31-60",IF($I13<=90,"61-90","91日以上")))))
D14: =IF($A14="","",VLOOKUP($A14,取引先!$A:$D,2,FALSE)) | E14: =IF($A14="","",VLOOKUP($A14,取引先!$A:$D,3,FALSE)) | F14: =IF($A14="","",VLOOKUP($A14,取引先!$A:$D,4,FALSE)) | G14: =IF($A14="","",IF($D14=0,EOMONTH($B14,0),IF(DAY($B14)<=$D14,DATE(YEAR($B14),MONTH($B14),$D14),DATE(YEAR($B14),MONTH($B14)+1,$D14)))) | H14: =IF($G14="","",IF($F14=0,EOMONTH($G14,$E14),DATE(YEAR(EDATE($G14,$E14)),MONTH(EDATE($G14,$E14)),$F14))) | I14: =IF($H14="","",設定!$B$3-$H14) | J14: =IF($I14="","",IF($I14<=0,"期日前",IF($I14<=30,"1-30",IF($I14<=60,"31-60",IF($I14<=90,"61-90","91日以上")))))
D15: =IF($A15="","",VLOOKUP($A15,取引先!$A:$D,2,FALSE)) | E15: =IF($A15="","",VLOOKUP($A15,取引先!$A:$D,3,FALSE)) | F15: =IF($A15="","",VLOOKUP($A15,取引先!$A:$D,4,FALSE)) | G15: =IF($A15="","",IF($D15=0,EOMONTH($B15,0),IF(DAY($B15)<=$D15,DATE(YEAR($B15),MONTH($B15),$D15),DATE(YEAR($B15),MONTH($B15)+1,$D15)))) | H15: =IF($G15="","",IF($F15=0,EOMONTH($G15,$E15),DATE(YEAR(EDATE($G15,$E15)),MONTH(EDATE($G15,$E15)),$F15))) | I15: =IF($H15="","",設定!$B$3-$H15) | J15: =IF($I15="","",IF($I15<=0,"期日前",IF($I15<=30,"1-30",IF($I15<=60,"31-60",IF($I15<=90,"61-90","91日以上")))))
D16: =IF($A16="","",VLOOKUP($A16,取引先!$A:$D,2,FALSE)) | E16: =IF($A16="","",VLOOKUP($A16,取引先!$A:$D,3,FALSE)) | F16: =IF($A16="","",VLOOKUP($A16,取引先!$A:$D,4,FALSE)) | G16: =IF($A16="","",IF($D16=0,EOMONTH($B16,0),IF(DAY($B16)<=$D16,DATE(YEAR($B16),MONTH($B16),$D16),DATE(YEAR($B16),MONTH($B16)+1,$D16)))) | H16: =IF($G16="","",IF($F16=0,EOMONTH($G16,$E16),DATE(YEAR(EDATE($G16,$E16)),MONTH(EDATE($G16,$E16)),$F16))) | I16: =IF($H16="","",設定!$B$3-$H16) | J16: =IF($I16="","",IF($I16<=0,"期日前",IF($I16<=30,"1-30",IF($I16<=60,"31-60",IF($I16<=90,"61-90","91日以上")))))
D17: =IF($A17="","",VLOOKUP($A17,取引先!$A:$D,2,FALSE)) | E17: =IF($A17="","",VLOOKUP($A17,取引先!$A:$D,3,FALSE)) | F17: =IF($A17="","",VLOOKUP($A17,取引先!$A:$D,4,FALSE)) | G17: =IF($A17="","",IF($D17=0,EOMONTH($B17,0),IF(DAY($B17)<=$D17,DATE(YEAR($B17),MONTH($B17),$D17),DATE(YEAR($B17),MONTH($B17)+1,$D17)))) | H17: =IF($G17="","",IF($F17=0,EOMONTH($G17,$E17),DATE(YEAR(EDATE($G17,$E17)),MONTH(EDATE($G17,$E17)),$F17))) | I17: =IF($H17="","",設定!$B$3-$H17) | J17: =IF($I17="","",IF($I17<=0,"期日前",IF($I17<=30,"1-30",IF($I17<=60,"31-60",IF($I17<=90,"61-90","91日以上")))))
D18: =IF($A18="","",VLOOKUP($A18,取引先!$A:$D,2,FALSE)) | E18: =IF($A18="","",VLOOKUP($A18,取引先!$A:$D,3,FALSE)) | F18: =IF($A18="","",VLOOKUP($A18,取引先!$A:$D,4,FALSE)) | G18: =IF($A18="","",IF($D18=0,EOMONTH($B18,0),IF(DAY($B18)<=$D18,DATE(YEAR($B18),MONTH($B18),$D18),DATE(YEAR($B18),MONTH($B18)+1,$D18)))) | H18: =IF($G18="","",IF($F18=0,EOMONTH($G18,$E18),DATE(YEAR(EDATE($G18,$E18)),MONTH(EDATE($G18,$E18)),$F18))) | I18: =IF($H18="","",設定!$B$3-$H18) | J18: =IF($I18="","",IF($I18<=0,"期日前",IF($I18<=30,"1-30",IF($I18<=60,"31-60",IF($I18<=90,"61-90","91日以上")))))
D19: =IF($A19="","",VLOOKUP($A19,取引先!$A:$D,2,FALSE)) | E19: =IF($A19="","",VLOOKUP($A19,取引先!$A:$D,3,FALSE)) | F19: =IF($A19="","",VLOOKUP($A19,取引先!$A:$D,4,FALSE)) | G19: =IF($A19="","",IF($D19=0,EOMONTH($B19,0),IF(DAY($B19)<=$D19,DATE(YEAR($B19),MONTH($B19),$D19),DATE(YEAR($B19),MONTH($B19)+1,$D19)))) | H19: =IF($G19="","",IF($F19=0,EOMONTH($G19,$E19),DATE(YEAR(EDATE($G19,$E19)),MONTH(EDATE($G19,$E19)),$F19))) | I19: =IF($H19="","",設定!$B$3-$H19) | J19: =IF($I19="","",IF($I19<=0,"期日前",IF($I19<=30,"1-30",IF($I19<=60,"31-60",IF($I19<=90,"61-90","91日以上")))))
D20: =IF($A20="","",VLOOKUP($A20,取引先!$A:$D,2,FALSE)) | E20: =IF($A20="","",VLOOKUP($A20,取引先!$A:$D,3,FALSE)) | F20: =IF($A20="","",VLOOKUP($A20,取引先!$A:$D,4,FALSE)) | G20: =IF($A20="","",IF($D20=0,EOMONTH($B20,0),IF(DAY($B20)<=$D20,DATE(YEAR($B20),MONTH($B20),$D20),DATE(YEAR($B20),MONTH($B20)+1,$D20)))) | H20: =IF($G20="","",IF($F20=0,EOMONTH($G20,$E20),DATE(YEAR(EDATE($G20,$E20)),MONTH(EDATE($G20,$E20)),$F20))) | I20: =IF($H20="","",設定!$B$3-$H20) | J20: =IF($I20="","",IF($I20<=0,"期日前",IF($I20<=30,"1-30",IF($I20<=60,"31-60",IF($I20<=90,"61-90","91日以上")))))
D21: =IF($A21="","",VLOOKUP($A21,取引先!$A:$D,2,FALSE)) | E21: =IF($A21="","",VLOOKUP($A21,取引先!$A:$D,3,FALSE)) | F21: =IF($A21="","",VLOOKUP($A21,取引先!$A:$D,4,FALSE)) | G21: =IF($A21="","",IF($D21=0,EOMONTH($B21,0),IF(DAY($B21)<=$D21,DATE(YEAR($B21),MONTH($B21),$D21),DATE(YEAR($B21),MONTH($B21)+1,$D21)))) | H21: =IF($G21="","",IF($F21=0,EOMONTH($G21,$E21),DATE(YEAR(EDATE($G21,$E21)),MONTH(EDATE($G21,$E21)),$F21))) | I21: =IF($H21="","",設定!$B$3-$H21) | J21: =IF($I21="","",IF($I21<=0,"期日前",IF($I21<=30,"1-30",IF($I21<=60,"31-60",IF($I21<=90,"61-90","91日以上")))))
D22: =IF($A22="","",VLOOKUP($A22,取引先!$A:$D,2,FALSE)) | E22: =IF($A22="","",VLOOKUP($A22,取引先!$A:$D,3,FALSE)) | F22: =IF($A22="","",VLOOKUP($A22,取引先!$A:$D,4,FALSE)) | G22: =IF($A22="","",IF($D22=0,EOMONTH($B22,0),IF(DAY($B22)<=$D22,DATE(YEAR($B22),MONTH($B22),$D22),DATE(YEAR($B22),MONTH($B22)+1,$D22)))) | H22: =IF($G22="","",IF($F22=0,EOMONTH($G22,$E22),DATE(YEAR(EDATE($G22,$E22)),MONTH(EDATE($G22,$E22)),$F22))) | I22: =IF($H22="","",設定!$B$3-$H22) | J22: =IF($I22="","",IF($I22<=0,"期日前",IF($I22<=30,"1-30",IF($I22<=60,"31-60",IF($I22<=90,"61-90","91日以上")))))
D23: =IF($A23="","",VLOOKUP($A23,取引先!$A:$D,2,FALSE)) | E23: =IF($A23="","",VLOOKUP($A23,取引先!$A:$D,3,FALSE)) | F23: =IF($A23="","",VLOOKUP($A23,取引先!$A:$D,4,FALSE)) | G23: =IF($A23="","",IF($D23=0,EOMONTH($B23,0),IF(DAY($B23)<=$D23,DATE(YEAR($B23),MONTH($B23),$D23),DATE(YEAR($B23),MONTH($B23)+1,$D23)))) | H23: =IF($G23="","",IF($F23=0,EOMONTH($G23,$E23),DATE(YEAR(EDATE($G23,$E23)),MONTH(EDATE($G23,$E23)),$F23))) | I23: =IF($H23="","",設定!$B$3-$H23) | J23: =IF($I23="","",IF($I23<=0,"期日前",IF($I23<=30,"1-30",IF($I23<=60,"31-60",IF($I23<=90,"61-90","91日以上")))))
D24: =IF($A24="","",VLOOKUP($A24,取引先!$A:$D,2,FALSE)) | E24: =IF($A24="","",VLOOKUP($A24,取引先!$A:$D,3,FALSE)) | F24: =IF($A24="","",VLOOKUP($A24,取引先!$A:$D,4,FALSE)) | G24: =IF($A24="","",IF($D24=0,EOMONTH($B24,0),IF(DAY($B24)<=$D24,DATE(YEAR($B24),MONTH($B24),$D24),DATE(YEAR($B24),MONTH($B24)+1,$D24)))) | H24: =IF($G24="","",IF($F24=0,EOMONTH($G24,$E24),DATE(YEAR(EDATE($G24,$E24)),MONTH(EDATE($G24,$E24)),$F24))) | I24: =IF($H24="","",設定!$B$3-$H24) | J24: =IF($I24="","",IF($I24<=0,"期日前",IF($I24<=30,"1-30",IF($I24<=60,"31-60",IF($I24<=90,"61-90","91日以上")))))
... D502: =IF($A502="","",VLOOKUP($A502,取引先!$A:$D,2,FALSE)) | E502: =IF($A502="","",VLOOKUP($A502,取引先!$A:$D,3,FALSE)) | F502: =IF($A502="","",VLOOKUP($A502,取引先!$A:$D,4,FALSE)) | G502: =IF($A502="","",IF($D502=0,EOMONTH($B502,0),IF(DAY($B502)<=$D502,DATE(YEAR($B502),MONTH($B502),$D502),DATE(YEAR($B502),MONTH($B502)+1,$D502)))) | H502: =IF($G502="","",IF($F502=0,EOMONTH($G502,$E502),DATE(YEAR(EDATE($G502,$E502)),MONTH(EDATE($G502,$E502)),$F502))) | I502: =IF($H502="","",設定!$B$3-$H502) | J502: =IF($I502="","",IF($I502<=0,"期日前",IF($I502<=30,"1-30",IF($I502<=60,"31-60",IF($I502<=90,"61-90","91日以上")))))

Sheet 取引先
A1: 取引先ごとの条件と、遅延の集計
A2: 取引先 | B2: 締め日(0=月末) | C2: 支払の月差 | D2: 支払日(0=月末) | E2: 遅延の金額 | F2: 遅延の件数 | G2: 91日以上の金額
A3: 霞商店 | B3: 0 | C3: 1 | D3: 0 | E3: =IF($A3="","",SUMIFS(売掛!$C:$C,売掛!$A:$A,$A3,売掛!$I:$I,">0")) | F3: =IF($A3="","",COUNTIFS(売掛!$A:$A,$A3,売掛!$I:$I,">0")) | G3: =IF($A3="","",SUMIFS(売掛!$C:$C,売掛!$A:$A,$A3,売掛!$J:$J,"91日以上"))
A4: 国税工務店 | B4: 20 | C4: 1 | D4: 10 | E4: =IF($A4="","",SUMIFS(売掛!$C:$C,売掛!$A:$A,$A4,売掛!$I:$I,">0")) | F4: =IF($A4="","",COUNTIFS(売掛!$A:$A,$A4,売掛!$I:$I,">0")) | G4: =IF($A4="","",SUMIFS(売掛!$C:$C,売掛!$A:$A,$A4,売掛!$J:$J,"91日以上"))
A5: 青木製作所 | B5: 0 | C5: 2 | D5: 0 | E5: =IF($A5="","",SUMIFS(売掛!$C:$C,売掛!$A:$A,$A5,売掛!$I:$I,">0")) | F5: =IF($A5="","",COUNTIFS(売掛!$A:$A,$A5,売掛!$I:$I,">0")) | G5: =IF($A5="","",SUMIFS(売掛!$C:$C,売掛!$A:$A,$A5,売掛!$J:$J,"91日以上"))
A6: 北川物産 | B6: 15 | C6: 0 | D6: 0 | E6: =IF($A6="","",SUMIFS(売掛!$C:$C,売掛!$A:$A,$A6,売掛!$I:$I,">0")) | F6: =IF($A6="","",COUNTIFS(売掛!$A:$A,$A6,売掛!$I:$I,">0")) | G6: =IF($A6="","",SUMIFS(売掛!$C:$C,売掛!$A:$A,$A6,売掛!$J:$J,"91日以上"))
A7: 南田サービス | B7: 0 | C7: 1 | D7: 10 | E7: =IF($A7="","",SUMIFS(売掛!$C:$C,売掛!$A:$A,$A7,売掛!$I:$I,">0")) | F7: =IF($A7="","",COUNTIFS(売掛!$A:$A,$A7,売掛!$I:$I,">0")) | G7: =IF($A7="","",SUMIFS(売掛!$C:$C,売掛!$A:$A,$A7,売掛!$J:$J,"91日以上"))
E8: =IF($A8="","",SUMIFS(売掛!$C:$C,売掛!$A:$A,$A8,売掛!$I:$I,">0")) | F8: =IF($A8="","",COUNTIFS(売掛!$A:$A,$A8,売掛!$I:$I,">0")) | G8: =IF($A8="","",SUMIFS(売掛!$C:$C,売掛!$A:$A,$A8,売掛!$J:$J,"91日以上"))
E9: =IF($A9="","",SUMIFS(売掛!$C:$C,売掛!$A:$A,$A9,売掛!$I:$I,">0")) | F9: =IF($A9="","",COUNTIFS(売掛!$A:$A,$A9,売掛!$I:$I,">0")) | G9: =IF($A9="","",SUMIFS(売掛!$C:$C,売掛!$A:$A,$A9,売掛!$J:$J,"91日以上"))
E10: =IF($A10="","",SUMIFS(売掛!$C:$C,売掛!$A:$A,$A10,売掛!$I:$I,">0")) | F10: =IF($A10="","",COUNTIFS(売掛!$A:$A,$A10,売掛!$I:$I,">0")) | G10: =IF($A10="","",SUMIFS(売掛!$C:$C,売掛!$A:$A,$A10,売掛!$J:$J,"91日以上"))
E11: =IF($A11="","",SUMIFS(売掛!$C:$C,売掛!$A:$A,$A11,売掛!$I:$I,">0")) | F11: =IF($A11="","",COUNTIFS(売掛!$A:$A,$A11,売掛!$I:$I,">0")) | G11: =IF($A11="","",SUMIFS(売掛!$C:$C,売掛!$A:$A,$A11,売掛!$J:$J,"91日以上"))
E12: =IF($A12="","",SUMIFS(売掛!$C:$C,売掛!$A:$A,$A12,売掛!$I:$I,">0")) | F12: =IF($A12="","",COUNTIFS(売掛!$A:$A,$A12,売掛!$I:$I,">0")) | G12: =IF($A12="","",SUMIFS(売掛!$C:$C,売掛!$A:$A,$A12,売掛!$J:$J,"91日以上"))
E13: =IF($A13="","",SUMIFS(売掛!$C:$C,売掛!$A:$A,$A13,売掛!$I:$I,">0")) | F13: =IF($A13="","",COUNTIFS(売掛!$A:$A,$A13,売掛!$I:$I,">0")) | G13: =IF($A13="","",SUMIFS(売掛!$C:$C,売掛!$A:$A,$A13,売掛!$J:$J,"91日以上"))
E14: =IF($A14="","",SUMIFS(売掛!$C:$C,売掛!$A:$A,$A14,売掛!$I:$I,">0")) | F14: =IF($A14="","",COUNTIFS(売掛!$A:$A,$A14,売掛!$I:$I,">0")) | G14: =IF($A14="","",SUMIFS(売掛!$C:$C,売掛!$A:$A,$A14,売掛!$J:$J,"91日以上"))
E15: =IF($A15="","",SUMIFS(売掛!$C:$C,売掛!$A:$A,$A15,売掛!$I:$I,">0")) | F15: =IF($A15="","",COUNTIFS(売掛!$A:$A,$A15,売掛!$I:$I,">0")) | G15: =IF($A15="","",SUMIFS(売掛!$C:$C,売掛!$A:$A,$A15,売掛!$J:$J,"91日以上"))
E16: =IF($A16="","",SUMIFS(売掛!$C:$C,売掛!$A:$A,$A16,売掛!$I:$I,">0")) | F16: =IF($A16="","",COUNTIFS(売掛!$A:$A,$A16,売掛!$I:$I,">0")) | G16: =IF($A16="","",SUMIFS(売掛!$C:$C,売掛!$A:$A,$A16,売掛!$J:$J,"91日以上"))
E17: =IF($A17="","",SUMIFS(売掛!$C:$C,売掛!$A:$A,$A17,売掛!$I:$I,">0")) | F17: =IF($A17="","",COUNTIFS(売掛!$A:$A,$A17,売掛!$I:$I,">0")) | G17: =IF($A17="","",SUMIFS(売掛!$C:$C,売掛!$A:$A,$A17,売掛!$J:$J,"91日以上"))
E18: =IF($A18="","",SUMIFS(売掛!$C:$C,売掛!$A:$A,$A18,売掛!$I:$I,">0")) | F18: =IF($A18="","",COUNTIFS(売掛!$A:$A,$A18,売掛!$I:$I,">0")) | G18: =IF($A18="","",SUMIFS(売掛!$C:$C,売掛!$A:$A,$A18,売掛!$J:$J,"91日以上"))
E19: =IF($A19="","",SUMIFS(売掛!$C:$C,売掛!$A:$A,$A19,売掛!$I:$I,">0")) | F19: =IF($A19="","",COUNTIFS(売掛!$A:$A,$A19,売掛!$I:$I,">0")) | G19: =IF($A19="","",SUMIFS(売掛!$C:$C,売掛!$A:$A,$A19,売掛!$J:$J,"91日以上"))
... E52: =IF($A52="","",SUMIFS(売掛!$C:$C,売掛!$A:$A,$A52,売掛!$I:$I,">0")) | F52: =IF($A52="","",COUNTIFS(売掛!$A:$A,$A52,売掛!$I:$I,">0")) | G52: =IF($A52="","",SUMIFS(売掛!$C:$C,売掛!$A:$A,$A52,売掛!$J:$J,"91日以上"))

Sheet 設定
A1: 年齢表の基準
A3: 今日の日付 | B3: 46286 | C3: ← 月末に締めて見るなら、その日を入れる
A5: 区分は支払期日からの日数で決めている。請求日からではない。
A6: 支払サイトが取引先で違うので、請求日から数えると期日前のものまで遅延に見える。
