Workbook

Sheet 1_貼り付け
A1: 貼る前に、A列からH列が文字列になっていることを確かめる
A2: 見出しは3行目、値は4行目から。タブ区切りの表をA3に貼る
A3: 社員番号 | B3: 氏名 | C3: 部署 | D3: 入社日 | E3: 基本給 | F3: 電話番号 | G3: 郵便番号 | H3: 備考
A4: 0012 | B4: 山田 太郎 | C4: 総務 | D4: 2026/04/01 | E4: 250000 | F4: 03-1234-5678 | G4: 100-0001
A5: 0013 | B5: 佐藤 花子 | C5: 経理 | D5: 2024/10/16 | E5: 268000 | F5: 03-1234-5679 | G5: 100-0002
A6: 0014 | B6: 鈴木 一郎 | C6: 営業 | D6: 2021/04/01 | E6: 312000 | F6: 045-222-3333 | G6: 220-0011 | H6: 兼務
A7: 0015 | B7: 高橋 次郎 | C7: 営業 | D7: 2019/07/01 | E7: 298000 | F7: 045-222-3334 | G7: 220-0012
A8: 0016 | B8: 田中 三郎 | C8: 製造 | D8: 2026/04/01 | E8: 241000 | F8: 052-111-2222 | G8: 460-0003
A9: 0017 | B9: 伊藤 四郎 | C9: 製造 | D9: 2023/01/16 | E9: 255000 | F9: 052-111-2223 | G9: 460-0004
A10: 0018 | B10: 渡辺 五郎 | C10: 総務 | D10: 2018/04/02 | E10: 330000 | F10: 06-6333-4444 | G10: 530-0001 | H10: 時短
A11: 0019 | B11: 中村 六郎 | C11: 経理 | D11: 2025/09/01 | E11: 247000 | F11: 06-6333-4445 | G11: 530-0002

Sheet 2_検査
A1: 取り込んだ表を数える | K1: =IF('1_貼り付け'!$A$4="","",'1_貼り付け'!$A$4) | L1: =IF($K1="",0,SUMPRODUCT(--EXACT($K$1:$K$200,$K1)))
A2: 列 | B2: 指示した見出し | C2: 実際の見出し | D2: 並び | E2: 入っている数 | F2: 空の数 | G2: いちばん短い字数 | H2: いちばん長い字数 | K2: =IF('1_貼り付け'!$A$5="","",'1_貼り付け'!$A$5) | L2: =IF($K2="",0,SUMPRODUCT(--EXACT($K$1:$K$200,$K2)))
A3: A列 | B3: 社員番号 | C3: ='1_貼り付け'!$A$3 | D3: =IF($B3="","",IF(EXACT($B3,$C3),"合っている","違う")) | E3: =COUNTA('1_貼り付け'!$A$4:$A$203) | F3: =$B$15-$E3 | G3: =IF($E3=0,0,SMALL(INDEX(LEN('1_貼り付け'!$A$4:$A$203)+('1_貼り付け'!$A$4:$A$203="")*999,0),1)) | H3: =IF($E3=0,0,MAX(INDEX(LEN('1_貼り付け'!$A$4:$A$203),0))) | K3: =IF('1_貼り付け'!$A$6="","",'1_貼り付け'!$A$6) | L3: =IF($K3="",0,SUMPRODUCT(--EXACT($K$1:$K$200,$K3)))
A4: B列 | B4: 氏名 | C4: ='1_貼り付け'!$B$3 | D4: =IF($B4="","",IF(EXACT($B4,$C4),"合っている","違う")) | E4: =COUNTA('1_貼り付け'!$B$4:$B$203) | F4: =$B$15-$E4 | G4: =IF($E4=0,0,SMALL(INDEX(LEN('1_貼り付け'!$B$4:$B$203)+('1_貼り付け'!$B$4:$B$203="")*999,0),1)) | H4: =IF($E4=0,0,MAX(INDEX(LEN('1_貼り付け'!$B$4:$B$203),0))) | K4: =IF('1_貼り付け'!$A$7="","",'1_貼り付け'!$A$7) | L4: =IF($K4="",0,SUMPRODUCT(--EXACT($K$1:$K$200,$K4)))
A5: C列 | B5: 部署 | C5: ='1_貼り付け'!$C$3 | D5: =IF($B5="","",IF(EXACT($B5,$C5),"合っている","違う")) | E5: =COUNTA('1_貼り付け'!$C$4:$C$203) | F5: =$B$15-$E5 | G5: =IF($E5=0,0,SMALL(INDEX(LEN('1_貼り付け'!$C$4:$C$203)+('1_貼り付け'!$C$4:$C$203="")*999,0),1)) | H5: =IF($E5=0,0,MAX(INDEX(LEN('1_貼り付け'!$C$4:$C$203),0))) | K5: =IF('1_貼り付け'!$A$8="","",'1_貼り付け'!$A$8) | L5: =IF($K5="",0,SUMPRODUCT(--EXACT($K$1:$K$200,$K5)))
A6: D列 | B6: 入社日 | C6: ='1_貼り付け'!$D$3 | D6: =IF($B6="","",IF(EXACT($B6,$C6),"合っている","違う")) | E6: =COUNTA('1_貼り付け'!$D$4:$D$203) | F6: =$B$15-$E6 | G6: =IF($E6=0,0,SMALL(INDEX(LEN('1_貼り付け'!$D$4:$D$203)+('1_貼り付け'!$D$4:$D$203="")*999,0),1)) | H6: =IF($E6=0,0,MAX(INDEX(LEN('1_貼り付け'!$D$4:$D$203),0))) | K6: =IF('1_貼り付け'!$A$9="","",'1_貼り付け'!$A$9) | L6: =IF($K6="",0,SUMPRODUCT(--EXACT($K$1:$K$200,$K6)))
A7: E列 | B7: 基本給 | C7: ='1_貼り付け'!$E$3 | D7: =IF($B7="","",IF(EXACT($B7,$C7),"合っている","違う")) | E7: =COUNTA('1_貼り付け'!$E$4:$E$203) | F7: =$B$15-$E7 | G7: =IF($E7=0,0,SMALL(INDEX(LEN('1_貼り付け'!$E$4:$E$203)+('1_貼り付け'!$E$4:$E$203="")*999,0),1)) | H7: =IF($E7=0,0,MAX(INDEX(LEN('1_貼り付け'!$E$4:$E$203),0))) | K7: =IF('1_貼り付け'!$A$10="","",'1_貼り付け'!$A$10) | L7: =IF($K7="",0,SUMPRODUCT(--EXACT($K$1:$K$200,$K7)))
A8: F列 | B8: 電話番号 | C8: ='1_貼り付け'!$F$3 | D8: =IF($B8="","",IF(EXACT($B8,$C8),"合っている","違う")) | E8: =COUNTA('1_貼り付け'!$F$4:$F$203) | F8: =$B$15-$E8 | G8: =IF($E8=0,0,SMALL(INDEX(LEN('1_貼り付け'!$F$4:$F$203)+('1_貼り付け'!$F$4:$F$203="")*999,0),1)) | H8: =IF($E8=0,0,MAX(INDEX(LEN('1_貼り付け'!$F$4:$F$203),0))) | K8: =IF('1_貼り付け'!$A$11="","",'1_貼り付け'!$A$11) | L8: =IF($K8="",0,SUMPRODUCT(--EXACT($K$1:$K$200,$K8)))
A9: G列 | B9: 郵便番号 | C9: ='1_貼り付け'!$G$3 | D9: =IF($B9="","",IF(EXACT($B9,$C9),"合っている","違う")) | E9: =COUNTA('1_貼り付け'!$G$4:$G$203) | F9: =$B$15-$E9 | G9: =IF($E9=0,0,SMALL(INDEX(LEN('1_貼り付け'!$G$4:$G$203)+('1_貼り付け'!$G$4:$G$203="")*999,0),1)) | H9: =IF($E9=0,0,MAX(INDEX(LEN('1_貼り付け'!$G$4:$G$203),0))) | K9: =IF('1_貼り付け'!$A$12="","",'1_貼り付け'!$A$12) | L9: =IF($K9="",0,SUMPRODUCT(--EXACT($K$1:$K$200,$K9)))
A10: H列 | B10: 備考 | C10: ='1_貼り付け'!$H$3 | D10: =IF($B10="","",IF(EXACT($B10,$C10),"合っている","違う")) | E10: =COUNTA('1_貼り付け'!$H$4:$H$203) | F10: =$B$15-$E10 | G10: =IF($E10=0,0,SMALL(INDEX(LEN('1_貼り付け'!$H$4:$H$203)+('1_貼り付け'!$H$4:$H$203="")*999,0),1)) | H10: =IF($E10=0,0,MAX(INDEX(LEN('1_貼り付け'!$H$4:$H$203),0))) | K10: =IF('1_貼り付け'!$A$13="","",'1_貼り付け'!$A$13) | L10: =IF($K10="",0,SUMPRODUCT(--EXACT($K$1:$K$200,$K10)))
K11: =IF('1_貼り付け'!$A$14="","",'1_貼り付け'!$A$14) | L11: =IF($K11="",0,SUMPRODUCT(--EXACT($K$1:$K$200,$K11)))
K12: =IF('1_貼り付け'!$A$15="","",'1_貼り付け'!$A$15) | L12: =IF($K12="",0,SUMPRODUCT(--EXACT($K$1:$K$200,$K12)))
A13: 全体 | K13: =IF('1_貼り付け'!$A$16="","",'1_貼り付け'!$A$16) | L13: =IF($K13="",0,SUMPRODUCT(--EXACT($K$1:$K$200,$K13)))
A14: 指示した行数 | B14: 20 | K14: =IF('1_貼り付け'!$A$17="","",'1_貼り付け'!$A$17) | L14: =IF($K14="",0,SUMPRODUCT(--EXACT($K$1:$K$200,$K14)))
A15: 実際の行数 | B15: =COUNTA('1_貼り付け'!$A$4:$A$203) | K15: =IF('1_貼り付け'!$A$18="","",'1_貼り付け'!$A$18) | L15: =IF($K15="",0,SUMPRODUCT(--EXACT($K$1:$K$200,$K15)))
A16: 行数が合っているか | B16: =IF($B14="","",IF($B14=$B15,"合っている","違う")) | K16: =IF('1_貼り付け'!$A$19="","",'1_貼り付け'!$A$19) | L16: =IF($K16="",0,SUMPRODUCT(--EXACT($K$1:$K$200,$K16)))
A17: A列で重複している数 | B17: =SUMPRODUCT(($K$1:$K$200<>"")*($L$1:$L$200>1)) | K17: =IF('1_貼り付け'!$A$20="","",'1_貼り付け'!$A$20) | L17: =IF($K17="",0,SUMPRODUCT(--EXACT($K$1:$K$200,$K17)))
A18: 数値になってしまった数 | B18: =SUMPRODUCT(ISNUMBER('1_貼り付け'!$A$4:$H$203)*1) | K18: =IF('1_貼り付け'!$A$21="","",'1_貼り付け'!$A$21) | L18: =IF($K18="",0,SUMPRODUCT(--EXACT($K$1:$K$200,$K18)))
K19: =IF('1_貼り付け'!$A$22="","",'1_貼り付け'!$A$22) | L19: =IF($K19="",0,SUMPRODUCT(--EXACT($K$1:$K$200,$K19)))
K20: =IF('1_貼り付け'!$A$23="","",'1_貼り付け'!$A$23) | L20: =IF($K20="",0,SUMPRODUCT(--EXACT($K$1:$K$200,$K20)))
K21: =IF('1_貼り付け'!$A$24="","",'1_貼り付け'!$A$24) | L21: =IF($K21="",0,SUMPRODUCT(--EXACT($K$1:$K$200,$K21)))
K22: =IF('1_貼り付け'!$A$25="","",'1_貼り付け'!$A$25) | L22: =IF($K22="",0,SUMPRODUCT(--EXACT($K$1:$K$200,$K22)))
K23: =IF('1_貼り付け'!$A$26="","",'1_貼り付け'!$A$26) | L23: =IF($K23="",0,SUMPRODUCT(--EXACT($K$1:$K$200,$K23)))
K24: =IF('1_貼り付け'!$A$27="","",'1_貼り付け'!$A$27) | L24: =IF($K24="",0,SUMPRODUCT(--EXACT($K$1:$K$200,$K24)))
K25: =IF('1_貼り付け'!$A$28="","",'1_貼り付け'!$A$28) | L25: =IF($K25="",0,SUMPRODUCT(--EXACT($K$1:$K$200,$K25)))
K26: =IF('1_貼り付け'!$A$29="","",'1_貼り付け'!$A$29) | L26: =IF($K26="",0,SUMPRODUCT(--EXACT($K$1:$K$200,$K26)))
K27: =IF('1_貼り付け'!$A$30="","",'1_貼り付け'!$A$30) | L27: =IF($K27="",0,SUMPRODUCT(--EXACT($K$1:$K$200,$K27)))
K28: =IF('1_貼り付け'!$A$31="","",'1_貼り付け'!$A$31) | L28: =IF($K28="",0,SUMPRODUCT(--EXACT($K$1:$K$200,$K28)))
K29: =IF('1_貼り付け'!$A$32="","",'1_貼り付け'!$A$32) | L29: =IF($K29="",0,SUMPRODUCT(--EXACT($K$1:$K$200,$K29)))
K30: =IF('1_貼り付け'!$A$33="","",'1_貼り付け'!$A$33) | L30: =IF($K30="",0,SUMPRODUCT(--EXACT($K$1:$K$200,$K30)))
K31: =IF('1_貼り付け'!$A$34="","",'1_貼り付け'!$A$34) | L31: =IF($K31="",0,SUMPRODUCT(--EXACT($K$1:$K$200,$K31)))
K32: =IF('1_貼り付け'!$A$35="","",'1_貼り付け'!$A$35) | L32: =IF($K32="",0,SUMPRODUCT(--EXACT($K$1:$K$200,$K32)))
K33: =IF('1_貼り付け'!$A$36="","",'1_貼り付け'!$A$36) | L33: =IF($K33="",0,SUMPRODUCT(--EXACT($K$1:$K$200,$K33)))
K34: =IF('1_貼り付け'!$A$37="","",'1_貼り付け'!$A$37) | L34: =IF($K34="",0,SUMPRODUCT(--EXACT($K$1:$K$200,$K34)))
K35: =IF('1_貼り付け'!$A$38="","",'1_貼り付け'!$A$38) | L35: =IF($K35="",0,SUMPRODUCT(--EXACT($K$1:$K$200,$K35)))
K36: =IF('1_貼り付け'!$A$39="","",'1_貼り付け'!$A$39) | L36: =IF($K36="",0,SUMPRODUCT(--EXACT($K$1:$K$200,$K36)))
K37: =IF('1_貼り付け'!$A$40="","",'1_貼り付け'!$A$40) | L37: =IF($K37="",0,SUMPRODUCT(--EXACT($K$1:$K$200,$K37)))
K38: =IF('1_貼り付け'!$A$41="","",'1_貼り付け'!$A$41) | L38: =IF($K38="",0,SUMPRODUCT(--EXACT($K$1:$K$200,$K38)))
K39: =IF('1_貼り付け'!$A$42="","",'1_貼り付け'!$A$42) | L39: =IF($K39="",0,SUMPRODUCT(--EXACT($K$1:$K$200,$K39)))
K40: =IF('1_貼り付け'!$A$43="","",'1_貼り付け'!$A$43) | L40: =IF($K40="",0,SUMPRODUCT(--EXACT($K$1:$K$200,$K40)))
...

Sheet 3_依頼文
A1: そのまま送れる指示の型。角かっこの中だけ書き換える
A3: 次の条件で表を作ってください。
A5: 出力形式: タブ区切り。1行目を見出しにする。コードブロックに入れる。表の前後に説明を付けない。
A6: 列と順番: 社員番号, 氏名, 部署, 入社日, 基本給
A7: 列の名前と順番はこのとおりにする。増やさない。減らさない。並べ替えない。
A8: 各列の書き方:
A9: 社員番号 4桁。前のゼロを含めてそのまま書く（例 0012）
A10: 入社日 YYYY/MM/DD（例 2026/04/01）
A11: 基本給 桁区切りを入れない半角数字（例 250000）
A12: どの列も、値の中にタブとカンマと改行を入れない
A13: 行数: 20行。足りないときは行を作らず、足りないと文で書く。
A14: 値がないセル: 空にしないで 未定 と書く。
... A23: Excelは 0012 を 12 に、1-2 を 1月2日 に、=1+1 を 2 に変える。文字列にしてあれば変わらない。

Sheet 4_使い方
A1: このブックの使い方
A3: 1_貼り付け は、A列からH列の表示形式を文字列にしてある。ここに貼れば値が変わらない。
A4: 列を増やすときは、増やした列も表示形式を文字列にする。書式のコピーで足りる。
A6: 2_検査 の黄色いセルに、AIに指示した見出しと行数を書く。右側の数が自動で出る。
A7: 並びの列が赤くなったら、AIが列を並べ替えたか、名前を変えている。
A8: いちばん短い字数といちばん長い字数が違う列は、前のゼロが消えた行が混ざっている。
A9: 数値になってしまった数が0より大きいときは、貼り先の書式が文字列になっていない。
A11: 3_依頼文 の文をそのまま送る。列の名前と順番、各列の書き方、行数の4つを必ず書く。
A13: Markdownの表をそのまま貼ると、縦線ごと1つの列に入る。タブ区切りで出させる。
A14: 値の中にカンマがあるとCSVでは列が増える。カンマを入れないよう指示に書いてある。
