Workbook

Sheet 1_貼り付け
A1: 貼る前に、A列からH列が文字列になっていることを確かめる
A2: 見出しは3行目、値は4行目から。タブ区切りの表をA3に貼る
A3: 社員番号 | B3: 氏名 | C3: 部署 | D3: 入社日 | E3: 基本給 | F3: 電話番号 | G3: 郵便番号 | H3: 備考
A4: 0012 | B4: 山田 太郎 | C4: 総務 | D4: 2026/04/01 | E4: 250000 | F4: 03-1234-5678 | G4: 100-0001
A5: 0013 | B5: 佐藤 花子 | C5: 経理 | D5: 2024/10/16 | E5: 268000 | F5: 03-1234-5679 | G5: 100-0002
A6: 0014 | B6: 鈴木 一郎 | C6: 営業 | D6: 2021/04/01 | E6: 312000 | F6: 045-222-3333 | G6: 220-0011 | H6: 兼務
A7: 0015 | B7: 高橋 次郎 | C7: 営業 | D7: 2019/07/01 | E7: 298000 | F7: 045-222-3334 | G7: 220-0012
A8: 0016 | B8: 田中 三郎 | C8: 製造 | D8: 2026/04/01 | E8: 241000 | F8: 052-111-2222 | G8: 460-0003
A9: 0017 | B9: 伊藤 四郎 | C9: 製造 | D9: 2023/01/16 | E9: 255000 | F9: 052-111-2223 | G9: 460-0004
A10: 0018 | B10: 渡辺 五郎 | C10: 総務 | D10: 2018/04/02 | E10: 330000 | F10: 06-6333-4444 | G10: 530-0001 | H10: 時短
A11: 0019 | B11: 中村 六郎 | C11: 経理 | D11: 2025/09/01 | E11: 247000 | F11: 06-6333-4445 | G11: 530-0002

Sheet 2_検査
A1: 取り込んだ表を数える | K1: =IF('1_貼り付け'!$A$4="","",'1_貼り付け'!$A$4) | L1: =IF($K1="",0,SUMPRODUCT(--EXACT($K$1:$K$200,$K1)))
A2: 列 | B2: 指示した見出し | C2: 実際の見出し | D2: 並び | E2: 入っている数 | F2: 空の数 | G2: いちばん短い字数 | H2: いちばん長い字数 | K2: =IF('1_貼り付け'!$A$5="","",'1_貼り付け'!$A$5) | L2: =IF($K2="",0,SUMPRODUCT(--EXACT($K$1:$K$200,$K2)))
A3: A列 | B3: 社員番号 | C3: ='1_貼り付け'!$A$3 | D3: =IF($B3="","",IF(EXACT($B3,$C3),"合っている","違う")) | E3: =COUNTA('1_貼り付け'!$A$4:$A$203) | F3: =$B$15-$E3 | G3: =IF($E3=0,0,SMALL(INDEX(LEN('1_貼り付け'!$A$4:$A$203)+('1_貼り付け'!$A$4:$A$203="")*999,0),1)) | H3: =IF($E3=0,0,MAX(INDEX(LEN('1_貼り付け'!$A$4:$A$203),0))) | K3: =IF('1_貼り付け'!$A$6="","",'1_貼り付け'!$A$6) | L3: =IF($K3="",0,SUMPRODUCT(--EXACT($K$1:$K$200,$K3)))
A4: B列 | B4: 氏名 | C4: ='1_貼り付け'!$B$3 | D4: =IF($B4="","",IF(EXACT($B4,$C4),"合っている","違う")) | E4: =COUNTA('1_貼り付け'!$B$4:$B$203) | F4: =$B$15-$E4 | G4: =IF($E4=0,0,SMALL(INDEX(LEN('1_貼り付け'!$B$4:$B$203)+('1_貼り付け'!$B$4:$B$203="")*999,0),1)) | H4: =IF($E4=0,0,MAX(INDEX(LEN('1_貼り付け'!$B$4:$B$203),0))) | K4: =IF('1_貼り付け'!$A$7="","",'1_貼り付け'!$A$7) | L4: =IF($K4="",0,SUMPRODUCT(--EXACT($K$1:$K$200,$K4)))
A5: C列 | B5: 部署 | C5: ='1_貼り付け'!$C$3 | D5: =IF($B5="","",IF(EXACT($B5,$C5),"合っている","違う")) | E5: =COUNTA('1_貼り付け'!$C$4:$C$203) | F5: =$B$15-$E5 | G5: =IF($E5=0,0,SMALL(INDEX(LEN('1_貼り付け'!$C$4:$C$203)+('1_貼り付け'!$C$4:$C$203="")*999,0),1)) | H5: =IF($E5=0,0,MAX(INDEX(LEN('1_貼り付け'!$C$4:$C$203),0))) | K5: =IF('1_貼り付け'!$A$8="","",'1_貼り付け'!$A$8) | L5: =IF($K5="",0,SUMPRODUCT(--EXACT($K$1:$K$200,$K5)))
A6: D列 | B6: 入社日 | C6: ='1_貼り付け'!$D$3 | D6: =IF($B6="","",IF(EXACT($B6,$C6),"合っている","違う")) | E6: =COUNTA('1_貼り付け'!$D$4:$D$203) | F6: =$B$15-$E6 | G6: =IF($E6=0,0,SMALL(INDEX(LEN('1_貼り付け'!$D$4:$D$203)+('1_貼り付け'!$D$4:$D$203="")*999,0),1)) | H6: =IF($E6=0,0,MAX(INDEX(LEN('1_貼り付け'!$D$4:$D$203),0))) | K6: =IF('1_貼り付け'!$A$9="","",'1_貼り付け'!$A$9) | L6: =IF($K6="",0,SUMPRODUCT(--EXACT($K$1:$K$200,$K6)))
A7: E列 | B7: 基本給 | C7: ='1_貼り付け'!$E$3 | D7: =IF($B7="","",IF(EXACT($B7,$C7),"合っている","違う")) | E7: =COUNTA('1_貼り付け'!$E$4:$E$203) | F7: =$B$15-$E7 | G7: =IF($E7=0,0,SMALL(INDEX(LEN('1_貼り付け'!$E$4:$E$203)+('1_貼り付け'!$E$4:$E$203="")*999,0),1)) | H7: =IF($E7=0,0,MAX(INDEX(LEN('1_貼り付け'!$E$4:$E$203),0))) | K7: =IF('1_貼り付け'!$A$10="","",'1_貼り付け'!$A$10) | L7: =IF($K7="",0,SUMPRODUCT(--EXACT($K$1:$K$200,$K7)))
A8: F列 | B8: 電話番号 | C8: ='1_貼り付け'!$F$3 | D8: =IF($B8="","",IF(EXACT($B8,$C8),"合っている","違う")) | E8: =COUNTA('1_貼り付け'!$F$4:$F$203) | F8: =$B$15-$E8 | G8: =IF($E8=0,0,SMALL(INDEX(LEN('1_貼り付け'!$F$4:$F$203)+('1_貼り付け'!$F$4:$F$203="")*999,0),1)) | H8: =IF($E8=0,0,MAX(INDEX(LEN('1_貼り付け'!$F$4:$F$203),0))) | K8: =IF('1_貼り付け'!$A$11="","",'1_貼り付け'!$A$11) | L8: =IF($K8="",0,SUMPRODUCT(--EXACT($K$1:$K$200,$K8)))
A9: G列 | B9: 郵便番号 | C9: ='1_貼り付け'!$G$3 | D9: =IF($B9="","",IF(EXACT($B9,$C9),"合っている","違う")) | E9: =COUNTA('1_貼り付け'!$G$4:$G$203) | F9: =$B$15-$E9 | G9: =IF($E9=0,0,SMALL(INDEX(LEN('1_貼り付け'!$G$4:$G$203)+('1_貼り付け'!$G$4:$G$203="")*999,0),1)) | H9: =IF($E9=0,0,MAX(INDEX(LEN('1_貼り付け'!$G$4:$G$203),0))) | K9: =IF('1_貼り付け'!$A$12="","",'1_貼り付け'!$A$12) | L9: =IF($K9="",0,SUMPRODUCT(--EXACT($K$1:$K$200,$K9)))
A10: H列 | B10: 備考 | C10: ='1_貼り付け'!$H$3 | D10: =IF($B10="","",IF(EXACT($B10,$C10),"合っている","違う")) | E10: =COUNTA('1_貼り付け'!$H$4:$H$203) | F10: =$B$15-$E10 | G10: =IF($E10=0,0,SMALL(INDEX(LEN('1_貼り付け'!$H$4:$H$203)+('1_貼り付け'!$H$4:$H$203="")*999,0),1)) | H10: =IF($E10=0,0,MAX(INDEX(LEN('1_貼り付け'!$H$4:$H$203),0))) | K10: =IF('1_貼り付け'!$A$13="","",'1_貼り付け'!$A$13) | L10: =IF($K10="",0,SUMPRODUCT(--EXACT($K$1:$K$200,$K10)))
K11: =IF('1_貼り付け'!$A$14="","",'1_貼り付け'!$A$14) | L11: =IF($K11="",0,SUMPRODUCT(--EXACT($K$1:$K$200,$K11)))
K12: =IF('1_貼り付け'!$A$15="","",'1_貼り付け'!$A$15) | L12: =IF($K12="",0,SUMPRODUCT(--EXACT($K$1:$K$200,$K12)))
A13: 全体 | K13: =IF('1_貼り付け'!$A$16="","",'1_貼り付け'!$A$16) | L13: =IF($K13="",0,SUMPRODUCT(--EXACT($K$1:$K$200,$K13)))
A14: 指示した行数 | B14: 20 | K14: =IF('1_貼り付け'!$A$17="","",'1_貼り付け'!$A$17) | L14: =IF($K14="",0,SUMPRODUCT(--EXACT($K$1:$K$200,$K14)))
A15: 実際の行数 | B15: =COUNTA('1_貼り付け'!$A$4:$A$203) | K15: =IF('1_貼り付け'!$A$18="","",'1_貼り付け'!$A$18) | L15: =IF($K15="",0,SUMPRODUCT(--EXACT($K$1:$K$200,$K15)))
A16: 行数が合っているか | B16: =IF($B14="","",IF($B14=$B15,"合っている","違う")) | K16: =IF('1_貼り付け'!$A$19="","",'1_貼り付け'!$A$19) | L16: =IF($K16="",0,SUMPRODUCT(--EXACT($K$1:$K$200,$K16)))
A17: A列で重複している数 | B17: =SUMPRODUCT(($K$1:$K$200<>"")*($L$1:$L$200>1)) | K17: =IF('1_貼り付け'!$A$20="","",'1_貼り付け'!$A$20) | L17: =IF($K17="",0,SUMPRODUCT(--EXACT($K$1:$K$200,$K17)))
A18: 数値になってしまった数 | B18: =SUMPRODUCT(ISNUMBER('1_貼り付け'!$A$4:$H$203)*1) | K18: =IF('1_貼り付け'!$A$21="","",'1_貼り付け'!$A$21) | L18: =IF($K18="",0,SUMPRODUCT(--EXACT($K$1:$K$200,$K18)))
K19: =IF('1_貼り付け'!$A$22="","",'1_貼り付け'!$A$22) | L19: =IF($K19="",0,SUMPRODUCT(--EXACT($K$1:$K$200,$K19)))
K20: =IF('1_貼り付け'!$A$23="","",'1_貼り付け'!$A$23) | L20: =IF($K20="",0,SUMPRODUCT(--EXACT($K$1:$K$200,$K20)))
K21: =IF('1_貼り付け'!$A$24="","",'1_貼り付け'!$A$24) | L21: =IF($K21="",0,SUMPRODUCT(--EXACT($K$1:$K$200,$K21)))
K22: =IF('1_貼り付け'!$A$25="","",'1_貼り付け'!$A$25) | L22: =IF($K22="",0,SUMPRODUCT(--EXACT($K$1:$K$200,$K22)))
K23: =IF('1_貼り付け'!$A$26="","",'1_貼り付け'!$A$26) | L23: =IF($K23="",0,SUMPRODUCT(--EXACT($K$1:$K$200,$K23)))
K24: =IF('1_貼り付け'!$A$27="","",'1_貼り付け'!$A$27) | L24: =IF($K24="",0,SUMPRODUCT(--EXACT($K$1:$K$200,$K24)))
K25: =IF('1_貼り付け'!$A$28="","",'1_貼り付け'!$A$28) | L25: =IF($K25="",0,SUMPRODUCT(--EXACT($K$1:$K$200,$K25)))
K26: =IF('1_貼り付け'!$A$29="","",'1_貼り付け'!$A$29) | L26: =IF($K26="",0,SUMPRODUCT(--EXACT($K$1:$K$200,$K26)))
K27: =IF('1_貼り付け'!$A$30="","",'1_貼り付け'!$A$30) | L27: =IF($K27="",0,SUMPRODUCT(--EXACT($K$1:$K$200,$K27)))
K28: =IF('1_貼り付け'!$A$31="","",'1_貼り付け'!$A$31) | L28: =IF($K28="",0,SUMPRODUCT(--EXACT($K$1:$K$200,$K28)))
K29: =IF('1_貼り付け'!$A$32="","",'1_貼り付け'!$A$32) | L29: =IF($K29="",0,SUMPRODUCT(--EXACT($K$1:$K$200,$K29)))
K30: =IF('1_貼り付け'!$A$33="","",'1_貼り付け'!$A$33) | L30: =IF($K30="",0,SUMPRODUCT(--EXACT($K$1:$K$200,$K30)))
K31: =IF('1_貼り付け'!$A$34="","",'1_貼り付け'!$A$34) | L31: =IF($K31="",0,SUMPRODUCT(--EXACT($K$1:$K$200,$K31)))
K32: =IF('1_貼り付け'!$A$35="","",'1_貼り付け'!$A$35) | L32: =IF($K32="",0,SUMPRODUCT(--EXACT($K$1:$K$200,$K32)))
K33: =IF('1_貼り付け'!$A$36="","",'1_貼り付け'!$A$36) | L33: =IF($K33="",0,SUMPRODUCT(--EXACT($K$1:$K$200,$K33)))
K34: =IF('1_貼り付け'!$A$37="","",'1_貼り付け'!$A$37) | L34: =IF($K34="",0,SUMPRODUCT(--EXACT($K$1:$K$200,$K34)))
K35: =IF('1_貼り付け'!$A$38="","",'1_貼り付け'!$A$38) | L35: =IF($K35="",0,SUMPRODUCT(--EXACT($K$1:$K$200,$K35)))
K36: =IF('1_貼り付け'!$A$39="","",'1_貼り付け'!$A$39) | L36: =IF($K36="",0,SUMPRODUCT(--EXACT($K$1:$K$200,$K36)))
K37: =IF('1_貼り付け'!$A$40="","",'1_貼り付け'!$A$40) | L37: =IF($K37="",0,SUMPRODUCT(--EXACT($K$1:$K$200,$K37)))
K38: =IF('1_貼り付け'!$A$41="","",'1_貼り付け'!$A$41) | L38: =IF($K38="",0,SUMPRODUCT(--EXACT($K$1:$K$200,$K38)))
K39: =IF('1_貼り付け'!$A$42="","",'1_貼り付け'!$A$42) | L39: =IF($K39="",0,SUMPRODUCT(--EXACT($K$1:$K$200,$K39)))
K40: =IF('1_貼り付け'!$A$43="","",'1_貼り付け'!$A$43) | L40: =IF($K40="",0,SUMPRODUCT(--EXACT($K$1:$K$200,$K40)))
K41: =IF('1_貼り付け'!$A$44="","",'1_貼り付け'!$A$44) | L41: =IF($K41="",0,SUMPRODUCT(--EXACT($K$1:$K$200,$K41)))
K42: =IF('1_貼り付け'!$A$45="","",'1_貼り付け'!$A$45) | L42: =IF($K42="",0,SUMPRODUCT(--EXACT($K$1:$K$200,$K42)))
K43: =IF('1_貼り付け'!$A$46="","",'1_貼り付け'!$A$46) | L43: =IF($K43="",0,SUMPRODUCT(--EXACT($K$1:$K$200,$K43)))
K44: =IF('1_貼り付け'!$A$47="","",'1_貼り付け'!$A$47) | L44: =IF($K44="",0,SUMPRODUCT(--EXACT($K$1:$K$200,$K44)))
K45: =IF('1_貼り付け'!$A$48="","",'1_貼り付け'!$A$48) | L45: =IF($K45="",0,SUMPRODUCT(--EXACT($K$1:$K$200,$K45)))
K46: =IF('1_貼り付け'!$A$49="","",'1_貼り付け'!$A$49) | L46: =IF($K46="",0,SUMPRODUCT(--EXACT($K$1:$K$200,$K46)))
K47: =IF('1_貼り付け'!$A$50="","",'1_貼り付け'!$A$50) | L47: =IF($K47="",0,SUMPRODUCT(--EXACT($K$1:$K$200,$K47)))
K48: =IF('1_貼り付け'!$A$51="","",'1_貼り付け'!$A$51) | L48: =IF($K48="",0,SUMPRODUCT(--EXACT($K$1:$K$200,$K48)))
K49: =IF('1_貼り付け'!$A$52="","",'1_貼り付け'!$A$52) | L49: =IF($K49="",0,SUMPRODUCT(--EXACT($K$1:$K$200,$K49)))
K50: =IF('1_貼り付け'!$A$53="","",'1_貼り付け'!$A$53) | L50: =IF($K50="",0,SUMPRODUCT(--EXACT($K$1:$K$200,$K50)))
K51: =IF('1_貼り付け'!$A$54="","",'1_貼り付け'!$A$54) | L51: =IF($K51="",0,SUMPRODUCT(--EXACT($K$1:$K$200,$K51)))
K52: =IF('1_貼り付け'!$A$55="","",'1_貼り付け'!$A$55) | L52: =IF($K52="",0,SUMPRODUCT(--EXACT($K$1:$K$200,$K52)))
K53: =IF('1_貼り付け'!$A$56="","",'1_貼り付け'!$A$56) | L53: =IF($K53="",0,SUMPRODUCT(--EXACT($K$1:$K$200,$K53)))
K54: =IF('1_貼り付け'!$A$57="","",'1_貼り付け'!$A$57) | L54: =IF($K54="",0,SUMPRODUCT(--EXACT($K$1:$K$200,$K54)))
K55: =IF('1_貼り付け'!$A$58="","",'1_貼り付け'!$A$58) | L55: =IF($K55="",0,SUMPRODUCT(--EXACT($K$1:$K$200,$K55)))
K56: =IF('1_貼り付け'!$A$59="","",'1_貼り付け'!$A$59) | L56: =IF($K56="",0,SUMPRODUCT(--EXACT($K$1:$K$200,$K56)))
K57: =IF('1_貼り付け'!$A$60="","",'1_貼り付け'!$A$60) | L57: =IF($K57="",0,SUMPRODUCT(--EXACT($K$1:$K$200,$K57)))
K58: =IF('1_貼り付け'!$A$61="","",'1_貼り付け'!$A$61) | L58: =IF($K58="",0,SUMPRODUCT(--EXACT($K$1:$K$200,$K58)))
K59: =IF('1_貼り付け'!$A$62="","",'1_貼り付け'!$A$62) | L59: =IF($K59="",0,SUMPRODUCT(--EXACT($K$1:$K$200,$K59)))
K60: =IF('1_貼り付け'!$A$63="","",'1_貼り付け'!$A$63) | L60: =IF($K60="",0,SUMPRODUCT(--EXACT($K$1:$K$200,$K60)))
K61: =IF('1_貼り付け'!$A$64="","",'1_貼り付け'!$A$64) | L61: =IF($K61="",0,SUMPRODUCT(--EXACT($K$1:$K$200,$K61)))
K62: =IF('1_貼り付け'!$A$65="","",'1_貼り付け'!$A$65) | L62: =IF($K62="",0,SUMPRODUCT(--EXACT($K$1:$K$200,$K62)))
K63: =IF('1_貼り付け'!$A$66="","",'1_貼り付け'!$A$66) | L63: =IF($K63="",0,SUMPRODUCT(--EXACT($K$1:$K$200,$K63)))
K64: =IF('1_貼り付け'!$A$67="","",'1_貼り付け'!$A$67) | L64: =IF($K64="",0,SUMPRODUCT(--EXACT($K$1:$K$200,$K64)))
K65: =IF('1_貼り付け'!$A$68="","",'1_貼り付け'!$A$68) | L65: =IF($K65="",0,SUMPRODUCT(--EXACT($K$1:$K$200,$K65)))
K66: =IF('1_貼り付け'!$A$69="","",'1_貼り付け'!$A$69) | L66: =IF($K66="",0,SUMPRODUCT(--EXACT($K$1:$K$200,$K66)))
K67: =IF('1_貼り付け'!$A$70="","",'1_貼り付け'!$A$70) | L67: =IF($K67="",0,SUMPRODUCT(--EXACT($K$1:$K$200,$K67)))
K68: =IF('1_貼り付け'!$A$71="","",'1_貼り付け'!$A$71) | L68: =IF($K68="",0,SUMPRODUCT(--EXACT($K$1:$K$200,$K68)))
K69: =IF('1_貼り付け'!$A$72="","",'1_貼り付け'!$A$72) | L69: =IF($K69="",0,SUMPRODUCT(--EXACT($K$1:$K$200,$K69)))
K70: =IF('1_貼り付け'!$A$73="","",'1_貼り付け'!$A$73) | L70: =IF($K70="",0,SUMPRODUCT(--EXACT($K$1:$K$200,$K70)))
K71: =IF('1_貼り付け'!$A$74="","",'1_貼り付け'!$A$74) | L71: =IF($K71="",0,SUMPRODUCT(--EXACT($K$1:$K$200,$K71)))
K72: =IF('1_貼り付け'!$A$75="","",'1_貼り付け'!$A$75) | L72: =IF($K72="",0,SUMPRODUCT(--EXACT($K$1:$K$200,$K72)))
K73: =IF('1_貼り付け'!$A$76="","",'1_貼り付け'!$A$76) | L73: =IF($K73="",0,SUMPRODUCT(--EXACT($K$1:$K$200,$K73)))
K74: =IF('1_貼り付け'!$A$77="","",'1_貼り付け'!$A$77) | L74: =IF($K74="",0,SUMPRODUCT(--EXACT($K$1:$K$200,$K74)))
K75: =IF('1_貼り付け'!$A$78="","",'1_貼り付け'!$A$78) | L75: =IF($K75="",0,SUMPRODUCT(--EXACT($K$1:$K$200,$K75)))
K76: =IF('1_貼り付け'!$A$79="","",'1_貼り付け'!$A$79) | L76: =IF($K76="",0,SUMPRODUCT(--EXACT($K$1:$K$200,$K76)))
K77: =IF('1_貼り付け'!$A$80="","",'1_貼り付け'!$A$80) | L77: =IF($K77="",0,SUMPRODUCT(--EXACT($K$1:$K$200,$K77)))
K78: =IF('1_貼り付け'!$A$81="","",'1_貼り付け'!$A$81) | L78: =IF($K78="",0,SUMPRODUCT(--EXACT($K$1:$K$200,$K78)))
K79: =IF('1_貼り付け'!$A$82="","",'1_貼り付け'!$A$82) | L79: =IF($K79="",0,SUMPRODUCT(--EXACT($K$1:$K$200,$K79)))
K80: =IF('1_貼り付け'!$A$83="","",'1_貼り付け'!$A$83) | L80: =IF($K80="",0,SUMPRODUCT(--EXACT($K$1:$K$200,$K80)))
K81: =IF('1_貼り付け'!$A$84="","",'1_貼り付け'!$A$84) | L81: =IF($K81="",0,SUMPRODUCT(--EXACT($K$1:$K$200,$K81)))
K82: =IF('1_貼り付け'!$A$85="","",'1_貼り付け'!$A$85) | L82: =IF($K82="",0,SUMPRODUCT(--EXACT($K$1:$K$200,$K82)))
K83: =IF('1_貼り付け'!$A$86="","",'1_貼り付け'!$A$86) | L83: =IF($K83="",0,SUMPRODUCT(--EXACT($K$1:$K$200,$K83)))
K84: =IF('1_貼り付け'!$A$87="","",'1_貼り付け'!$A$87) | L84: =IF($K84="",0,SUMPRODUCT(--EXACT($K$1:$K$200,$K84)))
K85: =IF('1_貼り付け'!$A$88="","",'1_貼り付け'!$A$88) | L85: =IF($K85="",0,SUMPRODUCT(--EXACT($K$1:$K$200,$K85)))
K86: =IF('1_貼り付け'!$A$89="","",'1_貼り付け'!$A$89) | L86: =IF($K86="",0,SUMPRODUCT(--EXACT($K$1:$K$200,$K86)))
K87: =IF('1_貼り付け'!$A$90="","",'1_貼り付け'!$A$90) | L87: =IF($K87="",0,SUMPRODUCT(--EXACT($K$1:$K$200,$K87)))
K88: =IF('1_貼り付け'!$A$91="","",'1_貼り付け'!$A$91) | L88: =IF($K88="",0,SUMPRODUCT(--EXACT($K$1:$K$200,$K88)))
K89: =IF('1_貼り付け'!$A$92="","",'1_貼り付け'!$A$92) | L89: =IF($K89="",0,SUMPRODUCT(--EXACT($K$1:$K$200,$K89)))
K90: =IF('1_貼り付け'!$A$93="","",'1_貼り付け'!$A$93) | L90: =IF($K90="",0,SUMPRODUCT(--EXACT($K$1:$K$200,$K90)))
K91: =IF('1_貼り付け'!$A$94="","",'1_貼り付け'!$A$94) | L91: =IF($K91="",0,SUMPRODUCT(--EXACT($K$1:$K$200,$K91)))
K92: =IF('1_貼り付け'!$A$95="","",'1_貼り付け'!$A$95) | L92: =IF($K92="",0,SUMPRODUCT(--EXACT($K$1:$K$200,$K92)))
K93: =IF('1_貼り付け'!$A$96="","",'1_貼り付け'!$A$96) | L93: =IF($K93="",0,SUMPRODUCT(--EXACT($K$1:$K$200,$K93)))
K94: =IF('1_貼り付け'!$A$97="","",'1_貼り付け'!$A$97) | L94: =IF($K94="",0,SUMPRODUCT(--EXACT($K$1:$K$200,$K94)))
K95: =IF('1_貼り付け'!$A$98="","",'1_貼り付け'!$A$98) | L95: =IF($K95="",0,SUMPRODUCT(--EXACT($K$1:$K$200,$K95)))
K96: =IF('1_貼り付け'!$A$99="","",'1_貼り付け'!$A$99) | L96: =IF($K96="",0,SUMPRODUCT(--EXACT($K$1:$K$200,$K96)))
K97: =IF('1_貼り付け'!$A$100="","",'1_貼り付け'!$A$100) | L97: =IF($K97="",0,SUMPRODUCT(--EXACT($K$1:$K$200,$K97)))
K98: =IF('1_貼り付け'!$A$101="","",'1_貼り付け'!$A$101) | L98: =IF($K98="",0,SUMPRODUCT(--EXACT($K$1:$K$200,$K98)))
K99: =IF('1_貼り付け'!$A$102="","",'1_貼り付け'!$A$102) | L99: =IF($K99="",0,SUMPRODUCT(--EXACT($K$1:$K$200,$K99)))
K100: =IF('1_貼り付け'!$A$103="","",'1_貼り付け'!$A$103) | L100: =IF($K100="",0,SUMPRODUCT(--EXACT($K$1:$K$200,$K100)))
...

Sheet 3_依頼文
A1: そのまま送れる指示の型。角かっこの中だけ書き換える
A3: 次の条件で表を作ってください。
A5: 出力形式: タブ区切り。1行目を見出しにする。コードブロックに入れる。表の前後に説明を付けない。
A6: 列と順番: 社員番号, 氏名, 部署, 入社日, 基本給
A7: 列の名前と順番はこのとおりにする。増やさない。減らさない。並べ替えない。
A8: 各列の書き方:
A9: 社員番号 4桁。前のゼロを含めてそのまま書く（例 0012）
A10: 入社日 YYYY/MM/DD（例 2026/04/01）
A11: 基本給 桁区切りを入れない半角数字（例 250000）
A12: どの列も、値の中にタブとカンマと改行を入れない
A13: 行数: 20行。足りないときは行を作らず、足りないと文で書く。
A14: 値がないセル: 空にしないで 未定 と書く。
... A23: Excelは 0012 を 12 に、1-2 を 1月2日 に、=1+1 を 2 に変える。文字列にしてあれば変わらない。

Sheet 4_使い方
A1: このブックの使い方
A3: 1_貼り付け は、A列からH列の表示形式を文字列にしてある。ここに貼れば値が変わらない。
A4: 列を増やすときは、増やした列も表示形式を文字列にする。書式のコピーで足りる。
A6: 2_検査 の黄色いセルに、AIに指示した見出しと行数を書く。右側の数が自動で出る。
A7: 並びの列が赤くなったら、AIが列を並べ替えたか、名前を変えている。
A8: いちばん短い字数といちばん長い字数が違う列は、前のゼロが消えた行が混ざっている。
A9: 数値になってしまった数が0より大きいときは、貼り先の書式が文字列になっていない。
A11: 3_依頼文 の文をそのまま送る。列の名前と順番、各列の書き方、行数の4つを必ず書く。
A13: Markdownの表をそのまま貼ると、縦線ごと1つの列に入る。タブ区切りで出させる。
A14: 値の中にカンマがあるとCSVでは列が増える。カンマを入れないよう指示に書いてある。
