Workbook

Sheet 1_手取り
A1: 賞与の手取り。黄色を埋める（協会けんぽ・雇用保険は令和8年度、所得税は令和8年分の税額表）
A2: 入れるもの | B2: 値 | C2: メモ | E2: 計算 | F2: 値 | G2: メモ
A3: 賞与の額（税引き前の総支給） | B3: 500000 | C3: 通勤手当は含まない | E3: 標準賞与額 | F3: =ROUNDDOWN($B$3,-3) | G3: 千円未満を切り捨て
A4: 都道府県（協会けんぽの支部） | B4: 東京都 | C4: 健康保険組合の人は料率が違う | E4: 健康保険・介護・支援金の対象額 | F4: =MAX(0,MIN($F$3,料率!$E$11-$B$12)) | G4: 年度累計573万円まで
A5: 40歳から64歳か | B5: いいえ | C5: はいなら介護保険料がかかる | E5: 厚生年金の対象額 | F5: =MIN($F$3,料率!$E$12) | G5: 1か月150万円まで
A6: 事業の種類 | B6: 一般の事業 | C6: 雇用保険の料率が変わる | E6: 健康保険料率 | F6: =INDEX(料率!$B$4:$B$50,MATCH($B$4,料率!$A$4:$A$50,0))
A7: 扶養親族等の数 | B7: 0 | C7: 扶養控除等申告書に書いた人数（0〜7） | E7: 介護保険料率 | F7: =IF($B$5="はい",料率!$E$4,0)
A8: 前月に給与の支払があったか | B8: あり | C8: 賞与を払う月の前の月に払った給与 | E8: 健康保険料（介護を含む） | F8: =IF(ROUND($F$4*($F$6+$F$7)/2,4)<=0.5,0,ROUNDUP(ROUND($F$4*($F$6+$F$7)/2,4)-0.5,0)) | G8: 折半。50銭以下は切り捨て
A9: 前月の給与（非課税の通勤手当を除く） | B9: 300000 | C9: 給与明細の課税対象額 | E9: 子ども・子育て支援金 | F9: =IF(ROUND($F$4*料率!$E$5/2,4)<=0.5,0,ROUNDUP(ROUND($F$4*料率!$E$5/2,4)-0.5,0)) | G9: 令和8年4月分から
A10: 前月の給与から引いた社会保険料等 | B10: 44070 | C10: 健康保険・介護・支援金・厚生年金・雇用保険の計 | E10: 厚生年金保険料 | F10: =IF(ROUND($F$5*料率!$E$6/2,4)<=0.5,0,ROUNDUP(ROUND($F$5*料率!$E$6/2,4)-0.5,0))
A11: 賞与の計算期間が6か月を超えるか | B11: いいえ | C11: はいなら12で割る | E11: 雇用保険料 | F11: =IF(ROUND($B$3*INDEX(料率!$E$8:$E$10,MATCH($B$6,料率!$D$8:$D$10,0)),4)<=0.5,0,ROUNDUP(ROUND($B$3*INDEX(料率!$E$8:$E$10,MATCH($B$6,料率!$D$8:$D$10,0)),4)-0.5,0)) | G11: 支給額に掛ける（千円未満を切り捨てない）
A12: 今年度すでに出た標準賞与額の累計 | B12: 0 | C12: 4月からの累計。健康保険の573万円の上限に使う | E12: 社会保険料の計 | F12: =SUM($F$8:$F$11)
E13: 社会保険料を引いた賞与 | F13: =$B$3-$F$12 | G13: 税率を掛けるのはこの額
E14: 前月の社会保険料等控除後の給与 | F14: =IF($B$8="なし",0,$B$9-$B$10) | G14: 税率の行を決める額
E15: 計算のしかた | F15: =IF(OR($B$8="なし",$F$14<=0),"前月の給与なし",IF($F$13>$F$14*10,"10倍超","算出率の表")) | G15: 国税庁 No.2523 の3通り
E16: 割る数 | F16: =IF($B$11="はい",12,6) | G16: 前月の給与なし・10倍超で使う
E17: 算出率の表の率 | F17: =IF($F$15="算出率の表",INDEX(算出率!$A$4:$A$24,MATCH($F$14,INDEX(算出率!$B$4:$I$24,0,$B$7+1),1)),"")
E18: 月額表に当てる額 | F18: =IF($F$15="算出率の表","",ROUNDDOWN($F$13/$F$16,0)+IF($F$15="10倍超",$F$14,0)) | G18: 賞与を6（12）で割った額。10倍超は前月の給与を足す
E19: その額の月額表の税額 | F19: =IF($F$18="","",IF($F$18<105000,0,IF($F$18<740000,INDEX(月額表!$B$4:$I$234,MATCH($F$18,月額表!$A$4:$A$234,1),$B$7+1),INDEX(月額表!$M$4:$T$12,MATCH($F$18,月額表!$K$4:$K$12,1),$B$7+1)+ROUNDDOWN(ROUND(($F$18-INDEX(月額表!$K$4:$K$12,MATCH($F$18,月額表!$K$4:$K$12,1)))*INDEX(月額表!$L$4:$L$12,MATCH($F$18,月額表!$K$4:$K$12,1)),4),0))))
E20: 前月の給与の月額表の税額 | F20: =IF($F$15="10倍超",IF($F$14<105000,0,IF($F$14<740000,INDEX(月額表!$B$4:$I$234,MATCH($F$14,月額表!$A$4:$A$234,1),$B$7+1),INDEX(月額表!$M$4:$T$12,MATCH($F$14,月額表!$K$4:$K$12,1),$B$7+1)+ROUNDDOWN(ROUND(($F$14-INDEX(月額表!$K$4:$K$12,MATCH($F$14,月額表!$K$4:$K$12,1)))*INDEX(月額表!$L$4:$L$12,MATCH($F$14,月額表!$K$4:$K$12,1)),4),0))),IF($F$15="前月の給与なし",0,"")) | G20: 10倍超のときだけ引く
E21: 源泉所得税 | F21: =IF($F$15="算出率の表",ROUNDDOWN(ROUND($F$13*$F$17,4),0),($F$19-$F$20)*$F$16) | G21: 1円未満は切り捨て
E22: 手取り | F22: =$B$3-$F$12-$F$21
E23: 手取りの割合 | F23: =$F$22/$B$3
E24: 住民税 | F24: 引かない | G24: 毎月の給与から12分の1ずつ引く（地方税法第321条の5）
E28: 取り違えたとき | F28: 源泉所得税 | G28: 正しい額との差
E29: 社会保険料を引く前の前月の給与で税率の行を引いた | F29: =IF($F$15<>"算出率の表","",ROUNDDOWN(ROUND($F$13*INDEX(算出率!$A$4:$A$24,MATCH($B$9,INDEX(算出率!$B$4:$I$24,0,$B$7+1),1)),4),0)) | G29: =IF(F29="","この場合は起きない",F29-$F$21)
E30: 社会保険料を引く前の賞与に税率を掛けた | F30: =IF($F$15<>"算出率の表","",ROUNDDOWN(ROUND($B$3*$F$17,4),0)) | G30: =IF(F30="","この場合は起きない",F30-$F$21)
E31: 前月の給与なし・10倍超を算出率の表で出した | F31: =IF($F$15="算出率の表","",ROUNDDOWN(ROUND($F$13*INDEX(算出率!$A$4:$A$24,MATCH(MAX(0,$F$14),INDEX(算出率!$B$4:$I$24,0,$B$7+1),1)),4),0)) | G31: =IF(F31="","この場合は起きない",F31-$F$21)

Sheet 2_前月の給与別
A1: 前月の給与が違うと、同じ賞与の所得税と手取りがどう変わるか。賞与・都道府県・年齢・扶養・事業は1_手取りの値を使う
A2: 前月の社会保険料は、前月の総支給と同じ水準で標準報酬月額が決まっている人として出した。通勤手当はない人とした。0は前月の給与なし
A4: 前月の総支給 | B4: 標準報酬月額 | C4: 健康保険料（介護を含む） | D4: 支援金 | E4: 厚生年金 | F4: 雇用保険 | G4: 前月の社会保険料の計 | H4: 前月の社会保険料等控除後 | I4: 計算のしかた | J4: 率 | K4: 源泉所得税 | L4: 手取り | M4: 1行上との差
A5: 0 | B5: =IF(OR($A5="",$A5=0),"",INDEX(標準報酬!$B$4:$B$53,MATCH($A5,標準報酬!$A$4:$A$53,1))) | C5: =IF(OR($A5="",$A5=0),"",IF(ROUND($B5*('1_手取り'!$F$6+'1_手取り'!$F$7)/2,4)<=0.5,0,ROUNDUP(ROUND($B5*('1_手取り'!$F$6+'1_手取り'!$F$7)/2,4)-0.5,0))) | D5: =IF(OR($A5="",$A5=0),"",IF(ROUND($B5*料率!$E$5/2,4)<=0.5,0,ROUNDUP(ROUND($B5*料率!$E$5/2,4)-0.5,0))) | E5: =IF(OR($A5="",$A5=0),"",IF(ROUND(MIN(MAX($B5,88000),650000)*料率!$E$6/2,4)<=0.5,0,ROUNDUP(ROUND(MIN(MAX($B5,88000),650000)*料率!$E$6/2,4)-0.5,0))) | F5: =IF(OR($A5="",$A5=0),"",IF(ROUND($A5*INDEX(料率!$E$8:$E$10,MATCH('1_手取り'!$B$6,料率!$D$8:$D$10,0)),4)<=0.5,0,ROUNDUP(ROUND($A5*INDEX(料率!$E$8:$E$10,MATCH('1_手取り'!$B$6,料率!$D$8:$D$10,0)),4)-0.5,0))) | G5: =IF(OR($A5="",$A5=0),"",SUM($C5:$F5)) | H5: =IF($A5="","",IF($A5=0,0,$A5-$G5)) | I5: =IF($A5="","",IF(OR($A5=0,$H5<=0),"前月の給与なし",IF('1_手取り'!$F$13>$H5*10,"10倍超","算出率の表"))) | J5: =IF($A5="","",IF($I5="算出率の表",INDEX(算出率!$A$4:$A$24,MATCH($H5,INDEX(算出率!$B$4:$I$24,0,'1_手取り'!$B$7+1),1)),"")) | K5: =IF($A5="","",IF($I5="算出率の表",ROUNDDOWN(ROUND('1_手取り'!$F$13*$J5,4),0),IF($I5="前月の給与なし",IF(ROUNDDOWN('1_手取り'!$F$13/'1_手取り'!$F$16,0)<105000,0,IF(ROUNDDOWN('1_手取り'!$F$13/'1_手取り'!$F$16,0)<740000,INDEX(月額表!$B$4:$I$234,MATCH(ROUNDDOWN('1_手取り'!$F$13/'1_手取り'!$F$16,0),月額表!$A$4:$A$234,1),'1_手取り'!$B$7+1),INDEX(月額表!$M$4:$T$12,MATCH(ROUNDDOWN('1_手取り'!$F$13/'1_手取り'!$F$16,0),月額表!$K$4:$K$12,1),'1_手取り'!$B$7+1)+ROUNDDOWN(ROUND((ROUNDDOWN('1_手取り'!$F$13/'1_手取り'!$F$16,0)-INDEX(月額表!$K$4:$K$12,MATCH(ROUNDDOWN('1_手取り'!$F$13/'1_手取り'!$F$16,0),月額表!$K$4:$K$12,1)))*INDEX(月額表!$L$4:$L$12,MATCH(ROUNDDOWN('1_手取り'!$F$13/'1_手取り'!$F$16,0),月額表!$K$4:$K$12,1)),4),0)))*'1_手取り'!$F$16,(IF((ROUNDDOWN('1_手取り'!$F$13/'1_手取り'!$F$16,0)+$H5)<105000,0,IF((ROUNDDOWN('1_手取り'!$F$13/'1_手取り'!$F$16,0)+$H5)<740000,INDEX(月額表!$B$4:$I$234,MATCH((ROUNDDOWN('1_手取り'!$F$13/'1_手取り'!$F$16,0)+$H5),月額表!$A$4:$A$234,1),'1_手取り'!$B$7+1),INDEX(月額表!$M$4:$T$12,MATCH((ROUNDDOWN('1_手取り'!$F$13/'1_手取り'!$F$16,0)+$H5),月額表!$K$4:$K$12,1),'1_手取り'!$B$7+1)+ROUNDDOWN(ROUND(((ROUNDDOWN('1_手取り'!$F$13/'1_手取り'!$F$16,0)+$H5)-INDEX(月額表!$K$4:$K$12,MATCH((ROUNDDOWN('1_手取り'!$F$13/'1_手取り'!$F$16,0)+$H5),月額表!$K$4:$K$12,1)))*INDEX(月額表!$L$4:$L$12,MATCH((ROUNDDOWN('1_手取り'!$F$13/'1_手取り'!$F$16,0)+$H5),月額表!$K$4:$K$12,1)),4),0)))-IF($H5<105000,0,IF($H5<740000,INDEX(月額表!$B$4:$I$234,MATCH($H5,月額表!$A$4:$A$234,1),'1_手取り'!$B$7+1),INDEX(月額表!$M$4:$T$12,MATCH($H5,月額表!$K$4:$K$12,1),'1_手取り'!$B$7+1)+ROUNDDOWN(ROUND(($H5-INDEX(月額表!$K$4:$K$12,MATCH($H5,月額表!$K$4:$K$12,1)))*INDEX(月額表!$L$4:$L$12,MATCH($H5,月額表!$K$4:$K$12,1)),4),0))))*'1_手取り'!$F$16))) | L5: =IF($A5="","",'1_手取り'!$B$3-'1_手取り'!$F$12-$K5) | M5: =""
A6: 150000 | B6: =IF(OR($A6="",$A6=0),"",INDEX(標準報酬!$B$4:$B$53,MATCH($A6,標準報酬!$A$4:$A$53,1))) | C6: =IF(OR($A6="",$A6=0),"",IF(ROUND($B6*('1_手取り'!$F$6+'1_手取り'!$F$7)/2,4)<=0.5,0,ROUNDUP(ROUND($B6*('1_手取り'!$F$6+'1_手取り'!$F$7)/2,4)-0.5,0))) | D6: =IF(OR($A6="",$A6=0),"",IF(ROUND($B6*料率!$E$5/2,4)<=0.5,0,ROUNDUP(ROUND($B6*料率!$E$5/2,4)-0.5,0))) | E6: =IF(OR($A6="",$A6=0),"",IF(ROUND(MIN(MAX($B6,88000),650000)*料率!$E$6/2,4)<=0.5,0,ROUNDUP(ROUND(MIN(MAX($B6,88000),650000)*料率!$E$6/2,4)-0.5,0))) | F6: =IF(OR($A6="",$A6=0),"",IF(ROUND($A6*INDEX(料率!$E$8:$E$10,MATCH('1_手取り'!$B$6,料率!$D$8:$D$10,0)),4)<=0.5,0,ROUNDUP(ROUND($A6*INDEX(料率!$E$8:$E$10,MATCH('1_手取り'!$B$6,料率!$D$8:$D$10,0)),4)-0.5,0))) | G6: =IF(OR($A6="",$A6=0),"",SUM($C6:$F6)) | H6: =IF($A6="","",IF($A6=0,0,$A6-$G6)) | I6: =IF($A6="","",IF(OR($A6=0,$H6<=0),"前月の給与なし",IF('1_手取り'!$F$13>$H6*10,"10倍超","算出率の表"))) | J6: =IF($A6="","",IF($I6="算出率の表",INDEX(算出率!$A$4:$A$24,MATCH($H6,INDEX(算出率!$B$4:$I$24,0,'1_手取り'!$B$7+1),1)),"")) | K6: =IF($A6="","",IF($I6="算出率の表",ROUNDDOWN(ROUND('1_手取り'!$F$13*$J6,4),0),IF($I6="前月の給与なし",IF(ROUNDDOWN('1_手取り'!$F$13/'1_手取り'!$F$16,0)<105000,0,IF(ROUNDDOWN('1_手取り'!$F$13/'1_手取り'!$F$16,0)<740000,INDEX(月額表!$B$4:$I$234,MATCH(ROUNDDOWN('1_手取り'!$F$13/'1_手取り'!$F$16,0),月額表!$A$4:$A$234,1),'1_手取り'!$B$7+1),INDEX(月額表!$M$4:$T$12,MATCH(ROUNDDOWN('1_手取り'!$F$13/'1_手取り'!$F$16,0),月額表!$K$4:$K$12,1),'1_手取り'!$B$7+1)+ROUNDDOWN(ROUND((ROUNDDOWN('1_手取り'!$F$13/'1_手取り'!$F$16,0)-INDEX(月額表!$K$4:$K$12,MATCH(ROUNDDOWN('1_手取り'!$F$13/'1_手取り'!$F$16,0),月額表!$K$4:$K$12,1)))*INDEX(月額表!$L$4:$L$12,MATCH(ROUNDDOWN('1_手取り'!$F$13/'1_手取り'!$F$16,0),月額表!$K$4:$K$12,1)),4),0)))*'1_手取り'!$F$16,(IF((ROUNDDOWN('1_手取り'!$F$13/'1_手取り'!$F$16,0)+$H6)<105000,0,IF((ROUNDDOWN('1_手取り'!$F$13/'1_手取り'!$F$16,0)+$H6)<740000,INDEX(月額表!$B$4:$I$234,MATCH((ROUNDDOWN('1_手取り'!$F$13/'1_手取り'!$F$16,0)+$H6),月額表!$A$4:$A$234,1),'1_手取り'!$B$7+1),INDEX(月額表!$M$4:$T$12,MATCH((ROUNDDOWN('1_手取り'!$F$13/'1_手取り'!$F$16,0)+$H6),月額表!$K$4:$K$12,1),'1_手取り'!$B$7+1)+ROUNDDOWN(ROUND(((ROUNDDOWN('1_手取り'!$F$13/'1_手取り'!$F$16,0)+$H6)-INDEX(月額表!$K$4:$K$12,MATCH((ROUNDDOWN('1_手取り'!$F$13/'1_手取り'!$F$16,0)+$H6),月額表!$K$4:$K$12,1)))*INDEX(月額表!$L$4:$L$12,MATCH((ROUNDDOWN('1_手取り'!$F$13/'1_手取り'!$F$16,0)+$H6),月額表!$K$4:$K$12,1)),4),0)))-IF($H6<105000,0,IF($H6<740000,INDEX(月額表!$B$4:$I$234,MATCH($H6,月額表!$A$4:$A$234,1),'1_手取り'!$B$7+1),INDEX(月額表!$M$4:$T$12,MATCH($H6,月額表!$K$4:$K$12,1),'1_手取り'!$B$7+1)+ROUNDDOWN(ROUND(($H6-INDEX(月額表!$K$4:$K$12,MATCH($H6,月額表!$K$4:$K$12,1)))*INDEX(月額表!$L$4:$L$12,MATCH($H6,月額表!$K$4:$K$12,1)),4),0))))*'1_手取り'!$F$16))) | L6: =IF($A6="","",'1_手取り'!$B$3-'1_手取り'!$F$12-$K6) | M6: =IF(OR($A6="",$A5="",ROW()=5),"",$L6-$L5)
A7: 200000 | B7: =IF(OR($A7="",$A7=0),"",INDEX(標準報酬!$B$4:$B$53,MATCH($A7,標準報酬!$A$4:$A$53,1))) | C7: =IF(OR($A7="",$A7=0),"",IF(ROUND($B7*('1_手取り'!$F$6+'1_手取り'!$F$7)/2,4)<=0.5,0,ROUNDUP(ROUND($B7*('1_手取り'!$F$6+'1_手取り'!$F$7)/2,4)-0.5,0))) | D7: =IF(OR($A7="",$A7=0),"",IF(ROUND($B7*料率!$E$5/2,4)<=0.5,0,ROUNDUP(ROUND($B7*料率!$E$5/2,4)-0.5,0))) | E7: =IF(OR($A7="",$A7=0),"",IF(ROUND(MIN(MAX($B7,88000),650000)*料率!$E$6/2,4)<=0.5,0,ROUNDUP(ROUND(MIN(MAX($B7,88000),650000)*料率!$E$6/2,4)-0.5,0))) | F7: =IF(OR($A7="",$A7=0),"",IF(ROUND($A7*INDEX(料率!$E$8:$E$10,MATCH('1_手取り'!$B$6,料率!$D$8:$D$10,0)),4)<=0.5,0,ROUNDUP(ROUND($A7*INDEX(料率!$E$8:$E$10,MATCH('1_手取り'!$B$6,料率!$D$8:$D$10,0)),4)-0.5,0))) | G7: =IF(OR($A7="",$A7=0),"",SUM($C7:$F7)) | H7: =IF($A7="","",IF($A7=0,0,$A7-$G7)) | I7: =IF($A7="","",IF(OR($A7=0,$H7<=0),"前月の給与なし",IF('1_手取り'!$F$13>$H7*10,"10倍超","算出率の表"))) | J7: =IF($A7="","",IF($I7="算出率の表",INDEX(算出率!$A$4:$A$24,MATCH($H7,INDEX(算出率!$B$4:$I$24,0,'1_手取り'!$B$7+1),1)),"")) | K7: =IF($A7="","",IF($I7="算出率の表",ROUNDDOWN(ROUND('1_手取り'!$F$13*$J7,4),0),IF($I7="前月の給与なし",IF(ROUNDDOWN('1_手取り'!$F$13/'1_手取り'!$F$16,0)<105000,0,IF(ROUNDDOWN('1_手取り'!$F$13/'1_手取り'!$F$16,0)<740000,INDEX(月額表!$B$4:$I$234,MATCH(ROUNDDOWN('1_手取り'!$F$13/'1_手取り'!$F$16,0),月額表!$A$4:$A$234,1),'1_手取り'!$B$7+1),INDEX(月額表!$M$4:$T$12,MATCH(ROUNDDOWN('1_手取り'!$F$13/'1_手取り'!$F$16,0),月額表!$K$4:$K$12,1),'1_手取り'!$B$7+1)+ROUNDDOWN(ROUND((ROUNDDOWN('1_手取り'!$F$13/'1_手取り'!$F$16,0)-INDEX(月額表!$K$4:$K$12,MATCH(ROUNDDOWN('1_手取り'!$F$13/'1_手取り'!$F$16,0),月額表!$K$4:$K$12,1)))*INDEX(月額表!$L$4:$L$12,MATCH(ROUNDDOWN('1_手取り'!$F$13/'1_手取り'!$F$16,0),月額表!$K$4:$K$12,1)),4),0)))*'1_手取り'!$F$16,(IF((ROUNDDOWN('1_手取り'!$F$13/'1_手取り'!$F$16,0)+$H7)<105000,0,IF((ROUNDDOWN('1_手取り'!$F$13/'1_手取り'!$F$16,0)+$H7)<740000,INDEX(月額表!$B$4:$I$234,MATCH((ROUNDDOWN('1_手取り'!$F$13/'1_手取り'!$F$16,0)+$H7),月額表!$A$4:$A$234,1),'1_手取り'!$B$7+1),INDEX(月額表!$M$4:$T$12,MATCH((ROUNDDOWN('1_手取り'!$F$13/'1_手取り'!$F$16,0)+$H7),月額表!$K$4:$K$12,1),'1_手取り'!$B$7+1)+ROUNDDOWN(ROUND(((ROUNDDOWN('1_手取り'!$F$13/'1_手取り'!$F$16,0)+$H7)-INDEX(月額表!$K$4:$K$12,MATCH((ROUNDDOWN('1_手取り'!$F$13/'1_手取り'!$F$16,0)+$H7),月額表!$K$4:$K$12,1)))*INDEX(月額表!$L$4:$L$12,MATCH((ROUNDDOWN('1_手取り'!$F$13/'1_手取り'!$F$16,0)+$H7),月額表!$K$4:$K$12,1)),4),0)))-IF($H7<105000,0,IF($H7<740000,INDEX(月額表!$B$4:$I$234,MATCH($H7,月額表!$A$4:$A$234,1),'1_手取り'!$B$7+1),INDEX(月額表!$M$4:$T$12,MATCH($H7,月額表!$K$4:$K$12,1),'1_手取り'!$B$7+1)+ROUNDDOWN(ROUND(($H7-INDEX(月額表!$K$4:$K$12,MATCH($H7,月額表!$K$4:$K$12,1)))*INDEX(月額表!$L$4:$L$12,MATCH($H7,月額表!$K$4:$K$12,1)),4),0))))*'1_手取り'!$F$16))) | L7: =IF($A7="","",'1_手取り'!$B$3-'1_手取り'!$F$12-$K7) | M7: =IF(OR($A7="",$A6="",ROW()=5),"",$L7-$L6)
A8: 250000 | B8: =IF(OR($A8="",$A8=0),"",INDEX(標準報酬!$B$4:$B$53,MATCH($A8,標準報酬!$A$4:$A$53,1))) | C8: =IF(OR($A8="",$A8=0),"",IF(ROUND($B8*('1_手取り'!$F$6+'1_手取り'!$F$7)/2,4)<=0.5,0,ROUNDUP(ROUND($B8*('1_手取り'!$F$6+'1_手取り'!$F$7)/2,4)-0.5,0))) | D8: =IF(OR($A8="",$A8=0),"",IF(ROUND($B8*料率!$E$5/2,4)<=0.5,0,ROUNDUP(ROUND($B8*料率!$E$5/2,4)-0.5,0))) | E8: =IF(OR($A8="",$A8=0),"",IF(ROUND(MIN(MAX($B8,88000),650000)*料率!$E$6/2,4)<=0.5,0,ROUNDUP(ROUND(MIN(MAX($B8,88000),650000)*料率!$E$6/2,4)-0.5,0))) | F8: =IF(OR($A8="",$A8=0),"",IF(ROUND($A8*INDEX(料率!$E$8:$E$10,MATCH('1_手取り'!$B$6,料率!$D$8:$D$10,0)),4)<=0.5,0,ROUNDUP(ROUND($A8*INDEX(料率!$E$8:$E$10,MATCH('1_手取り'!$B$6,料率!$D$8:$D$10,0)),4)-0.5,0))) | G8: =IF(OR($A8="",$A8=0),"",SUM($C8:$F8)) | H8: =IF($A8="","",IF($A8=0,0,$A8-$G8)) | I8: =IF($A8="","",IF(OR($A8=0,$H8<=0),"前月の給与なし",IF('1_手取り'!$F$13>$H8*10,"10倍超","算出率の表"))) | J8: =IF($A8="","",IF($I8="算出率の表",INDEX(算出率!$A$4:$A$24,MATCH($H8,INDEX(算出率!$B$4:$I$24,0,'1_手取り'!$B$7+1),1)),"")) | K8: =IF($A8="","",IF($I8="算出率の表",ROUNDDOWN(ROUND('1_手取り'!$F$13*$J8,4),0),IF($I8="前月の給与なし",IF(ROUNDDOWN('1_手取り'!$F$13/'1_手取り'!$F$16,0)<105000,0,IF(ROUNDDOWN('1_手取り'!$F$13/'1_手取り'!$F$16,0)<740000,INDEX(月額表!$B$4:$I$234,MATCH(ROUNDDOWN('1_手取り'!$F$13/'1_手取り'!$F$16,0),月額表!$A$4:$A$234,1),'1_手取り'!$B$7+1),INDEX(月額表!$M$4:$T$12,MATCH(ROUNDDOWN('1_手取り'!$F$13/'1_手取り'!$F$16,0),月額表!$K$4:$K$12,1),'1_手取り'!$B$7+1)+ROUNDDOWN(ROUND((ROUNDDOWN('1_手取り'!$F$13/'1_手取り'!$F$16,0)-INDEX(月額表!$K$4:$K$12,MATCH(ROUNDDOWN('1_手取り'!$F$13/'1_手取り'!$F$16,0),月額表!$K$4:$K$12,1)))*INDEX(月額表!$L$4:$L$12,MATCH(ROUNDDOWN('1_手取り'!$F$13/'1_手取り'!$F$16,0),月額表!$K$4:$K$12,1)),4),0)))*'1_手取り'!$F$16,(IF((ROUNDDOWN('1_手取り'!$F$13/'1_手取り'!$F$16,0)+$H8)<105000,0,IF((ROUNDDOWN('1_手取り'!$F$13/'1_手取り'!$F$16,0)+$H8)<740000,INDEX(月額表!$B$4:$I$234,MATCH((ROUNDDOWN('1_手取り'!$F$13/'1_手取り'!$F$16,0)+$H8),月額表!$A$4:$A$234,1),'1_手取り'!$B$7+1),INDEX(月額表!$M$4:$T$12,MATCH((ROUNDDOWN('1_手取り'!$F$13/'1_手取り'!$F$16,0)+$H8),月額表!$K$4:$K$12,1),'1_手取り'!$B$7+1)+ROUNDDOWN(ROUND(((ROUNDDOWN('1_手取り'!$F$13/'1_手取り'!$F$16,0)+$H8)-INDEX(月額表!$K$4:$K$12,MATCH((ROUNDDOWN('1_手取り'!$F$13/'1_手取り'!$F$16,0)+$H8),月額表!$K$4:$K$12,1)))*INDEX(月額表!$L$4:$L$12,MATCH((ROUNDDOWN('1_手取り'!$F$13/'1_手取り'!$F$16,0)+$H8),月額表!$K$4:$K$12,1)),4),0)))-IF($H8<105000,0,IF($H8<740000,INDEX(月額表!$B$4:$I$234,MATCH($H8,月額表!$A$4:$A$234,1),'1_手取り'!$B$7+1),INDEX(月額表!$M$4:$T$12,MATCH($H8,月額表!$K$4:$K$12,1),'1_手取り'!$B$7+1)+ROUNDDOWN(ROUND(($H8-INDEX(月額表!$K$4:$K$12,MATCH($H8,月額表!$K$4:$K$12,1)))*INDEX(月額表!$L$4:$L$12,MATCH($H8,月額表!$K$4:$K$12,1)),4),0))))*'1_手取り'!$F$16))) | L8: =IF($A8="","",'1_手取り'!$B$3-'1_手取り'!$F$12-$K8) | M8: =IF(OR($A8="",$A7="",ROW()=5),"",$L8-$L7)
A9: 300000 | B9: =IF(OR($A9="",$A9=0),"",INDEX(標準報酬!$B$4:$B$53,MATCH($A9,標準報酬!$A$4:$A$53,1))) | C9: =IF(OR($A9="",$A9=0),"",IF(ROUND($B9*('1_手取り'!$F$6+'1_手取り'!$F$7)/2,4)<=0.5,0,ROUNDUP(ROUND($B9*('1_手取り'!$F$6+'1_手取り'!$F$7)/2,4)-0.5,0))) | D9: =IF(OR($A9="",$A9=0),"",IF(ROUND($B9*料率!$E$5/2,4)<=0.5,0,ROUNDUP(ROUND($B9*料率!$E$5/2,4)-0.5,0))) | E9: =IF(OR($A9="",$A9=0),"",IF(ROUND(MIN(MAX($B9,88000),650000)*料率!$E$6/2,4)<=0.5,0,ROUNDUP(ROUND(MIN(MAX($B9,88000),650000)*料率!$E$6/2,4)-0.5,0))) | F9: =IF(OR($A9="",$A9=0),"",IF(ROUND($A9*INDEX(料率!$E$8:$E$10,MATCH('1_手取り'!$B$6,料率!$D$8:$D$10,0)),4)<=0.5,0,ROUNDUP(ROUND($A9*INDEX(料率!$E$8:$E$10,MATCH('1_手取り'!$B$6,料率!$D$8:$D$10,0)),4)-0.5,0))) | G9: =IF(OR($A9="",$A9=0),"",SUM($C9:$F9)) | H9: =IF($A9="","",IF($A9=0,0,$A9-$G9)) | I9: =IF($A9="","",IF(OR($A9=0,$H9<=0),"前月の給与なし",IF('1_手取り'!$F$13>$H9*10,"10倍超","算出率の表"))) | J9: =IF($A9="","",IF($I9="算出率の表",INDEX(算出率!$A$4:$A$24,MATCH($H9,INDEX(算出率!$B$4:$I$24,0,'1_手取り'!$B$7+1),1)),"")) | K9: =IF($A9="","",IF($I9="算出率の表",ROUNDDOWN(ROUND('1_手取り'!$F$13*$J9,4),0),IF($I9="前月の給与なし",IF(ROUNDDOWN('1_手取り'!$F$13/'1_手取り'!$F$16,0)<105000,0,IF(ROUNDDOWN('1_手取り'!$F$13/'1_手取り'!$F$16,0)<740000,INDEX(月額表!$B$4:$I$234,MATCH(ROUNDDOWN('1_手取り'!$F$13/'1_手取り'!$F$16,0),月額表!$A$4:$A$234,1),'1_手取り'!$B$7+1),INDEX(月額表!$M$4:$T$12,MATCH(ROUNDDOWN('1_手取り'!$F$13/'1_手取り'!$F$16,0),月額表!$K$4:$K$12,1),'1_手取り'!$B$7+1)+ROUNDDOWN(ROUND((ROUNDDOWN('1_手取り'!$F$13/'1_手取り'!$F$16,0)-INDEX(月額表!$K$4:$K$12,MATCH(ROUNDDOWN('1_手取り'!$F$13/'1_手取り'!$F$16,0),月額表!$K$4:$K$12,1)))*INDEX(月額表!$L$4:$L$12,MATCH(ROUNDDOWN('1_手取り'!$F$13/'1_手取り'!$F$16,0),月額表!$K$4:$K$12,1)),4),0)))*'1_手取り'!$F$16,(IF((ROUNDDOWN('1_手取り'!$F$13/'1_手取り'!$F$16,0)+$H9)<105000,0,IF((ROUNDDOWN('1_手取り'!$F$13/'1_手取り'!$F$16,0)+$H9)<740000,INDEX(月額表!$B$4:$I$234,MATCH((ROUNDDOWN('1_手取り'!$F$13/'1_手取り'!$F$16,0)+$H9),月額表!$A$4:$A$234,1),'1_手取り'!$B$7+1),INDEX(月額表!$M$4:$T$12,MATCH((ROUNDDOWN('1_手取り'!$F$13/'1_手取り'!$F$16,0)+$H9),月額表!$K$4:$K$12,1),'1_手取り'!$B$7+1)+ROUNDDOWN(ROUND(((ROUNDDOWN('1_手取り'!$F$13/'1_手取り'!$F$16,0)+$H9)-INDEX(月額表!$K$4:$K$12,MATCH((ROUNDDOWN('1_手取り'!$F$13/'1_手取り'!$F$16,0)+$H9),月額表!$K$4:$K$12,1)))*INDEX(月額表!$L$4:$L$12,MATCH((ROUNDDOWN('1_手取り'!$F$13/'1_手取り'!$F$16,0)+$H9),月額表!$K$4:$K$12,1)),4),0)))-IF($H9<105000,0,IF($H9<740000,INDEX(月額表!$B$4:$I$234,MATCH($H9,月額表!$A$4:$A$234,1),'1_手取り'!$B$7+1),INDEX(月額表!$M$4:$T$12,MATCH($H9,月額表!$K$4:$K$12,1),'1_手取り'!$B$7+1)+ROUNDDOWN(ROUND(($H9-INDEX(月額表!$K$4:$K$12,MATCH($H9,月額表!$K$4:$K$12,1)))*INDEX(月額表!$L$4:$L$12,MATCH($H9,月額表!$K$4:$K$12,1)),4),0))))*'1_手取り'!$F$16))) | L9: =IF($A9="","",'1_手取り'!$B$3-'1_手取り'!$F$12-$K9) | M9: =IF(OR($A9="",$A8="",ROW()=5),"",$L9-$L8)
A10: 304089 | B10: =IF(OR($A10="",$A10=0),"",INDEX(標準報酬!$B$4:$B$53,MATCH($A10,標準報酬!$A$4:$A$53,1))) | C10: =IF(OR($A10="",$A10=0),"",IF(ROUND($B10*('1_手取り'!$F$6+'1_手取り'!$F$7)/2,4)<=0.5,0,ROUNDUP(ROUND($B10*('1_手取り'!$F$6+'1_手取り'!$F$7)/2,4)-0.5,0))) | D10: =IF(OR($A10="",$A10=0),"",IF(ROUND($B10*料率!$E$5/2,4)<=0.5,0,ROUNDUP(ROUND($B10*料率!$E$5/2,4)-0.5,0))) | E10: =IF(OR($A10="",$A10=0),"",IF(ROUND(MIN(MAX($B10,88000),650000)*料率!$E$6/2,4)<=0.5,0,ROUNDUP(ROUND(MIN(MAX($B10,88000),650000)*料率!$E$6/2,4)-0.5,0))) | F10: =IF(OR($A10="",$A10=0),"",IF(ROUND($A10*INDEX(料率!$E$8:$E$10,MATCH('1_手取り'!$B$6,料率!$D$8:$D$10,0)),4)<=0.5,0,ROUNDUP(ROUND($A10*INDEX(料率!$E$8:$E$10,MATCH('1_手取り'!$B$6,料率!$D$8:$D$10,0)),4)-0.5,0))) | G10: =IF(OR($A10="",$A10=0),"",SUM($C10:$F10)) | H10: =IF($A10="","",IF($A10=0,0,$A10-$G10)) | I10: =IF($A10="","",IF(OR($A10=0,$H10<=0),"前月の給与なし",IF('1_手取り'!$F$13>$H10*10,"10倍超","算出率の表"))) | J10: =IF($A10="","",IF($I10="算出率の表",INDEX(算出率!$A$4:$A$24,MATCH($H10,INDEX(算出率!$B$4:$I$24,0,'1_手取り'!$B$7+1),1)),"")) | K10: =IF($A10="","",IF($I10="算出率の表",ROUNDDOWN(ROUND('1_手取り'!$F$13*$J10,4),0),IF($I10="前月の給与なし",IF(ROUNDDOWN('1_手取り'!$F$13/'1_手取り'!$F$16,0)<105000,0,IF(ROUNDDOWN('1_手取り'!$F$13/'1_手取り'!$F$16,0)<740000,INDEX(月額表!$B$4:$I$234,MATCH(ROUNDDOWN('1_手取り'!$F$13/'1_手取り'!$F$16,0),月額表!$A$4:$A$234,1),'1_手取り'!$B$7+1),INDEX(月額表!$M$4:$T$12,MATCH(ROUNDDOWN('1_手取り'!$F$13/'1_手取り'!$F$16,0),月額表!$K$4:$K$12,1),'1_手取り'!$B$7+1)+ROUNDDOWN(ROUND((ROUNDDOWN('1_手取り'!$F$13/'1_手取り'!$F$16,0)-INDEX(月額表!$K$4:$K$12,MATCH(ROUNDDOWN('1_手取り'!$F$13/'1_手取り'!$F$16,0),月額表!$K$4:$K$12,1)))*INDEX(月額表!$L$4:$L$12,MATCH(ROUNDDOWN('1_手取り'!$F$13/'1_手取り'!$F$16,0),月額表!$K$4:$K$12,1)),4),0)))*'1_手取り'!$F$16,(IF((ROUNDDOWN('1_手取り'!$F$13/'1_手取り'!$F$16,0)+$H10)<105000,0,IF((ROUNDDOWN('1_手取り'!$F$13/'1_手取り'!$F$16,0)+$H10)<740000,INDEX(月額表!$B$4:$I$234,MATCH((ROUNDDOWN('1_手取り'!$F$13/'1_手取り'!$F$16,0)+$H10),月額表!$A$4:$A$234,1),'1_手取り'!$B$7+1),INDEX(月額表!$M$4:$T$12,MATCH((ROUNDDOWN('1_手取り'!$F$13/'1_手取り'!$F$16,0)+$H10),月額表!$K$4:$K$12,1),'1_手取り'!$B$7+1)+ROUNDDOWN(ROUND(((ROUNDDOWN('1_手取り'!$F$13/'1_手取り'!$F$16,0)+$H10)-INDEX(月額表!$K$4:$K$12,MATCH((ROUNDDOWN('1_手取り'!$F$13/'1_手取り'!$F$16,0)+$H10),月額表!$K$4:$K$12,1)))*INDEX(月額表!$L$4:$L$12,MATCH((ROUNDDOWN('1_手取り'!$F$13/'1_手取り'!$F$16,0)+$H10),月額表!$K$4:$K$12,1)),4),0)))-IF($H10<105000,0,IF($H10<740000,INDEX(月額表!$B$4:$I$234,MATCH($H10,月額表!$A$4:$A$234,1),'1_手取り'!$B$7+1),INDEX(月額表!$M$4:$T$12,MATCH($H10,月額表!$K$4:$K$12,1),'1_手取り'!$B$7+1)+ROUNDDOWN(ROUND(($H10-INDEX(月額表!$K$4:$K$12,MATCH($H10,月額表!$K$4:$K$12,1)))*INDEX(月額表!$L$4:$L$12,MATCH($H10,月額表!$K$4:$K$12,1)),4),0))))*'1_手取り'!$F$16))) | L10: =IF($A10="","",'1_手取り'!$B$3-'1_手取り'!$F$12-$K10) | M10: =IF(OR($A10="",$A9="",ROW()=5),"",$L10-$L9)
A11: 304090 | B11: =IF(OR($A11="",$A11=0),"",INDEX(標準報酬!$B$4:$B$53,MATCH($A11,標準報酬!$A$4:$A$53,1))) | C11: =IF(OR($A11="",$A11=0),"",IF(ROUND($B11*('1_手取り'!$F$6+'1_手取り'!$F$7)/2,4)<=0.5,0,ROUNDUP(ROUND($B11*('1_手取り'!$F$6+'1_手取り'!$F$7)/2,4)-0.5,0))) | D11: =IF(OR($A11="",$A11=0),"",IF(ROUND($B11*料率!$E$5/2,4)<=0.5,0,ROUNDUP(ROUND($B11*料率!$E$5/2,4)-0.5,0))) | E11: =IF(OR($A11="",$A11=0),"",IF(ROUND(MIN(MAX($B11,88000),650000)*料率!$E$6/2,4)<=0.5,0,ROUNDUP(ROUND(MIN(MAX($B11,88000),650000)*料率!$E$6/2,4)-0.5,0))) | F11: =IF(OR($A11="",$A11=0),"",IF(ROUND($A11*INDEX(料率!$E$8:$E$10,MATCH('1_手取り'!$B$6,料率!$D$8:$D$10,0)),4)<=0.5,0,ROUNDUP(ROUND($A11*INDEX(料率!$E$8:$E$10,MATCH('1_手取り'!$B$6,料率!$D$8:$D$10,0)),4)-0.5,0))) | G11: =IF(OR($A11="",$A11=0),"",SUM($C11:$F11)) | H11: =IF($A11="","",IF($A11=0,0,$A11-$G11)) | I11: =IF($A11="","",IF(OR($A11=0,$H11<=0),"前月の給与なし",IF('1_手取り'!$F$13>$H11*10,"10倍超","算出率の表"))) | J11: =IF($A11="","",IF($I11="算出率の表",INDEX(算出率!$A$4:$A$24,MATCH($H11,INDEX(算出率!$B$4:$I$24,0,'1_手取り'!$B$7+1),1)),"")) | K11: =IF($A11="","",IF($I11="算出率の表",ROUNDDOWN(ROUND('1_手取り'!$F$13*$J11,4),0),IF($I11="前月の給与なし",IF(ROUNDDOWN('1_手取り'!$F$13/'1_手取り'!$F$16,0)<105000,0,IF(ROUNDDOWN('1_手取り'!$F$13/'1_手取り'!$F$16,0)<740000,INDEX(月額表!$B$4:$I$234,MATCH(ROUNDDOWN('1_手取り'!$F$13/'1_手取り'!$F$16,0),月額表!$A$4:$A$234,1),'1_手取り'!$B$7+1),INDEX(月額表!$M$4:$T$12,MATCH(ROUNDDOWN('1_手取り'!$F$13/'1_手取り'!$F$16,0),月額表!$K$4:$K$12,1),'1_手取り'!$B$7+1)+ROUNDDOWN(ROUND((ROUNDDOWN('1_手取り'!$F$13/'1_手取り'!$F$16,0)-INDEX(月額表!$K$4:$K$12,MATCH(ROUNDDOWN('1_手取り'!$F$13/'1_手取り'!$F$16,0),月額表!$K$4:$K$12,1)))*INDEX(月額表!$L$4:$L$12,MATCH(ROUNDDOWN('1_手取り'!$F$13/'1_手取り'!$F$16,0),月額表!$K$4:$K$12,1)),4),0)))*'1_手取り'!$F$16,(IF((ROUNDDOWN('1_手取り'!$F$13/'1_手取り'!$F$16,0)+$H11)<105000,0,IF((ROUNDDOWN('1_手取り'!$F$13/'1_手取り'!$F$16,0)+$H11)<740000,INDEX(月額表!$B$4:$I$234,MATCH((ROUNDDOWN('1_手取り'!$F$13/'1_手取り'!$F$16,0)+$H11),月額表!$A$4:$A$234,1),'1_手取り'!$B$7+1),INDEX(月額表!$M$4:$T$12,MATCH((ROUNDDOWN('1_手取り'!$F$13/'1_手取り'!$F$16,0)+$H11),月額表!$K$4:$K$12,1),'1_手取り'!$B$7+1)+ROUNDDOWN(ROUND(((ROUNDDOWN('1_手取り'!$F$13/'1_手取り'!$F$16,0)+$H11)-INDEX(月額表!$K$4:$K$12,MATCH((ROUNDDOWN('1_手取り'!$F$13/'1_手取り'!$F$16,0)+$H11),月額表!$K$4:$K$12,1)))*INDEX(月額表!$L$4:$L$12,MATCH((ROUNDDOWN('1_手取り'!$F$13/'1_手取り'!$F$16,0)+$H11),月額表!$K$4:$K$12,1)),4),0)))-IF($H11<105000,0,IF($H11<740000,INDEX(月額表!$B$4:$I$234,MATCH($H11,月額表!$A$4:$A$234,1),'1_手取り'!$B$7+1),INDEX(月額表!$M$4:$T$12,MATCH($H11,月額表!$K$4:$K$12,1),'1_手取り'!$B$7+1)+ROUNDDOWN(ROUND(($H11-INDEX(月額表!$K$4:$K$12,MATCH($H11,月額表!$K$4:$K$12,1)))*INDEX(月額表!$L$4:$L$12,MATCH($H11,月額表!$K$4:$K$12,1)),4),0))))*'1_手取り'!$F$16))) | L11: =IF($A11="","",'1_手取り'!$B$3-'1_手取り'!$F$12-$K11) | M11: =IF(OR($A11="",$A10="",ROW()=5),"",$L11-$L10)
A12: 350000 | B12: =IF(OR($A12="",$A12=0),"",INDEX(標準報酬!$B$4:$B$53,MATCH($A12,標準報酬!$A$4:$A$53,1))) | C12: =IF(OR($A12="",$A12=0),"",IF(ROUND($B12*('1_手取り'!$F$6+'1_手取り'!$F$7)/2,4)<=0.5,0,ROUNDUP(ROUND($B12*('1_手取り'!$F$6+'1_手取り'!$F$7)/2,4)-0.5,0))) | D12: =IF(OR($A12="",$A12=0),"",IF(ROUND($B12*料率!$E$5/2,4)<=0.5,0,ROUNDUP(ROUND($B12*料率!$E$5/2,4)-0.5,0))) | E12: =IF(OR($A12="",$A12=0),"",IF(ROUND(MIN(MAX($B12,88000),650000)*料率!$E$6/2,4)<=0.5,0,ROUNDUP(ROUND(MIN(MAX($B12,88000),650000)*料率!$E$6/2,4)-0.5,0))) | F12: =IF(OR($A12="",$A12=0),"",IF(ROUND($A12*INDEX(料率!$E$8:$E$10,MATCH('1_手取り'!$B$6,料率!$D$8:$D$10,0)),4)<=0.5,0,ROUNDUP(ROUND($A12*INDEX(料率!$E$8:$E$10,MATCH('1_手取り'!$B$6,料率!$D$8:$D$10,0)),4)-0.5,0))) | G12: =IF(OR($A12="",$A12=0),"",SUM($C12:$F12)) | H12: =IF($A12="","",IF($A12=0,0,$A12-$G12)) | I12: =IF($A12="","",IF(OR($A12=0,$H12<=0),"前月の給与なし",IF('1_手取り'!$F$13>$H12*10,"10倍超","算出率の表"))) | J12: =IF($A12="","",IF($I12="算出率の表",INDEX(算出率!$A$4:$A$24,MATCH($H12,INDEX(算出率!$B$4:$I$24,0,'1_手取り'!$B$7+1),1)),"")) | K12: =IF($A12="","",IF($I12="算出率の表",ROUNDDOWN(ROUND('1_手取り'!$F$13*$J12,4),0),IF($I12="前月の給与なし",IF(ROUNDDOWN('1_手取り'!$F$13/'1_手取り'!$F$16,0)<105000,0,IF(ROUNDDOWN('1_手取り'!$F$13/'1_手取り'!$F$16,0)<740000,INDEX(月額表!$B$4:$I$234,MATCH(ROUNDDOWN('1_手取り'!$F$13/'1_手取り'!$F$16,0),月額表!$A$4:$A$234,1),'1_手取り'!$B$7+1),INDEX(月額表!$M$4:$T$12,MATCH(ROUNDDOWN('1_手取り'!$F$13/'1_手取り'!$F$16,0),月額表!$K$4:$K$12,1),'1_手取り'!$B$7+1)+ROUNDDOWN(ROUND((ROUNDDOWN('1_手取り'!$F$13/'1_手取り'!$F$16,0)-INDEX(月額表!$K$4:$K$12,MATCH(ROUNDDOWN('1_手取り'!$F$13/'1_手取り'!$F$16,0),月額表!$K$4:$K$12,1)))*INDEX(月額表!$L$4:$L$12,MATCH(ROUNDDOWN('1_手取り'!$F$13/'1_手取り'!$F$16,0),月額表!$K$4:$K$12,1)),4),0)))*'1_手取り'!$F$16,(IF((ROUNDDOWN('1_手取り'!$F$13/'1_手取り'!$F$16,0)+$H12)<105000,0,IF((ROUNDDOWN('1_手取り'!$F$13/'1_手取り'!$F$16,0)+$H12)<740000,INDEX(月額表!$B$4:$I$234,MATCH((ROUNDDOWN('1_手取り'!$F$13/'1_手取り'!$F$16,0)+$H12),月額表!$A$4:$A$234,1),'1_手取り'!$B$7+1),INDEX(月額表!$M$4:$T$12,MATCH((ROUNDDOWN('1_手取り'!$F$13/'1_手取り'!$F$16,0)+$H12),月額表!$K$4:$K$12,1),'1_手取り'!$B$7+1)+ROUNDDOWN(ROUND(((ROUNDDOWN('1_手取り'!$F$13/'1_手取り'!$F$16,0)+$H12)-INDEX(月額表!$K$4:$K$12,MATCH((ROUNDDOWN('1_手取り'!$F$13/'1_手取り'!$F$16,0)+$H12),月額表!$K$4:$K$12,1)))*INDEX(月額表!$L$4:$L$12,MATCH((ROUNDDOWN('1_手取り'!$F$13/'1_手取り'!$F$16,0)+$H12),月額表!$K$4:$K$12,1)),4),0)))-IF($H12<105000,0,IF($H12<740000,INDEX(月額表!$B$4:$I$234,MATCH($H12,月額表!$A$4:$A$234,1),'1_手取り'!$B$7+1),INDEX(月額表!$M$4:$T$12,MATCH($H12,月額表!$K$4:$K$12,1),'1_手取り'!$B$7+1)+ROUNDDOWN(ROUND(($H12-INDEX(月額表!$K$4:$K$12,MATCH($H12,月額表!$K$4:$K$12,1)))*INDEX(月額表!$L$4:$L$12,MATCH($H12,月額表!$K$4:$K$12,1)),4),0))))*'1_手取り'!$F$16))) | L12: =IF($A12="","",'1_手取り'!$B$3-'1_手取り'!$F$12-$K12) | M12: =IF(OR($A12="",$A11="",ROW()=5),"",$L12-$L11)
A13: 400000 | B13: =IF(OR($A13="",$A13=0),"",INDEX(標準報酬!$B$4:$B$53,MATCH($A13,標準報酬!$A$4:$A$53,1))) | C13: =IF(OR($A13="",$A13=0),"",IF(ROUND($B13*('1_手取り'!$F$6+'1_手取り'!$F$7)/2,4)<=0.5,0,ROUNDUP(ROUND($B13*('1_手取り'!$F$6+'1_手取り'!$F$7)/2,4)-0.5,0))) | D13: =IF(OR($A13="",$A13=0),"",IF(ROUND($B13*料率!$E$5/2,4)<=0.5,0,ROUNDUP(ROUND($B13*料率!$E$5/2,4)-0.5,0))) | E13: =IF(OR($A13="",$A13=0),"",IF(ROUND(MIN(MAX($B13,88000),650000)*料率!$E$6/2,4)<=0.5,0,ROUNDUP(ROUND(MIN(MAX($B13,88000),650000)*料率!$E$6/2,4)-0.5,0))) | F13: =IF(OR($A13="",$A13=0),"",IF(ROUND($A13*INDEX(料率!$E$8:$E$10,MATCH('1_手取り'!$B$6,料率!$D$8:$D$10,0)),4)<=0.5,0,ROUNDUP(ROUND($A13*INDEX(料率!$E$8:$E$10,MATCH('1_手取り'!$B$6,料率!$D$8:$D$10,0)),4)-0.5,0))) | G13: =IF(OR($A13="",$A13=0),"",SUM($C13:$F13)) | H13: =IF($A13="","",IF($A13=0,0,$A13-$G13)) | I13: =IF($A13="","",IF(OR($A13=0,$H13<=0),"前月の給与なし",IF('1_手取り'!$F$13>$H13*10,"10倍超","算出率の表"))) | J13: =IF($A13="","",IF($I13="算出率の表",INDEX(算出率!$A$4:$A$24,MATCH($H13,INDEX(算出率!$B$4:$I$24,0,'1_手取り'!$B$7+1),1)),"")) | K13: =IF($A13="","",IF($I13="算出率の表",ROUNDDOWN(ROUND('1_手取り'!$F$13*$J13,4),0),IF($I13="前月の給与なし",IF(ROUNDDOWN('1_手取り'!$F$13/'1_手取り'!$F$16,0)<105000,0,IF(ROUNDDOWN('1_手取り'!$F$13/'1_手取り'!$F$16,0)<740000,INDEX(月額表!$B$4:$I$234,MATCH(ROUNDDOWN('1_手取り'!$F$13/'1_手取り'!$F$16,0),月額表!$A$4:$A$234,1),'1_手取り'!$B$7+1),INDEX(月額表!$M$4:$T$12,MATCH(ROUNDDOWN('1_手取り'!$F$13/'1_手取り'!$F$16,0),月額表!$K$4:$K$12,1),'1_手取り'!$B$7+1)+ROUNDDOWN(ROUND((ROUNDDOWN('1_手取り'!$F$13/'1_手取り'!$F$16,0)-INDEX(月額表!$K$4:$K$12,MATCH(ROUNDDOWN('1_手取り'!$F$13/'1_手取り'!$F$16,0),月額表!$K$4:$K$12,1)))*INDEX(月額表!$L$4:$L$12,MATCH(ROUNDDOWN('1_手取り'!$F$13/'1_手取り'!$F$16,0),月額表!$K$4:$K$12,1)),4),0)))*'1_手取り'!$F$16,(IF((ROUNDDOWN('1_手取り'!$F$13/'1_手取り'!$F$16,0)+$H13)<105000,0,IF((ROUNDDOWN('1_手取り'!$F$13/'1_手取り'!$F$16,0)+$H13)<740000,INDEX(月額表!$B$4:$I$234,MATCH((ROUNDDOWN('1_手取り'!$F$13/'1_手取り'!$F$16,0)+$H13),月額表!$A$4:$A$234,1),'1_手取り'!$B$7+1),INDEX(月額表!$M$4:$T$12,MATCH((ROUNDDOWN('1_手取り'!$F$13/'1_手取り'!$F$16,0)+$H13),月額表!$K$4:$K$12,1),'1_手取り'!$B$7+1)+ROUNDDOWN(ROUND(((ROUNDDOWN('1_手取り'!$F$13/'1_手取り'!$F$16,0)+$H13)-INDEX(月額表!$K$4:$K$12,MATCH((ROUNDDOWN('1_手取り'!$F$13/'1_手取り'!$F$16,0)+$H13),月額表!$K$4:$K$12,1)))*INDEX(月額表!$L$4:$L$12,MATCH((ROUNDDOWN('1_手取り'!$F$13/'1_手取り'!$F$16,0)+$H13),月額表!$K$4:$K$12,1)),4),0)))-IF($H13<105000,0,IF($H13<740000,INDEX(月額表!$B$4:$I$234,MATCH($H13,月額表!$A$4:$A$234,1),'1_手取り'!$B$7+1),INDEX(月額表!$M$4:$T$12,MATCH($H13,月額表!$K$4:$K$12,1),'1_手取り'!$B$7+1)+ROUNDDOWN(ROUND(($H13-INDEX(月額表!$K$4:$K$12,MATCH($H13,月額表!$K$4:$K$12,1)))*INDEX(月額表!$L$4:$L$12,MATCH($H13,月額表!$K$4:$K$12,1)),4),0))))*'1_手取り'!$F$16))) | L13: =IF($A13="","",'1_手取り'!$B$3-'1_手取り'!$F$12-$K13) | M13: =IF(OR($A13="",$A12="",ROW()=5),"",$L13-$L12)
A14: 450000 | B14: =IF(OR($A14="",$A14=0),"",INDEX(標準報酬!$B$4:$B$53,MATCH($A14,標準報酬!$A$4:$A$53,1))) | C14: =IF(OR($A14="",$A14=0),"",IF(ROUND($B14*('1_手取り'!$F$6+'1_手取り'!$F$7)/2,4)<=0.5,0,ROUNDUP(ROUND($B14*('1_手取り'!$F$6+'1_手取り'!$F$7)/2,4)-0.5,0))) | D14: =IF(OR($A14="",$A14=0),"",IF(ROUND($B14*料率!$E$5/2,4)<=0.5,0,ROUNDUP(ROUND($B14*料率!$E$5/2,4)-0.5,0))) | E14: =IF(OR($A14="",$A14=0),"",IF(ROUND(MIN(MAX($B14,88000),650000)*料率!$E$6/2,4)<=0.5,0,ROUNDUP(ROUND(MIN(MAX($B14,88000),650000)*料率!$E$6/2,4)-0.5,0))) | F14: =IF(OR($A14="",$A14=0),"",IF(ROUND($A14*INDEX(料率!$E$8:$E$10,MATCH('1_手取り'!$B$6,料率!$D$8:$D$10,0)),4)<=0.5,0,ROUNDUP(ROUND($A14*INDEX(料率!$E$8:$E$10,MATCH('1_手取り'!$B$6,料率!$D$8:$D$10,0)),4)-0.5,0))) | G14: =IF(OR($A14="",$A14=0),"",SUM($C14:$F14)) | H14: =IF($A14="","",IF($A14=0,0,$A14-$G14)) | I14: =IF($A14="","",IF(OR($A14=0,$H14<=0),"前月の給与なし",IF('1_手取り'!$F$13>$H14*10,"10倍超","算出率の表"))) | J14: =IF($A14="","",IF($I14="算出率の表",INDEX(算出率!$A$4:$A$24,MATCH($H14,INDEX(算出率!$B$4:$I$24,0,'1_手取り'!$B$7+1),1)),"")) | K14: =IF($A14="","",IF($I14="算出率の表",ROUNDDOWN(ROUND('1_手取り'!$F$13*$J14,4),0),IF($I14="前月の給与なし",IF(ROUNDDOWN('1_手取り'!$F$13/'1_手取り'!$F$16,0)<105000,0,IF(ROUNDDOWN('1_手取り'!$F$13/'1_手取り'!$F$16,0)<740000,INDEX(月額表!$B$4:$I$234,MATCH(ROUNDDOWN('1_手取り'!$F$13/'1_手取り'!$F$16,0),月額表!$A$4:$A$234,1),'1_手取り'!$B$7+1),INDEX(月額表!$M$4:$T$12,MATCH(ROUNDDOWN('1_手取り'!$F$13/'1_手取り'!$F$16,0),月額表!$K$4:$K$12,1),'1_手取り'!$B$7+1)+ROUNDDOWN(ROUND((ROUNDDOWN('1_手取り'!$F$13/'1_手取り'!$F$16,0)-INDEX(月額表!$K$4:$K$12,MATCH(ROUNDDOWN('1_手取り'!$F$13/'1_手取り'!$F$16,0),月額表!$K$4:$K$12,1)))*INDEX(月額表!$L$4:$L$12,MATCH(ROUNDDOWN('1_手取り'!$F$13/'1_手取り'!$F$16,0),月額表!$K$4:$K$12,1)),4),0)))*'1_手取り'!$F$16,(IF((ROUNDDOWN('1_手取り'!$F$13/'1_手取り'!$F$16,0)+$H14)<105000,0,IF((ROUNDDOWN('1_手取り'!$F$13/'1_手取り'!$F$16,0)+$H14)<740000,INDEX(月額表!$B$4:$I$234,MATCH((ROUNDDOWN('1_手取り'!$F$13/'1_手取り'!$F$16,0)+$H14),月額表!$A$4:$A$234,1),'1_手取り'!$B$7+1),INDEX(月額表!$M$4:$T$12,MATCH((ROUNDDOWN('1_手取り'!$F$13/'1_手取り'!$F$16,0)+$H14),月額表!$K$4:$K$12,1),'1_手取り'!$B$7+1)+ROUNDDOWN(ROUND(((ROUNDDOWN('1_手取り'!$F$13/'1_手取り'!$F$16,0)+$H14)-INDEX(月額表!$K$4:$K$12,MATCH((ROUNDDOWN('1_手取り'!$F$13/'1_手取り'!$F$16,0)+$H14),月額表!$K$4:$K$12,1)))*INDEX(月額表!$L$4:$L$12,MATCH((ROUNDDOWN('1_手取り'!$F$13/'1_手取り'!$F$16,0)+$H14),月額表!$K$4:$K$12,1)),4),0)))-IF($H14<105000,0,IF($H14<740000,INDEX(月額表!$B$4:$I$234,MATCH($H14,月額表!$A$4:$A$234,1),'1_手取り'!$B$7+1),INDEX(月額表!$M$4:$T$12,MATCH($H14,月額表!$K$4:$K$12,1),'1_手取り'!$B$7+1)+ROUNDDOWN(ROUND(($H14-INDEX(月額表!$K$4:$K$12,MATCH($H14,月額表!$K$4:$K$12,1)))*INDEX(月額表!$L$4:$L$12,MATCH($H14,月額表!$K$4:$K$12,1)),4),0))))*'1_手取り'!$F$16))) | L14: =IF($A14="","",'1_手取り'!$B$3-'1_手取り'!$F$12-$K14) | M14: =IF(OR($A14="",$A13="",ROW()=5),"",$L14-$L13)
A15: 500000 | B15: =IF(OR($A15="",$A15=0),"",INDEX(標準報酬!$B$4:$B$53,MATCH($A15,標準報酬!$A$4:$A$53,1))) | C15: =IF(OR($A15="",$A15=0),"",IF(ROUND($B15*('1_手取り'!$F$6+'1_手取り'!$F$7)/2,4)<=0.5,0,ROUNDUP(ROUND($B15*('1_手取り'!$F$6+'1_手取り'!$F$7)/2,4)-0.5,0))) | D15: =IF(OR($A15="",$A15=0),"",IF(ROUND($B15*料率!$E$5/2,4)<=0.5,0,ROUNDUP(ROUND($B15*料率!$E$5/2,4)-0.5,0))) | E15: =IF(OR($A15="",$A15=0),"",IF(ROUND(MIN(MAX($B15,88000),650000)*料率!$E$6/2,4)<=0.5,0,ROUNDUP(ROUND(MIN(MAX($B15,88000),650000)*料率!$E$6/2,4)-0.5,0))) | F15: =IF(OR($A15="",$A15=0),"",IF(ROUND($A15*INDEX(料率!$E$8:$E$10,MATCH('1_手取り'!$B$6,料率!$D$8:$D$10,0)),4)<=0.5,0,ROUNDUP(ROUND($A15*INDEX(料率!$E$8:$E$10,MATCH('1_手取り'!$B$6,料率!$D$8:$D$10,0)),4)-0.5,0))) | G15: =IF(OR($A15="",$A15=0),"",SUM($C15:$F15)) | H15: =IF($A15="","",IF($A15=0,0,$A15-$G15)) | I15: =IF($A15="","",IF(OR($A15=0,$H15<=0),"前月の給与なし",IF('1_手取り'!$F$13>$H15*10,"10倍超","算出率の表"))) | J15: =IF($A15="","",IF($I15="算出率の表",INDEX(算出率!$A$4:$A$24,MATCH($H15,INDEX(算出率!$B$4:$I$24,0,'1_手取り'!$B$7+1),1)),"")) | K15: =IF($A15="","",IF($I15="算出率の表",ROUNDDOWN(ROUND('1_手取り'!$F$13*$J15,4),0),IF($I15="前月の給与なし",IF(ROUNDDOWN('1_手取り'!$F$13/'1_手取り'!$F$16,0)<105000,0,IF(ROUNDDOWN('1_手取り'!$F$13/'1_手取り'!$F$16,0)<740000,INDEX(月額表!$B$4:$I$234,MATCH(ROUNDDOWN('1_手取り'!$F$13/'1_手取り'!$F$16,0),月額表!$A$4:$A$234,1),'1_手取り'!$B$7+1),INDEX(月額表!$M$4:$T$12,MATCH(ROUNDDOWN('1_手取り'!$F$13/'1_手取り'!$F$16,0),月額表!$K$4:$K$12,1),'1_手取り'!$B$7+1)+ROUNDDOWN(ROUND((ROUNDDOWN('1_手取り'!$F$13/'1_手取り'!$F$16,0)-INDEX(月額表!$K$4:$K$12,MATCH(ROUNDDOWN('1_手取り'!$F$13/'1_手取り'!$F$16,0),月額表!$K$4:$K$12,1)))*INDEX(月額表!$L$4:$L$12,MATCH(ROUNDDOWN('1_手取り'!$F$13/'1_手取り'!$F$16,0),月額表!$K$4:$K$12,1)),4),0)))*'1_手取り'!$F$16,(IF((ROUNDDOWN('1_手取り'!$F$13/'1_手取り'!$F$16,0)+$H15)<105000,0,IF((ROUNDDOWN('1_手取り'!$F$13/'1_手取り'!$F$16,0)+$H15)<740000,INDEX(月額表!$B$4:$I$234,MATCH((ROUNDDOWN('1_手取り'!$F$13/'1_手取り'!$F$16,0)+$H15),月額表!$A$4:$A$234,1),'1_手取り'!$B$7+1),INDEX(月額表!$M$4:$T$12,MATCH((ROUNDDOWN('1_手取り'!$F$13/'1_手取り'!$F$16,0)+$H15),月額表!$K$4:$K$12,1),'1_手取り'!$B$7+1)+ROUNDDOWN(ROUND(((ROUNDDOWN('1_手取り'!$F$13/'1_手取り'!$F$16,0)+$H15)-INDEX(月額表!$K$4:$K$12,MATCH((ROUNDDOWN('1_手取り'!$F$13/'1_手取り'!$F$16,0)+$H15),月額表!$K$4:$K$12,1)))*INDEX(月額表!$L$4:$L$12,MATCH((ROUNDDOWN('1_手取り'!$F$13/'1_手取り'!$F$16,0)+$H15),月額表!$K$4:$K$12,1)),4),0)))-IF($H15<105000,0,IF($H15<740000,INDEX(月額表!$B$4:$I$234,MATCH($H15,月額表!$A$4:$A$234,1),'1_手取り'!$B$7+1),INDEX(月額表!$M$4:$T$12,MATCH($H15,月額表!$K$4:$K$12,1),'1_手取り'!$B$7+1)+ROUNDDOWN(ROUND(($H15-INDEX(月額表!$K$4:$K$12,MATCH($H15,月額表!$K$4:$K$12,1)))*INDEX(月額表!$L$4:$L$12,MATCH($H15,月額表!$K$4:$K$12,1)),4),0))))*'1_手取り'!$F$16))) | L15: =IF($A15="","",'1_手取り'!$B$3-'1_手取り'!$F$12-$K15) | M15: =IF(OR($A15="",$A14="",ROW()=5),"",$L15-$L14)
A16: 600000 | B16: =IF(OR($A16="",$A16=0),"",INDEX(標準報酬!$B$4:$B$53,MATCH($A16,標準報酬!$A$4:$A$53,1))) | C16: =IF(OR($A16="",$A16=0),"",IF(ROUND($B16*('1_手取り'!$F$6+'1_手取り'!$F$7)/2,4)<=0.5,0,ROUNDUP(ROUND($B16*('1_手取り'!$F$6+'1_手取り'!$F$7)/2,4)-0.5,0))) | D16: =IF(OR($A16="",$A16=0),"",IF(ROUND($B16*料率!$E$5/2,4)<=0.5,0,ROUNDUP(ROUND($B16*料率!$E$5/2,4)-0.5,0))) | E16: =IF(OR($A16="",$A16=0),"",IF(ROUND(MIN(MAX($B16,88000),650000)*料率!$E$6/2,4)<=0.5,0,ROUNDUP(ROUND(MIN(MAX($B16,88000),650000)*料率!$E$6/2,4)-0.5,0))) | F16: =IF(OR($A16="",$A16=0),"",IF(ROUND($A16*INDEX(料率!$E$8:$E$10,MATCH('1_手取り'!$B$6,料率!$D$8:$D$10,0)),4)<=0.5,0,ROUNDUP(ROUND($A16*INDEX(料率!$E$8:$E$10,MATCH('1_手取り'!$B$6,料率!$D$8:$D$10,0)),4)-0.5,0))) | G16: =IF(OR($A16="",$A16=0),"",SUM($C16:$F16)) | H16: =IF($A16="","",IF($A16=0,0,$A16-$G16)) | I16: =IF($A16="","",IF(OR($A16=0,$H16<=0),"前月の給与なし",IF('1_手取り'!$F$13>$H16*10,"10倍超","算出率の表"))) | J16: =IF($A16="","",IF($I16="算出率の表",INDEX(算出率!$A$4:$A$24,MATCH($H16,INDEX(算出率!$B$4:$I$24,0,'1_手取り'!$B$7+1),1)),"")) | K16: =IF($A16="","",IF($I16="算出率の表",ROUNDDOWN(ROUND('1_手取り'!$F$13*$J16,4),0),IF($I16="前月の給与なし",IF(ROUNDDOWN('1_手取り'!$F$13/'1_手取り'!$F$16,0)<105000,0,IF(ROUNDDOWN('1_手取り'!$F$13/'1_手取り'!$F$16,0)<740000,INDEX(月額表!$B$4:$I$234,MATCH(ROUNDDOWN('1_手取り'!$F$13/'1_手取り'!$F$16,0),月額表!$A$4:$A$234,1),'1_手取り'!$B$7+1),INDEX(月額表!$M$4:$T$12,MATCH(ROUNDDOWN('1_手取り'!$F$13/'1_手取り'!$F$16,0),月額表!$K$4:$K$12,1),'1_手取り'!$B$7+1)+ROUNDDOWN(ROUND((ROUNDDOWN('1_手取り'!$F$13/'1_手取り'!$F$16,0)-INDEX(月額表!$K$4:$K$12,MATCH(ROUNDDOWN('1_手取り'!$F$13/'1_手取り'!$F$16,0),月額表!$K$4:$K$12,1)))*INDEX(月額表!$L$4:$L$12,MATCH(ROUNDDOWN('1_手取り'!$F$13/'1_手取り'!$F$16,0),月額表!$K$4:$K$12,1)),4),0)))*'1_手取り'!$F$16,(IF((ROUNDDOWN('1_手取り'!$F$13/'1_手取り'!$F$16,0)+$H16)<105000,0,IF((ROUNDDOWN('1_手取り'!$F$13/'1_手取り'!$F$16,0)+$H16)<740000,INDEX(月額表!$B$4:$I$234,MATCH((ROUNDDOWN('1_手取り'!$F$13/'1_手取り'!$F$16,0)+$H16),月額表!$A$4:$A$234,1),'1_手取り'!$B$7+1),INDEX(月額表!$M$4:$T$12,MATCH((ROUNDDOWN('1_手取り'!$F$13/'1_手取り'!$F$16,0)+$H16),月額表!$K$4:$K$12,1),'1_手取り'!$B$7+1)+ROUNDDOWN(ROUND(((ROUNDDOWN('1_手取り'!$F$13/'1_手取り'!$F$16,0)+$H16)-INDEX(月額表!$K$4:$K$12,MATCH((ROUNDDOWN('1_手取り'!$F$13/'1_手取り'!$F$16,0)+$H16),月額表!$K$4:$K$12,1)))*INDEX(月額表!$L$4:$L$12,MATCH((ROUNDDOWN('1_手取り'!$F$13/'1_手取り'!$F$16,0)+$H16),月額表!$K$4:$K$12,1)),4),0)))-IF($H16<105000,0,IF($H16<740000,INDEX(月額表!$B$4:$I$234,MATCH($H16,月額表!$A$4:$A$234,1),'1_手取り'!$B$7+1),INDEX(月額表!$M$4:$T$12,MATCH($H16,月額表!$K$4:$K$12,1),'1_手取り'!$B$7+1)+ROUNDDOWN(ROUND(($H16-INDEX(月額表!$K$4:$K$12,MATCH($H16,月額表!$K$4:$K$12,1)))*INDEX(月額表!$L$4:$L$12,MATCH($H16,月額表!$K$4:$K$12,1)),4),0))))*'1_手取り'!$F$16))) | L16: =IF($A16="","",'1_手取り'!$B$3-'1_手取り'!$F$12-$K16) | M16: =IF(OR($A16="",$A15="",ROW()=5),"",$L16-$L15)
A17: 800000 | B17: =IF(OR($A17="",$A17=0),"",INDEX(標準報酬!$B$4:$B$53,MATCH($A17,標準報酬!$A$4:$A$53,1))) | C17: =IF(OR($A17="",$A17=0),"",IF(ROUND($B17*('1_手取り'!$F$6+'1_手取り'!$F$7)/2,4)<=0.5,0,ROUNDUP(ROUND($B17*('1_手取り'!$F$6+'1_手取り'!$F$7)/2,4)-0.5,0))) | D17: =IF(OR($A17="",$A17=0),"",IF(ROUND($B17*料率!$E$5/2,4)<=0.5,0,ROUNDUP(ROUND($B17*料率!$E$5/2,4)-0.5,0))) | E17: =IF(OR($A17="",$A17=0),"",IF(ROUND(MIN(MAX($B17,88000),650000)*料率!$E$6/2,4)<=0.5,0,ROUNDUP(ROUND(MIN(MAX($B17,88000),650000)*料率!$E$6/2,4)-0.5,0))) | F17: =IF(OR($A17="",$A17=0),"",IF(ROUND($A17*INDEX(料率!$E$8:$E$10,MATCH('1_手取り'!$B$6,料率!$D$8:$D$10,0)),4)<=0.5,0,ROUNDUP(ROUND($A17*INDEX(料率!$E$8:$E$10,MATCH('1_手取り'!$B$6,料率!$D$8:$D$10,0)),4)-0.5,0))) | G17: =IF(OR($A17="",$A17=0),"",SUM($C17:$F17)) | H17: =IF($A17="","",IF($A17=0,0,$A17-$G17)) | I17: =IF($A17="","",IF(OR($A17=0,$H17<=0),"前月の給与なし",IF('1_手取り'!$F$13>$H17*10,"10倍超","算出率の表"))) | J17: =IF($A17="","",IF($I17="算出率の表",INDEX(算出率!$A$4:$A$24,MATCH($H17,INDEX(算出率!$B$4:$I$24,0,'1_手取り'!$B$7+1),1)),"")) | K17: =IF($A17="","",IF($I17="算出率の表",ROUNDDOWN(ROUND('1_手取り'!$F$13*$J17,4),0),IF($I17="前月の給与なし",IF(ROUNDDOWN('1_手取り'!$F$13/'1_手取り'!$F$16,0)<105000,0,IF(ROUNDDOWN('1_手取り'!$F$13/'1_手取り'!$F$16,0)<740000,INDEX(月額表!$B$4:$I$234,MATCH(ROUNDDOWN('1_手取り'!$F$13/'1_手取り'!$F$16,0),月額表!$A$4:$A$234,1),'1_手取り'!$B$7+1),INDEX(月額表!$M$4:$T$12,MATCH(ROUNDDOWN('1_手取り'!$F$13/'1_手取り'!$F$16,0),月額表!$K$4:$K$12,1),'1_手取り'!$B$7+1)+ROUNDDOWN(ROUND((ROUNDDOWN('1_手取り'!$F$13/'1_手取り'!$F$16,0)-INDEX(月額表!$K$4:$K$12,MATCH(ROUNDDOWN('1_手取り'!$F$13/'1_手取り'!$F$16,0),月額表!$K$4:$K$12,1)))*INDEX(月額表!$L$4:$L$12,MATCH(ROUNDDOWN('1_手取り'!$F$13/'1_手取り'!$F$16,0),月額表!$K$4:$K$12,1)),4),0)))*'1_手取り'!$F$16,(IF((ROUNDDOWN('1_手取り'!$F$13/'1_手取り'!$F$16,0)+$H17)<105000,0,IF((ROUNDDOWN('1_手取り'!$F$13/'1_手取り'!$F$16,0)+$H17)<740000,INDEX(月額表!$B$4:$I$234,MATCH((ROUNDDOWN('1_手取り'!$F$13/'1_手取り'!$F$16,0)+$H17),月額表!$A$4:$A$234,1),'1_手取り'!$B$7+1),INDEX(月額表!$M$4:$T$12,MATCH((ROUNDDOWN('1_手取り'!$F$13/'1_手取り'!$F$16,0)+$H17),月額表!$K$4:$K$12,1),'1_手取り'!$B$7+1)+ROUNDDOWN(ROUND(((ROUNDDOWN('1_手取り'!$F$13/'1_手取り'!$F$16,0)+$H17)-INDEX(月額表!$K$4:$K$12,MATCH((ROUNDDOWN('1_手取り'!$F$13/'1_手取り'!$F$16,0)+$H17),月額表!$K$4:$K$12,1)))*INDEX(月額表!$L$4:$L$12,MATCH((ROUNDDOWN('1_手取り'!$F$13/'1_手取り'!$F$16,0)+$H17),月額表!$K$4:$K$12,1)),4),0)))-IF($H17<105000,0,IF($H17<740000,INDEX(月額表!$B$4:$I$234,MATCH($H17,月額表!$A$4:$A$234,1),'1_手取り'!$B$7+1),INDEX(月額表!$M$4:$T$12,MATCH($H17,月額表!$K$4:$K$12,1),'1_手取り'!$B$7+1)+ROUNDDOWN(ROUND(($H17-INDEX(月額表!$K$4:$K$12,MATCH($H17,月額表!$K$4:$K$12,1)))*INDEX(月額表!$L$4:$L$12,MATCH($H17,月額表!$K$4:$K$12,1)),4),0))))*'1_手取り'!$F$16))) | L17: =IF($A17="","",'1_手取り'!$B$3-'1_手取り'!$F$12-$K17) | M17: =IF(OR($A17="",$A16="",ROW()=5),"",$L17-$L16)
B18: =IF(OR($A18="",$A18=0),"",INDEX(標準報酬!$B$4:$B$53,MATCH($A18,標準報酬!$A$4:$A$53,1))) | C18: =IF(OR($A18="",$A18=0),"",IF(ROUND($B18*('1_手取り'!$F$6+'1_手取り'!$F$7)/2,4)<=0.5,0,ROUNDUP(ROUND($B18*('1_手取り'!$F$6+'1_手取り'!$F$7)/2,4)-0.5,0))) | D18: =IF(OR($A18="",$A18=0),"",IF(ROUND($B18*料率!$E$5/2,4)<=0.5,0,ROUNDUP(ROUND($B18*料率!$E$5/2,4)-0.5,0))) | E18: =IF(OR($A18="",$A18=0),"",IF(ROUND(MIN(MAX($B18,88000),650000)*料率!$E$6/2,4)<=0.5,0,ROUNDUP(ROUND(MIN(MAX($B18,88000),650000)*料率!$E$6/2,4)-0.5,0))) | F18: =IF(OR($A18="",$A18=0),"",IF(ROUND($A18*INDEX(料率!$E$8:$E$10,MATCH('1_手取り'!$B$6,料率!$D$8:$D$10,0)),4)<=0.5,0,ROUNDUP(ROUND($A18*INDEX(料率!$E$8:$E$10,MATCH('1_手取り'!$B$6,料率!$D$8:$D$10,0)),4)-0.5,0))) | G18: =IF(OR($A18="",$A18=0),"",SUM($C18:$F18)) | H18: =IF($A18="","",IF($A18=0,0,$A18-$G18)) | I18: =IF($A18="","",IF(OR($A18=0,$H18<=0),"前月の給与なし",IF('1_手取り'!$F$13>$H18*10,"10倍超","算出率の表"))) | J18: =IF($A18="","",IF($I18="算出率の表",INDEX(算出率!$A$4:$A$24,MATCH($H18,INDEX(算出率!$B$4:$I$24,0,'1_手取り'!$B$7+1),1)),"")) | K18: =IF($A18="","",IF($I18="算出率の表",ROUNDDOWN(ROUND('1_手取り'!$F$13*$J18,4),0),IF($I18="前月の給与なし",IF(ROUNDDOWN('1_手取り'!$F$13/'1_手取り'!$F$16,0)<105000,0,IF(ROUNDDOWN('1_手取り'!$F$13/'1_手取り'!$F$16,0)<740000,INDEX(月額表!$B$4:$I$234,MATCH(ROUNDDOWN('1_手取り'!$F$13/'1_手取り'!$F$16,0),月額表!$A$4:$A$234,1),'1_手取り'!$B$7+1),INDEX(月額表!$M$4:$T$12,MATCH(ROUNDDOWN('1_手取り'!$F$13/'1_手取り'!$F$16,0),月額表!$K$4:$K$12,1),'1_手取り'!$B$7+1)+ROUNDDOWN(ROUND((ROUNDDOWN('1_手取り'!$F$13/'1_手取り'!$F$16,0)-INDEX(月額表!$K$4:$K$12,MATCH(ROUNDDOWN('1_手取り'!$F$13/'1_手取り'!$F$16,0),月額表!$K$4:$K$12,1)))*INDEX(月額表!$L$4:$L$12,MATCH(ROUNDDOWN('1_手取り'!$F$13/'1_手取り'!$F$16,0),月額表!$K$4:$K$12,1)),4),0)))*'1_手取り'!$F$16,(IF((ROUNDDOWN('1_手取り'!$F$13/'1_手取り'!$F$16,0)+$H18)<105000,0,IF((ROUNDDOWN('1_手取り'!$F$13/'1_手取り'!$F$16,0)+$H18)<740000,INDEX(月額表!$B$4:$I$234,MATCH((ROUNDDOWN('1_手取り'!$F$13/'1_手取り'!$F$16,0)+$H18),月額表!$A$4:$A$234,1),'1_手取り'!$B$7+1),INDEX(月額表!$M$4:$T$12,MATCH((ROUNDDOWN('1_手取り'!$F$13/'1_手取り'!$F$16,0)+$H18),月額表!$K$4:$K$12,1),'1_手取り'!$B$7+1)+ROUNDDOWN(ROUND(((ROUNDDOWN('1_手取り'!$F$13/'1_手取り'!$F$16,0)+$H18)-INDEX(月額表!$K$4:$K$12,MATCH((ROUNDDOWN('1_手取り'!$F$13/'1_手取り'!$F$16,0)+$H18),月額表!$K$4:$K$12,1)))*INDEX(月額表!$L$4:$L$12,MATCH((ROUNDDOWN('1_手取り'!$F$13/'1_手取り'!$F$16,0)+$H18),月額表!$K$4:$K$12,1)),4),0)))-IF($H18<105000,0,IF($H18<740000,INDEX(月額表!$B$4:$I$234,MATCH($H18,月額表!$A$4:$A$234,1),'1_手取り'!$B$7+1),INDEX(月額表!$M$4:$T$12,MATCH($H18,月額表!$K$4:$K$12,1),'1_手取り'!$B$7+1)+ROUNDDOWN(ROUND(($H18-INDEX(月額表!$K$4:$K$12,MATCH($H18,月額表!$K$4:$K$12,1)))*INDEX(月額表!$L$4:$L$12,MATCH($H18,月額表!$K$4:$K$12,1)),4),0))))*'1_手取り'!$F$16))) | L18: =IF($A18="","",'1_手取り'!$B$3-'1_手取り'!$F$12-$K18) | M18: =IF(OR($A18="",$A17="",ROW()=5),"",$L18-$L17)
B19: =IF(OR($A19="",$A19=0),"",INDEX(標準報酬!$B$4:$B$53,MATCH($A19,標準報酬!$A$4:$A$53,1))) | C19: =IF(OR($A19="",$A19=0),"",IF(ROUND($B19*('1_手取り'!$F$6+'1_手取り'!$F$7)/2,4)<=0.5,0,ROUNDUP(ROUND($B19*('1_手取り'!$F$6+'1_手取り'!$F$7)/2,4)-0.5,0))) | D19: =IF(OR($A19="",$A19=0),"",IF(ROUND($B19*料率!$E$5/2,4)<=0.5,0,ROUNDUP(ROUND($B19*料率!$E$5/2,4)-0.5,0))) | E19: =IF(OR($A19="",$A19=0),"",IF(ROUND(MIN(MAX($B19,88000),650000)*料率!$E$6/2,4)<=0.5,0,ROUNDUP(ROUND(MIN(MAX($B19,88000),650000)*料率!$E$6/2,4)-0.5,0))) | F19: =IF(OR($A19="",$A19=0),"",IF(ROUND($A19*INDEX(料率!$E$8:$E$10,MATCH('1_手取り'!$B$6,料率!$D$8:$D$10,0)),4)<=0.5,0,ROUNDUP(ROUND($A19*INDEX(料率!$E$8:$E$10,MATCH('1_手取り'!$B$6,料率!$D$8:$D$10,0)),4)-0.5,0))) | G19: =IF(OR($A19="",$A19=0),"",SUM($C19:$F19)) | H19: =IF($A19="","",IF($A19=0,0,$A19-$G19)) | I19: =IF($A19="","",IF(OR($A19=0,$H19<=0),"前月の給与なし",IF('1_手取り'!$F$13>$H19*10,"10倍超","算出率の表"))) | J19: =IF($A19="","",IF($I19="算出率の表",INDEX(算出率!$A$4:$A$24,MATCH($H19,INDEX(算出率!$B$4:$I$24,0,'1_手取り'!$B$7+1),1)),"")) | K19: =IF($A19="","",IF($I19="算出率の表",ROUNDDOWN(ROUND('1_手取り'!$F$13*$J19,4),0),IF($I19="前月の給与なし",IF(ROUNDDOWN('1_手取り'!$F$13/'1_手取り'!$F$16,0)<105000,0,IF(ROUNDDOWN('1_手取り'!$F$13/'1_手取り'!$F$16,0)<740000,INDEX(月額表!$B$4:$I$234,MATCH(ROUNDDOWN('1_手取り'!$F$13/'1_手取り'!$F$16,0),月額表!$A$4:$A$234,1),'1_手取り'!$B$7+1),INDEX(月額表!$M$4:$T$12,MATCH(ROUNDDOWN('1_手取り'!$F$13/'1_手取り'!$F$16,0),月額表!$K$4:$K$12,1),'1_手取り'!$B$7+1)+ROUNDDOWN(ROUND((ROUNDDOWN('1_手取り'!$F$13/'1_手取り'!$F$16,0)-INDEX(月額表!$K$4:$K$12,MATCH(ROUNDDOWN('1_手取り'!$F$13/'1_手取り'!$F$16,0),月額表!$K$4:$K$12,1)))*INDEX(月額表!$L$4:$L$12,MATCH(ROUNDDOWN('1_手取り'!$F$13/'1_手取り'!$F$16,0),月額表!$K$4:$K$12,1)),4),0)))*'1_手取り'!$F$16,(IF((ROUNDDOWN('1_手取り'!$F$13/'1_手取り'!$F$16,0)+$H19)<105000,0,IF((ROUNDDOWN('1_手取り'!$F$13/'1_手取り'!$F$16,0)+$H19)<740000,INDEX(月額表!$B$4:$I$234,MATCH((ROUNDDOWN('1_手取り'!$F$13/'1_手取り'!$F$16,0)+$H19),月額表!$A$4:$A$234,1),'1_手取り'!$B$7+1),INDEX(月額表!$M$4:$T$12,MATCH((ROUNDDOWN('1_手取り'!$F$13/'1_手取り'!$F$16,0)+$H19),月額表!$K$4:$K$12,1),'1_手取り'!$B$7+1)+ROUNDDOWN(ROUND(((ROUNDDOWN('1_手取り'!$F$13/'1_手取り'!$F$16,0)+$H19)-INDEX(月額表!$K$4:$K$12,MATCH((ROUNDDOWN('1_手取り'!$F$13/'1_手取り'!$F$16,0)+$H19),月額表!$K$4:$K$12,1)))*INDEX(月額表!$L$4:$L$12,MATCH((ROUNDDOWN('1_手取り'!$F$13/'1_手取り'!$F$16,0)+$H19),月額表!$K$4:$K$12,1)),4),0)))-IF($H19<105000,0,IF($H19<740000,INDEX(月額表!$B$4:$I$234,MATCH($H19,月額表!$A$4:$A$234,1),'1_手取り'!$B$7+1),INDEX(月額表!$M$4:$T$12,MATCH($H19,月額表!$K$4:$K$12,1),'1_手取り'!$B$7+1)+ROUNDDOWN(ROUND(($H19-INDEX(月額表!$K$4:$K$12,MATCH($H19,月額表!$K$4:$K$12,1)))*INDEX(月額表!$L$4:$L$12,MATCH($H19,月額表!$K$4:$K$12,1)),4),0))))*'1_手取り'!$F$16))) | L19: =IF($A19="","",'1_手取り'!$B$3-'1_手取り'!$F$12-$K19) | M19: =IF(OR($A19="",$A18="",ROW()=5),"",$L19-$L18)
B20: =IF(OR($A20="",$A20=0),"",INDEX(標準報酬!$B$4:$B$53,MATCH($A20,標準報酬!$A$4:$A$53,1))) | C20: =IF(OR($A20="",$A20=0),"",IF(ROUND($B20*('1_手取り'!$F$6+'1_手取り'!$F$7)/2,4)<=0.5,0,ROUNDUP(ROUND($B20*('1_手取り'!$F$6+'1_手取り'!$F$7)/2,4)-0.5,0))) | D20: =IF(OR($A20="",$A20=0),"",IF(ROUND($B20*料率!$E$5/2,4)<=0.5,0,ROUNDUP(ROUND($B20*料率!$E$5/2,4)-0.5,0))) | E20: =IF(OR($A20="",$A20=0),"",IF(ROUND(MIN(MAX($B20,88000),650000)*料率!$E$6/2,4)<=0.5,0,ROUNDUP(ROUND(MIN(MAX($B20,88000),650000)*料率!$E$6/2,4)-0.5,0))) | F20: =IF(OR($A20="",$A20=0),"",IF(ROUND($A20*INDEX(料率!$E$8:$E$10,MATCH('1_手取り'!$B$6,料率!$D$8:$D$10,0)),4)<=0.5,0,ROUNDUP(ROUND($A20*INDEX(料率!$E$8:$E$10,MATCH('1_手取り'!$B$6,料率!$D$8:$D$10,0)),4)-0.5,0))) | G20: =IF(OR($A20="",$A20=0),"",SUM($C20:$F20)) | H20: =IF($A20="","",IF($A20=0,0,$A20-$G20)) | I20: =IF($A20="","",IF(OR($A20=0,$H20<=0),"前月の給与なし",IF('1_手取り'!$F$13>$H20*10,"10倍超","算出率の表"))) | J20: =IF($A20="","",IF($I20="算出率の表",INDEX(算出率!$A$4:$A$24,MATCH($H20,INDEX(算出率!$B$4:$I$24,0,'1_手取り'!$B$7+1),1)),"")) | K20: =IF($A20="","",IF($I20="算出率の表",ROUNDDOWN(ROUND('1_手取り'!$F$13*$J20,4),0),IF($I20="前月の給与なし",IF(ROUNDDOWN('1_手取り'!$F$13/'1_手取り'!$F$16,0)<105000,0,IF(ROUNDDOWN('1_手取り'!$F$13/'1_手取り'!$F$16,0)<740000,INDEX(月額表!$B$4:$I$234,MATCH(ROUNDDOWN('1_手取り'!$F$13/'1_手取り'!$F$16,0),月額表!$A$4:$A$234,1),'1_手取り'!$B$7+1),INDEX(月額表!$M$4:$T$12,MATCH(ROUNDDOWN('1_手取り'!$F$13/'1_手取り'!$F$16,0),月額表!$K$4:$K$12,1),'1_手取り'!$B$7+1)+ROUNDDOWN(ROUND((ROUNDDOWN('1_手取り'!$F$13/'1_手取り'!$F$16,0)-INDEX(月額表!$K$4:$K$12,MATCH(ROUNDDOWN('1_手取り'!$F$13/'1_手取り'!$F$16,0),月額表!$K$4:$K$12,1)))*INDEX(月額表!$L$4:$L$12,MATCH(ROUNDDOWN('1_手取り'!$F$13/'1_手取り'!$F$16,0),月額表!$K$4:$K$12,1)),4),0)))*'1_手取り'!$F$16,(IF((ROUNDDOWN('1_手取り'!$F$13/'1_手取り'!$F$16,0)+$H20)<105000,0,IF((ROUNDDOWN('1_手取り'!$F$13/'1_手取り'!$F$16,0)+$H20)<740000,INDEX(月額表!$B$4:$I$234,MATCH((ROUNDDOWN('1_手取り'!$F$13/'1_手取り'!$F$16,0)+$H20),月額表!$A$4:$A$234,1),'1_手取り'!$B$7+1),INDEX(月額表!$M$4:$T$12,MATCH((ROUNDDOWN('1_手取り'!$F$13/'1_手取り'!$F$16,0)+$H20),月額表!$K$4:$K$12,1),'1_手取り'!$B$7+1)+ROUNDDOWN(ROUND(((ROUNDDOWN('1_手取り'!$F$13/'1_手取り'!$F$16,0)+$H20)-INDEX(月額表!$K$4:$K$12,MATCH((ROUNDDOWN('1_手取り'!$F$13/'1_手取り'!$F$16,0)+$H20),月額表!$K$4:$K$12,1)))*INDEX(月額表!$L$4:$L$12,MATCH((ROUNDDOWN('1_手取り'!$F$13/'1_手取り'!$F$16,0)+$H20),月額表!$K$4:$K$12,1)),4),0)))-IF($H20<105000,0,IF($H20<740000,INDEX(月額表!$B$4:$I$234,MATCH($H20,月額表!$A$4:$A$234,1),'1_手取り'!$B$7+1),INDEX(月額表!$M$4:$T$12,MATCH($H20,月額表!$K$4:$K$12,1),'1_手取り'!$B$7+1)+ROUNDDOWN(ROUND(($H20-INDEX(月額表!$K$4:$K$12,MATCH($H20,月額表!$K$4:$K$12,1)))*INDEX(月額表!$L$4:$L$12,MATCH($H20,月額表!$K$4:$K$12,1)),4),0))))*'1_手取り'!$F$16))) | L20: =IF($A20="","",'1_手取り'!$B$3-'1_手取り'!$F$12-$K20) | M20: =IF(OR($A20="",$A19="",ROW()=5),"",$L20-$L19)
B21: =IF(OR($A21="",$A21=0),"",INDEX(標準報酬!$B$4:$B$53,MATCH($A21,標準報酬!$A$4:$A$53,1))) | C21: =IF(OR($A21="",$A21=0),"",IF(ROUND($B21*('1_手取り'!$F$6+'1_手取り'!$F$7)/2,4)<=0.5,0,ROUNDUP(ROUND($B21*('1_手取り'!$F$6+'1_手取り'!$F$7)/2,4)-0.5,0))) | D21: =IF(OR($A21="",$A21=0),"",IF(ROUND($B21*料率!$E$5/2,4)<=0.5,0,ROUNDUP(ROUND($B21*料率!$E$5/2,4)-0.5,0))) | E21: =IF(OR($A21="",$A21=0),"",IF(ROUND(MIN(MAX($B21,88000),650000)*料率!$E$6/2,4)<=0.5,0,ROUNDUP(ROUND(MIN(MAX($B21,88000),650000)*料率!$E$6/2,4)-0.5,0))) | F21: =IF(OR($A21="",$A21=0),"",IF(ROUND($A21*INDEX(料率!$E$8:$E$10,MATCH('1_手取り'!$B$6,料率!$D$8:$D$10,0)),4)<=0.5,0,ROUNDUP(ROUND($A21*INDEX(料率!$E$8:$E$10,MATCH('1_手取り'!$B$6,料率!$D$8:$D$10,0)),4)-0.5,0))) | G21: =IF(OR($A21="",$A21=0),"",SUM($C21:$F21)) | H21: =IF($A21="","",IF($A21=0,0,$A21-$G21)) | I21: =IF($A21="","",IF(OR($A21=0,$H21<=0),"前月の給与なし",IF('1_手取り'!$F$13>$H21*10,"10倍超","算出率の表"))) | J21: =IF($A21="","",IF($I21="算出率の表",INDEX(算出率!$A$4:$A$24,MATCH($H21,INDEX(算出率!$B$4:$I$24,0,'1_手取り'!$B$7+1),1)),"")) | K21: =IF($A21="","",IF($I21="算出率の表",ROUNDDOWN(ROUND('1_手取り'!$F$13*$J21,4),0),IF($I21="前月の給与なし",IF(ROUNDDOWN('1_手取り'!$F$13/'1_手取り'!$F$16,0)<105000,0,IF(ROUNDDOWN('1_手取り'!$F$13/'1_手取り'!$F$16,0)<740000,INDEX(月額表!$B$4:$I$234,MATCH(ROUNDDOWN('1_手取り'!$F$13/'1_手取り'!$F$16,0),月額表!$A$4:$A$234,1),'1_手取り'!$B$7+1),INDEX(月額表!$M$4:$T$12,MATCH(ROUNDDOWN('1_手取り'!$F$13/'1_手取り'!$F$16,0),月額表!$K$4:$K$12,1),'1_手取り'!$B$7+1)+ROUNDDOWN(ROUND((ROUNDDOWN('1_手取り'!$F$13/'1_手取り'!$F$16,0)-INDEX(月額表!$K$4:$K$12,MATCH(ROUNDDOWN('1_手取り'!$F$13/'1_手取り'!$F$16,0),月額表!$K$4:$K$12,1)))*INDEX(月額表!$L$4:$L$12,MATCH(ROUNDDOWN('1_手取り'!$F$13/'1_手取り'!$F$16,0),月額表!$K$4:$K$12,1)),4),0)))*'1_手取り'!$F$16,(IF((ROUNDDOWN('1_手取り'!$F$13/'1_手取り'!$F$16,0)+$H21)<105000,0,IF((ROUNDDOWN('1_手取り'!$F$13/'1_手取り'!$F$16,0)+$H21)<740000,INDEX(月額表!$B$4:$I$234,MATCH((ROUNDDOWN('1_手取り'!$F$13/'1_手取り'!$F$16,0)+$H21),月額表!$A$4:$A$234,1),'1_手取り'!$B$7+1),INDEX(月額表!$M$4:$T$12,MATCH((ROUNDDOWN('1_手取り'!$F$13/'1_手取り'!$F$16,0)+$H21),月額表!$K$4:$K$12,1),'1_手取り'!$B$7+1)+ROUNDDOWN(ROUND(((ROUNDDOWN('1_手取り'!$F$13/'1_手取り'!$F$16,0)+$H21)-INDEX(月額表!$K$4:$K$12,MATCH((ROUNDDOWN('1_手取り'!$F$13/'1_手取り'!$F$16,0)+$H21),月額表!$K$4:$K$12,1)))*INDEX(月額表!$L$4:$L$12,MATCH((ROUNDDOWN('1_手取り'!$F$13/'1_手取り'!$F$16,0)+$H21),月額表!$K$4:$K$12,1)),4),0)))-IF($H21<105000,0,IF($H21<740000,INDEX(月額表!$B$4:$I$234,MATCH($H21,月額表!$A$4:$A$234,1),'1_手取り'!$B$7+1),INDEX(月額表!$M$4:$T$12,MATCH($H21,月額表!$K$4:$K$12,1),'1_手取り'!$B$7+1)+ROUNDDOWN(ROUND(($H21-INDEX(月額表!$K$4:$K$12,MATCH($H21,月額表!$K$4:$K$12,1)))*INDEX(月額表!$L$4:$L$12,MATCH($H21,月額表!$K$4:$K$12,1)),4),0))))*'1_手取り'!$F$16))) | L21: =IF($A21="","",'1_手取り'!$B$3-'1_手取り'!$F$12-$K21) | M21: =IF(OR($A21="",$A20="",ROW()=5),"",$L21-$L20)
B22: =IF(OR($A22="",$A22=0),"",INDEX(標準報酬!$B$4:$B$53,MATCH($A22,標準報酬!$A$4:$A$53,1))) | C22: =IF(OR($A22="",$A22=0),"",IF(ROUND($B22*('1_手取り'!$F$6+'1_手取り'!$F$7)/2,4)<=0.5,0,ROUNDUP(ROUND($B22*('1_手取り'!$F$6+'1_手取り'!$F$7)/2,4)-0.5,0))) | D22: =IF(OR($A22="",$A22=0),"",IF(ROUND($B22*料率!$E$5/2,4)<=0.5,0,ROUNDUP(ROUND($B22*料率!$E$5/2,4)-0.5,0))) | E22: =IF(OR($A22="",$A22=0),"",IF(ROUND(MIN(MAX($B22,88000),650000)*料率!$E$6/2,4)<=0.5,0,ROUNDUP(ROUND(MIN(MAX($B22,88000),650000)*料率!$E$6/2,4)-0.5,0))) | F22: =IF(OR($A22="",$A22=0),"",IF(ROUND($A22*INDEX(料率!$E$8:$E$10,MATCH('1_手取り'!$B$6,料率!$D$8:$D$10,0)),4)<=0.5,0,ROUNDUP(ROUND($A22*INDEX(料率!$E$8:$E$10,MATCH('1_手取り'!$B$6,料率!$D$8:$D$10,0)),4)-0.5,0))) | G22: =IF(OR($A22="",$A22=0),"",SUM($C22:$F22)) | H22: =IF($A22="","",IF($A22=0,0,$A22-$G22)) | I22: =IF($A22="","",IF(OR($A22=0,$H22<=0),"前月の給与なし",IF('1_手取り'!$F$13>$H22*10,"10倍超","算出率の表"))) | J22: =IF($A22="","",IF($I22="算出率の表",INDEX(算出率!$A$4:$A$24,MATCH($H22,INDEX(算出率!$B$4:$I$24,0,'1_手取り'!$B$7+1),1)),"")) | K22: =IF($A22="","",IF($I22="算出率の表",ROUNDDOWN(ROUND('1_手取り'!$F$13*$J22,4),0),IF($I22="前月の給与なし",IF(ROUNDDOWN('1_手取り'!$F$13/'1_手取り'!$F$16,0)<105000,0,IF(ROUNDDOWN('1_手取り'!$F$13/'1_手取り'!$F$16,0)<740000,INDEX(月額表!$B$4:$I$234,MATCH(ROUNDDOWN('1_手取り'!$F$13/'1_手取り'!$F$16,0),月額表!$A$4:$A$234,1),'1_手取り'!$B$7+1),INDEX(月額表!$M$4:$T$12,MATCH(ROUNDDOWN('1_手取り'!$F$13/'1_手取り'!$F$16,0),月額表!$K$4:$K$12,1),'1_手取り'!$B$7+1)+ROUNDDOWN(ROUND((ROUNDDOWN('1_手取り'!$F$13/'1_手取り'!$F$16,0)-INDEX(月額表!$K$4:$K$12,MATCH(ROUNDDOWN('1_手取り'!$F$13/'1_手取り'!$F$16,0),月額表!$K$4:$K$12,1)))*INDEX(月額表!$L$4:$L$12,MATCH(ROUNDDOWN('1_手取り'!$F$13/'1_手取り'!$F$16,0),月額表!$K$4:$K$12,1)),4),0)))*'1_手取り'!$F$16,(IF((ROUNDDOWN('1_手取り'!$F$13/'1_手取り'!$F$16,0)+$H22)<105000,0,IF((ROUNDDOWN('1_手取り'!$F$13/'1_手取り'!$F$16,0)+$H22)<740000,INDEX(月額表!$B$4:$I$234,MATCH((ROUNDDOWN('1_手取り'!$F$13/'1_手取り'!$F$16,0)+$H22),月額表!$A$4:$A$234,1),'1_手取り'!$B$7+1),INDEX(月額表!$M$4:$T$12,MATCH((ROUNDDOWN('1_手取り'!$F$13/'1_手取り'!$F$16,0)+$H22),月額表!$K$4:$K$12,1),'1_手取り'!$B$7+1)+ROUNDDOWN(ROUND(((ROUNDDOWN('1_手取り'!$F$13/'1_手取り'!$F$16,0)+$H22)-INDEX(月額表!$K$4:$K$12,MATCH((ROUNDDOWN('1_手取り'!$F$13/'1_手取り'!$F$16,0)+$H22),月額表!$K$4:$K$12,1)))*INDEX(月額表!$L$4:$L$12,MATCH((ROUNDDOWN('1_手取り'!$F$13/'1_手取り'!$F$16,0)+$H22),月額表!$K$4:$K$12,1)),4),0)))-IF($H22<105000,0,IF($H22<740000,INDEX(月額表!$B$4:$I$234,MATCH($H22,月額表!$A$4:$A$234,1),'1_手取り'!$B$7+1),INDEX(月額表!$M$4:$T$12,MATCH($H22,月額表!$K$4:$K$12,1),'1_手取り'!$B$7+1)+ROUNDDOWN(ROUND(($H22-INDEX(月額表!$K$4:$K$12,MATCH($H22,月額表!$K$4:$K$12,1)))*INDEX(月額表!$L$4:$L$12,MATCH($H22,月額表!$K$4:$K$12,1)),4),0))))*'1_手取り'!$F$16))) | L22: =IF($A22="","",'1_手取り'!$B$3-'1_手取り'!$F$12-$K22) | M22: =IF(OR($A22="",$A21="",ROW()=5),"",$L22-$L21)
B23: =IF(OR($A23="",$A23=0),"",INDEX(標準報酬!$B$4:$B$53,MATCH($A23,標準報酬!$A$4:$A$53,1))) | C23: =IF(OR($A23="",$A23=0),"",IF(ROUND($B23*('1_手取り'!$F$6+'1_手取り'!$F$7)/2,4)<=0.5,0,ROUNDUP(ROUND($B23*('1_手取り'!$F$6+'1_手取り'!$F$7)/2,4)-0.5,0))) | D23: =IF(OR($A23="",$A23=0),"",IF(ROUND($B23*料率!$E$5/2,4)<=0.5,0,ROUNDUP(ROUND($B23*料率!$E$5/2,4)-0.5,0))) | E23: =IF(OR($A23="",$A23=0),"",IF(ROUND(MIN(MAX($B23,88000),650000)*料率!$E$6/2,4)<=0.5,0,ROUNDUP(ROUND(MIN(MAX($B23,88000),650000)*料率!$E$6/2,4)-0.5,0))) | F23: =IF(OR($A23="",$A23=0),"",IF(ROUND($A23*INDEX(料率!$E$8:$E$10,MATCH('1_手取り'!$B$6,料率!$D$8:$D$10,0)),4)<=0.5,0,ROUNDUP(ROUND($A23*INDEX(料率!$E$8:$E$10,MATCH('1_手取り'!$B$6,料率!$D$8:$D$10,0)),4)-0.5,0))) | G23: =IF(OR($A23="",$A23=0),"",SUM($C23:$F23)) | H23: =IF($A23="","",IF($A23=0,0,$A23-$G23)) | I23: =IF($A23="","",IF(OR($A23=0,$H23<=0),"前月の給与なし",IF('1_手取り'!$F$13>$H23*10,"10倍超","算出率の表"))) | J23: =IF($A23="","",IF($I23="算出率の表",INDEX(算出率!$A$4:$A$24,MATCH($H23,INDEX(算出率!$B$4:$I$24,0,'1_手取り'!$B$7+1),1)),"")) | K23: =IF($A23="","",IF($I23="算出率の表",ROUNDDOWN(ROUND('1_手取り'!$F$13*$J23,4),0),IF($I23="前月の給与なし",IF(ROUNDDOWN('1_手取り'!$F$13/'1_手取り'!$F$16,0)<105000,0,IF(ROUNDDOWN('1_手取り'!$F$13/'1_手取り'!$F$16,0)<740000,INDEX(月額表!$B$4:$I$234,MATCH(ROUNDDOWN('1_手取り'!$F$13/'1_手取り'!$F$16,0),月額表!$A$4:$A$234,1),'1_手取り'!$B$7+1),INDEX(月額表!$M$4:$T$12,MATCH(ROUNDDOWN('1_手取り'!$F$13/'1_手取り'!$F$16,0),月額表!$K$4:$K$12,1),'1_手取り'!$B$7+1)+ROUNDDOWN(ROUND((ROUNDDOWN('1_手取り'!$F$13/'1_手取り'!$F$16,0)-INDEX(月額表!$K$4:$K$12,MATCH(ROUNDDOWN('1_手取り'!$F$13/'1_手取り'!$F$16,0),月額表!$K$4:$K$12,1)))*INDEX(月額表!$L$4:$L$12,MATCH(ROUNDDOWN('1_手取り'!$F$13/'1_手取り'!$F$16,0),月額表!$K$4:$K$12,1)),4),0)))*'1_手取り'!$F$16,(IF((ROUNDDOWN('1_手取り'!$F$13/'1_手取り'!$F$16,0)+$H23)<105000,0,IF((ROUNDDOWN('1_手取り'!$F$13/'1_手取り'!$F$16,0)+$H23)<740000,INDEX(月額表!$B$4:$I$234,MATCH((ROUNDDOWN('1_手取り'!$F$13/'1_手取り'!$F$16,0)+$H23),月額表!$A$4:$A$234,1),'1_手取り'!$B$7+1),INDEX(月額表!$M$4:$T$12,MATCH((ROUNDDOWN('1_手取り'!$F$13/'1_手取り'!$F$16,0)+$H23),月額表!$K$4:$K$12,1),'1_手取り'!$B$7+1)+ROUNDDOWN(ROUND(((ROUNDDOWN('1_手取り'!$F$13/'1_手取り'!$F$16,0)+$H23)-INDEX(月額表!$K$4:$K$12,MATCH((ROUNDDOWN('1_手取り'!$F$13/'1_手取り'!$F$16,0)+$H23),月額表!$K$4:$K$12,1)))*INDEX(月額表!$L$4:$L$12,MATCH((ROUNDDOWN('1_手取り'!$F$13/'1_手取り'!$F$16,0)+$H23),月額表!$K$4:$K$12,1)),4),0)))-IF($H23<105000,0,IF($H23<740000,INDEX(月額表!$B$4:$I$234,MATCH($H23,月額表!$A$4:$A$234,1),'1_手取り'!$B$7+1),INDEX(月額表!$M$4:$T$12,MATCH($H23,月額表!$K$4:$K$12,1),'1_手取り'!$B$7+1)+ROUNDDOWN(ROUND(($H23-INDEX(月額表!$K$4:$K$12,MATCH($H23,月額表!$K$4:$K$12,1)))*INDEX(月額表!$L$4:$L$12,MATCH($H23,月額表!$K$4:$K$12,1)),4),0))))*'1_手取り'!$F$16))) | L23: =IF($A23="","",'1_手取り'!$B$3-'1_手取り'!$F$12-$K23) | M23: =IF(OR($A23="",$A22="",ROW()=5),"",$L23-$L22)
B24: =IF(OR($A24="",$A24=0),"",INDEX(標準報酬!$B$4:$B$53,MATCH($A24,標準報酬!$A$4:$A$53,1))) | C24: =IF(OR($A24="",$A24=0),"",IF(ROUND($B24*('1_手取り'!$F$6+'1_手取り'!$F$7)/2,4)<=0.5,0,ROUNDUP(ROUND($B24*('1_手取り'!$F$6+'1_手取り'!$F$7)/2,4)-0.5,0))) | D24: =IF(OR($A24="",$A24=0),"",IF(ROUND($B24*料率!$E$5/2,4)<=0.5,0,ROUNDUP(ROUND($B24*料率!$E$5/2,4)-0.5,0))) | E24: =IF(OR($A24="",$A24=0),"",IF(ROUND(MIN(MAX($B24,88000),650000)*料率!$E$6/2,4)<=0.5,0,ROUNDUP(ROUND(MIN(MAX($B24,88000),650000)*料率!$E$6/2,4)-0.5,0))) | F24: =IF(OR($A24="",$A24=0),"",IF(ROUND($A24*INDEX(料率!$E$8:$E$10,MATCH('1_手取り'!$B$6,料率!$D$8:$D$10,0)),4)<=0.5,0,ROUNDUP(ROUND($A24*INDEX(料率!$E$8:$E$10,MATCH('1_手取り'!$B$6,料率!$D$8:$D$10,0)),4)-0.5,0))) | G24: =IF(OR($A24="",$A24=0),"",SUM($C24:$F24)) | H24: =IF($A24="","",IF($A24=0,0,$A24-$G24)) | I24: =IF($A24="","",IF(OR($A24=0,$H24<=0),"前月の給与なし",IF('1_手取り'!$F$13>$H24*10,"10倍超","算出率の表"))) | J24: =IF($A24="","",IF($I24="算出率の表",INDEX(算出率!$A$4:$A$24,MATCH($H24,INDEX(算出率!$B$4:$I$24,0,'1_手取り'!$B$7+1),1)),"")) | K24: =IF($A24="","",IF($I24="算出率の表",ROUNDDOWN(ROUND('1_手取り'!$F$13*$J24,4),0),IF($I24="前月の給与なし",IF(ROUNDDOWN('1_手取り'!$F$13/'1_手取り'!$F$16,0)<105000,0,IF(ROUNDDOWN('1_手取り'!$F$13/'1_手取り'!$F$16,0)<740000,INDEX(月額表!$B$4:$I$234,MATCH(ROUNDDOWN('1_手取り'!$F$13/'1_手取り'!$F$16,0),月額表!$A$4:$A$234,1),'1_手取り'!$B$7+1),INDEX(月額表!$M$4:$T$12,MATCH(ROUNDDOWN('1_手取り'!$F$13/'1_手取り'!$F$16,0),月額表!$K$4:$K$12,1),'1_手取り'!$B$7+1)+ROUNDDOWN(ROUND((ROUNDDOWN('1_手取り'!$F$13/'1_手取り'!$F$16,0)-INDEX(月額表!$K$4:$K$12,MATCH(ROUNDDOWN('1_手取り'!$F$13/'1_手取り'!$F$16,0),月額表!$K$4:$K$12,1)))*INDEX(月額表!$L$4:$L$12,MATCH(ROUNDDOWN('1_手取り'!$F$13/'1_手取り'!$F$16,0),月額表!$K$4:$K$12,1)),4),0)))*'1_手取り'!$F$16,(IF((ROUNDDOWN('1_手取り'!$F$13/'1_手取り'!$F$16,0)+$H24)<105000,0,IF((ROUNDDOWN('1_手取り'!$F$13/'1_手取り'!$F$16,0)+$H24)<740000,INDEX(月額表!$B$4:$I$234,MATCH((ROUNDDOWN('1_手取り'!$F$13/'1_手取り'!$F$16,0)+$H24),月額表!$A$4:$A$234,1),'1_手取り'!$B$7+1),INDEX(月額表!$M$4:$T$12,MATCH((ROUNDDOWN('1_手取り'!$F$13/'1_手取り'!$F$16,0)+$H24),月額表!$K$4:$K$12,1),'1_手取り'!$B$7+1)+ROUNDDOWN(ROUND(((ROUNDDOWN('1_手取り'!$F$13/'1_手取り'!$F$16,0)+$H24)-INDEX(月額表!$K$4:$K$12,MATCH((ROUNDDOWN('1_手取り'!$F$13/'1_手取り'!$F$16,0)+$H24),月額表!$K$4:$K$12,1)))*INDEX(月額表!$L$4:$L$12,MATCH((ROUNDDOWN('1_手取り'!$F$13/'1_手取り'!$F$16,0)+$H24),月額表!$K$4:$K$12,1)),4),0)))-IF($H24<105000,0,IF($H24<740000,INDEX(月額表!$B$4:$I$234,MATCH($H24,月額表!$A$4:$A$234,1),'1_手取り'!$B$7+1),INDEX(月額表!$M$4:$T$12,MATCH($H24,月額表!$K$4:$K$12,1),'1_手取り'!$B$7+1)+ROUNDDOWN(ROUND(($H24-INDEX(月額表!$K$4:$K$12,MATCH($H24,月額表!$K$4:$K$12,1)))*INDEX(月額表!$L$4:$L$12,MATCH($H24,月額表!$K$4:$K$12,1)),4),0))))*'1_手取り'!$F$16))) | L24: =IF($A24="","",'1_手取り'!$B$3-'1_手取り'!$F$12-$K24) | M24: =IF(OR($A24="",$A23="",ROW()=5),"",$L24-$L23)
