Workbook

Sheet 1_干支を出す
A1: 年か生年月日から干支を出す。A列に年（2027のような数字）か日付を入れる
A2: 年の境目 | B2: 1月1日 | C2: 年賀状や年男・年女は1月1日。占いや暦の行事で立春から数えるときは立春を選ぶ
A3: 年男・年女を数える年 | B3: 2027
A4: 年の数字は10000未満の数を年として読む。日付は1927年5月18日（シリアル値10000）以降を日付として読む。立春の日付は3_立春の表（1955〜2035年）から引く。Microsoft 365のExcel（バージョン16）、Windows 11で確認、2026年10月6日
A6: 入力（年か日付） | B6: 読み方 | C6: 年（1月1日で区切る） | D6: その年の立春 | E6: 干支の年 | F6: 十二支 | G6: 十干十二支 | H6: よみ | I6: 1月1日と立春で | J6: 年男・年女 | L6: 集計 | M6: 人数・件数
A7: 2027 | B7: =IF(A7="","",IF(ISNUMBER(A7),IF(A7<10000,"年","日付"),"数値でない")) | C7: =IF(B7="年",A7,IF(B7="日付",YEAR(A7),"")) | D7: =IF(B7<>"日付","",IFERROR(VLOOKUP(C7,'3_立春'!$A$5:$B$85,2,FALSE),"表にない年")) | E7: =IF(C7="","",IF(AND($B$2="立春",B7="日付",ISNUMBER(D7)),IF(A7<D7,C7-1,C7),C7)) | F7: =IF(E7="","",MID("子丑寅卯辰巳午未申酉戌亥",MOD(E7-4,12)+1,1)) | G7: =IF(E7="","",MID("甲乙丙丁戊己庚辛壬癸",MOD(E7-4,10)+1,1)&F7) | H7: =IF(E7="","",INDEX('4_六十干支'!$C$5:$C$64,MOD(E7-4,60)+1)) | I7: =IF(B7<>"日付","",IF(NOT(ISNUMBER(D7)),"立春が表にない年",IF(A7<D7,"違う（立春の前に生まれた）","同じ"))) | J7: =IF(F7="","",IF(F7=MID("子丑寅卯辰巳午未申酉戌亥",MOD($B$3-4,12)+1,1),"年男・年女","")) | L7: 入っている行 | M7: =COUNTA(A7:A206)
A8: 2026 | B8: =IF(A8="","",IF(ISNUMBER(A8),IF(A8<10000,"年","日付"),"数値でない")) | C8: =IF(B8="年",A8,IF(B8="日付",YEAR(A8),"")) | D8: =IF(B8<>"日付","",IFERROR(VLOOKUP(C8,'3_立春'!$A$5:$B$85,2,FALSE),"表にない年")) | E8: =IF(C8="","",IF(AND($B$2="立春",B8="日付",ISNUMBER(D8)),IF(A8<D8,C8-1,C8),C8)) | F8: =IF(E8="","",MID("子丑寅卯辰巳午未申酉戌亥",MOD(E8-4,12)+1,1)) | G8: =IF(E8="","",MID("甲乙丙丁戊己庚辛壬癸",MOD(E8-4,10)+1,1)&F8) | H8: =IF(E8="","",INDEX('4_六十干支'!$C$5:$C$64,MOD(E8-4,60)+1)) | I8: =IF(B8<>"日付","",IF(NOT(ISNUMBER(D8)),"立春が表にない年",IF(A8<D8,"違う（立春の前に生まれた）","同じ"))) | J8: =IF(F8="","",IF(F8=MID("子丑寅卯辰巳午未申酉戌亥",MOD($B$3-4,12)+1,1),"年男・年女","")) | L8: 日付として読んだ行 | M8: =COUNTIF(B7:B206,"日付")
A9: 46402 | B9: =IF(A9="","",IF(ISNUMBER(A9),IF(A9<10000,"年","日付"),"数値でない")) | C9: =IF(B9="年",A9,IF(B9="日付",YEAR(A9),"")) | D9: =IF(B9<>"日付","",IFERROR(VLOOKUP(C9,'3_立春'!$A$5:$B$85,2,FALSE),"表にない年")) | E9: =IF(C9="","",IF(AND($B$2="立春",B9="日付",ISNUMBER(D9)),IF(A9<D9,C9-1,C9),C9)) | F9: =IF(E9="","",MID("子丑寅卯辰巳午未申酉戌亥",MOD(E9-4,12)+1,1)) | G9: =IF(E9="","",MID("甲乙丙丁戊己庚辛壬癸",MOD(E9-4,10)+1,1)&F9) | H9: =IF(E9="","",INDEX('4_六十干支'!$C$5:$C$64,MOD(E9-4,60)+1)) | I9: =IF(B9<>"日付","",IF(NOT(ISNUMBER(D9)),"立春が表にない年",IF(A9<D9,"違う（立春の前に生まれた）","同じ"))) | J9: =IF(F9="","",IF(F9=MID("子丑寅卯辰巳午未申酉戌亥",MOD($B$3-4,12)+1,1),"年男・年女","")) | L9: 1月1日と立春で干支が違う行 | M9: =COUNTIF(I7:I206,"違う*")
A10: 46421 | B10: =IF(A10="","",IF(ISNUMBER(A10),IF(A10<10000,"年","日付"),"数値でない")) | C10: =IF(B10="年",A10,IF(B10="日付",YEAR(A10),"")) | D10: =IF(B10<>"日付","",IFERROR(VLOOKUP(C10,'3_立春'!$A$5:$B$85,2,FALSE),"表にない年")) | E10: =IF(C10="","",IF(AND($B$2="立春",B10="日付",ISNUMBER(D10)),IF(A10<D10,C10-1,C10),C10)) | F10: =IF(E10="","",MID("子丑寅卯辰巳午未申酉戌亥",MOD(E10-4,12)+1,1)) | G10: =IF(E10="","",MID("甲乙丙丁戊己庚辛壬癸",MOD(E10-4,10)+1,1)&F10) | H10: =IF(E10="","",INDEX('4_六十干支'!$C$5:$C$64,MOD(E10-4,60)+1)) | I10: =IF(B10<>"日付","",IF(NOT(ISNUMBER(D10)),"立春が表にない年",IF(A10<D10,"違う（立春の前に生まれた）","同じ"))) | J10: =IF(F10="","",IF(F10=MID("子丑寅卯辰巳午未申酉戌亥",MOD($B$3-4,12)+1,1),"年男・年女","")) | L10: 年男・年女（今の境目で） | M10: =COUNTIF(J7:J206,"年男・年女")
A11: 46422 | B11: =IF(A11="","",IF(ISNUMBER(A11),IF(A11<10000,"年","日付"),"数値でない")) | C11: =IF(B11="年",A11,IF(B11="日付",YEAR(A11),"")) | D11: =IF(B11<>"日付","",IFERROR(VLOOKUP(C11,'3_立春'!$A$5:$B$85,2,FALSE),"表にない年")) | E11: =IF(C11="","",IF(AND($B$2="立春",B11="日付",ISNUMBER(D11)),IF(A11<D11,C11-1,C11),C11)) | F11: =IF(E11="","",MID("子丑寅卯辰巳午未申酉戌亥",MOD(E11-4,12)+1,1)) | G11: =IF(E11="","",MID("甲乙丙丁戊己庚辛壬癸",MOD(E11-4,10)+1,1)&F11) | H11: =IF(E11="","",INDEX('4_六十干支'!$C$5:$C$64,MOD(E11-4,60)+1)) | I11: =IF(B11<>"日付","",IF(NOT(ISNUMBER(D11)),"立春が表にない年",IF(A11<D11,"違う（立春の前に生まれた）","同じ"))) | J11: =IF(F11="","",IF(F11=MID("子丑寅卯辰巳午未申酉戌亥",MOD($B$3-4,12)+1,1),"年男・年女","")) | L11: 年男・年女（1月1日で区切ると） | M11: =SUMPRODUCT((B7:B206<>"")*(C7:C206<>"")*(MOD(N(+C7:C206)-$B$3,12)=0))
A12: 46042 | B12: =IF(A12="","",IF(ISNUMBER(A12),IF(A12<10000,"年","日付"),"数値でない")) | C12: =IF(B12="年",A12,IF(B12="日付",YEAR(A12),"")) | D12: =IF(B12<>"日付","",IFERROR(VLOOKUP(C12,'3_立春'!$A$5:$B$85,2,FALSE),"表にない年")) | E12: =IF(C12="","",IF(AND($B$2="立春",B12="日付",ISNUMBER(D12)),IF(A12<D12,C12-1,C12),C12)) | F12: =IF(E12="","",MID("子丑寅卯辰巳午未申酉戌亥",MOD(E12-4,12)+1,1)) | G12: =IF(E12="","",MID("甲乙丙丁戊己庚辛壬癸",MOD(E12-4,10)+1,1)&F12) | H12: =IF(E12="","",INDEX('4_六十干支'!$C$5:$C$64,MOD(E12-4,60)+1)) | I12: =IF(B12<>"日付","",IF(NOT(ISNUMBER(D12)),"立春が表にない年",IF(A12<D12,"違う（立春の前に生まれた）","同じ"))) | J12: =IF(F12="","",IF(F12=MID("子丑寅卯辰巳午未申酉戌亥",MOD($B$3-4,12)+1,1),"年男・年女","")) | L12: 数値でない行 | M12: =COUNTIF(B7:B206,"数値でない")
A13: 46063 | B13: =IF(A13="","",IF(ISNUMBER(A13),IF(A13<10000,"年","日付"),"数値でない")) | C13: =IF(B13="年",A13,IF(B13="日付",YEAR(A13),"")) | D13: =IF(B13<>"日付","",IFERROR(VLOOKUP(C13,'3_立春'!$A$5:$B$85,2,FALSE),"表にない年")) | E13: =IF(C13="","",IF(AND($B$2="立春",B13="日付",ISNUMBER(D13)),IF(A13<D13,C13-1,C13),C13)) | F13: =IF(E13="","",MID("子丑寅卯辰巳午未申酉戌亥",MOD(E13-4,12)+1,1)) | G13: =IF(E13="","",MID("甲乙丙丁戊己庚辛壬癸",MOD(E13-4,10)+1,1)&F13) | H13: =IF(E13="","",INDEX('4_六十干支'!$C$5:$C$64,MOD(E13-4,60)+1)) | I13: =IF(B13<>"日付","",IF(NOT(ISNUMBER(D13)),"立春が表にない年",IF(A13<D13,"違う（立春の前に生まれた）","同じ"))) | J13: =IF(F13="","",IF(F13=MID("子丑寅卯辰巳午未申酉戌亥",MOD($B$3-4,12)+1,1),"年男・年女",""))
A14: 44230 | B14: =IF(A14="","",IF(ISNUMBER(A14),IF(A14<10000,"年","日付"),"数値でない")) | C14: =IF(B14="年",A14,IF(B14="日付",YEAR(A14),"")) | D14: =IF(B14<>"日付","",IFERROR(VLOOKUP(C14,'3_立春'!$A$5:$B$85,2,FALSE),"表にない年")) | E14: =IF(C14="","",IF(AND($B$2="立春",B14="日付",ISNUMBER(D14)),IF(A14<D14,C14-1,C14),C14)) | F14: =IF(E14="","",MID("子丑寅卯辰巳午未申酉戌亥",MOD(E14-4,12)+1,1)) | G14: =IF(E14="","",MID("甲乙丙丁戊己庚辛壬癸",MOD(E14-4,10)+1,1)&F14) | H14: =IF(E14="","",INDEX('4_六十干支'!$C$5:$C$64,MOD(E14-4,60)+1)) | I14: =IF(B14<>"日付","",IF(NOT(ISNUMBER(D14)),"立春が表にない年",IF(A14<D14,"違う（立春の前に生まれた）","同じ"))) | J14: =IF(F14="","",IF(F14=MID("子丑寅卯辰巳午未申酉戌亥",MOD($B$3-4,12)+1,1),"年男・年女","")) | L14: 見本は、上の12行が記事の例、残り100行が1960〜2006年の架空の生年月日（乱数の種1006）
A15: 24139 | B15: =IF(A15="","",IF(ISNUMBER(A15),IF(A15<10000,"年","日付"),"数値でない")) | C15: =IF(B15="年",A15,IF(B15="日付",YEAR(A15),"")) | D15: =IF(B15<>"日付","",IFERROR(VLOOKUP(C15,'3_立春'!$A$5:$B$85,2,FALSE),"表にない年")) | E15: =IF(C15="","",IF(AND($B$2="立春",B15="日付",ISNUMBER(D15)),IF(A15<D15,C15-1,C15),C15)) | F15: =IF(E15="","",MID("子丑寅卯辰巳午未申酉戌亥",MOD(E15-4,12)+1,1)) | G15: =IF(E15="","",MID("甲乙丙丁戊己庚辛壬癸",MOD(E15-4,10)+1,1)&F15) | H15: =IF(E15="","",INDEX('4_六十干支'!$C$5:$C$64,MOD(E15-4,60)+1)) | I15: =IF(B15<>"日付","",IF(NOT(ISNUMBER(D15)),"立春が表にない年",IF(A15<D15,"違う（立春の前に生まれた）","同じ"))) | J15: =IF(F15="","",IF(F15=MID("子丑寅卯辰巳午未申酉戌亥",MOD($B$3-4,12)+1,1),"年男・年女",""))
A16: 24506 | B16: =IF(A16="","",IF(ISNUMBER(A16),IF(A16<10000,"年","日付"),"数値でない")) | C16: =IF(B16="年",A16,IF(B16="日付",YEAR(A16),"")) | D16: =IF(B16<>"日付","",IFERROR(VLOOKUP(C16,'3_立春'!$A$5:$B$85,2,FALSE),"表にない年")) | E16: =IF(C16="","",IF(AND($B$2="立春",B16="日付",ISNUMBER(D16)),IF(A16<D16,C16-1,C16),C16)) | F16: =IF(E16="","",MID("子丑寅卯辰巳午未申酉戌亥",MOD(E16-4,12)+1,1)) | G16: =IF(E16="","",MID("甲乙丙丁戊己庚辛壬癸",MOD(E16-4,10)+1,1)&F16) | H16: =IF(E16="","",INDEX('4_六十干支'!$C$5:$C$64,MOD(E16-4,60)+1)) | I16: =IF(B16<>"日付","",IF(NOT(ISNUMBER(D16)),"立春が表にない年",IF(A16<D16,"違う（立春の前に生まれた）","同じ"))) | J16: =IF(F16="","",IF(F16=MID("子丑寅卯辰巳午未申酉戌亥",MOD($B$3-4,12)+1,1),"年男・年女",""))
A17: 30716 | B17: =IF(A17="","",IF(ISNUMBER(A17),IF(A17<10000,"年","日付"),"数値でない")) | C17: =IF(B17="年",A17,IF(B17="日付",YEAR(A17),"")) | D17: =IF(B17<>"日付","",IFERROR(VLOOKUP(C17,'3_立春'!$A$5:$B$85,2,FALSE),"表にない年")) | E17: =IF(C17="","",IF(AND($B$2="立春",B17="日付",ISNUMBER(D17)),IF(A17<D17,C17-1,C17),C17)) | F17: =IF(E17="","",MID("子丑寅卯辰巳午未申酉戌亥",MOD(E17-4,12)+1,1)) | G17: =IF(E17="","",MID("甲乙丙丁戊己庚辛壬癸",MOD(E17-4,10)+1,1)&F17) | H17: =IF(E17="","",INDEX('4_六十干支'!$C$5:$C$64,MOD(E17-4,60)+1)) | I17: =IF(B17<>"日付","",IF(NOT(ISNUMBER(D17)),"立春が表にない年",IF(A17<D17,"違う（立春の前に生まれた）","同じ"))) | J17: =IF(F17="","",IF(F17=MID("子丑寅卯辰巳午未申酉戌亥",MOD($B$3-4,12)+1,1),"年男・年女",""))
A18: 28885 | B18: =IF(A18="","",IF(ISNUMBER(A18),IF(A18<10000,"年","日付"),"数値でない")) | C18: =IF(B18="年",A18,IF(B18="日付",YEAR(A18),"")) | D18: =IF(B18<>"日付","",IFERROR(VLOOKUP(C18,'3_立春'!$A$5:$B$85,2,FALSE),"表にない年")) | E18: =IF(C18="","",IF(AND($B$2="立春",B18="日付",ISNUMBER(D18)),IF(A18<D18,C18-1,C18),C18)) | F18: =IF(E18="","",MID("子丑寅卯辰巳午未申酉戌亥",MOD(E18-4,12)+1,1)) | G18: =IF(E18="","",MID("甲乙丙丁戊己庚辛壬癸",MOD(E18-4,10)+1,1)&F18) | H18: =IF(E18="","",INDEX('4_六十干支'!$C$5:$C$64,MOD(E18-4,60)+1)) | I18: =IF(B18<>"日付","",IF(NOT(ISNUMBER(D18)),"立春が表にない年",IF(A18<D18,"違う（立春の前に生まれた）","同じ"))) | J18: =IF(F18="","",IF(F18=MID("子丑寅卯辰巳午未申酉戌亥",MOD($B$3-4,12)+1,1),"年男・年女",""))
A19: 33274 | B19: =IF(A19="","",IF(ISNUMBER(A19),IF(A19<10000,"年","日付"),"数値でない")) | C19: =IF(B19="年",A19,IF(B19="日付",YEAR(A19),"")) | D19: =IF(B19<>"日付","",IFERROR(VLOOKUP(C19,'3_立春'!$A$5:$B$85,2,FALSE),"表にない年")) | E19: =IF(C19="","",IF(AND($B$2="立春",B19="日付",ISNUMBER(D19)),IF(A19<D19,C19-1,C19),C19)) | F19: =IF(E19="","",MID("子丑寅卯辰巳午未申酉戌亥",MOD(E19-4,12)+1,1)) | G19: =IF(E19="","",MID("甲乙丙丁戊己庚辛壬癸",MOD(E19-4,10)+1,1)&F19) | H19: =IF(E19="","",INDEX('4_六十干支'!$C$5:$C$64,MOD(E19-4,60)+1)) | I19: =IF(B19<>"日付","",IF(NOT(ISNUMBER(D19)),"立春が表にない年",IF(A19<D19,"違う（立春の前に生まれた）","同じ"))) | J19: =IF(F19="","",IF(F19=MID("子丑寅卯辰巳午未申酉戌亥",MOD($B$3-4,12)+1,1),"年男・年女",""))
A20: 23745 | B20: =IF(A20="","",IF(ISNUMBER(A20),IF(A20<10000,"年","日付"),"数値でない")) | C20: =IF(B20="年",A20,IF(B20="日付",YEAR(A20),"")) | D20: =IF(B20<>"日付","",IFERROR(VLOOKUP(C20,'3_立春'!$A$5:$B$85,2,FALSE),"表にない年")) | E20: =IF(C20="","",IF(AND($B$2="立春",B20="日付",ISNUMBER(D20)),IF(A20<D20,C20-1,C20),C20)) | F20: =IF(E20="","",MID("子丑寅卯辰巳午未申酉戌亥",MOD(E20-4,12)+1,1)) | G20: =IF(E20="","",MID("甲乙丙丁戊己庚辛壬癸",MOD(E20-4,10)+1,1)&F20) | H20: =IF(E20="","",INDEX('4_六十干支'!$C$5:$C$64,MOD(E20-4,60)+1)) | I20: =IF(B20<>"日付","",IF(NOT(ISNUMBER(D20)),"立春が表にない年",IF(A20<D20,"違う（立春の前に生まれた）","同じ"))) | J20: =IF(F20="","",IF(F20=MID("子丑寅卯辰巳午未申酉戌亥",MOD($B$3-4,12)+1,1),"年男・年女",""))
A21: 29408 | B21: =IF(A21="","",IF(ISNUMBER(A21),IF(A21<10000,"年","日付"),"数値でない")) | C21: =IF(B21="年",A21,IF(B21="日付",YEAR(A21),"")) | D21: =IF(B21<>"日付","",IFERROR(VLOOKUP(C21,'3_立春'!$A$5:$B$85,2,FALSE),"表にない年")) | E21: =IF(C21="","",IF(AND($B$2="立春",B21="日付",ISNUMBER(D21)),IF(A21<D21,C21-1,C21),C21)) | F21: =IF(E21="","",MID("子丑寅卯辰巳午未申酉戌亥",MOD(E21-4,12)+1,1)) | G21: =IF(E21="","",MID("甲乙丙丁戊己庚辛壬癸",MOD(E21-4,10)+1,1)&F21) | H21: =IF(E21="","",INDEX('4_六十干支'!$C$5:$C$64,MOD(E21-4,60)+1)) | I21: =IF(B21<>"日付","",IF(NOT(ISNUMBER(D21)),"立春が表にない年",IF(A21<D21,"違う（立春の前に生まれた）","同じ"))) | J21: =IF(F21="","",IF(F21=MID("子丑寅卯辰巳午未申酉戌亥",MOD($B$3-4,12)+1,1),"年男・年女",""))
A22: 36456 | B22: =IF(A22="","",IF(ISNUMBER(A22),IF(A22<10000,"年","日付"),"数値でない")) | C22: =IF(B22="年",A22,IF(B22="日付",YEAR(A22),"")) | D22: =IF(B22<>"日付","",IFERROR(VLOOKUP(C22,'3_立春'!$A$5:$B$85,2,FALSE),"表にない年")) | E22: =IF(C22="","",IF(AND($B$2="立春",B22="日付",ISNUMBER(D22)),IF(A22<D22,C22-1,C22),C22)) | F22: =IF(E22="","",MID("子丑寅卯辰巳午未申酉戌亥",MOD(E22-4,12)+1,1)) | G22: =IF(E22="","",MID("甲乙丙丁戊己庚辛壬癸",MOD(E22-4,10)+1,1)&F22) | H22: =IF(E22="","",INDEX('4_六十干支'!$C$5:$C$64,MOD(E22-4,60)+1)) | I22: =IF(B22<>"日付","",IF(NOT(ISNUMBER(D22)),"立春が表にない年",IF(A22<D22,"違う（立春の前に生まれた）","同じ"))) | J22: =IF(F22="","",IF(F22=MID("子丑寅卯辰巳午未申酉戌亥",MOD($B$3-4,12)+1,1),"年男・年女",""))
A23: 22322 | B23: =IF(A23="","",IF(ISNUMBER(A23),IF(A23<10000,"年","日付"),"数値でない")) | C23: =IF(B23="年",A23,IF(B23="日付",YEAR(A23),"")) | D23: =IF(B23<>"日付","",IFERROR(VLOOKUP(C23,'3_立春'!$A$5:$B$85,2,FALSE),"表にない年")) | E23: =IF(C23="","",IF(AND($B$2="立春",B23="日付",ISNUMBER(D23)),IF(A23<D23,C23-1,C23),C23)) | F23: =IF(E23="","",MID("子丑寅卯辰巳午未申酉戌亥",MOD(E23-4,12)+1,1)) | G23: =IF(E23="","",MID("甲乙丙丁戊己庚辛壬癸",MOD(E23-4,10)+1,1)&F23) | H23: =IF(E23="","",INDEX('4_六十干支'!$C$5:$C$64,MOD(E23-4,60)+1)) | I23: =IF(B23<>"日付","",IF(NOT(ISNUMBER(D23)),"立春が表にない年",IF(A23<D23,"違う（立春の前に生まれた）","同じ"))) | J23: =IF(F23="","",IF(F23=MID("子丑寅卯辰巳午未申酉戌亥",MOD($B$3-4,12)+1,1),"年男・年女",""))
A24: 28638 | B24: =IF(A24="","",IF(ISNUMBER(A24),IF(A24<10000,"年","日付"),"数値でない")) | C24: =IF(B24="年",A24,IF(B24="日付",YEAR(A24),"")) | D24: =IF(B24<>"日付","",IFERROR(VLOOKUP(C24,'3_立春'!$A$5:$B$85,2,FALSE),"表にない年")) | E24: =IF(C24="","",IF(AND($B$2="立春",B24="日付",ISNUMBER(D24)),IF(A24<D24,C24-1,C24),C24)) | F24: =IF(E24="","",MID("子丑寅卯辰巳午未申酉戌亥",MOD(E24-4,12)+1,1)) | G24: =IF(E24="","",MID("甲乙丙丁戊己庚辛壬癸",MOD(E24-4,10)+1,1)&F24) | H24: =IF(E24="","",INDEX('4_六十干支'!$C$5:$C$64,MOD(E24-4,60)+1)) | I24: =IF(B24<>"日付","",IF(NOT(ISNUMBER(D24)),"立春が表にない年",IF(A24<D24,"違う（立春の前に生まれた）","同じ"))) | J24: =IF(F24="","",IF(F24=MID("子丑寅卯辰巳午未申酉戌亥",MOD($B$3-4,12)+1,1),"年男・年女",""))
A25: 32484 | B25: =IF(A25="","",IF(ISNUMBER(A25),IF(A25<10000,"年","日付"),"数値でない")) | C25: =IF(B25="年",A25,IF(B25="日付",YEAR(A25),"")) | D25: =IF(B25<>"日付","",IFERROR(VLOOKUP(C25,'3_立春'!$A$5:$B$85,2,FALSE),"表にない年")) | E25: =IF(C25="","",IF(AND($B$2="立春",B25="日付",ISNUMBER(D25)),IF(A25<D25,C25-1,C25),C25)) | F25: =IF(E25="","",MID("子丑寅卯辰巳午未申酉戌亥",MOD(E25-4,12)+1,1)) | G25: =IF(E25="","",MID("甲乙丙丁戊己庚辛壬癸",MOD(E25-4,10)+1,1)&F25) | H25: =IF(E25="","",INDEX('4_六十干支'!$C$5:$C$64,MOD(E25-4,60)+1)) | I25: =IF(B25<>"日付","",IF(NOT(ISNUMBER(D25)),"立春が表にない年",IF(A25<D25,"違う（立春の前に生まれた）","同じ"))) | J25: =IF(F25="","",IF(F25=MID("子丑寅卯辰巳午未申酉戌亥",MOD($B$3-4,12)+1,1),"年男・年女",""))
A26: 21938 | B26: =IF(A26="","",IF(ISNUMBER(A26),IF(A26<10000,"年","日付"),"数値でない")) | C26: =IF(B26="年",A26,IF(B26="日付",YEAR(A26),"")) | D26: =IF(B26<>"日付","",IFERROR(VLOOKUP(C26,'3_立春'!$A$5:$B$85,2,FALSE),"表にない年")) | E26: =IF(C26="","",IF(AND($B$2="立春",B26="日付",ISNUMBER(D26)),IF(A26<D26,C26-1,C26),C26)) | F26: =IF(E26="","",MID("子丑寅卯辰巳午未申酉戌亥",MOD(E26-4,12)+1,1)) | G26: =IF(E26="","",MID("甲乙丙丁戊己庚辛壬癸",MOD(E26-4,10)+1,1)&F26) | H26: =IF(E26="","",INDEX('4_六十干支'!$C$5:$C$64,MOD(E26-4,60)+1)) | I26: =IF(B26<>"日付","",IF(NOT(ISNUMBER(D26)),"立春が表にない年",IF(A26<D26,"違う（立春の前に生まれた）","同じ"))) | J26: =IF(F26="","",IF(F26=MID("子丑寅卯辰巳午未申酉戌亥",MOD($B$3-4,12)+1,1),"年男・年女",""))
... A118: 34445 | B118: =IF(A118="","",IF(ISNUMBER(A118),IF(A118<10000,"年","日付"),"数値でない")) | C118: =IF(B118="年",A118,IF(B118="日付",YEAR(A118),"")) | D118: =IF(B118<>"日付","",IFERROR(VLOOKUP(C118,'3_立春'!$A$5:$B$85,2,FALSE),"表にない年")) | E118: =IF(C118="","",IF(AND($B$2="立春",B118="日付",ISNUMBER(D118)),IF(A118<D118,C118-1,C118),C118)) | F118: =IF(E118="","",MID("子丑寅卯辰巳午未申酉戌亥",MOD(E118-4,12)+1,1)) | G118: =IF(E118="","",MID("甲乙丙丁戊己庚辛壬癸",MOD(E118-4,10)+1,1)&F118) | H118: =IF(E118="","",INDEX('4_六十干支'!$C$5:$C$64,MOD(E118-4,60)+1)) | I118: =IF(B118<>"日付","",IF(NOT(ISNUMBER(D118)),"立春が表にない年",IF(A118<D118,"違う（立春の前に生まれた）","同じ"))) | J118: =IF(F118="","",IF(F118=MID("子丑寅卯辰巳午未申酉戌亥",MOD($B$3-4,12)+1,1),"年男・年女",""))
B119: =IF(A119="","",IF(ISNUMBER(A119),IF(A119<10000,"年","日付"),"数値でない")) | C119: =IF(B119="年",A119,IF(B119="日付",YEAR(A119),"")) | D119: =IF(B119<>"日付","",IFERROR(VLOOKUP(C119,'3_立春'!$A$5:$B$85,2,FALSE),"表にない年")) | E119: =IF(C119="","",IF(AND($B$2="立春",B119="日付",ISNUMBER(D119)),IF(A119<D119,C119-1,C119),C119)) | F119: =IF(E119="","",MID("子丑寅卯辰巳午未申酉戌亥",MOD(E119-4,12)+1,1)) | G119: =IF(E119="","",MID("甲乙丙丁戊己庚辛壬癸",MOD(E119-4,10)+1,1)&F119) | H119: =IF(E119="","",INDEX('4_六十干支'!$C$5:$C$64,MOD(E119-4,60)+1)) | I119: =IF(B119<>"日付","",IF(NOT(ISNUMBER(D119)),"立春が表にない年",IF(A119<D119,"違う（立春の前に生まれた）","同じ"))) | J119: =IF(F119="","",IF(F119=MID("子丑寅卯辰巳午未申酉戌亥",MOD($B$3-4,12)+1,1),"年男・年女",""))
B120: =IF(A120="","",IF(ISNUMBER(A120),IF(A120<10000,"年","日付"),"数値でない")) | C120: =IF(B120="年",A120,IF(B120="日付",YEAR(A120),"")) | D120: =IF(B120<>"日付","",IFERROR(VLOOKUP(C120,'3_立春'!$A$5:$B$85,2,FALSE),"表にない年")) | E120: =IF(C120="","",IF(AND($B$2="立春",B120="日付",ISNUMBER(D120)),IF(A120<D120,C120-1,C120),C120)) | F120: =IF(E120="","",MID("子丑寅卯辰巳午未申酉戌亥",MOD(E120-4,12)+1,1)) | G120: =IF(E120="","",MID("甲乙丙丁戊己庚辛壬癸",MOD(E120-4,10)+1,1)&F120) | H120: =IF(E120="","",INDEX('4_六十干支'!$C$5:$C$64,MOD(E120-4,60)+1)) | I120: =IF(B120<>"日付","",IF(NOT(ISNUMBER(D120)),"立春が表にない年",IF(A120<D120,"違う（立春の前に生まれた）","同じ"))) | J120: =IF(F120="","",IF(F120=MID("子丑寅卯辰巳午未申酉戌亥",MOD($B$3-4,12)+1,1),"年男・年女",""))
B121: =IF(A121="","",IF(ISNUMBER(A121),IF(A121<10000,"年","日付"),"数値でない")) | C121: =IF(B121="年",A121,IF(B121="日付",YEAR(A121),"")) | D121: =IF(B121<>"日付","",IFERROR(VLOOKUP(C121,'3_立春'!$A$5:$B$85,2,FALSE),"表にない年")) | E121: =IF(C121="","",IF(AND($B$2="立春",B121="日付",ISNUMBER(D121)),IF(A121<D121,C121-1,C121),C121)) | F121: =IF(E121="","",MID("子丑寅卯辰巳午未申酉戌亥",MOD(E121-4,12)+1,1)) | G121: =IF(E121="","",MID("甲乙丙丁戊己庚辛壬癸",MOD(E121-4,10)+1,1)&F121) | H121: =IF(E121="","",INDEX('4_六十干支'!$C$5:$C$64,MOD(E121-4,60)+1)) | I121: =IF(B121<>"日付","",IF(NOT(ISNUMBER(D121)),"立春が表にない年",IF(A121<D121,"違う（立春の前に生まれた）","同じ"))) | J121: =IF(F121="","",IF(F121=MID("子丑寅卯辰巳午未申酉戌亥",MOD($B$3-4,12)+1,1),"年男・年女",""))
B122: =IF(A122="","",IF(ISNUMBER(A122),IF(A122<10000,"年","日付"),"数値でない")) | C122: =IF(B122="年",A122,IF(B122="日付",YEAR(A122),"")) | D122: =IF(B122<>"日付","",IFERROR(VLOOKUP(C122,'3_立春'!$A$5:$B$85,2,FALSE),"表にない年")) | E122: =IF(C122="","",IF(AND($B$2="立春",B122="日付",ISNUMBER(D122)),IF(A122<D122,C122-1,C122),C122)) | F122: =IF(E122="","",MID("子丑寅卯辰巳午未申酉戌亥",MOD(E122-4,12)+1,1)) | G122: =IF(E122="","",MID("甲乙丙丁戊己庚辛壬癸",MOD(E122-4,10)+1,1)&F122) | H122: =IF(E122="","",INDEX('4_六十干支'!$C$5:$C$64,MOD(E122-4,60)+1)) | I122: =IF(B122<>"日付","",IF(NOT(ISNUMBER(D122)),"立春が表にない年",IF(A122<D122,"違う（立春の前に生まれた）","同じ"))) | J122: =IF(F122="","",IF(F122=MID("子丑寅卯辰巳午未申酉戌亥",MOD($B$3-4,12)+1,1),"年男・年女",""))
B123: =IF(A123="","",IF(ISNUMBER(A123),IF(A123<10000,"年","日付"),"数値でない")) | C123: =IF(B123="年",A123,IF(B123="日付",YEAR(A123),"")) | D123: =IF(B123<>"日付","",IFERROR(VLOOKUP(C123,'3_立春'!$A$5:$B$85,2,FALSE),"表にない年")) | E123: =IF(C123="","",IF(AND($B$2="立春",B123="日付",ISNUMBER(D123)),IF(A123<D123,C123-1,C123),C123)) | F123: =IF(E123="","",MID("子丑寅卯辰巳午未申酉戌亥",MOD(E123-4,12)+1,1)) | G123: =IF(E123="","",MID("甲乙丙丁戊己庚辛壬癸",MOD(E123-4,10)+1,1)&F123) | H123: =IF(E123="","",INDEX('4_六十干支'!$C$5:$C$64,MOD(E123-4,60)+1)) | I123: =IF(B123<>"日付","",IF(NOT(ISNUMBER(D123)),"立春が表にない年",IF(A123<D123,"違う（立春の前に生まれた）","同じ"))) | J123: =IF(F123="","",IF(F123=MID("子丑寅卯辰巳午未申酉戌亥",MOD($B$3-4,12)+1,1),"年男・年女",""))
B124: =IF(A124="","",IF(ISNUMBER(A124),IF(A124<10000,"年","日付"),"数値でない")) | C124: =IF(B124="年",A124,IF(B124="日付",YEAR(A124),"")) | D124: =IF(B124<>"日付","",IFERROR(VLOOKUP(C124,'3_立春'!$A$5:$B$85,2,FALSE),"表にない年")) | E124: =IF(C124="","",IF(AND($B$2="立春",B124="日付",ISNUMBER(D124)),IF(A124<D124,C124-1,C124),C124)) | F124: =IF(E124="","",MID("子丑寅卯辰巳午未申酉戌亥",MOD(E124-4,12)+1,1)) | G124: =IF(E124="","",MID("甲乙丙丁戊己庚辛壬癸",MOD(E124-4,10)+1,1)&F124) | H124: =IF(E124="","",INDEX('4_六十干支'!$C$5:$C$64,MOD(E124-4,60)+1)) | I124: =IF(B124<>"日付","",IF(NOT(ISNUMBER(D124)),"立春が表にない年",IF(A124<D124,"違う（立春の前に生まれた）","同じ"))) | J124: =IF(F124="","",IF(F124=MID("子丑寅卯辰巳午未申酉戌亥",MOD($B$3-4,12)+1,1),"年男・年女",""))
B125: =IF(A125="","",IF(ISNUMBER(A125),IF(A125<10000,"年","日付"),"数値でない")) | C125: =IF(B125="年",A125,IF(B125="日付",YEAR(A125),"")) | D125: =IF(B125<>"日付","",IFERROR(VLOOKUP(C125,'3_立春'!$A$5:$B$85,2,FALSE),"表にない年")) | E125: =IF(C125="","",IF(AND($B$2="立春",B125="日付",ISNUMBER(D125)),IF(A125<D125,C125-1,C125),C125)) | F125: =IF(E125="","",MID("子丑寅卯辰巳午未申酉戌亥",MOD(E125-4,12)+1,1)) | G125: =IF(E125="","",MID("甲乙丙丁戊己庚辛壬癸",MOD(E125-4,10)+1,1)&F125) | H125: =IF(E125="","",INDEX('4_六十干支'!$C$5:$C$64,MOD(E125-4,60)+1)) | I125: =IF(B125<>"日付","",IF(NOT(ISNUMBER(D125)),"立春が表にない年",IF(A125<D125,"違う（立春の前に生まれた）","同じ"))) | J125: =IF(F125="","",IF(F125=MID("子丑寅卯辰巳午未申酉戌亥",MOD($B$3-4,12)+1,1),"年男・年女",""))
B126: =IF(A126="","",IF(ISNUMBER(A126),IF(A126<10000,"年","日付"),"数値でない")) | C126: =IF(B126="年",A126,IF(B126="日付",YEAR(A126),"")) | D126: =IF(B126<>"日付","",IFERROR(VLOOKUP(C126,'3_立春'!$A$5:$B$85,2,FALSE),"表にない年")) | E126: =IF(C126="","",IF(AND($B$2="立春",B126="日付",ISNUMBER(D126)),IF(A126<D126,C126-1,C126),C126)) | F126: =IF(E126="","",MID("子丑寅卯辰巳午未申酉戌亥",MOD(E126-4,12)+1,1)) | G126: =IF(E126="","",MID("甲乙丙丁戊己庚辛壬癸",MOD(E126-4,10)+1,1)&F126) | H126: =IF(E126="","",INDEX('4_六十干支'!$C$5:$C$64,MOD(E126-4,60)+1)) | I126: =IF(B126<>"日付","",IF(NOT(ISNUMBER(D126)),"立春が表にない年",IF(A126<D126,"違う（立春の前に生まれた）","同じ"))) | J126: =IF(F126="","",IF(F126=MID("子丑寅卯辰巳午未申酉戌亥",MOD($B$3-4,12)+1,1),"年男・年女",""))
B127: =IF(A127="","",IF(ISNUMBER(A127),IF(A127<10000,"年","日付"),"数値でない")) | C127: =IF(B127="年",A127,IF(B127="日付",YEAR(A127),"")) | D127: =IF(B127<>"日付","",IFERROR(VLOOKUP(C127,'3_立春'!$A$5:$B$85,2,FALSE),"表にない年")) | E127: =IF(C127="","",IF(AND($B$2="立春",B127="日付",ISNUMBER(D127)),IF(A127<D127,C127-1,C127),C127)) | F127: =IF(E127="","",MID("子丑寅卯辰巳午未申酉戌亥",MOD(E127-4,12)+1,1)) | G127: =IF(E127="","",MID("甲乙丙丁戊己庚辛壬癸",MOD(E127-4,10)+1,1)&F127) | H127: =IF(E127="","",INDEX('4_六十干支'!$C$5:$C$64,MOD(E127-4,60)+1)) | I127: =IF(B127<>"日付","",IF(NOT(ISNUMBER(D127)),"立春が表にない年",IF(A127<D127,"違う（立春の前に生まれた）","同じ"))) | J127: =IF(F127="","",IF(F127=MID("子丑寅卯辰巳午未申酉戌亥",MOD($B$3-4,12)+1,1),"年男・年女",""))
B128: =IF(A128="","",IF(ISNUMBER(A128),IF(A128<10000,"年","日付"),"数値でない")) | C128: =IF(B128="年",A128,IF(B128="日付",YEAR(A128),"")) | D128: =IF(B128<>"日付","",IFERROR(VLOOKUP(C128,'3_立春'!$A$5:$B$85,2,FALSE),"表にない年")) | E128: =IF(C128="","",IF(AND($B$2="立春",B128="日付",ISNUMBER(D128)),IF(A128<D128,C128-1,C128),C128)) | F128: =IF(E128="","",MID("子丑寅卯辰巳午未申酉戌亥",MOD(E128-4,12)+1,1)) | G128: =IF(E128="","",MID("甲乙丙丁戊己庚辛壬癸",MOD(E128-4,10)+1,1)&F128) | H128: =IF(E128="","",INDEX('4_六十干支'!$C$5:$C$64,MOD(E128-4,60)+1)) | I128: =IF(B128<>"日付","",IF(NOT(ISNUMBER(D128)),"立春が表にない年",IF(A128<D128,"違う（立春の前に生まれた）","同じ"))) | J128: =IF(F128="","",IF(F128=MID("子丑寅卯辰巳午未申酉戌亥",MOD($B$3-4,12)+1,1),"年男・年女",""))
B129: =IF(A129="","",IF(ISNUMBER(A129),IF(A129<10000,"年","日付"),"数値でない")) | C129: =IF(B129="年",A129,IF(B129="日付",YEAR(A129),"")) | D129: =IF(B129<>"日付","",IFERROR(VLOOKUP(C129,'3_立春'!$A$5:$B$85,2,FALSE),"表にない年")) | E129: =IF(C129="","",IF(AND($B$2="立春",B129="日付",ISNUMBER(D129)),IF(A129<D129,C129-1,C129),C129)) | F129: =IF(E129="","",MID("子丑寅卯辰巳午未申酉戌亥",MOD(E129-4,12)+1,1)) | G129: =IF(E129="","",MID("甲乙丙丁戊己庚辛壬癸",MOD(E129-4,10)+1,1)&F129) | H129: =IF(E129="","",INDEX('4_六十干支'!$C$5:$C$64,MOD(E129-4,60)+1)) | I129: =IF(B129<>"日付","",IF(NOT(ISNUMBER(D129)),"立春が表にない年",IF(A129<D129,"違う（立春の前に生まれた）","同じ"))) | J129: =IF(F129="","",IF(F129=MID("子丑寅卯辰巳午未申酉戌亥",MOD($B$3-4,12)+1,1),"年男・年女",""))
B130: =IF(A130="","",IF(ISNUMBER(A130),IF(A130<10000,"年","日付"),"数値でない")) | C130: =IF(B130="年",A130,IF(B130="日付",YEAR(A130),"")) | D130: =IF(B130<>"日付","",IFERROR(VLOOKUP(C130,'3_立春'!$A$5:$B$85,2,FALSE),"表にない年")) | E130: =IF(C130="","",IF(AND($B$2="立春",B130="日付",ISNUMBER(D130)),IF(A130<D130,C130-1,C130),C130)) | F130: =IF(E130="","",MID("子丑寅卯辰巳午未申酉戌亥",MOD(E130-4,12)+1,1)) | G130: =IF(E130="","",MID("甲乙丙丁戊己庚辛壬癸",MOD(E130-4,10)+1,1)&F130) | H130: =IF(E130="","",INDEX('4_六十干支'!$C$5:$C$64,MOD(E130-4,60)+1)) | I130: =IF(B130<>"日付","",IF(NOT(ISNUMBER(D130)),"立春が表にない年",IF(A130<D130,"違う（立春の前に生まれた）","同じ"))) | J130: =IF(F130="","",IF(F130=MID("子丑寅卯辰巳午未申酉戌亥",MOD($B$3-4,12)+1,1),"年男・年女",""))
... B206: =IF(A206="","",IF(ISNUMBER(A206),IF(A206<10000,"年","日付"),"数値でない")) | C206: =IF(B206="年",A206,IF(B206="日付",YEAR(A206),"")) | D206: =IF(B206<>"日付","",IFERROR(VLOOKUP(C206,'3_立春'!$A$5:$B$85,2,FALSE),"表にない年")) | E206: =IF(C206="","",IF(AND($B$2="立春",B206="日付",ISNUMBER(D206)),IF(A206<D206,C206-1,C206),C206)) | F206: =IF(E206="","",MID("子丑寅卯辰巳午未申酉戌亥",MOD(E206-4,12)+1,1)) | G206: =IF(E206="","",MID("甲乙丙丁戊己庚辛壬癸",MOD(E206-4,10)+1,1)&F206) | H206: =IF(E206="","",INDEX('4_六十干支'!$C$5:$C$64,MOD(E206-4,60)+1)) | I206: =IF(B206<>"日付","",IF(NOT(ISNUMBER(D206)),"立春が表にない年",IF(A206<D206,"違う（立春の前に生まれた）","同じ"))) | J206: =IF(F206="","",IF(F206=MID("子丑寅卯辰巳午未申酉戌亥",MOD($B$3-4,12)+1,1),"年男・年女",""))

Sheet 2_書き方を比べる
A1: 干支の式の書き方を並べ、2027年の結果と、1900〜2100年の201年で正しい年数を数える
A2: 正しい干支は4_六十干支の並びと、1924年が甲子であることから出した（F列）。Microsoft 365のExcel（バージョン16）、Windows 11で確認、2026年10月6日
A4: 番号 | B4: 書き方 | C4: 入れるもの | D4: 入れた値 | E4: 結果 | F4: 正しい干支 | G4: 式 | H4: 合う年 | I4: 合わない年 | J4: エラーの年 | K4: 最初に合わない年
A5: 1 | B5: 申から並べてMIDで取る | C5: 年の数字 | D5: 2027 | E5: =MID("申酉戌亥子丑寅卯辰巳午未",MOD(D5,12)+1,1) | F5: =RIGHT(INDEX('4_六十干支'!$B$5:$B$64,MOD(2027-1924,60)+1),1) | G5: =_xlfn.FORMULATEXT(E5) | H5: {=SUM(IFERROR(--(D30:D230=$B$30:$B$230),0))} | I5: =201-H5 | J5: =SUMPRODUCT(--ISERROR(D30:D230)) | K5: {=IFERROR(INDEX($T$30:$T$230,MATCH(FALSE,IFERROR(D30:D230=$B$30:$B$230,FALSE),0)),"なし")}
A6: 2 | B6: 申から並べてCHOOSEで取る | C6: 年の数字 | D6: 2027 | E6: =CHOOSE(MOD(D6,12)+1,"申","酉","戌","亥","子","丑","寅","卯","辰","巳","午","未") | F6: =RIGHT(INDEX('4_六十干支'!$B$5:$B$64,MOD(2027-1924,60)+1),1) | G6: =_xlfn.FORMULATEXT(E6) | H6: {=SUM(IFERROR(--(E30:E230=$B$30:$B$230),0))} | I6: =201-H6 | J6: =SUMPRODUCT(--ISERROR(E30:E230)) | K6: {=IFERROR(INDEX($T$30:$T$230,MATCH(FALSE,IFERROR(E30:E230=$B$30:$B$230,FALSE),0)),"なし")}
A7: 3 | B7: 子から並べて4を引く | C7: 年の数字 | D7: 2027 | E7: =MID("子丑寅卯辰巳午未申酉戌亥",MOD(D7-4,12)+1,1) | F7: =RIGHT(INDEX('4_六十干支'!$B$5:$B$64,MOD(2027-1924,60)+1),1) | G7: =_xlfn.FORMULATEXT(E7) | H7: {=SUM(IFERROR(--(F30:F230=$B$30:$B$230),0))} | I7: =201-H7 | J7: =SUMPRODUCT(--ISERROR(F30:F230)) | K7: {=IFERROR(INDEX($T$30:$T$230,MATCH(FALSE,IFERROR(F30:F230=$B$30:$B$230,FALSE),0)),"なし")}
A8: 4 | B8: 子から並べて3を引き、+1を付けないCHOOSE | C8: 年の数字 | D8: 2027 | E8: =CHOOSE(MOD(D8-3,12),"子","丑","寅","卯","辰","巳","午","未","申","酉","戌","亥") | F8: =RIGHT(INDEX('4_六十干支'!$B$5:$B$64,MOD(2027-1924,60)+1),1) | G8: =_xlfn.FORMULATEXT(E8) | H8: {=SUM(IFERROR(--(G30:G230=$B$30:$B$230),0))} | I8: =201-H8 | J8: =SUMPRODUCT(--ISERROR(G30:G230)) | K8: {=IFERROR(INDEX($T$30:$T$230,MATCH(FALSE,IFERROR(G30:G230=$B$30:$B$230,FALSE),0)),"なし")}
A9: 5 | B9: 申から並べたCHOOSEで+1を忘れる | C9: 年の数字 | D9: 2027 | E9: =CHOOSE(MOD(D9,12),"申","酉","戌","亥","子","丑","寅","卯","辰","巳","午","未") | F9: =RIGHT(INDEX('4_六十干支'!$B$5:$B$64,MOD(2027-1924,60)+1),1) | G9: =_xlfn.FORMULATEXT(E9) | H9: {=SUM(IFERROR(--(H30:H230=$B$30:$B$230),0))} | I9: =201-H9 | J9: =SUMPRODUCT(--ISERROR(H30:H230)) | K9: {=IFERROR(INDEX($T$30:$T$230,MATCH(FALSE,IFERROR(H30:H230=$B$30:$B$230,FALSE),0)),"なし")}
A10: 6 | B10: 子から並べて3を引き、+1も付ける | C10: 年の数字 | D10: 2027 | E10: =MID("子丑寅卯辰巳午未申酉戌亥",MOD(D10-3,12)+1,1) | F10: =RIGHT(INDEX('4_六十干支'!$B$5:$B$64,MOD(2027-1924,60)+1),1) | G10: =_xlfn.FORMULATEXT(E10) | H10: {=SUM(IFERROR(--(I30:I230=$B$30:$B$230),0))} | I10: =201-H10 | J10: =SUMPRODUCT(--ISERROR(I30:I230)) | K10: {=IFERROR(INDEX($T$30:$T$230,MATCH(FALSE,IFERROR(I30:I230=$B$30:$B$230,FALSE),0)),"なし")}
A11: 7 | B11: 子から並べて4を引き、+1を忘れる | C11: 年の数字 | D11: 2027 | E11: =MID("子丑寅卯辰巳午未申酉戌亥",MOD(D11-4,12),1) | F11: =RIGHT(INDEX('4_六十干支'!$B$5:$B$64,MOD(2027-1924,60)+1),1) | G11: =_xlfn.FORMULATEXT(E11) | H11: {=SUM(IFERROR(--(J30:J230=$B$30:$B$230),0))} | I11: =201-H11 | J11: =SUMPRODUCT(--ISERROR(J30:J230)) | K11: {=IFERROR(INDEX($T$30:$T$230,MATCH(FALSE,IFERROR(J30:J230=$B$30:$B$230,FALSE),0)),"なし")}
A12: 8 | B12: 日付用の式（YEARつき）に年の数字を入れる | C12: 年の数字 | D12: 2027 | E12: =MID("申酉戌亥子丑寅卯辰巳午未",MOD(YEAR(D12),12)+1,1) | F12: =RIGHT(INDEX('4_六十干支'!$B$5:$B$64,MOD(2027-1924,60)+1),1) | G12: =_xlfn.FORMULATEXT(E12) | H12: {=SUM(IFERROR(--(K30:K230=$B$30:$B$230),0))} | I12: =201-H12 | J12: =SUMPRODUCT(--ISERROR(K30:K230)) | K12: {=IFERROR(INDEX($T$30:$T$230,MATCH(FALSE,IFERROR(K30:K230=$B$30:$B$230,FALSE),0)),"なし")}
A13: 9 | B13: 年の数字用の式に日付を入れる | C13: 日付 | D13: 46388 | E13: =MID("申酉戌亥子丑寅卯辰巳午未",MOD(D13,12)+1,1) | F13: =RIGHT(INDEX('4_六十干支'!$B$5:$B$64,MOD(2027-1924,60)+1),1) | G13: =_xlfn.FORMULATEXT(E13) | H13: =COUNTIF('2_書き方を比べる'!$U$30:$U$394,TRUE) | I13: =365-H13 | J13: 0 | K13: 2027年の365日で数えた
A14: 10 | B14: 年の数字用の式に令和の年を入れる | C14: 令和の年 | D14: 9 | E14: =MID("申酉戌亥子丑寅卯辰巳午未",MOD(D14,12)+1,1) | F14: =RIGHT(INDEX('4_六十干支'!$B$5:$B$64,MOD(2027-1924,60)+1),1) | G14: =_xlfn.FORMULATEXT(E14) | H14: =COUNTIF('2_書き方を比べる'!$X$30:$X$111,TRUE) | I14: =82-H14 | J14: 0 | K14: 令和1〜82年で数えた
A15: 11 | B15: 年の数字用の式に「2027年」と文字で入れる | C15: 文字 | D15: 2027年 | E15: =MID("申酉戌亥子丑寅卯辰巳午未",MOD(D15,12)+1,1) | F15: =RIGHT(INDEX('4_六十干支'!$B$5:$B$64,MOD(2027-1924,60)+1),1) | G15: =_xlfn.FORMULATEXT(E15) | H15: 0 | I15: =201 | J15: =201 | K15: どの年も
A16: 12 | B16: 十干を甲から並べて4を引く | C16: 年の数字 | D16: 2027 | E16: =MID("甲乙丙丁戊己庚辛壬癸",MOD(D16-4,10)+1,1) | F16: =LEFT(INDEX('4_六十干支'!$B$5:$B$64,MOD(2027-1924,60)+1),1) | G16: =_xlfn.FORMULATEXT(E16) | H16: {=SUM(IFERROR(--(O30:O230=$C$30:$C$230),0))} | I16: =201-H16 | J16: =SUMPRODUCT(--ISERROR(O30:O230)) | K16: {=IFERROR(INDEX($T$30:$T$230,MATCH(FALSE,IFERROR(O30:O230=$C$30:$C$230,FALSE),0)),"なし")}
A17: 13 | B17: 十干を庚から並べる | C17: 年の数字 | D17: 2027 | E17: =MID("庚辛壬癸甲乙丙丁戊己",MOD(D17,10)+1,1) | F17: =LEFT(INDEX('4_六十干支'!$B$5:$B$64,MOD(2027-1924,60)+1),1) | G17: =_xlfn.FORMULATEXT(E17) | H17: {=SUM(IFERROR(--(P30:P230=$C$30:$C$230),0))} | I17: =201-H17 | J17: =SUMPRODUCT(--ISERROR(P30:P230)) | K17: {=IFERROR(INDEX($T$30:$T$230,MATCH(FALSE,IFERROR(P30:P230=$C$30:$C$230,FALSE),0)),"なし")}
A18: 14 | B18: 十干を甲から並べて3を引く | C18: 年の数字 | D18: 2027 | E18: =MID("甲乙丙丁戊己庚辛壬癸",MOD(D18-3,10)+1,1) | F18: =LEFT(INDEX('4_六十干支'!$B$5:$B$64,MOD(2027-1924,60)+1),1) | G18: =_xlfn.FORMULATEXT(E18) | H18: {=SUM(IFERROR(--(Q30:Q230=$C$30:$C$230),0))} | I18: =201-H18 | J18: =SUMPRODUCT(--ISERROR(Q30:Q230)) | K18: {=IFERROR(INDEX($T$30:$T$230,MATCH(FALSE,IFERROR(Q30:Q230=$C$30:$C$230,FALSE),0)),"なし")}
A19: 15 | B19: 十干を3を引いて+1を付けないCHOOSE | C19: 年の数字 | D19: 2027 | E19: =CHOOSE(MOD(D19-3,10),"甲","乙","丙","丁","戊","己","庚","辛","壬","癸") | F19: =LEFT(INDEX('4_六十干支'!$B$5:$B$64,MOD(2027-1924,60)+1),1) | G19: =_xlfn.FORMULATEXT(E19) | H19: {=SUM(IFERROR(--(R30:R230=$C$30:$C$230),0))} | I19: =201-H19 | J19: =SUMPRODUCT(--ISERROR(R30:R230)) | K19: {=IFERROR(INDEX($T$30:$T$230,MATCH(FALSE,IFERROR(R30:R230=$C$30:$C$230,FALSE),0)),"なし")}
A20: 16 | B20: 十干と十二支をつなぐ（4を引く） | C20: 年の数字 | D20: 2027 | E20: =MID("甲乙丙丁戊己庚辛壬癸",MOD(D20-4,10)+1,1)&MID("子丑寅卯辰巳午未申酉戌亥",MOD(D20-4,12)+1,1) | F20: =INDEX('4_六十干支'!$B$5:$B$64,MOD(2027-1924,60)+1) | G20: =_xlfn.FORMULATEXT(E20) | H20: {=SUM(IFERROR(--(S30:S230=$A$30:$A$230),0))} | I20: =201-H20 | J20: =SUMPRODUCT(--ISERROR(S30:S230)) | K20: {=IFERROR(INDEX($T$30:$T$230,MATCH(FALSE,IFERROR(S30:S230=$A$30:$A$230,FALSE),0)),"なし")}
A22: 2027年を正しく出した書き方 | E22: {=SUM(IFERROR(--(E5:E20=F5:F20),0))}
A23: 201年すべてで正しかった書き方 | E23: =COUNTIFS(I5:I20,0,C5:C20,"年の数字")
A28: 1900〜2100年の201年に、書き方1〜16を当てた結果（正解はA〜C列）
A29: 正しい干支 | B29: 正しい十二支 | C29: 正しい十干 | D29: 書き方1 | E29: 書き方2 | F29: 書き方3 | G29: 書き方4 | H29: 書き方5 | I29: 書き方6 | J29: 書き方7 | K29: 書き方8 | L29: 書き方9 | M29: 書き方10 | N29: 書き方11 | O29: 書き方12 | P29: 書き方13 | Q29: 書き方14 | R29: 書き方15 | S29: 書き方16 | T29: 年 | U29: 未になるか | V29: 2027年の日付 | W29: 式の結果 | X29: 令和の年で合うか | Y29: 令和の年 | Z29: 式の結果
A30: =INDEX('4_六十干支'!$B$5:$B$64,MOD(T30-1924,60)+1) | B30: =RIGHT(A30,1) | C30: =LEFT(A30,1) | D30: =MID("申酉戌亥子丑寅卯辰巳午未",MOD(T30,12)+1,1) | E30: =CHOOSE(MOD(T30,12)+1,"申","酉","戌","亥","子","丑","寅","卯","辰","巳","午","未") | F30: =MID("子丑寅卯辰巳午未申酉戌亥",MOD(T30-4,12)+1,1) | G30: =CHOOSE(MOD(T30-3,12),"子","丑","寅","卯","辰","巳","午","未","申","酉","戌","亥") | H30: =CHOOSE(MOD(T30,12),"申","酉","戌","亥","子","丑","寅","卯","辰","巳","午","未") | I30: =MID("子丑寅卯辰巳午未申酉戌亥",MOD(T30-3,12)+1,1) | J30: =MID("子丑寅卯辰巳午未申酉戌亥",MOD(T30-4,12),1) | K30: =MID("申酉戌亥子丑寅卯辰巳午未",MOD(YEAR(T30),12)+1,1) | L30: - | M30: - | N30: - | O30: =MID("甲乙丙丁戊己庚辛壬癸",MOD(T30-4,10)+1,1) | P30: =MID("庚辛壬癸甲乙丙丁戊己",MOD(T30,10)+1,1) | Q30: =MID("甲乙丙丁戊己庚辛壬癸",MOD(T30-3,10)+1,1) | R30: =CHOOSE(MOD(T30-3,10),"甲","乙","丙","丁","戊","己","庚","辛","壬","癸") | S30: =MID("甲乙丙丁戊己庚辛壬癸",MOD(T30-4,10)+1,1)&MID("子丑寅卯辰巳午未申酉戌亥",MOD(T30-4,12)+1,1) | T30: 1900 | U30: =W30="未" | V30: 46388 | W30: =MID("申酉戌亥子丑寅卯辰巳午未",MOD(V30,12)+1,1) | X30: =Z30=RIGHT(INDEX('4_六十干支'!$B$5:$B$64,MOD(Y30+2018-1924,60)+1),1) | Y30: 1 | Z30: =MID("申酉戌亥子丑寅卯辰巳午未",MOD(Y30,12)+1,1)
A31: =INDEX('4_六十干支'!$B$5:$B$64,MOD(T31-1924,60)+1) | B31: =RIGHT(A31,1) | C31: =LEFT(A31,1) | D31: =MID("申酉戌亥子丑寅卯辰巳午未",MOD(T31,12)+1,1) | E31: =CHOOSE(MOD(T31,12)+1,"申","酉","戌","亥","子","丑","寅","卯","辰","巳","午","未") | F31: =MID("子丑寅卯辰巳午未申酉戌亥",MOD(T31-4,12)+1,1) | G31: =CHOOSE(MOD(T31-3,12),"子","丑","寅","卯","辰","巳","午","未","申","酉","戌","亥") | H31: =CHOOSE(MOD(T31,12),"申","酉","戌","亥","子","丑","寅","卯","辰","巳","午","未") | I31: =MID("子丑寅卯辰巳午未申酉戌亥",MOD(T31-3,12)+1,1) | J31: =MID("子丑寅卯辰巳午未申酉戌亥",MOD(T31-4,12),1) | K31: =MID("申酉戌亥子丑寅卯辰巳午未",MOD(YEAR(T31),12)+1,1) | L31: - | M31: - | N31: - | O31: =MID("甲乙丙丁戊己庚辛壬癸",MOD(T31-4,10)+1,1) | P31: =MID("庚辛壬癸甲乙丙丁戊己",MOD(T31,10)+1,1) | Q31: =MID("甲乙丙丁戊己庚辛壬癸",MOD(T31-3,10)+1,1) | R31: =CHOOSE(MOD(T31-3,10),"甲","乙","丙","丁","戊","己","庚","辛","壬","癸") | S31: =MID("甲乙丙丁戊己庚辛壬癸",MOD(T31-4,10)+1,1)&MID("子丑寅卯辰巳午未申酉戌亥",MOD(T31-4,12)+1,1) | T31: 1901 | U31: =W31="未" | V31: 46389 | W31: =MID("申酉戌亥子丑寅卯辰巳午未",MOD(V31,12)+1,1) | X31: =Z31=RIGHT(INDEX('4_六十干支'!$B$5:$B$64,MOD(Y31+2018-1924,60)+1),1) | Y31: 2 | Z31: =MID("申酉戌亥子丑寅卯辰巳午未",MOD(Y31,12)+1,1)
A32: =INDEX('4_六十干支'!$B$5:$B$64,MOD(T32-1924,60)+1) | B32: =RIGHT(A32,1) | C32: =LEFT(A32,1) | D32: =MID("申酉戌亥子丑寅卯辰巳午未",MOD(T32,12)+1,1) | E32: =CHOOSE(MOD(T32,12)+1,"申","酉","戌","亥","子","丑","寅","卯","辰","巳","午","未") | F32: =MID("子丑寅卯辰巳午未申酉戌亥",MOD(T32-4,12)+1,1) | G32: =CHOOSE(MOD(T32-3,12),"子","丑","寅","卯","辰","巳","午","未","申","酉","戌","亥") | H32: =CHOOSE(MOD(T32,12),"申","酉","戌","亥","子","丑","寅","卯","辰","巳","午","未") | I32: =MID("子丑寅卯辰巳午未申酉戌亥",MOD(T32-3,12)+1,1) | J32: =MID("子丑寅卯辰巳午未申酉戌亥",MOD(T32-4,12),1) | K32: =MID("申酉戌亥子丑寅卯辰巳午未",MOD(YEAR(T32),12)+1,1) | L32: - | M32: - | N32: - | O32: =MID("甲乙丙丁戊己庚辛壬癸",MOD(T32-4,10)+1,1) | P32: =MID("庚辛壬癸甲乙丙丁戊己",MOD(T32,10)+1,1) | Q32: =MID("甲乙丙丁戊己庚辛壬癸",MOD(T32-3,10)+1,1) | R32: =CHOOSE(MOD(T32-3,10),"甲","乙","丙","丁","戊","己","庚","辛","壬","癸") | S32: =MID("甲乙丙丁戊己庚辛壬癸",MOD(T32-4,10)+1,1)&MID("子丑寅卯辰巳午未申酉戌亥",MOD(T32-4,12)+1,1) | T32: 1902 | U32: =W32="未" | V32: 46390 | W32: =MID("申酉戌亥子丑寅卯辰巳午未",MOD(V32,12)+1,1) | X32: =Z32=RIGHT(INDEX('4_六十干支'!$B$5:$B$64,MOD(Y32+2018-1924,60)+1),1) | Y32: 3 | Z32: =MID("申酉戌亥子丑寅卯辰巳午未",MOD(Y32,12)+1,1)
A33: =INDEX('4_六十干支'!$B$5:$B$64,MOD(T33-1924,60)+1) | B33: =RIGHT(A33,1) | C33: =LEFT(A33,1) | D33: =MID("申酉戌亥子丑寅卯辰巳午未",MOD(T33,12)+1,1) | E33: =CHOOSE(MOD(T33,12)+1,"申","酉","戌","亥","子","丑","寅","卯","辰","巳","午","未") | F33: =MID("子丑寅卯辰巳午未申酉戌亥",MOD(T33-4,12)+1,1) | G33: =CHOOSE(MOD(T33-3,12),"子","丑","寅","卯","辰","巳","午","未","申","酉","戌","亥") | H33: =CHOOSE(MOD(T33,12),"申","酉","戌","亥","子","丑","寅","卯","辰","巳","午","未") | I33: =MID("子丑寅卯辰巳午未申酉戌亥",MOD(T33-3,12)+1,1) | J33: =MID("子丑寅卯辰巳午未申酉戌亥",MOD(T33-4,12),1) | K33: =MID("申酉戌亥子丑寅卯辰巳午未",MOD(YEAR(T33),12)+1,1) | L33: - | M33: - | N33: - | O33: =MID("甲乙丙丁戊己庚辛壬癸",MOD(T33-4,10)+1,1) | P33: =MID("庚辛壬癸甲乙丙丁戊己",MOD(T33,10)+1,1) | Q33: =MID("甲乙丙丁戊己庚辛壬癸",MOD(T33-3,10)+1,1) | R33: =CHOOSE(MOD(T33-3,10),"甲","乙","丙","丁","戊","己","庚","辛","壬","癸") | S33: =MID("甲乙丙丁戊己庚辛壬癸",MOD(T33-4,10)+1,1)&MID("子丑寅卯辰巳午未申酉戌亥",MOD(T33-4,12)+1,1) | T33: 1903 | U33: =W33="未" | V33: 46391 | W33: =MID("申酉戌亥子丑寅卯辰巳午未",MOD(V33,12)+1,1) | X33: =Z33=RIGHT(INDEX('4_六十干支'!$B$5:$B$64,MOD(Y33+2018-1924,60)+1),1) | Y33: 4 | Z33: =MID("申酉戌亥子丑寅卯辰巳午未",MOD(Y33,12)+1,1)
A34: =INDEX('4_六十干支'!$B$5:$B$64,MOD(T34-1924,60)+1) | B34: =RIGHT(A34,1) | C34: =LEFT(A34,1) | D34: =MID("申酉戌亥子丑寅卯辰巳午未",MOD(T34,12)+1,1) | E34: =CHOOSE(MOD(T34,12)+1,"申","酉","戌","亥","子","丑","寅","卯","辰","巳","午","未") | F34: =MID("子丑寅卯辰巳午未申酉戌亥",MOD(T34-4,12)+1,1) | G34: =CHOOSE(MOD(T34-3,12),"子","丑","寅","卯","辰","巳","午","未","申","酉","戌","亥") | H34: =CHOOSE(MOD(T34,12),"申","酉","戌","亥","子","丑","寅","卯","辰","巳","午","未") | I34: =MID("子丑寅卯辰巳午未申酉戌亥",MOD(T34-3,12)+1,1) | J34: =MID("子丑寅卯辰巳午未申酉戌亥",MOD(T34-4,12),1) | K34: =MID("申酉戌亥子丑寅卯辰巳午未",MOD(YEAR(T34),12)+1,1) | L34: - | M34: - | N34: - | O34: =MID("甲乙丙丁戊己庚辛壬癸",MOD(T34-4,10)+1,1) | P34: =MID("庚辛壬癸甲乙丙丁戊己",MOD(T34,10)+1,1) | Q34: =MID("甲乙丙丁戊己庚辛壬癸",MOD(T34-3,10)+1,1) | R34: =CHOOSE(MOD(T34-3,10),"甲","乙","丙","丁","戊","己","庚","辛","壬","癸") | S34: =MID("甲乙丙丁戊己庚辛壬癸",MOD(T34-4,10)+1,1)&MID("子丑寅卯辰巳午未申酉戌亥",MOD(T34-4,12)+1,1) | T34: 1904 | U34: =W34="未" | V34: 46392 | W34: =MID("申酉戌亥子丑寅卯辰巳午未",MOD(V34,12)+1,1) | X34: =Z34=RIGHT(INDEX('4_六十干支'!$B$5:$B$64,MOD(Y34+2018-1924,60)+1),1) | Y34: 5 | Z34: =MID("申酉戌亥子丑寅卯辰巳午未",MOD(Y34,12)+1,1)
A35: =INDEX('4_六十干支'!$B$5:$B$64,MOD(T35-1924,60)+1) | B35: =RIGHT(A35,1) | C35: =LEFT(A35,1) | D35: =MID("申酉戌亥子丑寅卯辰巳午未",MOD(T35,12)+1,1) | E35: =CHOOSE(MOD(T35,12)+1,"申","酉","戌","亥","子","丑","寅","卯","辰","巳","午","未") | F35: =MID("子丑寅卯辰巳午未申酉戌亥",MOD(T35-4,12)+1,1) | G35: =CHOOSE(MOD(T35-3,12),"子","丑","寅","卯","辰","巳","午","未","申","酉","戌","亥") | H35: =CHOOSE(MOD(T35,12),"申","酉","戌","亥","子","丑","寅","卯","辰","巳","午","未") | I35: =MID("子丑寅卯辰巳午未申酉戌亥",MOD(T35-3,12)+1,1) | J35: =MID("子丑寅卯辰巳午未申酉戌亥",MOD(T35-4,12),1) | K35: =MID("申酉戌亥子丑寅卯辰巳午未",MOD(YEAR(T35),12)+1,1) | L35: - | M35: - | N35: - | O35: =MID("甲乙丙丁戊己庚辛壬癸",MOD(T35-4,10)+1,1) | P35: =MID("庚辛壬癸甲乙丙丁戊己",MOD(T35,10)+1,1) | Q35: =MID("甲乙丙丁戊己庚辛壬癸",MOD(T35-3,10)+1,1) | R35: =CHOOSE(MOD(T35-3,10),"甲","乙","丙","丁","戊","己","庚","辛","壬","癸") | S35: =MID("甲乙丙丁戊己庚辛壬癸",MOD(T35-4,10)+1,1)&MID("子丑寅卯辰巳午未申酉戌亥",MOD(T35-4,12)+1,1) | T35: 1905 | U35: =W35="未" | V35: 46393 | W35: =MID("申酉戌亥子丑寅卯辰巳午未",MOD(V35,12)+1,1) | X35: =Z35=RIGHT(INDEX('4_六十干支'!$B$5:$B$64,MOD(Y35+2018-1924,60)+1),1) | Y35: 6 | Z35: =MID("申酉戌亥子丑寅卯辰巳午未",MOD(Y35,12)+1,1)
A36: =INDEX('4_六十干支'!$B$5:$B$64,MOD(T36-1924,60)+1) | B36: =RIGHT(A36,1) | C36: =LEFT(A36,1) | D36: =MID("申酉戌亥子丑寅卯辰巳午未",MOD(T36,12)+1,1) | E36: =CHOOSE(MOD(T36,12)+1,"申","酉","戌","亥","子","丑","寅","卯","辰","巳","午","未") | F36: =MID("子丑寅卯辰巳午未申酉戌亥",MOD(T36-4,12)+1,1) | G36: =CHOOSE(MOD(T36-3,12),"子","丑","寅","卯","辰","巳","午","未","申","酉","戌","亥") | H36: =CHOOSE(MOD(T36,12),"申","酉","戌","亥","子","丑","寅","卯","辰","巳","午","未") | I36: =MID("子丑寅卯辰巳午未申酉戌亥",MOD(T36-3,12)+1,1) | J36: =MID("子丑寅卯辰巳午未申酉戌亥",MOD(T36-4,12),1) | K36: =MID("申酉戌亥子丑寅卯辰巳午未",MOD(YEAR(T36),12)+1,1) | L36: - | M36: - | N36: - | O36: =MID("甲乙丙丁戊己庚辛壬癸",MOD(T36-4,10)+1,1) | P36: =MID("庚辛壬癸甲乙丙丁戊己",MOD(T36,10)+1,1) | Q36: =MID("甲乙丙丁戊己庚辛壬癸",MOD(T36-3,10)+1,1) | R36: =CHOOSE(MOD(T36-3,10),"甲","乙","丙","丁","戊","己","庚","辛","壬","癸") | S36: =MID("甲乙丙丁戊己庚辛壬癸",MOD(T36-4,10)+1,1)&MID("子丑寅卯辰巳午未申酉戌亥",MOD(T36-4,12)+1,1) | T36: 1906 | U36: =W36="未" | V36: 46394 | W36: =MID("申酉戌亥子丑寅卯辰巳午未",MOD(V36,12)+1,1) | X36: =Z36=RIGHT(INDEX('4_六十干支'!$B$5:$B$64,MOD(Y36+2018-1924,60)+1),1) | Y36: 7 | Z36: =MID("申酉戌亥子丑寅卯辰巳午未",MOD(Y36,12)+1,1)
A37: =INDEX('4_六十干支'!$B$5:$B$64,MOD(T37-1924,60)+1) | B37: =RIGHT(A37,1) | C37: =LEFT(A37,1) | D37: =MID("申酉戌亥子丑寅卯辰巳午未",MOD(T37,12)+1,1) | E37: =CHOOSE(MOD(T37,12)+1,"申","酉","戌","亥","子","丑","寅","卯","辰","巳","午","未") | F37: =MID("子丑寅卯辰巳午未申酉戌亥",MOD(T37-4,12)+1,1) | G37: =CHOOSE(MOD(T37-3,12),"子","丑","寅","卯","辰","巳","午","未","申","酉","戌","亥") | H37: =CHOOSE(MOD(T37,12),"申","酉","戌","亥","子","丑","寅","卯","辰","巳","午","未") | I37: =MID("子丑寅卯辰巳午未申酉戌亥",MOD(T37-3,12)+1,1) | J37: =MID("子丑寅卯辰巳午未申酉戌亥",MOD(T37-4,12),1) | K37: =MID("申酉戌亥子丑寅卯辰巳午未",MOD(YEAR(T37),12)+1,1) | L37: - | M37: - | N37: - | O37: =MID("甲乙丙丁戊己庚辛壬癸",MOD(T37-4,10)+1,1) | P37: =MID("庚辛壬癸甲乙丙丁戊己",MOD(T37,10)+1,1) | Q37: =MID("甲乙丙丁戊己庚辛壬癸",MOD(T37-3,10)+1,1) | R37: =CHOOSE(MOD(T37-3,10),"甲","乙","丙","丁","戊","己","庚","辛","壬","癸") | S37: =MID("甲乙丙丁戊己庚辛壬癸",MOD(T37-4,10)+1,1)&MID("子丑寅卯辰巳午未申酉戌亥",MOD(T37-4,12)+1,1) | T37: 1907 | U37: =W37="未" | V37: 46395 | W37: =MID("申酉戌亥子丑寅卯辰巳午未",MOD(V37,12)+1,1) | X37: =Z37=RIGHT(INDEX('4_六十干支'!$B$5:$B$64,MOD(Y37+2018-1924,60)+1),1) | Y37: 8 | Z37: =MID("申酉戌亥子丑寅卯辰巳午未",MOD(Y37,12)+1,1)
A38: =INDEX('4_六十干支'!$B$5:$B$64,MOD(T38-1924,60)+1) | B38: =RIGHT(A38,1) | C38: =LEFT(A38,1) | D38: =MID("申酉戌亥子丑寅卯辰巳午未",MOD(T38,12)+1,1) | E38: =CHOOSE(MOD(T38,12)+1,"申","酉","戌","亥","子","丑","寅","卯","辰","巳","午","未") | F38: =MID("子丑寅卯辰巳午未申酉戌亥",MOD(T38-4,12)+1,1) | G38: =CHOOSE(MOD(T38-3,12),"子","丑","寅","卯","辰","巳","午","未","申","酉","戌","亥") | H38: =CHOOSE(MOD(T38,12),"申","酉","戌","亥","子","丑","寅","卯","辰","巳","午","未") | I38: =MID("子丑寅卯辰巳午未申酉戌亥",MOD(T38-3,12)+1,1) | J38: =MID("子丑寅卯辰巳午未申酉戌亥",MOD(T38-4,12),1) | K38: =MID("申酉戌亥子丑寅卯辰巳午未",MOD(YEAR(T38),12)+1,1) | L38: - | M38: - | N38: - | O38: =MID("甲乙丙丁戊己庚辛壬癸",MOD(T38-4,10)+1,1) | P38: =MID("庚辛壬癸甲乙丙丁戊己",MOD(T38,10)+1,1) | Q38: =MID("甲乙丙丁戊己庚辛壬癸",MOD(T38-3,10)+1,1) | R38: =CHOOSE(MOD(T38-3,10),"甲","乙","丙","丁","戊","己","庚","辛","壬","癸") | S38: =MID("甲乙丙丁戊己庚辛壬癸",MOD(T38-4,10)+1,1)&MID("子丑寅卯辰巳午未申酉戌亥",MOD(T38-4,12)+1,1) | T38: 1908 | U38: =W38="未" | V38: 46396 | W38: =MID("申酉戌亥子丑寅卯辰巳午未",MOD(V38,12)+1,1) | X38: =Z38=RIGHT(INDEX('4_六十干支'!$B$5:$B$64,MOD(Y38+2018-1924,60)+1),1) | Y38: 9 | Z38: =MID("申酉戌亥子丑寅卯辰巳午未",MOD(Y38,12)+1,1)
A39: =INDEX('4_六十干支'!$B$5:$B$64,MOD(T39-1924,60)+1) | B39: =RIGHT(A39,1) | C39: =LEFT(A39,1) | D39: =MID("申酉戌亥子丑寅卯辰巳午未",MOD(T39,12)+1,1) | E39: =CHOOSE(MOD(T39,12)+1,"申","酉","戌","亥","子","丑","寅","卯","辰","巳","午","未") | F39: =MID("子丑寅卯辰巳午未申酉戌亥",MOD(T39-4,12)+1,1) | G39: =CHOOSE(MOD(T39-3,12),"子","丑","寅","卯","辰","巳","午","未","申","酉","戌","亥") | H39: =CHOOSE(MOD(T39,12),"申","酉","戌","亥","子","丑","寅","卯","辰","巳","午","未") | I39: =MID("子丑寅卯辰巳午未申酉戌亥",MOD(T39-3,12)+1,1) | J39: =MID("子丑寅卯辰巳午未申酉戌亥",MOD(T39-4,12),1) | K39: =MID("申酉戌亥子丑寅卯辰巳午未",MOD(YEAR(T39),12)+1,1) | L39: - | M39: - | N39: - | O39: =MID("甲乙丙丁戊己庚辛壬癸",MOD(T39-4,10)+1,1) | P39: =MID("庚辛壬癸甲乙丙丁戊己",MOD(T39,10)+1,1) | Q39: =MID("甲乙丙丁戊己庚辛壬癸",MOD(T39-3,10)+1,1) | R39: =CHOOSE(MOD(T39-3,10),"甲","乙","丙","丁","戊","己","庚","辛","壬","癸") | S39: =MID("甲乙丙丁戊己庚辛壬癸",MOD(T39-4,10)+1,1)&MID("子丑寅卯辰巳午未申酉戌亥",MOD(T39-4,12)+1,1) | T39: 1909 | U39: =W39="未" | V39: 46397 | W39: =MID("申酉戌亥子丑寅卯辰巳午未",MOD(V39,12)+1,1) | X39: =Z39=RIGHT(INDEX('4_六十干支'!$B$5:$B$64,MOD(Y39+2018-1924,60)+1),1) | Y39: 10 | Z39: =MID("申酉戌亥子丑寅卯辰巳午未",MOD(Y39,12)+1,1)
A40: =INDEX('4_六十干支'!$B$5:$B$64,MOD(T40-1924,60)+1) | B40: =RIGHT(A40,1) | C40: =LEFT(A40,1) | D40: =MID("申酉戌亥子丑寅卯辰巳午未",MOD(T40,12)+1,1) | E40: =CHOOSE(MOD(T40,12)+1,"申","酉","戌","亥","子","丑","寅","卯","辰","巳","午","未") | F40: =MID("子丑寅卯辰巳午未申酉戌亥",MOD(T40-4,12)+1,1) | G40: =CHOOSE(MOD(T40-3,12),"子","丑","寅","卯","辰","巳","午","未","申","酉","戌","亥") | H40: =CHOOSE(MOD(T40,12),"申","酉","戌","亥","子","丑","寅","卯","辰","巳","午","未") | I40: =MID("子丑寅卯辰巳午未申酉戌亥",MOD(T40-3,12)+1,1) | J40: =MID("子丑寅卯辰巳午未申酉戌亥",MOD(T40-4,12),1) | K40: =MID("申酉戌亥子丑寅卯辰巳午未",MOD(YEAR(T40),12)+1,1) | L40: - | M40: - | N40: - | O40: =MID("甲乙丙丁戊己庚辛壬癸",MOD(T40-4,10)+1,1) | P40: =MID("庚辛壬癸甲乙丙丁戊己",MOD(T40,10)+1,1) | Q40: =MID("甲乙丙丁戊己庚辛壬癸",MOD(T40-3,10)+1,1) | R40: =CHOOSE(MOD(T40-3,10),"甲","乙","丙","丁","戊","己","庚","辛","壬","癸") | S40: =MID("甲乙丙丁戊己庚辛壬癸",MOD(T40-4,10)+1,1)&MID("子丑寅卯辰巳午未申酉戌亥",MOD(T40-4,12)+1,1) | T40: 1910 | U40: =W40="未" | V40: 46398 | W40: =MID("申酉戌亥子丑寅卯辰巳午未",MOD(V40,12)+1,1) | X40: =Z40=RIGHT(INDEX('4_六十干支'!$B$5:$B$64,MOD(Y40+2018-1924,60)+1),1) | Y40: 11 | Z40: =MID("申酉戌亥子丑寅卯辰巳午未",MOD(Y40,12)+1,1)
A41: =INDEX('4_六十干支'!$B$5:$B$64,MOD(T41-1924,60)+1) | B41: =RIGHT(A41,1) | C41: =LEFT(A41,1) | D41: =MID("申酉戌亥子丑寅卯辰巳午未",MOD(T41,12)+1,1) | E41: =CHOOSE(MOD(T41,12)+1,"申","酉","戌","亥","子","丑","寅","卯","辰","巳","午","未") | F41: =MID("子丑寅卯辰巳午未申酉戌亥",MOD(T41-4,12)+1,1) | G41: =CHOOSE(MOD(T41-3,12),"子","丑","寅","卯","辰","巳","午","未","申","酉","戌","亥") | H41: =CHOOSE(MOD(T41,12),"申","酉","戌","亥","子","丑","寅","卯","辰","巳","午","未") | I41: =MID("子丑寅卯辰巳午未申酉戌亥",MOD(T41-3,12)+1,1) | J41: =MID("子丑寅卯辰巳午未申酉戌亥",MOD(T41-4,12),1) | K41: =MID("申酉戌亥子丑寅卯辰巳午未",MOD(YEAR(T41),12)+1,1) | L41: - | M41: - | N41: - | O41: =MID("甲乙丙丁戊己庚辛壬癸",MOD(T41-4,10)+1,1) | P41: =MID("庚辛壬癸甲乙丙丁戊己",MOD(T41,10)+1,1) | Q41: =MID("甲乙丙丁戊己庚辛壬癸",MOD(T41-3,10)+1,1) | R41: =CHOOSE(MOD(T41-3,10),"甲","乙","丙","丁","戊","己","庚","辛","壬","癸") | S41: =MID("甲乙丙丁戊己庚辛壬癸",MOD(T41-4,10)+1,1)&MID("子丑寅卯辰巳午未申酉戌亥",MOD(T41-4,12)+1,1) | T41: 1911 | U41: =W41="未" | V41: 46399 | W41: =MID("申酉戌亥子丑寅卯辰巳午未",MOD(V41,12)+1,1) | X41: =Z41=RIGHT(INDEX('4_六十干支'!$B$5:$B$64,MOD(Y41+2018-1924,60)+1),1) | Y41: 12 | Z41: =MID("申酉戌亥子丑寅卯辰巳午未",MOD(Y41,12)+1,1)
... A111: =INDEX('4_六十干支'!$B$5:$B$64,MOD(T111-1924,60)+1) | B111: =RIGHT(A111,1) | C111: =LEFT(A111,1) | D111: =MID("申酉戌亥子丑寅卯辰巳午未",MOD(T111,12)+1,1) | E111: =CHOOSE(MOD(T111,12)+1,"申","酉","戌","亥","子","丑","寅","卯","辰","巳","午","未") | F111: =MID("子丑寅卯辰巳午未申酉戌亥",MOD(T111-4,12)+1,1) | G111: =CHOOSE(MOD(T111-3,12),"子","丑","寅","卯","辰","巳","午","未","申","酉","戌","亥") | H111: =CHOOSE(MOD(T111,12),"申","酉","戌","亥","子","丑","寅","卯","辰","巳","午","未") | I111: =MID("子丑寅卯辰巳午未申酉戌亥",MOD(T111-3,12)+1,1) | J111: =MID("子丑寅卯辰巳午未申酉戌亥",MOD(T111-4,12),1) | K111: =MID("申酉戌亥子丑寅卯辰巳午未",MOD(YEAR(T111),12)+1,1) | L111: - | M111: - | N111: - | O111: =MID("甲乙丙丁戊己庚辛壬癸",MOD(T111-4,10)+1,1) | P111: =MID("庚辛壬癸甲乙丙丁戊己",MOD(T111,10)+1,1) | Q111: =MID("甲乙丙丁戊己庚辛壬癸",MOD(T111-3,10)+1,1) | R111: =CHOOSE(MOD(T111-3,10),"甲","乙","丙","丁","戊","己","庚","辛","壬","癸") | S111: =MID("甲乙丙丁戊己庚辛壬癸",MOD(T111-4,10)+1,1)&MID("子丑寅卯辰巳午未申酉戌亥",MOD(T111-4,12)+1,1) | T111: 1981 | U111: =W111="未" | V111: 46469 | W111: =MID("申酉戌亥子丑寅卯辰巳午未",MOD(V111,12)+1,1) | X111: =Z111=RIGHT(INDEX('4_六十干支'!$B$5:$B$64,MOD(Y111+2018-1924,60)+1),1) | Y111: 82 | Z111: =MID("申酉戌亥子丑寅卯辰巳午未",MOD(Y111,12)+1,1)
A112: =INDEX('4_六十干支'!$B$5:$B$64,MOD(T112-1924,60)+1) | B112: =RIGHT(A112,1) | C112: =LEFT(A112,1) | D112: =MID("申酉戌亥子丑寅卯辰巳午未",MOD(T112,12)+1,1) | E112: =CHOOSE(MOD(T112,12)+1,"申","酉","戌","亥","子","丑","寅","卯","辰","巳","午","未") | F112: =MID("子丑寅卯辰巳午未申酉戌亥",MOD(T112-4,12)+1,1) | G112: =CHOOSE(MOD(T112-3,12),"子","丑","寅","卯","辰","巳","午","未","申","酉","戌","亥") | H112: =CHOOSE(MOD(T112,12),"申","酉","戌","亥","子","丑","寅","卯","辰","巳","午","未") | I112: =MID("子丑寅卯辰巳午未申酉戌亥",MOD(T112-3,12)+1,1) | J112: =MID("子丑寅卯辰巳午未申酉戌亥",MOD(T112-4,12),1) | K112: =MID("申酉戌亥子丑寅卯辰巳午未",MOD(YEAR(T112),12)+1,1) | L112: - | M112: - | N112: - | O112: =MID("甲乙丙丁戊己庚辛壬癸",MOD(T112-4,10)+1,1) | P112: =MID("庚辛壬癸甲乙丙丁戊己",MOD(T112,10)+1,1) | Q112: =MID("甲乙丙丁戊己庚辛壬癸",MOD(T112-3,10)+1,1) | R112: =CHOOSE(MOD(T112-3,10),"甲","乙","丙","丁","戊","己","庚","辛","壬","癸") | S112: =MID("甲乙丙丁戊己庚辛壬癸",MOD(T112-4,10)+1,1)&MID("子丑寅卯辰巳午未申酉戌亥",MOD(T112-4,12)+1,1) | T112: 1982 | U112: =W112="未" | V112: 46470 | W112: =MID("申酉戌亥子丑寅卯辰巳午未",MOD(V112,12)+1,1)
A113: =INDEX('4_六十干支'!$B$5:$B$64,MOD(T113-1924,60)+1) | B113: =RIGHT(A113,1) | C113: =LEFT(A113,1) | D113: =MID("申酉戌亥子丑寅卯辰巳午未",MOD(T113,12)+1,1) | E113: =CHOOSE(MOD(T113,12)+1,"申","酉","戌","亥","子","丑","寅","卯","辰","巳","午","未") | F113: =MID("子丑寅卯辰巳午未申酉戌亥",MOD(T113-4,12)+1,1) | G113: =CHOOSE(MOD(T113-3,12),"子","丑","寅","卯","辰","巳","午","未","申","酉","戌","亥") | H113: =CHOOSE(MOD(T113,12),"申","酉","戌","亥","子","丑","寅","卯","辰","巳","午","未") | I113: =MID("子丑寅卯辰巳午未申酉戌亥",MOD(T113-3,12)+1,1) | J113: =MID("子丑寅卯辰巳午未申酉戌亥",MOD(T113-4,12),1) | K113: =MID("申酉戌亥子丑寅卯辰巳午未",MOD(YEAR(T113),12)+1,1) | L113: - | M113: - | N113: - | O113: =MID("甲乙丙丁戊己庚辛壬癸",MOD(T113-4,10)+1,1) | P113: =MID("庚辛壬癸甲乙丙丁戊己",MOD(T113,10)+1,1) | Q113: =MID("甲乙丙丁戊己庚辛壬癸",MOD(T113-3,10)+1,1) | R113: =CHOOSE(MOD(T113-3,10),"甲","乙","丙","丁","戊","己","庚","辛","壬","癸") | S113: =MID("甲乙丙丁戊己庚辛壬癸",MOD(T113-4,10)+1,1)&MID("子丑寅卯辰巳午未申酉戌亥",MOD(T113-4,12)+1,1) | T113: 1983 | U113: =W113="未" | V113: 46471 | W113: =MID("申酉戌亥子丑寅卯辰巳午未",MOD(V113,12)+1,1)
A114: =INDEX('4_六十干支'!$B$5:$B$64,MOD(T114-1924,60)+1) | B114: =RIGHT(A114,1) | C114: =LEFT(A114,1) | D114: =MID("申酉戌亥子丑寅卯辰巳午未",MOD(T114,12)+1,1) | E114: =CHOOSE(MOD(T114,12)+1,"申","酉","戌","亥","子","丑","寅","卯","辰","巳","午","未") | F114: =MID("子丑寅卯辰巳午未申酉戌亥",MOD(T114-4,12)+1,1) | G114: =CHOOSE(MOD(T114-3,12),"子","丑","寅","卯","辰","巳","午","未","申","酉","戌","亥") | H114: =CHOOSE(MOD(T114,12),"申","酉","戌","亥","子","丑","寅","卯","辰","巳","午","未") | I114: =MID("子丑寅卯辰巳午未申酉戌亥",MOD(T114-3,12)+1,1) | J114: =MID("子丑寅卯辰巳午未申酉戌亥",MOD(T114-4,12),1) | K114: =MID("申酉戌亥子丑寅卯辰巳午未",MOD(YEAR(T114),12)+1,1) | L114: - | M114: - | N114: - | O114: =MID("甲乙丙丁戊己庚辛壬癸",MOD(T114-4,10)+1,1) | P114: =MID("庚辛壬癸甲乙丙丁戊己",MOD(T114,10)+1,1) | Q114: =MID("甲乙丙丁戊己庚辛壬癸",MOD(T114-3,10)+1,1) | R114: =CHOOSE(MOD(T114-3,10),"甲","乙","丙","丁","戊","己","庚","辛","壬","癸") | S114: =MID("甲乙丙丁戊己庚辛壬癸",MOD(T114-4,10)+1,1)&MID("子丑寅卯辰巳午未申酉戌亥",MOD(T114-4,12)+1,1) | T114: 1984 | U114: =W114="未" | V114: 46472 | W114: =MID("申酉戌亥子丑寅卯辰巳午未",MOD(V114,12)+1,1)
A115: =INDEX('4_六十干支'!$B$5:$B$64,MOD(T115-1924,60)+1) | B115: =RIGHT(A115,1) | C115: =LEFT(A115,1) | D115: =MID("申酉戌亥子丑寅卯辰巳午未",MOD(T115,12)+1,1) | E115: =CHOOSE(MOD(T115,12)+1,"申","酉","戌","亥","子","丑","寅","卯","辰","巳","午","未") | F115: =MID("子丑寅卯辰巳午未申酉戌亥",MOD(T115-4,12)+1,1) | G115: =CHOOSE(MOD(T115-3,12),"子","丑","寅","卯","辰","巳","午","未","申","酉","戌","亥") | H115: =CHOOSE(MOD(T115,12),"申","酉","戌","亥","子","丑","寅","卯","辰","巳","午","未") | I115: =MID("子丑寅卯辰巳午未申酉戌亥",MOD(T115-3,12)+1,1) | J115: =MID("子丑寅卯辰巳午未申酉戌亥",MOD(T115-4,12),1) | K115: =MID("申酉戌亥子丑寅卯辰巳午未",MOD(YEAR(T115),12)+1,1) | L115: - | M115: - | N115: - | O115: =MID("甲乙丙丁戊己庚辛壬癸",MOD(T115-4,10)+1,1) | P115: =MID("庚辛壬癸甲乙丙丁戊己",MOD(T115,10)+1,1) | Q115: =MID("甲乙丙丁戊己庚辛壬癸",MOD(T115-3,10)+1,1) | R115: =CHOOSE(MOD(T115-3,10),"甲","乙","丙","丁","戊","己","庚","辛","壬","癸") | S115: =MID("甲乙丙丁戊己庚辛壬癸",MOD(T115-4,10)+1,1)&MID("子丑寅卯辰巳午未申酉戌亥",MOD(T115-4,12)+1,1) | T115: 1985 | U115: =W115="未" | V115: 46473 | W115: =MID("申酉戌亥子丑寅卯辰巳午未",MOD(V115,12)+1,1)
A116: =INDEX('4_六十干支'!$B$5:$B$64,MOD(T116-1924,60)+1) | B116: =RIGHT(A116,1) | C116: =LEFT(A116,1) | D116: =MID("申酉戌亥子丑寅卯辰巳午未",MOD(T116,12)+1,1) | E116: =CHOOSE(MOD(T116,12)+1,"申","酉","戌","亥","子","丑","寅","卯","辰","巳","午","未") | F116: =MID("子丑寅卯辰巳午未申酉戌亥",MOD(T116-4,12)+1,1) | G116: =CHOOSE(MOD(T116-3,12),"子","丑","寅","卯","辰","巳","午","未","申","酉","戌","亥") | H116: =CHOOSE(MOD(T116,12),"申","酉","戌","亥","子","丑","寅","卯","辰","巳","午","未") | I116: =MID("子丑寅卯辰巳午未申酉戌亥",MOD(T116-3,12)+1,1) | J116: =MID("子丑寅卯辰巳午未申酉戌亥",MOD(T116-4,12),1) | K116: =MID("申酉戌亥子丑寅卯辰巳午未",MOD(YEAR(T116),12)+1,1) | L116: - | M116: - | N116: - | O116: =MID("甲乙丙丁戊己庚辛壬癸",MOD(T116-4,10)+1,1) | P116: =MID("庚辛壬癸甲乙丙丁戊己",MOD(T116,10)+1,1) | Q116: =MID("甲乙丙丁戊己庚辛壬癸",MOD(T116-3,10)+1,1) | R116: =CHOOSE(MOD(T116-3,10),"甲","乙","丙","丁","戊","己","庚","辛","壬","癸") | S116: =MID("甲乙丙丁戊己庚辛壬癸",MOD(T116-4,10)+1,1)&MID("子丑寅卯辰巳午未申酉戌亥",MOD(T116-4,12)+1,1) | T116: 1986 | U116: =W116="未" | V116: 46474 | W116: =MID("申酉戌亥子丑寅卯辰巳午未",MOD(V116,12)+1,1)
A117: =INDEX('4_六十干支'!$B$5:$B$64,MOD(T117-1924,60)+1) | B117: =RIGHT(A117,1) | C117: =LEFT(A117,1) | D117: =MID("申酉戌亥子丑寅卯辰巳午未",MOD(T117,12)+1,1) | E117: =CHOOSE(MOD(T117,12)+1,"申","酉","戌","亥","子","丑","寅","卯","辰","巳","午","未") | F117: =MID("子丑寅卯辰巳午未申酉戌亥",MOD(T117-4,12)+1,1) | G117: =CHOOSE(MOD(T117-3,12),"子","丑","寅","卯","辰","巳","午","未","申","酉","戌","亥") | H117: =CHOOSE(MOD(T117,12),"申","酉","戌","亥","子","丑","寅","卯","辰","巳","午","未") | I117: =MID("子丑寅卯辰巳午未申酉戌亥",MOD(T117-3,12)+1,1) | J117: =MID("子丑寅卯辰巳午未申酉戌亥",MOD(T117-4,12),1) | K117: =MID("申酉戌亥子丑寅卯辰巳午未",MOD(YEAR(T117),12)+1,1) | L117: - | M117: - | N117: - | O117: =MID("甲乙丙丁戊己庚辛壬癸",MOD(T117-4,10)+1,1) | P117: =MID("庚辛壬癸甲乙丙丁戊己",MOD(T117,10)+1,1) | Q117: =MID("甲乙丙丁戊己庚辛壬癸",MOD(T117-3,10)+1,1) | R117: =CHOOSE(MOD(T117-3,10),"甲","乙","丙","丁","戊","己","庚","辛","壬","癸") | S117: =MID("甲乙丙丁戊己庚辛壬癸",MOD(T117-4,10)+1,1)&MID("子丑寅卯辰巳午未申酉戌亥",MOD(T117-4,12)+1,1) | T117: 1987 | U117: =W117="未" | V117: 46475 | W117: =MID("申酉戌亥子丑寅卯辰巳午未",MOD(V117,12)+1,1)
A118: =INDEX('4_六十干支'!$B$5:$B$64,MOD(T118-1924,60)+1) | B118: =RIGHT(A118,1) | C118: =LEFT(A118,1) | D118: =MID("申酉戌亥子丑寅卯辰巳午未",MOD(T118,12)+1,1) | E118: =CHOOSE(MOD(T118,12)+1,"申","酉","戌","亥","子","丑","寅","卯","辰","巳","午","未") | F118: =MID("子丑寅卯辰巳午未申酉戌亥",MOD(T118-4,12)+1,1) | G118: =CHOOSE(MOD(T118-3,12),"子","丑","寅","卯","辰","巳","午","未","申","酉","戌","亥") | H118: =CHOOSE(MOD(T118,12),"申","酉","戌","亥","子","丑","寅","卯","辰","巳","午","未") | I118: =MID("子丑寅卯辰巳午未申酉戌亥",MOD(T118-3,12)+1,1) | J118: =MID("子丑寅卯辰巳午未申酉戌亥",MOD(T118-4,12),1) | K118: =MID("申酉戌亥子丑寅卯辰巳午未",MOD(YEAR(T118),12)+1,1) | L118: - | M118: - | N118: - | O118: =MID("甲乙丙丁戊己庚辛壬癸",MOD(T118-4,10)+1,1) | P118: =MID("庚辛壬癸甲乙丙丁戊己",MOD(T118,10)+1,1) | Q118: =MID("甲乙丙丁戊己庚辛壬癸",MOD(T118-3,10)+1,1) | R118: =CHOOSE(MOD(T118-3,10),"甲","乙","丙","丁","戊","己","庚","辛","壬","癸") | S118: =MID("甲乙丙丁戊己庚辛壬癸",MOD(T118-4,10)+1,1)&MID("子丑寅卯辰巳午未申酉戌亥",MOD(T118-4,12)+1,1) | T118: 1988 | U118: =W118="未" | V118: 46476 | W118: =MID("申酉戌亥子丑寅卯辰巳午未",MOD(V118,12)+1,1)
A119: =INDEX('4_六十干支'!$B$5:$B$64,MOD(T119-1924,60)+1) | B119: =RIGHT(A119,1) | C119: =LEFT(A119,1) | D119: =MID("申酉戌亥子丑寅卯辰巳午未",MOD(T119,12)+1,1) | E119: =CHOOSE(MOD(T119,12)+1,"申","酉","戌","亥","子","丑","寅","卯","辰","巳","午","未") | F119: =MID("子丑寅卯辰巳午未申酉戌亥",MOD(T119-4,12)+1,1) | G119: =CHOOSE(MOD(T119-3,12),"子","丑","寅","卯","辰","巳","午","未","申","酉","戌","亥") | H119: =CHOOSE(MOD(T119,12),"申","酉","戌","亥","子","丑","寅","卯","辰","巳","午","未") | I119: =MID("子丑寅卯辰巳午未申酉戌亥",MOD(T119-3,12)+1,1) | J119: =MID("子丑寅卯辰巳午未申酉戌亥",MOD(T119-4,12),1) | K119: =MID("申酉戌亥子丑寅卯辰巳午未",MOD(YEAR(T119),12)+1,1) | L119: - | M119: - | N119: - | O119: =MID("甲乙丙丁戊己庚辛壬癸",MOD(T119-4,10)+1,1) | P119: =MID("庚辛壬癸甲乙丙丁戊己",MOD(T119,10)+1,1) | Q119: =MID("甲乙丙丁戊己庚辛壬癸",MOD(T119-3,10)+1,1) | R119: =CHOOSE(MOD(T119-3,10),"甲","乙","丙","丁","戊","己","庚","辛","壬","癸") | S119: =MID("甲乙丙丁戊己庚辛壬癸",MOD(T119-4,10)+1,1)&MID("子丑寅卯辰巳午未申酉戌亥",MOD(T119-4,12)+1,1) | T119: 1989 | U119: =W119="未" | V119: 46477 | W119: =MID("申酉戌亥子丑寅卯辰巳午未",MOD(V119,12)+1,1)
A120: =INDEX('4_六十干支'!$B$5:$B$64,MOD(T120-1924,60)+1) | B120: =RIGHT(A120,1) | C120: =LEFT(A120,1) | D120: =MID("申酉戌亥子丑寅卯辰巳午未",MOD(T120,12)+1,1) | E120: =CHOOSE(MOD(T120,12)+1,"申","酉","戌","亥","子","丑","寅","卯","辰","巳","午","未") | F120: =MID("子丑寅卯辰巳午未申酉戌亥",MOD(T120-4,12)+1,1) | G120: =CHOOSE(MOD(T120-3,12),"子","丑","寅","卯","辰","巳","午","未","申","酉","戌","亥") | H120: =CHOOSE(MOD(T120,12),"申","酉","戌","亥","子","丑","寅","卯","辰","巳","午","未") | I120: =MID("子丑寅卯辰巳午未申酉戌亥",MOD(T120-3,12)+1,1) | J120: =MID("子丑寅卯辰巳午未申酉戌亥",MOD(T120-4,12),1) | K120: =MID("申酉戌亥子丑寅卯辰巳午未",MOD(YEAR(T120),12)+1,1) | L120: - | M120: - | N120: - | O120: =MID("甲乙丙丁戊己庚辛壬癸",MOD(T120-4,10)+1,1) | P120: =MID("庚辛壬癸甲乙丙丁戊己",MOD(T120,10)+1,1) | Q120: =MID("甲乙丙丁戊己庚辛壬癸",MOD(T120-3,10)+1,1) | R120: =CHOOSE(MOD(T120-3,10),"甲","乙","丙","丁","戊","己","庚","辛","壬","癸") | S120: =MID("甲乙丙丁戊己庚辛壬癸",MOD(T120-4,10)+1,1)&MID("子丑寅卯辰巳午未申酉戌亥",MOD(T120-4,12)+1,1) | T120: 1990 | U120: =W120="未" | V120: 46478 | W120: =MID("申酉戌亥子丑寅卯辰巳午未",MOD(V120,12)+1,1)
A121: =INDEX('4_六十干支'!$B$5:$B$64,MOD(T121-1924,60)+1) | B121: =RIGHT(A121,1) | C121: =LEFT(A121,1) | D121: =MID("申酉戌亥子丑寅卯辰巳午未",MOD(T121,12)+1,1) | E121: =CHOOSE(MOD(T121,12)+1,"申","酉","戌","亥","子","丑","寅","卯","辰","巳","午","未") | F121: =MID("子丑寅卯辰巳午未申酉戌亥",MOD(T121-4,12)+1,1) | G121: =CHOOSE(MOD(T121-3,12),"子","丑","寅","卯","辰","巳","午","未","申","酉","戌","亥") | H121: =CHOOSE(MOD(T121,12),"申","酉","戌","亥","子","丑","寅","卯","辰","巳","午","未") | I121: =MID("子丑寅卯辰巳午未申酉戌亥",MOD(T121-3,12)+1,1) | J121: =MID("子丑寅卯辰巳午未申酉戌亥",MOD(T121-4,12),1) | K121: =MID("申酉戌亥子丑寅卯辰巳午未",MOD(YEAR(T121),12)+1,1) | L121: - | M121: - | N121: - | O121: =MID("甲乙丙丁戊己庚辛壬癸",MOD(T121-4,10)+1,1) | P121: =MID("庚辛壬癸甲乙丙丁戊己",MOD(T121,10)+1,1) | Q121: =MID("甲乙丙丁戊己庚辛壬癸",MOD(T121-3,10)+1,1) | R121: =CHOOSE(MOD(T121-3,10),"甲","乙","丙","丁","戊","己","庚","辛","壬","癸") | S121: =MID("甲乙丙丁戊己庚辛壬癸",MOD(T121-4,10)+1,1)&MID("子丑寅卯辰巳午未申酉戌亥",MOD(T121-4,12)+1,1) | T121: 1991 | U121: =W121="未" | V121: 46479 | W121: =MID("申酉戌亥子丑寅卯辰巳午未",MOD(V121,12)+1,1)
A122: =INDEX('4_六十干支'!$B$5:$B$64,MOD(T122-1924,60)+1) | B122: =RIGHT(A122,1) | C122: =LEFT(A122,1) | D122: =MID("申酉戌亥子丑寅卯辰巳午未",MOD(T122,12)+1,1) | E122: =CHOOSE(MOD(T122,12)+1,"申","酉","戌","亥","子","丑","寅","卯","辰","巳","午","未") | F122: =MID("子丑寅卯辰巳午未申酉戌亥",MOD(T122-4,12)+1,1) | G122: =CHOOSE(MOD(T122-3,12),"子","丑","寅","卯","辰","巳","午","未","申","酉","戌","亥") | H122: =CHOOSE(MOD(T122,12),"申","酉","戌","亥","子","丑","寅","卯","辰","巳","午","未") | I122: =MID("子丑寅卯辰巳午未申酉戌亥",MOD(T122-3,12)+1,1) | J122: =MID("子丑寅卯辰巳午未申酉戌亥",MOD(T122-4,12),1) | K122: =MID("申酉戌亥子丑寅卯辰巳午未",MOD(YEAR(T122),12)+1,1) | L122: - | M122: - | N122: - | O122: =MID("甲乙丙丁戊己庚辛壬癸",MOD(T122-4,10)+1,1) | P122: =MID("庚辛壬癸甲乙丙丁戊己",MOD(T122,10)+1,1) | Q122: =MID("甲乙丙丁戊己庚辛壬癸",MOD(T122-3,10)+1,1) | R122: =CHOOSE(MOD(T122-3,10),"甲","乙","丙","丁","戊","己","庚","辛","壬","癸") | S122: =MID("甲乙丙丁戊己庚辛壬癸",MOD(T122-4,10)+1,1)&MID("子丑寅卯辰巳午未申酉戌亥",MOD(T122-4,12)+1,1) | T122: 1992 | U122: =W122="未" | V122: 46480 | W122: =MID("申酉戌亥子丑寅卯辰巳午未",MOD(V122,12)+1,1)
A123: =INDEX('4_六十干支'!$B$5:$B$64,MOD(T123-1924,60)+1) | B123: =RIGHT(A123,1) | C123: =LEFT(A123,1) | D123: =MID("申酉戌亥子丑寅卯辰巳午未",MOD(T123,12)+1,1) | E123: =CHOOSE(MOD(T123,12)+1,"申","酉","戌","亥","子","丑","寅","卯","辰","巳","午","未") | F123: =MID("子丑寅卯辰巳午未申酉戌亥",MOD(T123-4,12)+1,1) | G123: =CHOOSE(MOD(T123-3,12),"子","丑","寅","卯","辰","巳","午","未","申","酉","戌","亥") | H123: =CHOOSE(MOD(T123,12),"申","酉","戌","亥","子","丑","寅","卯","辰","巳","午","未") | I123: =MID("子丑寅卯辰巳午未申酉戌亥",MOD(T123-3,12)+1,1) | J123: =MID("子丑寅卯辰巳午未申酉戌亥",MOD(T123-4,12),1) | K123: =MID("申酉戌亥子丑寅卯辰巳午未",MOD(YEAR(T123),12)+1,1) | L123: - | M123: - | N123: - | O123: =MID("甲乙丙丁戊己庚辛壬癸",MOD(T123-4,10)+1,1) | P123: =MID("庚辛壬癸甲乙丙丁戊己",MOD(T123,10)+1,1) | Q123: =MID("甲乙丙丁戊己庚辛壬癸",MOD(T123-3,10)+1,1) | R123: =CHOOSE(MOD(T123-3,10),"甲","乙","丙","丁","戊","己","庚","辛","壬","癸") | S123: =MID("甲乙丙丁戊己庚辛壬癸",MOD(T123-4,10)+1,1)&MID("子丑寅卯辰巳午未申酉戌亥",MOD(T123-4,12)+1,1) | T123: 1993 | U123: =W123="未" | V123: 46481 | W123: =MID("申酉戌亥子丑寅卯辰巳午未",MOD(V123,12)+1,1)
... A230: =INDEX('4_六十干支'!$B$5:$B$64,MOD(T230-1924,60)+1) | B230: =RIGHT(A230,1) | C230: =LEFT(A230,1) | D230: =MID("申酉戌亥子丑寅卯辰巳午未",MOD(T230,12)+1,1) | E230: =CHOOSE(MOD(T230,12)+1,"申","酉","戌","亥","子","丑","寅","卯","辰","巳","午","未") | F230: =MID("子丑寅卯辰巳午未申酉戌亥",MOD(T230-4,12)+1,1) | G230: =CHOOSE(MOD(T230-3,12),"子","丑","寅","卯","辰","巳","午","未","申","酉","戌","亥") | H230: =CHOOSE(MOD(T230,12),"申","酉","戌","亥","子","丑","寅","卯","辰","巳","午","未") | I230: =MID("子丑寅卯辰巳午未申酉戌亥",MOD(T230-3,12)+1,1) | J230: =MID("子丑寅卯辰巳午未申酉戌亥",MOD(T230-4,12),1) | K230: =MID("申酉戌亥子丑寅卯辰巳午未",MOD(YEAR(T230),12)+1,1) | L230: - | M230: - | N230: - | O230: =MID("甲乙丙丁戊己庚辛壬癸",MOD(T230-4,10)+1,1) | P230: =MID("庚辛壬癸甲乙丙丁戊己",MOD(T230,10)+1,1) | Q230: =MID("甲乙丙丁戊己庚辛壬癸",MOD(T230-3,10)+1,1) | R230: =CHOOSE(MOD(T230-3,10),"甲","乙","丙","丁","戊","己","庚","辛","壬","癸") | S230: =MID("甲乙丙丁戊己庚辛壬癸",MOD(T230-4,10)+1,1)&MID("子丑寅卯辰巳午未申酉戌亥",MOD(T230-4,12)+1,1) | T230: 2100 | U230: =W230="未" | V230: 46588 | W230: =MID("申酉戌亥子丑寅卯辰巳午未",MOD(V230,12)+1,1)
U231: =W231="未" | V231: 46589 | W231: =MID("申酉戌亥子丑寅卯辰巳午未",MOD(V231,12)+1,1)
U232: =W232="未" | V232: 46590 | W232: =MID("申酉戌亥子丑寅卯辰巳午未",MOD(V232,12)+1,1)
U233: =W233="未" | V233: 46591 | W233: =MID("申酉戌亥子丑寅卯辰巳午未",MOD(V233,12)+1,1)
U234: =W234="未" | V234: 46592 | W234: =MID("申酉戌亥子丑寅卯辰巳午未",MOD(V234,12)+1,1)
U235: =W235="未" | V235: 46593 | W235: =MID("申酉戌亥子丑寅卯辰巳午未",MOD(V235,12)+1,1)
U236: =W236="未" | V236: 46594 | W236: =MID("申酉戌亥子丑寅卯辰巳午未",MOD(V236,12)+1,1)
U237: =W237="未" | V237: 46595 | W237: =MID("申酉戌亥子丑寅卯辰巳午未",MOD(V237,12)+1,1)
U238: =W238="未" | V238: 46596 | W238: =MID("申酉戌亥子丑寅卯辰巳午未",MOD(V238,12)+1,1)
U239: =W239="未" | V239: 46597 | W239: =MID("申酉戌亥子丑寅卯辰巳午未",MOD(V239,12)+1,1)
U240: =W240="未" | V240: 46598 | W240: =MID("申酉戌亥子丑寅卯辰巳午未",MOD(V240,12)+1,1)
U241: =W241="未" | V241: 46599 | W241: =MID("申酉戌亥子丑寅卯辰巳午未",MOD(V241,12)+1,1)
U242: =W242="未" | V242: 46600 | W242: =MID("申酉戌亥子丑寅卯辰巳午未",MOD(V242,12)+1,1)
... U394: =W394="未" | V394: 46752 | W394: =MID("申酉戌亥子丑寅卯辰巳午未",MOD(V394,12)+1,1)

Sheet 3_立春
A1: 立春の日（中央標準時）。1月1日からこの日の前日までに生まれた人は、立春で区切ると前の年の干支になる
A2: 2001〜2027年は国立天文台の暦要項（https://eco.mtk.nao.ac.jp/koyomi/yoko/）の値。1966、1984、1988年はスキャンされた暦要項の画像で照合。ほかは太陽の視黄経315度を計算した値で、暦要項と比べた27年は日付がすべて一致、時刻の差は-10分から+4分
A4: 年 | B4: 立春の日 | C4: 時刻 | D4: 出典 | E4: 1月1日から立春の前日までの日数 | F4: 十二支（1月1日で区切る） | G4: 立春の前日までに生まれた人の十二支
A5: 1955 | B5: 20124 | C5: - | D5: 計算 | E5: =B5-DATE(A5,1,1) | F5: =MID("子丑寅卯辰巳午未申酉戌亥",MOD(A5-4,12)+1,1) | G5: =MID("子丑寅卯辰巳午未申酉戌亥",MOD(A5-5,12)+1,1)
A6: 1956 | B6: 20490 | C6: - | D6: 計算 | E6: =B6-DATE(A6,1,1) | F6: =MID("子丑寅卯辰巳午未申酉戌亥",MOD(A6-4,12)+1,1) | G6: =MID("子丑寅卯辰巳午未申酉戌亥",MOD(A6-5,12)+1,1)
A7: 1957 | B7: 20855 | C7: - | D7: 計算 | E7: =B7-DATE(A7,1,1) | F7: =MID("子丑寅卯辰巳午未申酉戌亥",MOD(A7-4,12)+1,1) | G7: =MID("子丑寅卯辰巳午未申酉戌亥",MOD(A7-5,12)+1,1)
A8: 1958 | B8: 21220 | C8: - | D8: 計算 | E8: =B8-DATE(A8,1,1) | F8: =MID("子丑寅卯辰巳午未申酉戌亥",MOD(A8-4,12)+1,1) | G8: =MID("子丑寅卯辰巳午未申酉戌亥",MOD(A8-5,12)+1,1)
A9: 1959 | B9: 21585 | C9: - | D9: 計算 | E9: =B9-DATE(A9,1,1) | F9: =MID("子丑寅卯辰巳午未申酉戌亥",MOD(A9-4,12)+1,1) | G9: =MID("子丑寅卯辰巳午未申酉戌亥",MOD(A9-5,12)+1,1)
A10: 1960 | B10: 21951 | C10: - | D10: 計算 | E10: =B10-DATE(A10,1,1) | F10: =MID("子丑寅卯辰巳午未申酉戌亥",MOD(A10-4,12)+1,1) | G10: =MID("子丑寅卯辰巳午未申酉戌亥",MOD(A10-5,12)+1,1)
A11: 1961 | B11: 22316 | C11: - | D11: 計算 | E11: =B11-DATE(A11,1,1) | F11: =MID("子丑寅卯辰巳午未申酉戌亥",MOD(A11-4,12)+1,1) | G11: =MID("子丑寅卯辰巳午未申酉戌亥",MOD(A11-5,12)+1,1)
A12: 1962 | B12: 22681 | C12: - | D12: 計算 | E12: =B12-DATE(A12,1,1) | F12: =MID("子丑寅卯辰巳午未申酉戌亥",MOD(A12-4,12)+1,1) | G12: =MID("子丑寅卯辰巳午未申酉戌亥",MOD(A12-5,12)+1,1)
A13: 1963 | B13: 23046 | C13: - | D13: 計算 | E13: =B13-DATE(A13,1,1) | F13: =MID("子丑寅卯辰巳午未申酉戌亥",MOD(A13-4,12)+1,1) | G13: =MID("子丑寅卯辰巳午未申酉戌亥",MOD(A13-5,12)+1,1)
A14: 1964 | B14: 23412 | C14: - | D14: 計算 | E14: =B14-DATE(A14,1,1) | F14: =MID("子丑寅卯辰巳午未申酉戌亥",MOD(A14-4,12)+1,1) | G14: =MID("子丑寅卯辰巳午未申酉戌亥",MOD(A14-5,12)+1,1)
A15: 1965 | B15: 23777 | C15: - | D15: 計算 | E15: =B15-DATE(A15,1,1) | F15: =MID("子丑寅卯辰巳午未申酉戌亥",MOD(A15-4,12)+1,1) | G15: =MID("子丑寅卯辰巳午未申酉戌亥",MOD(A15-5,12)+1,1)
A16: 1966 | B16: 24142 | C16: 15:38 | D16: 暦要項（画像で照合） | E16: =B16-DATE(A16,1,1) | F16: =MID("子丑寅卯辰巳午未申酉戌亥",MOD(A16-4,12)+1,1) | G16: =MID("子丑寅卯辰巳午未申酉戌亥",MOD(A16-5,12)+1,1)
... A85: 2035 | B85: 49344 | C85: - | D85: 計算 | E85: =B85-DATE(A85,1,1) | F85: =MID("子丑寅卯辰巳午未申酉戌亥",MOD(A85-4,12)+1,1) | G85: =MID("子丑寅卯辰巳午未申酉戌亥",MOD(A85-5,12)+1,1)
A87: 立春が2月3日の年 | E87: =SUMPRODUCT(--(DAY(B5:B85)=3))
A88: 立春が2月5日の年 | E88: =SUMPRODUCT(--(DAY(B5:B85)=5))

Sheet 4_六十干支
A1: 六十干支の並びとよみ（国立天文台 暦計算室「六十干支」、https://eco.mtk.nao.ac.jp/koyomi/faq/60kansi.html）
A2: 1924年が甲子（西宮市「さあ、語ろう！阪神甲子園球場の歴史」）。年の干支は MOD(年-1924,60)+1 番目
A4: 番号 | B4: 干支 | C4: よみ | D4: この干支の年（1900〜2100年）
A5: 1 | B5: 甲子 | C5: きのえね | D5: 1924、1984、2044
A6: 2 | B6: 乙丑 | C6: きのとのうし | D6: 1925、1985、2045
A7: 3 | B7: 丙寅 | C7: ひのえとら | D7: 1926、1986、2046
A8: 4 | B8: 丁卯 | C8: ひのとのう | D8: 1927、1987、2047
A9: 5 | B9: 戊辰 | C9: つちのえたつ | D9: 1928、1988、2048
A10: 6 | B10: 己巳 | C10: つちのとのみ | D10: 1929、1989、2049
A11: 7 | B11: 庚午 | C11: かのえうま | D11: 1930、1990、2050
A12: 8 | B12: 辛未 | C12: かのとのひつじ | D12: 1931、1991、2051
A13: 9 | B13: 壬申 | C13: みずのえさる | D13: 1932、1992、2052
A14: 10 | B14: 癸酉 | C14: みずのとのとり | D14: 1933、1993、2053
A15: 11 | B15: 甲戌 | C15: きのえいぬ | D15: 1934、1994、2054
A16: 12 | B16: 乙亥 | C16: きのとのい | D16: 1935、1995、2055
... A64: 60 | B64: 癸亥 | C64: みずのとのい | D64: 1923、1983、2043

Sheet 5_使い方
A1: 使い方
A3: 1 1_干支を出す のA列に、年（2027のような数字）か生年月日を入れる。見本の112行は消してよい。
A4: 2 B2で年の境目を選ぶ。年賀状や年男・年女を数えるなら1月1日。立春から数えるなら立春。
A5: 3 立春を選ぶと、1月1日から立春の前日までに生まれた人は前の年の干支になる。橙の行がその人。
A6: 4 B3の年に、年男・年女になる人に印がつく。右の集計に人数が出る。
A8: 10000未満の数は年として読む。1927年5月18日より前の日付は、Excelの中では10000未満の数なので年として読んでしまう。その日付は年の数字で入れる。
A9: 「2027年」や「令和9年」のように文字で入れた行は、B列が赤になる。数字だけを入れる。
A10: 立春の日付は 3_立春 の表（1955〜2035年）から引く。表にない年は「立春が表にない年」と出る。行を足せば使える。
A11: 立春の時刻は見ていない。立春の日に生まれた人は、時刻にかかわらず新しい年の干支にしている。
A13: 2_書き方を比べる は、記事に書いた16通りの式を1900〜2100年に当てて数えたシート。E列の色は2027年の結果が合うか。
A14: 4_六十干支 は、正解に使った六十干支の並びとよみ。
A16: Microsoft 365のExcel（バージョン16）、Windows 11で確認、2026年10月6日
