Workbook

Sheet 1_上限
A1: ふるさと納税の上限。黄色を埋める（2025年の寄附と2026年の寄附を同じ式で並べる）
A2: 入れるもの | B2: 値 | C2: メモ | E2: 計算 | F2: 2025年の寄附 | G2: 2026年の寄附 | H2: メモ
A3: 給与の年収（税引き前の総支給） | B3: 5000000 | C3: 源泉徴収票の支払金額。通勤手当は含まない | E3: 寄附の年 | F3: 2025 | G3: 2026 | H3: 住民税は翌年度（令和8年度・令和9年度）から引かれる
A4: 社会保険料（空欄なら見積もり） | C4: 源泉徴収票の社会保険料等の金額を入れると正確 | E4: 給与所得 | F4: =IF(F$3=2026,IF($B$3<741000,0,IF($B$3<2191000,$B$3-740000,IF($B$3<2193000,1451000,IF($B$3<2196000,1453000,IF($B$3<2200000,1456000,IF($B$3<3600000,ROUNDDOWN($B$3/4,-3)*2.8-80000,IF($B$3<6600000,ROUNDDOWN($B$3/4,-3)*3.2-440000,IF($B$3<8500000,ROUNDDOWN($B$3*0.9,0)-1100000,$B$3-1950000)))))))),IF($B$3<651000,0,IF($B$3<1900000,$B$3-650000,IF($B$3<3600000,ROUNDDOWN($B$3/4,-3)*2.8-80000,IF($B$3<6600000,ROUNDDOWN($B$3/4,-3)*3.2-440000,IF($B$3<8500000,ROUNDDOWN($B$3*0.9,0)-1100000,$B$3-1950000)))))) | G4: =IF(G$3=2026,IF($B$3<741000,0,IF($B$3<2191000,$B$3-740000,IF($B$3<2193000,1451000,IF($B$3<2196000,1453000,IF($B$3<2200000,1456000,IF($B$3<3600000,ROUNDDOWN($B$3/4,-3)*2.8-80000,IF($B$3<6600000,ROUNDDOWN($B$3/4,-3)*3.2-440000,IF($B$3<8500000,ROUNDDOWN($B$3*0.9,0)-1100000,$B$3-1950000)))))))),IF($B$3<651000,0,IF($B$3<1900000,$B$3-650000,IF($B$3<3600000,ROUNDDOWN($B$3/4,-3)*2.8-80000,IF($B$3<6600000,ROUNDDOWN($B$3/4,-3)*3.2-440000,IF($B$3<8500000,ROUNDDOWN($B$3*0.9,0)-1100000,$B$3-1950000)))))) | H4: 年末調整等のための表の端数処理（4,000円刻み）を入れた
A5: 40歳から64歳か | B5: いいえ | C5: 見積もりのときだけ使う。はいなら介護保険料を足す | E5: 基礎控除（所得税） | F5: =IF(F4>23500000,NA(),IF(F$3=2026,IF(F4<=4890000,1040000,IF(F4<=6550000,670000,620000)),IF(F4<=1320000,950000,IF(F4<=3360000,880000,IF(F4<=4890000,680000,IF(F4<=6550000,630000,580000)))))) | G5: =IF(G4>23500000,NA(),IF(G$3=2026,IF(G4<=4890000,1040000,IF(G4<=6550000,670000,620000)),IF(G4<=1320000,950000,IF(G4<=3360000,880000,IF(G4<=4890000,680000,IF(G4<=6550000,630000,580000)))))) | H5: 令和8年分は合計所得489万円以下で104万円
A6: 配偶者控除を受けるか | B6: なし | C6: 配偶者の給与収入が136万円以下（2026年） | E6: 配偶者控除（所得税） | F6: =IF((IF($B$6="あり",1,0))=1,IF(F4<=9000000,380000,IF(F4<=9500000,260000,IF(F4<=10000000,130000,0))),0) | G6: =IF((IF($B$6="あり",1,0))=1,IF(G4<=9000000,380000,IF(G4<=9500000,260000,IF(G4<=10000000,130000,0))),0) | H6: 38万円。本人の合計所得900万円超で減る
A7: 16〜18歳と23〜69歳の扶養親族 | B7: 0 | C7: 高校生の子など。15歳以下は数えない | E7: 配偶者控除（住民税） | F7: =IF((IF($B$6="あり",1,0))=1,IF(F4<=9000000,330000,IF(F4<=9500000,220000,IF(F4<=10000000,110000,0))),0) | G7: =IF((IF($B$6="あり",1,0))=1,IF(G4<=9000000,330000,IF(G4<=9500000,220000,IF(G4<=10000000,110000,0))),0) | H7: 33万円
A8: 19〜22歳の扶養親族 | B8: 0 | C8: 大学生の子など（特定扶養親族） | E8: 配偶者の人的控除差 | F8: =IF((IF($B$6="あり",1,0))=1,IF(F4<=9000000,50000,IF(F4<=9500000,40000,IF(F4<=10000000,20000,0))),0) | G8: =IF((IF($B$6="あり",1,0))=1,IF(G4<=9000000,50000,IF(G4<=9500000,40000,IF(G4<=10000000,20000,0))),0) | H8: 5万円（調整控除に使う）
A9: iDeCoなど両方で同じ控除 | B9: 0 | C9: iDeCoの掛金、医療費控除など | E9: 所得税の課税所得 | F9: =MAX(0,ROUNDDOWN(F4-$B$14-F5-F6-$B$7*380000-$B$8*630000-($B$9+$B$10),-3)) | G9: =MAX(0,ROUNDDOWN(G4-$B$14-G5-G6-$B$7*380000-$B$8*630000-($B$9+$B$10),-3)) | H9: 千円未満を切り捨て
A10: 生命保険料控除（所得税） | B10: 0 | C10: 所得税は最高12万円 | E10: 住民税の課税所得 | F10: =MAX(0,ROUNDDOWN(F4-$B$14-430000-F7-$B$7*330000-$B$8*450000-($B$9+$B$11),-3)) | G10: =MAX(0,ROUNDDOWN(G4-$B$14-430000-G7-$B$7*330000-$B$8*450000-($B$9+$B$11),-3)) | H10: 基礎控除は43万円のまま
A11: 生命保険料控除（住民税） | B11: 0 | C11: 住民税の控除額。所得税とは別の表で決まる | E11: 人的控除の差の合計 | F11: =50000+F8+$B$7*50000+$B$8*180000 | G11: =50000+G8+$B$7*50000+$B$8*180000 | H11: 地方税法第37条第1号イ
A12: 寄附する額（実質負担を見る） | B12: 61405 | C12: その年に寄附する合計。例は2025年の上限 | E12: 調整控除 | F12: =IF(F10<=2000000,MIN(F11,F10),MAX(F11-(F10-2000000),50000))*0.05 | G12: =IF(G10<=2000000,MIN(G11,G10),MAX(G11-(G10-2000000),50000))*0.05 | H12: 道府県民税2%と市町村民税3%の合計
E13: 住民税の所得割 | F13: =MAX(0,F10*0.1-F12) | G13: =MAX(0,G10*0.1-G12) | H13: 課税所得×10%−調整控除
A14: 社会保険料（計算に使う額） | B14: =IF(B4="",ROUND(MIN(B3/12,650000)*12*0.0915+MIN(B3/12,1390000)*12*(0.0504+IF(B5="はい",0.0081,0))+B3*0.005,0),B4) | C14: 見積もりは協会けんぽ東京支部・賞与なし | E14: 人的控除差調整額 | F14: =F11+MAX(0,F5-480000) | G14: =G11+MAX(0,G5-480000) | H14: 上の合計に、所得税の基礎控除−48万円を足す
E15: 税率を決める額 | F15: =F10-F14 | G15: =G10-G14 | H15: 住民税の課税所得−人的控除差調整額
E16: その額に当たる所得税率 | F16: =IF(F15<0,0,LOOKUP(F15,{0,1950001,3300001,6950001,9000001,18000001,40000001},{0.05,0.1,0.2,0.23,0.33,0.4,0.45})) | G16: =IF(G15<0,0,LOOKUP(G15,{0,1950001,3300001,6950001,9000001,18000001,40000001},{0.05,0.1,0.2,0.23,0.33,0.4,0.45})) | H16: マイナスなら0%
E17: 特例分の割合 | F17: =IF(F15<0,0.9,0.9-F16*1.021) | G17: =IF(G15<0,0.9,0.9-G16*1.021) | H17: 90%−所得税率×1.021
E18: 上限（2,000円の負担で済む寄附額） | F18: =ROUNDDOWN(F13*0.2/F17+2000,0) | G18: =ROUNDDOWN(G13*0.2/G17+2000,0) | H18: 所得割×20%÷特例分の割合＋2,000円
E19: 所得税の実際の税率 | F19: =IF(F9<=0,0,LOOKUP(F9,{0,1950001,3300001,6950001,9000001,18000001,40000001},{0.05,0.1,0.2,0.23,0.33,0.4,0.45})) | G19: =IF(G9<=0,0,LOOKUP(G9,{0,1950001,3300001,6950001,9000001,18000001,40000001},{0.05,0.1,0.2,0.23,0.33,0.4,0.45})) | H19: 所得税の課税所得から
E20: 上限の差（2026年−2025年） | G20: =G18-F18
E22: 寄附した額の行方（確定申告） | F22: 2025年の寄附 | G22: 2026年の寄附 | H22: メモ
E23: 所得税から戻る額 | F23: =MAX(0,$B$12-2000)*F19*1.021 | G23: =MAX(0,$B$12-2000)*G19*1.021 | H23: 寄附−2,000円に実際の税率×1.021
E24: 住民税の基本分 | F24: =MAX(0,$B$12-2000)*0.1 | G24: =MAX(0,$B$12-2000)*0.1 | H24: 寄附−2,000円の10%
E25: 住民税の特例分 | F25: =MIN(MAX(0,$B$12-2000)*F17,F13*0.2) | G25: =MIN(MAX(0,$B$12-2000)*G17,G13*0.2) | H25: 所得割の20%で頭打ち
E26: 実質負担 | F26: =ROUND($B$12-SUM(F23:F25),0) | G26: =ROUND($B$12-SUM(G23:G25),0) | H26: 2,000円なら上限の内側

Sheet 2_早見表
A1: 2026年の寄附の上限（円）と、2025年の寄附の上限との差。社会保険料は年収から見積もり（40歳未満・協会けんぽ東京）
A2: 年収 | B2: 独身または共働き | C2: 夫婦（配偶者控除あり） | D2: 共働き＋高校生1人 | E2: 共働き＋大学生1人 | F2: 夫婦＋高校生1人 | G2: 共働き＋大学生と高校生 | H2: 夫婦＋大学生と高校生 | I2: 差：独身または共働き | J2: 差：夫婦（配偶者控除あり） | K2: 差：共働き＋高校生1人 | L2: 差：共働き＋大学生1人 | M2: 差：夫婦＋高校生1人 | N2: 差：共働き＋大学生と高校生 | O2: 差：夫婦＋大学生と高校生
A3: 3000000 | B3: =計算!X4 | C3: =計算!X6 | D3: =計算!X8 | E3: =計算!X10 | F3: =計算!X12 | G3: =計算!X14 | H3: =計算!X16 | I3: =計算!X4-計算!X3 | J3: =計算!X6-計算!X5 | K3: =計算!X8-計算!X7 | L3: =計算!X10-計算!X9 | M3: =計算!X12-計算!X11 | N3: =計算!X14-計算!X13 | O3: =計算!X16-計算!X15
A4: 3500000 | B4: =計算!X18 | C4: =計算!X20 | D4: =計算!X22 | E4: =計算!X24 | F4: =計算!X26 | G4: =計算!X28 | H4: =計算!X30 | I4: =計算!X18-計算!X17 | J4: =計算!X20-計算!X19 | K4: =計算!X22-計算!X21 | L4: =計算!X24-計算!X23 | M4: =計算!X26-計算!X25 | N4: =計算!X28-計算!X27 | O4: =計算!X30-計算!X29
A5: 4000000 | B5: =計算!X32 | C5: =計算!X34 | D5: =計算!X36 | E5: =計算!X38 | F5: =計算!X40 | G5: =計算!X42 | H5: =計算!X44 | I5: =計算!X32-計算!X31 | J5: =計算!X34-計算!X33 | K5: =計算!X36-計算!X35 | L5: =計算!X38-計算!X37 | M5: =計算!X40-計算!X39 | N5: =計算!X42-計算!X41 | O5: =計算!X44-計算!X43
A6: 4500000 | B6: =計算!X46 | C6: =計算!X48 | D6: =計算!X50 | E6: =計算!X52 | F6: =計算!X54 | G6: =計算!X56 | H6: =計算!X58 | I6: =計算!X46-計算!X45 | J6: =計算!X48-計算!X47 | K6: =計算!X50-計算!X49 | L6: =計算!X52-計算!X51 | M6: =計算!X54-計算!X53 | N6: =計算!X56-計算!X55 | O6: =計算!X58-計算!X57
A7: 5000000 | B7: =計算!X60 | C7: =計算!X62 | D7: =計算!X64 | E7: =計算!X66 | F7: =計算!X68 | G7: =計算!X70 | H7: =計算!X72 | I7: =計算!X60-計算!X59 | J7: =計算!X62-計算!X61 | K7: =計算!X64-計算!X63 | L7: =計算!X66-計算!X65 | M7: =計算!X68-計算!X67 | N7: =計算!X70-計算!X69 | O7: =計算!X72-計算!X71
A8: 5500000 | B8: =計算!X74 | C8: =計算!X76 | D8: =計算!X78 | E8: =計算!X80 | F8: =計算!X82 | G8: =計算!X84 | H8: =計算!X86 | I8: =計算!X74-計算!X73 | J8: =計算!X76-計算!X75 | K8: =計算!X78-計算!X77 | L8: =計算!X80-計算!X79 | M8: =計算!X82-計算!X81 | N8: =計算!X84-計算!X83 | O8: =計算!X86-計算!X85
A9: 6000000 | B9: =計算!X88 | C9: =計算!X90 | D9: =計算!X92 | E9: =計算!X94 | F9: =計算!X96 | G9: =計算!X98 | H9: =計算!X100 | I9: =計算!X88-計算!X87 | J9: =計算!X90-計算!X89 | K9: =計算!X92-計算!X91 | L9: =計算!X94-計算!X93 | M9: =計算!X96-計算!X95 | N9: =計算!X98-計算!X97 | O9: =計算!X100-計算!X99
A10: 6500000 | B10: =計算!X102 | C10: =計算!X104 | D10: =計算!X106 | E10: =計算!X108 | F10: =計算!X110 | G10: =計算!X112 | H10: =計算!X114 | I10: =計算!X102-計算!X101 | J10: =計算!X104-計算!X103 | K10: =計算!X106-計算!X105 | L10: =計算!X108-計算!X107 | M10: =計算!X110-計算!X109 | N10: =計算!X112-計算!X111 | O10: =計算!X114-計算!X113
A11: 7000000 | B11: =計算!X116 | C11: =計算!X118 | D11: =計算!X120 | E11: =計算!X122 | F11: =計算!X124 | G11: =計算!X126 | H11: =計算!X128 | I11: =計算!X116-計算!X115 | J11: =計算!X118-計算!X117 | K11: =計算!X120-計算!X119 | L11: =計算!X122-計算!X121 | M11: =計算!X124-計算!X123 | N11: =計算!X126-計算!X125 | O11: =計算!X128-計算!X127
A12: 7500000 | B12: =計算!X130 | C12: =計算!X132 | D12: =計算!X134 | E12: =計算!X136 | F12: =計算!X138 | G12: =計算!X140 | H12: =計算!X142 | I12: =計算!X130-計算!X129 | J12: =計算!X132-計算!X131 | K12: =計算!X134-計算!X133 | L12: =計算!X136-計算!X135 | M12: =計算!X138-計算!X137 | N12: =計算!X140-計算!X139 | O12: =計算!X142-計算!X141
A13: 8000000 | B13: =計算!X144 | C13: =計算!X146 | D13: =計算!X148 | E13: =計算!X150 | F13: =計算!X152 | G13: =計算!X154 | H13: =計算!X156 | I13: =計算!X144-計算!X143 | J13: =計算!X146-計算!X145 | K13: =計算!X148-計算!X147 | L13: =計算!X150-計算!X149 | M13: =計算!X152-計算!X151 | N13: =計算!X154-計算!X153 | O13: =計算!X156-計算!X155
A14: 8500000 | B14: =計算!X158 | C14: =計算!X160 | D14: =計算!X162 | E14: =計算!X164 | F14: =計算!X166 | G14: =計算!X168 | H14: =計算!X170 | I14: =計算!X158-計算!X157 | J14: =計算!X160-計算!X159 | K14: =計算!X162-計算!X161 | L14: =計算!X164-計算!X163 | M14: =計算!X166-計算!X165 | N14: =計算!X168-計算!X167 | O14: =計算!X170-計算!X169
A15: 9000000 | B15: =計算!X172 | C15: =計算!X174 | D15: =計算!X176 | E15: =計算!X178 | F15: =計算!X180 | G15: =計算!X182 | H15: =計算!X184 | I15: =計算!X172-計算!X171 | J15: =計算!X174-計算!X173 | K15: =計算!X176-計算!X175 | L15: =計算!X178-計算!X177 | M15: =計算!X180-計算!X179 | N15: =計算!X182-計算!X181 | O15: =計算!X184-計算!X183
A16: 9500000 | B16: =計算!X186 | C16: =計算!X188 | D16: =計算!X190 | E16: =計算!X192 | F16: =計算!X194 | G16: =計算!X196 | H16: =計算!X198 | I16: =計算!X186-計算!X185 | J16: =計算!X188-計算!X187 | K16: =計算!X190-計算!X189 | L16: =計算!X192-計算!X191 | M16: =計算!X194-計算!X193 | N16: =計算!X196-計算!X195 | O16: =計算!X198-計算!X197
A17: 10000000 | B17: =計算!X200 | C17: =計算!X202 | D17: =計算!X204 | E17: =計算!X206 | F17: =計算!X208 | G17: =計算!X210 | H17: =計算!X212 | I17: =計算!X200-計算!X199 | J17: =計算!X202-計算!X201 | K17: =計算!X204-計算!X203 | L17: =計算!X206-計算!X205 | M17: =計算!X208-計算!X207 | N17: =計算!X210-計算!X209 | O17: =計算!X212-計算!X211
A18: 10500000 | B18: =計算!X214 | C18: =計算!X216 | D18: =計算!X218 | E18: =計算!X220 | F18: =計算!X222 | G18: =計算!X224 | H18: =計算!X226 | I18: =計算!X214-計算!X213 | J18: =計算!X216-計算!X215 | K18: =計算!X218-計算!X217 | L18: =計算!X220-計算!X219 | M18: =計算!X222-計算!X221 | N18: =計算!X224-計算!X223 | O18: =計算!X226-計算!X225
A19: 11000000 | B19: =計算!X228 | C19: =計算!X230 | D19: =計算!X232 | E19: =計算!X234 | F19: =計算!X236 | G19: =計算!X238 | H19: =計算!X240 | I19: =計算!X228-計算!X227 | J19: =計算!X230-計算!X229 | K19: =計算!X232-計算!X231 | L19: =計算!X234-計算!X233 | M19: =計算!X236-計算!X235 | N19: =計算!X238-計算!X237 | O19: =計算!X240-計算!X239
A20: 11500000 | B20: =計算!X242 | C20: =計算!X244 | D20: =計算!X246 | E20: =計算!X248 | F20: =計算!X250 | G20: =計算!X252 | H20: =計算!X254 | I20: =計算!X242-計算!X241 | J20: =計算!X244-計算!X243 | K20: =計算!X246-計算!X245 | L20: =計算!X248-計算!X247 | M20: =計算!X250-計算!X249 | N20: =計算!X252-計算!X251 | O20: =計算!X254-計算!X253
A21: 12000000 | B21: =計算!X256 | C21: =計算!X258 | D21: =計算!X260 | E21: =計算!X262 | F21: =計算!X264 | G21: =計算!X266 | H21: =計算!X268 | I21: =計算!X256-計算!X255 | J21: =計算!X258-計算!X257 | K21: =計算!X260-計算!X259 | L21: =計算!X262-計算!X261 | M21: =計算!X264-計算!X263 | N21: =計算!X266-計算!X265 | O21: =計算!X268-計算!X267
A22: 12500000 | B22: =計算!X270 | C22: =計算!X272 | D22: =計算!X274 | E22: =計算!X276 | F22: =計算!X278 | G22: =計算!X280 | H22: =計算!X282 | I22: =計算!X270-計算!X269 | J22: =計算!X272-計算!X271 | K22: =計算!X274-計算!X273 | L22: =計算!X276-計算!X275 | M22: =計算!X278-計算!X277 | N22: =計算!X280-計算!X279 | O22: =計算!X282-計算!X281
A23: 13000000 | B23: =計算!X284 | C23: =計算!X286 | D23: =計算!X288 | E23: =計算!X290 | F23: =計算!X292 | G23: =計算!X294 | H23: =計算!X296 | I23: =計算!X284-計算!X283 | J23: =計算!X286-計算!X285 | K23: =計算!X288-計算!X287 | L23: =計算!X290-計算!X289 | M23: =計算!X292-計算!X291 | N23: =計算!X294-計算!X293 | O23: =計算!X296-計算!X295
A24: 13500000 | B24: =計算!X298 | C24: =計算!X300 | D24: =計算!X302 | E24: =計算!X304 | F24: =計算!X306 | G24: =計算!X308 | H24: =計算!X310 | I24: =計算!X298-計算!X297 | J24: =計算!X300-計算!X299 | K24: =計算!X302-計算!X301 | L24: =計算!X304-計算!X303 | M24: =計算!X306-計算!X305 | N24: =計算!X308-計算!X307 | O24: =計算!X310-計算!X309
A25: 14000000 | B25: =計算!X312 | C25: =計算!X314 | D25: =計算!X316 | E25: =計算!X318 | F25: =計算!X320 | G25: =計算!X322 | H25: =計算!X324 | I25: =計算!X312-計算!X311 | J25: =計算!X314-計算!X313 | K25: =計算!X316-計算!X315 | L25: =計算!X318-計算!X317 | M25: =計算!X320-計算!X319 | N25: =計算!X322-計算!X321 | O25: =計算!X324-計算!X323
A26: 14500000 | B26: =計算!X326 | C26: =計算!X328 | D26: =計算!X330 | E26: =計算!X332 | F26: =計算!X334 | G26: =計算!X336 | H26: =計算!X338 | I26: =計算!X326-計算!X325 | J26: =計算!X328-計算!X327 | K26: =計算!X330-計算!X329 | L26: =計算!X332-計算!X331 | M26: =計算!X334-計算!X333 | N26: =計算!X336-計算!X335 | O26: =計算!X338-計算!X337
A27: 15000000 | B27: =計算!X340 | C27: =計算!X342 | D27: =計算!X344 | E27: =計算!X346 | F27: =計算!X348 | G27: =計算!X350 | H27: =計算!X352 | I27: =計算!X340-計算!X339 | J27: =計算!X342-計算!X341 | K27: =計算!X344-計算!X343 | L27: =計算!X346-計算!X345 | M27: =計算!X348-計算!X347 | N27: =計算!X350-計算!X349 | O27: =計算!X352-計算!X351
A28: 15500000 | B28: =計算!X354 | C28: =計算!X356 | D28: =計算!X358 | E28: =計算!X360 | F28: =計算!X362 | G28: =計算!X364 | H28: =計算!X366 | I28: =計算!X354-計算!X353 | J28: =計算!X356-計算!X355 | K28: =計算!X358-計算!X357 | L28: =計算!X360-計算!X359 | M28: =計算!X362-計算!X361 | N28: =計算!X364-計算!X363 | O28: =計算!X366-計算!X365
A29: 16000000 | B29: =計算!X368 | C29: =計算!X370 | D29: =計算!X372 | E29: =計算!X374 | F29: =計算!X376 | G29: =計算!X378 | H29: =計算!X380 | I29: =計算!X368-計算!X367 | J29: =計算!X370-計算!X369 | K29: =計算!X372-計算!X371 | L29: =計算!X374-計算!X373 | M29: =計算!X376-計算!X375 | N29: =計算!X378-計算!X377 | O29: =計算!X380-計算!X379
A30: 16500000 | B30: =計算!X382 | C30: =計算!X384 | D30: =計算!X386 | E30: =計算!X388 | F30: =計算!X390 | G30: =計算!X392 | H30: =計算!X394 | I30: =計算!X382-計算!X381 | J30: =計算!X384-計算!X383 | K30: =計算!X386-計算!X385 | L30: =計算!X388-計算!X387 | M30: =計算!X390-計算!X389 | N30: =計算!X392-計算!X391 | O30: =計算!X394-計算!X393
A31: 17000000 | B31: =計算!X396 | C31: =計算!X398 | D31: =計算!X400 | E31: =計算!X402 | F31: =計算!X404 | G31: =計算!X406 | H31: =計算!X408 | I31: =計算!X396-計算!X395 | J31: =計算!X398-計算!X397 | K31: =計算!X400-計算!X399 | L31: =計算!X402-計算!X401 | M31: =計算!X404-計算!X403 | N31: =計算!X406-計算!X405 | O31: =計算!X408-計算!X407
A32: 17500000 | B32: =計算!X410 | C32: =計算!X412 | D32: =計算!X414 | E32: =計算!X416 | F32: =計算!X418 | G32: =計算!X420 | H32: =計算!X422 | I32: =計算!X410-計算!X409 | J32: =計算!X412-計算!X411 | K32: =計算!X414-計算!X413 | L32: =計算!X416-計算!X415 | M32: =計算!X418-計算!X417 | N32: =計算!X420-計算!X419 | O32: =計算!X422-計算!X421
A33: 18000000 | B33: =計算!X424 | C33: =計算!X426 | D33: =計算!X428 | E33: =計算!X430 | F33: =計算!X432 | G33: =計算!X434 | H33: =計算!X436 | I33: =計算!X424-計算!X423 | J33: =計算!X426-計算!X425 | K33: =計算!X428-計算!X427 | L33: =計算!X430-計算!X429 | M33: =計算!X432-計算!X431 | N33: =計算!X434-計算!X433 | O33: =計算!X436-計算!X435
A34: 18500000 | B34: =計算!X438 | C34: =計算!X440 | D34: =計算!X442 | E34: =計算!X444 | F34: =計算!X446 | G34: =計算!X448 | H34: =計算!X450 | I34: =計算!X438-計算!X437 | J34: =計算!X440-計算!X439 | K34: =計算!X442-計算!X441 | L34: =計算!X444-計算!X443 | M34: =計算!X446-計算!X445 | N34: =計算!X448-計算!X447 | O34: =計算!X450-計算!X449
A35: 19000000 | B35: =計算!X452 | C35: =計算!X454 | D35: =計算!X456 | E35: =計算!X458 | F35: =計算!X460 | G35: =計算!X462 | H35: =計算!X464 | I35: =計算!X452-計算!X451 | J35: =計算!X454-計算!X453 | K35: =計算!X456-計算!X455 | L35: =計算!X458-計算!X457 | M35: =計算!X460-計算!X459 | N35: =計算!X462-計算!X461 | O35: =計算!X464-計算!X463
A36: 19500000 | B36: =計算!X466 | C36: =計算!X468 | D36: =計算!X470 | E36: =計算!X472 | F36: =計算!X474 | G36: =計算!X476 | H36: =計算!X478 | I36: =計算!X466-計算!X465 | J36: =計算!X468-計算!X467 | K36: =計算!X470-計算!X469 | L36: =計算!X472-計算!X471 | M36: =計算!X474-計算!X473 | N36: =計算!X476-計算!X475 | O36: =計算!X478-計算!X477
A37: 20000000 | B37: =計算!X480 | C37: =計算!X482 | D37: =計算!X484 | E37: =計算!X486 | F37: =計算!X488 | G37: =計算!X490 | H37: =計算!X492 | I37: =計算!X480-計算!X479 | J37: =計算!X482-計算!X481 | K37: =計算!X484-計算!X483 | L37: =計算!X486-計算!X485 | M37: =計算!X488-計算!X487 | N37: =計算!X490-計算!X489 | O37: =計算!X492-計算!X491

Sheet 3_1万円刻み
A1: 年収を1万円ずつ動かしたときの上限。差がマイナスの行は、2026年の減税で上限が下がった年収
A2: 年収 | B2: 独身 2025年 | C2: 独身 2026年 | D2: 独身 差 | E2: 独身 税率 | F2: 夫婦 2025年 | G2: 夫婦 2026年 | H2: 夫婦 差 | I2: 夫婦 税率
A3: 3000000 | B3: =計算!X493 | C3: =計算!X494 | D3: =C3-B3 | E3: =計算!V494 | F3: =計算!X495 | G3: =計算!X496 | H3: =G3-F3 | I3: =計算!V496
A4: 3010000 | B4: =計算!X497 | C4: =計算!X498 | D4: =C4-B4 | E4: =計算!V498 | F4: =計算!X499 | G4: =計算!X500 | H4: =G4-F4 | I4: =計算!V500
A5: 3020000 | B5: =計算!X501 | C5: =計算!X502 | D5: =C5-B5 | E5: =計算!V502 | F5: =計算!X503 | G5: =計算!X504 | H5: =G5-F5 | I5: =計算!V504
A6: 3030000 | B6: =計算!X505 | C6: =計算!X506 | D6: =C6-B6 | E6: =計算!V506 | F6: =計算!X507 | G6: =計算!X508 | H6: =G6-F6 | I6: =計算!V508
A7: 3040000 | B7: =計算!X509 | C7: =計算!X510 | D7: =C7-B7 | E7: =計算!V510 | F7: =計算!X511 | G7: =計算!X512 | H7: =G7-F7 | I7: =計算!V512
A8: 3050000 | B8: =計算!X513 | C8: =計算!X514 | D8: =C8-B8 | E8: =計算!V514 | F8: =計算!X515 | G8: =計算!X516 | H8: =G8-F8 | I8: =計算!V516
A9: 3060000 | B9: =計算!X517 | C9: =計算!X518 | D9: =C9-B9 | E9: =計算!V518 | F9: =計算!X519 | G9: =計算!X520 | H9: =G9-F9 | I9: =計算!V520
A10: 3070000 | B10: =計算!X521 | C10: =計算!X522 | D10: =C10-B10 | E10: =計算!V522 | F10: =計算!X523 | G10: =計算!X524 | H10: =G10-F10 | I10: =計算!V524
A11: 3080000 | B11: =計算!X525 | C11: =計算!X526 | D11: =C11-B11 | E11: =計算!V526 | F11: =計算!X527 | G11: =計算!X528 | H11: =G11-F11 | I11: =計算!V528
A12: 3090000 | B12: =計算!X529 | C12: =計算!X530 | D12: =C12-B12 | E12: =計算!V530 | F12: =計算!X531 | G12: =計算!X532 | H12: =G12-F12 | I12: =計算!V532
A13: 3100000 | B13: =計算!X533 | C13: =計算!X534 | D13: =C13-B13 | E13: =計算!V534 | F13: =計算!X535 | G13: =計算!X536 | H13: =G13-F13 | I13: =計算!V536
A14: 3110000 | B14: =計算!X537 | C14: =計算!X538 | D14: =C14-B14 | E14: =計算!V538 | F14: =計算!X539 | G14: =計算!X540 | H14: =G14-F14 | I14: =計算!V540
A15: 3120000 | B15: =計算!X541 | C15: =計算!X542 | D15: =C15-B15 | E15: =計算!V542 | F15: =計算!X543 | G15: =計算!X544 | H15: =G15-F15 | I15: =計算!V544
A16: 3130000 | B16: =計算!X545 | C16: =計算!X546 | D16: =C16-B16 | E16: =計算!V546 | F16: =計算!X547 | G16: =計算!X548 | H16: =G16-F16 | I16: =計算!V548
A17: 3140000 | B17: =計算!X549 | C17: =計算!X550 | D17: =C17-B17 | E17: =計算!V550 | F17: =計算!X551 | G17: =計算!X552 | H17: =G17-F17 | I17: =計算!V552
A18: 3150000 | B18: =計算!X553 | C18: =計算!X554 | D18: =C18-B18 | E18: =計算!V554 | F18: =計算!X555 | G18: =計算!X556 | H18: =G18-F18 | I18: =計算!V556
A19: 3160000 | B19: =計算!X557 | C19: =計算!X558 | D19: =C19-B19 | E19: =計算!V558 | F19: =計算!X559 | G19: =計算!X560 | H19: =G19-F19 | I19: =計算!V560
A20: 3170000 | B20: =計算!X561 | C20: =計算!X562 | D20: =C20-B20 | E20: =計算!V562 | F20: =計算!X563 | G20: =計算!X564 | H20: =G20-F20 | I20: =計算!V564
A21: 3180000 | B21: =計算!X565 | C21: =計算!X566 | D21: =C21-B21 | E21: =計算!V566 | F21: =計算!X567 | G21: =計算!X568 | H21: =G21-F21 | I21: =計算!V568
A22: 3190000 | B22: =計算!X569 | C22: =計算!X570 | D22: =C22-B22 | E22: =計算!V570 | F22: =計算!X571 | G22: =計算!X572 | H22: =G22-F22 | I22: =計算!V572
A23: 3200000 | B23: =計算!X573 | C23: =計算!X574 | D23: =C23-B23 | E23: =計算!V574 | F23: =計算!X575 | G23: =計算!X576 | H23: =G23-F23 | I23: =計算!V576
A24: 3210000 | B24: =計算!X577 | C24: =計算!X578 | D24: =C24-B24 | E24: =計算!V578 | F24: =計算!X579 | G24: =計算!X580 | H24: =G24-F24 | I24: =計算!V580
A25: 3220000 | B25: =計算!X581 | C25: =計算!X582 | D25: =C25-B25 | E25: =計算!V582 | F25: =計算!X583 | G25: =計算!X584 | H25: =G25-F25 | I25: =計算!V584
A26: 3230000 | B26: =計算!X585 | C26: =計算!X586 | D26: =C26-B26 | E26: =計算!V586 | F26: =計算!X587 | G26: =計算!X588 | H26: =G26-F26 | I26: =計算!V588
A27: 3240000 | B27: =計算!X589 | C27: =計算!X590 | D27: =C27-B27 | E27: =計算!V590 | F27: =計算!X591 | G27: =計算!X592 | H27: =G27-F27 | I27: =計算!V592
A28: 3250000 | B28: =計算!X593 | C28: =計算!X594 | D28: =C28-B28 | E28: =計算!V594 | F28: =計算!X595 | G28: =計算!X596 | H28: =G28-F28 | I28: =計算!V596
A29: 3260000 | B29: =計算!X597 | C29: =計算!X598 | D29: =C29-B29 | E29: =計算!V598 | F29: =計算!X599 | G29: =計算!X600 | H29: =G29-F29 | I29: =計算!V600
A30: 3270000 | B30: =計算!X601 | C30: =計算!X602 | D30: =C30-B30 | E30: =計算!V602 | F30: =計算!X603 | G30: =計算!X604 | H30: =G30-F30 | I30: =計算!V604
A31: 3280000 | B31: =計算!X605 | C31: =計算!X606 | D31: =C31-B31 | E31: =計算!V606 | F31: =計算!X607 | G31: =計算!X608 | H31: =G31-F31 | I31: =計算!V608
A32: 3290000 | B32: =計算!X609 | C32: =計算!X610 | D32: =C32-B32 | E32: =計算!V610 | F32: =計算!X611 | G32: =計算!X612 | H32: =G32-F32 | I32: =計算!V612
A33: 3300000 | B33: =計算!X613 | C33: =計算!X614 | D33: =C33-B33 | E33: =計算!V614 | F33: =計算!X615 | G33: =計算!X616 | H33: =G33-F33 | I33: =計算!V616
A34: 3310000 | B34: =計算!X617 | C34: =計算!X618 | D34: =C34-B34 | E34: =計算!V618 | F34: =計算!X619 | G34: =計算!X620 | H34: =G34-F34 | I34: =計算!V620
A35: 3320000 | B35: =計算!X621 | C35: =計算!X622 | D35: =C35-B35 | E35: =計算!V622 | F35: =計算!X623 | G35: =計算!X624 | H35: =G35-F35 | I35: =計算!V624
A36: 3330000 | B36: =計算!X625 | C36: =計算!X626 | D36: =C36-B36 | E36: =計算!V626 | F36: =計算!X627 | G36: =計算!X628 | H36: =G36-F36 | I36: =計算!V628
A37: 3340000 | B37: =計算!X629 | C37: =計算!X630 | D37: =C37-B37 | E37: =計算!V630 | F37: =計算!X631 | G37: =計算!X632 | H37: =G37-F37 | I37: =計算!V632
A38: 3350000 | B38: =計算!X633 | C38: =計算!X634 | D38: =C38-B38 | E38: =計算!V634 | F38: =計算!X635 | G38: =計算!X636 | H38: =G38-F38 | I38: =計算!V636
A39: 3360000 | B39: =計算!X637 | C39: =計算!X638 | D39: =C39-B39 | E39: =計算!V638 | F39: =計算!X639 | G39: =計算!X640 | H39: =G39-F39 | I39: =計算!V640
A40: 3370000 | B40: =計算!X641 | C40: =計算!X642 | D40: =C40-B40 | E40: =計算!V642 | F40: =計算!X643 | G40: =計算!X644 | H40: =G40-F40 | I40: =計算!V644
A41: 3380000 | B41: =計算!X645 | C41: =計算!X646 | D41: =C41-B41 | E41: =計算!V646 | F41: =計算!X647 | G41: =計算!X648 | H41: =G41-F41 | I41: =計算!V648
A42: 3390000 | B42: =計算!X649 | C42: =計算!X650 | D42: =C42-B42 | E42: =計算!V650 | F42: =計算!X651 | G42: =計算!X652 | H42: =G42-F42 | I42: =計算!V652
A43: 3400000 | B43: =計算!X653 | C43: =計算!X654 | D43: =C43-B43 | E43: =計算!V654 | F43: =計算!X655 | G43: =計算!X656 | H43: =G43-F43 | I43: =計算!V656
A44: 3410000 | B44: =計算!X657 | C44: =計算!X658 | D44: =C44-B44 | E44: =計算!V658 | F44: =計算!X659 | G44: =計算!X660 | H44: =G44-F44 | I44: =計算!V660
A45: 3420000 | B45: =計算!X661 | C45: =計算!X662 | D45: =C45-B45 | E45: =計算!V662 | F45: =計算!X663 | G45: =計算!X664 | H45: =G45-F45 | I45: =計算!V664
A46: 3430000 | B46: =計算!X665 | C46: =計算!X666 | D46: =C46-B46 | E46: =計算!V666 | F46: =計算!X667 | G46: =計算!X668 | H46: =G46-F46 | I46: =計算!V668
A47: 3440000 | B47: =計算!X669 | C47: =計算!X670 | D47: =C47-B47 | E47: =計算!V670 | F47: =計算!X671 | G47: =計算!X672 | H47: =G47-F47 | I47: =計算!V672
A48: 3450000 | B48: =計算!X673 | C48: =計算!X674 | D48: =C48-B48 | E48: =計算!V674 | F48: =計算!X675 | G48: =計算!X676 | H48: =G48-F48 | I48: =計算!V676
A49: 3460000 | B49: =計算!X677 | C49: =計算!X678 | D49: =C49-B49 | E49: =計算!V678 | F49: =計算!X679 | G49: =計算!X680 | H49: =G49-F49 | I49: =計算!V680
A50: 3470000 | B50: =計算!X681 | C50: =計算!X682 | D50: =C50-B50 | E50: =計算!V682 | F50: =計算!X683 | G50: =計算!X684 | H50: =G50-F50 | I50: =計算!V684
A51: 3480000 | B51: =計算!X685 | C51: =計算!X686 | D51: =C51-B51 | E51: =計算!V686 | F51: =計算!X687 | G51: =計算!X688 | H51: =G51-F51 | I51: =計算!V688
A52: 3490000 | B52: =計算!X689 | C52: =計算!X690 | D52: =C52-B52 | E52: =計算!V690 | F52: =計算!X691 | G52: =計算!X692 | H52: =G52-F52 | I52: =計算!V692
A53: 3500000 | B53: =計算!X693 | C53: =計算!X694 | D53: =C53-B53 | E53: =計算!V694 | F53: =計算!X695 | G53: =計算!X696 | H53: =G53-F53 | I53: =計算!V696
A54: 3510000 | B54: =計算!X697 | C54: =計算!X698 | D54: =C54-B54 | E54: =計算!V698 | F54: =計算!X699 | G54: =計算!X700 | H54: =G54-F54 | I54: =計算!V700
A55: 3520000 | B55: =計算!X701 | C55: =計算!X702 | D55: =C55-B55 | E55: =計算!V702 | F55: =計算!X703 | G55: =計算!X704 | H55: =G55-F55 | I55: =計算!V704
A56: 3530000 | B56: =計算!X705 | C56: =計算!X706 | D56: =C56-B56 | E56: =計算!V706 | F56: =計算!X707 | G56: =計算!X708 | H56: =G56-F56 | I56: =計算!V708
A57: 3540000 | B57: =計算!X709 | C57: =計算!X710 | D57: =C57-B57 | E57: =計算!V710 | F57: =計算!X711 | G57: =計算!X712 | H57: =G57-F57 | I57: =計算!V712
A58: 3550000 | B58: =計算!X713 | C58: =計算!X714 | D58: =C58-B58 | E58: =計算!V714 | F58: =計算!X715 | G58: =計算!X716 | H58: =G58-F58 | I58: =計算!V716
A59: 3560000 | B59: =計算!X717 | C59: =計算!X718 | D59: =C59-B59 | E59: =計算!V718 | F59: =計算!X719 | G59: =計算!X720 | H59: =G59-F59 | I59: =計算!V720
A60: 3570000 | B60: =計算!X721 | C60: =計算!X722 | D60: =C60-B60 | E60: =計算!V722 | F60: =計算!X723 | G60: =計算!X724 | H60: =G60-F60 | I60: =計算!V724
A61: 3580000 | B61: =計算!X725 | C61: =計算!X726 | D61: =C61-B61 | E61: =計算!V726 | F61: =計算!X727 | G61: =計算!X728 | H61: =G61-F61 | I61: =計算!V728
A62: 3590000 | B62: =計算!X729 | C62: =計算!X730 | D62: =C62-B62 | E62: =計算!V730 | F62: =計算!X731 | G62: =計算!X732 | H62: =G62-F62 | I62: =計算!V732
A63: 3600000 | B63: =計算!X733 | C63: =計算!X734 | D63: =C63-B63 | E63: =計算!V734 | F63: =計算!X735 | G63: =計算!X736 | H63: =G63-F63 | I63: =計算!V736
A64: 3610000 | B64: =計算!X737 | C64: =計算!X738 | D64: =C64-B64 | E64: =計算!V738 | F64: =計算!X739 | G64: =計算!X740 | H64: =G64-F64 | I64: =計算!V740
A65: 3620000 | B65: =計算!X741 | C65: =計算!X742 | D65: =C65-B65 | E65: =計算!V742 | F65: =計算!X743 | G65: =計算!X744 | H65: =G65-F65 | I65: =計算!V744
A66: 3630000 | B66: =計算!X745 | C66: =計算!X746 | D66: =C66-B66 | E66: =計算!V746 | F66: =計算!X747 | G66: =計算!X748 | H66: =G66-F66 | I66: =計算!V748
A67: 3640000 | B67: =計算!X749 | C67: =計算!X750 | D67: =C67-B67 | E67: =計算!V750 | F67: =計算!X751 | G67: =計算!X752 | H67: =G67-F67 | I67: =計算!V752
A68: 3650000 | B68: =計算!X753 | C68: =計算!X754 | D68: =C68-B68 | E68: =計算!V754 | F68: =計算!X755 | G68: =計算!X756 | H68: =G68-F68 | I68: =計算!V756
A69: 3660000 | B69: =計算!X757 | C69: =計算!X758 | D69: =C69-B69 | E69: =計算!V758 | F69: =計算!X759 | G69: =計算!X760 | H69: =G69-F69 | I69: =計算!V760
A70: 3670000 | B70: =計算!X761 | C70: =計算!X762 | D70: =C70-B70 | E70: =計算!V762 | F70: =計算!X763 | G70: =計算!X764 | H70: =G70-F70 | I70: =計算!V764
A71: 3680000 | B71: =計算!X765 | C71: =計算!X766 | D71: =C71-B71 | E71: =計算!V766 | F71: =計算!X767 | G71: =計算!X768 | H71: =G71-F71 | I71: =計算!V768
A72: 3690000 | B72: =計算!X769 | C72: =計算!X770 | D72: =C72-B72 | E72: =計算!V770 | F72: =計算!X771 | G72: =計算!X772 | H72: =G72-F72 | I72: =計算!V772
A73: 3700000 | B73: =計算!X773 | C73: =計算!X774 | D73: =C73-B73 | E73: =計算!V774 | F73: =計算!X775 | G73: =計算!X776 | H73: =G73-F73 | I73: =計算!V776
A74: 3710000 | B74: =計算!X777 | C74: =計算!X778 | D74: =C74-B74 | E74: =計算!V778 | F74: =計算!X779 | G74: =計算!X780 | H74: =G74-F74 | I74: =計算!V780
A75: 3720000 | B75: =計算!X781 | C75: =計算!X782 | D75: =C75-B75 | E75: =計算!V782 | F75: =計算!X783 | G75: =計算!X784 | H75: =G75-F75 | I75: =計算!V784
A76: 3730000 | B76: =計算!X785 | C76: =計算!X786 | D76: =C76-B76 | E76: =計算!V786 | F76: =計算!X787 | G76: =計算!X788 | H76: =G76-F76 | I76: =計算!V788
A77: 3740000 | B77: =計算!X789 | C77: =計算!X790 | D77: =C77-B77 | E77: =計算!V790 | F77: =計算!X791 | G77: =計算!X792 | H77: =G77-F77 | I77: =計算!V792
A78: 3750000 | B78: =計算!X793 | C78: =計算!X794 | D78: =C78-B78 | E78: =計算!V794 | F78: =計算!X795 | G78: =計算!X796 | H78: =G78-F78 | I78: =計算!V796
A79: 3760000 | B79: =計算!X797 | C79: =計算!X798 | D79: =C79-B79 | E79: =計算!V798 | F79: =計算!X799 | G79: =計算!X800 | H79: =G79-F79 | I79: =計算!V800
A80: 3770000 | B80: =計算!X801 | C80: =計算!X802 | D80: =C80-B80 | E80: =計算!V802 | F80: =計算!X803 | G80: =計算!X804 | H80: =G80-F80 | I80: =計算!V804
A81: 3780000 | B81: =計算!X805 | C81: =計算!X806 | D81: =C81-B81 | E81: =計算!V806 | F81: =計算!X807 | G81: =計算!X808 | H81: =G81-F81 | I81: =計算!V808
A82: 3790000 | B82: =計算!X809 | C82: =計算!X810 | D82: =C82-B82 | E82: =計算!V810 | F82: =計算!X811 | G82: =計算!X812 | H82: =G82-F82 | I82: =計算!V812
A83: 3800000 | B83: =計算!X813 | C83: =計算!X814 | D83: =C83-B83 | E83: =計算!V814 | F83: =計算!X815 | G83: =計算!X816 | H83: =G83-F83 | I83: =計算!V816
A84: 3810000 | B84: =計算!X817 | C84: =計算!X818 | D84: =C84-B84 | E84: =計算!V818 | F84: =計算!X819 | G84: =計算!X820 | H84: =G84-F84 | I84: =計算!V820
A85: 3820000 | B85: =計算!X821 | C85: =計算!X822 | D85: =C85-B85 | E85: =計算!V822 | F85: =計算!X823 | G85: =計算!X824 | H85: =G85-F85 | I85: =計算!V824
A86: 3830000 | B86: =計算!X825 | C86: =計算!X826 | D86: =C86-B86 | E86: =計算!V826 | F86: =計算!X827 | G86: =計算!X828 | H86: =G86-F86 | I86: =計算!V828
A87: 3840000 | B87: =計算!X829 | C87: =計算!X830 | D87: =C87-B87 | E87: =計算!V830 | F87: =計算!X831 | G87: =計算!X832 | H87: =G87-F87 | I87: =計算!V832
A88: 3850000 | B88: =計算!X833 | C88: =計算!X834 | D88: =C88-B88 | E88: =計算!V834 | F88: =計算!X835 | G88: =計算!X836 | H88: =G88-F88 | I88: =計算!V836
A89: 3860000 | B89: =計算!X837 | C89: =計算!X838 | D89: =C89-B89 | E89: =計算!V838 | F89: =計算!X839 | G89: =計算!X840 | H89: =G89-F89 | I89: =計算!V840
A90: 3870000 | B90: =計算!X841 | C90: =計算!X842 | D90: =C90-B90 | E90: =計算!V842 | F90: =計算!X843 | G90: =計算!X844 | H90: =G90-F90 | I90: =計算!V844
A91: 3880000 | B91: =計算!X845 | C91: =計算!X846 | D91: =C91-B91 | E91: =計算!V846 | F91: =計算!X847 | G91: =計算!X848 | H91: =G91-F91 | I91: =計算!V848
A92: 3890000 | B92: =計算!X849 | C92: =計算!X850 | D92: =C92-B92 | E92: =計算!V850 | F92: =計算!X851 | G92: =計算!X852 | H92: =G92-F92 | I92: =計算!V852
A93: 3900000 | B93: =計算!X853 | C93: =計算!X854 | D93: =C93-B93 | E93: =計算!V854 | F93: =計算!X855 | G93: =計算!X856 | H93: =G93-F93 | I93: =計算!V856
A94: 3910000 | B94: =計算!X857 | C94: =計算!X858 | D94: =C94-B94 | E94: =計算!V858 | F94: =計算!X859 | G94: =計算!X860 | H94: =G94-F94 | I94: =計算!V860
A95: 3920000 | B95: =計算!X861 | C95: =計算!X862 | D95: =C95-B95 | E95: =計算!V862 | F95: =計算!X863 | G95: =計算!X864 | H95: =G95-F95 | I95: =計算!V864
A96: 3930000 | B96: =計算!X865 | C96: =計算!X866 | D96: =C96-B96 | E96: =計算!V866 | F96: =計算!X867 | G96: =計算!X868 | H96: =G96-F96 | I96: =計算!V868
A97: 3940000 | B97: =計算!X869 | C97: =計算!X870 | D97: =C97-B97 | E97: =計算!V870 | F97: =計算!X871 | G97: =計算!X872 | H97: =G97-F97 | I97: =計算!V872
A98: 3950000 | B98: =計算!X873 | C98: =計算!X874 | D98: =C98-B98 | E98: =計算!V874 | F98: =計算!X875 | G98: =計算!X876 | H98: =G98-F98 | I98: =計算!V876
A99: 3960000 | B99: =計算!X877 | C99: =計算!X878 | D99: =C99-B99 | E99: =計算!V878 | F99: =計算!X879 | G99: =計算!X880 | H99: =G99-F99 | I99: =計算!V880
A100: 3970000 | B100: =計算!X881 | C100: =計算!X882 | D100: =C100-B100 | E100: =計算!V882 | F100: =計算!X883 | G100: =計算!X884 | H100: =G100-F100 | I100: =計算!V884
...

Sheet 4_総務省の目安と比べる
A1: 総務省の資料の目安（千円単位）と、この表の2025年の寄附の計算を並べる。子1人は高校生、子2人は大学生と高校生で計算
A2: 年収 | B2: 独身 総務省 | C2: 独身 この表 | D2: 差 | E2: 夫婦＋子1人 総務省 | F2: この表 | G2: 差 | H2: 夫婦＋子2人 総務省 | I2: この表 | J2: 差
A3: 5000000 | B3: 61000 | C3: =計算!X5297 | D3: =C3-B3 | E3: 40000 | F3: =計算!X5298 | G3: =F3-E3 | H3: 28000 | I3: =計算!X5299 | J3: =I3-H3
A4: 7500000 | B4: 118000 | C4: =計算!X5300 | D4: =C4-B4 | E4: 87000 | F4: =計算!X5301 | G4: =F4-E4 | H4: 76000 | I4: =計算!X5302 | J4: =I4-H4
A5: 10000000 | B5: 180000 | C5: =計算!X5303 | D5: =C5-B5 | E5: 157000 | F5: =計算!X5304 | G5: =F5-E5 | H5: 144000 | I5: =計算!X5305 | J5: =I5-H5
A6: 20000000 | B6: 569000 | C6: =計算!X5306 | D6: =C6-B6 | E6: 552000 | F6: =計算!X5307 | G6: =F6-E6 | H6: 536000 | I6: =計算!X5308 | J6: =I6-H6
A8: 総務省の目安は千円未満を切り捨てた形なので、差が0〜999円なら一致とみなす。総務省の資料には社会保険料の前提が書かれていない。

Sheet 5_使い方
A1: 使い方
A3: 1_上限 の黄色いセルを埋める。B3に給与の年収、B4に社会保険料（源泉徴収票の額）を入れる。B4が空欄なら年収から見積もる。
A4: G18に2026年に寄附したときの上限、F18に2025年の上限が出る。G20は2つの差。
A5: B12に寄附する額を入れると、下の表に確定申告をしたときの実質負担が出る。2,000円を超えたら上限を超えている。
A7: 上限は住民税で決まる。住民税の特例分は所得割の20%までで、特例分の割合は90%−所得税率×1.021。
A8: 上限 = 所得割×20% ÷ 特例分の割合 ＋ 2,000円。所得税率は、住民税の課税所得から人的控除差調整額を引いた額で決める（地方税法第37条の2第11項）。
A9: 人的控除差調整額には、所得税の基礎控除から48万円を引いた額が入る。2026年は基礎控除が104万円なので56万円が入り、
A10: 税率を決める額は所得税の課税所得とほぼ同じになる。所得税の基礎控除が上がると税率が下がり、特例分の割合が上がって、上限は下がる。
A12: 2_早見表 は、年収と家族7通りの上限。右半分は2025年の寄附との差。社会保険料は年収から見積もった。
A13: 3_1万円刻み は、独身と夫婦（配偶者控除あり）で年収を1万円ずつ動かしたもの。差がマイナスの行が赤くなる。
A14: 4_総務省の目安と比べる は、総務省の資料の目安と、この表の2025年の計算を並べたもの。
A16: 社会保険料の見積もり: 40歳未満、協会けんぽ東京支部、賞与なしで毎月同じ給与。
... A35: この表は目安を出すもの。実際の控除額は、寄附した翌年度の住民税の決定通知書で確かめる。

Sheet 計算
A1: 1行で1人分を計算する。2_早見表、3_1万円刻み、4_総務省の目安と比べる はここを参照している
A2: 用途 | B2: 年収 | C2: 寄附の年 | D2: 配偶者控除 | E2: 高校生など | F2: 大学生など | G2: 社会保険料 | H2: 他の控除（所得税） | I2: 他の控除（住民税） | J2: 給与所得 | K2: 基礎控除（所得税） | L2: 配偶者控除（所得税） | M2: 配偶者控除（住民税） | N2: 配偶者の人的控除差 | O2: 所得税の課税所得 | P2: 住民税の課税所得 | Q2: 人的控除の差の合計 | R2: 調整控除 | S2: 住民税の所得割 | T2: 人的控除差調整額 | U2: 税率を決める額 | V2: その額に当たる所得税率 | W2: 特例分の割合 | X2: 上限（2,000円の負担で済む寄附額） | Y2: 所得税の実際の税率
A3: 早見表 独身または共働き | B3: ='2_早見表'!$A$3 | C3: 2025 | D3: 0 | E3: 0 | F3: 0 | G3: =ROUND(MIN(B3/12,650000)*12*0.0915+MIN(B3/12,1390000)*12*(0.0504+0)+B3*0.005,0) | H3: 0 | I3: 0 | J3: =IF(C3=2026,IF(B3<741000,0,IF(B3<2191000,B3-740000,IF(B3<2193000,1451000,IF(B3<2196000,1453000,IF(B3<2200000,1456000,IF(B3<3600000,ROUNDDOWN(B3/4,-3)*2.8-80000,IF(B3<6600000,ROUNDDOWN(B3/4,-3)*3.2-440000,IF(B3<8500000,ROUNDDOWN(B3*0.9,0)-1100000,B3-1950000)))))))),IF(B3<651000,0,IF(B3<1900000,B3-650000,IF(B3<3600000,ROUNDDOWN(B3/4,-3)*2.8-80000,IF(B3<6600000,ROUNDDOWN(B3/4,-3)*3.2-440000,IF(B3<8500000,ROUNDDOWN(B3*0.9,0)-1100000,B3-1950000)))))) | K3: =IF(J3>23500000,NA(),IF(C3=2026,IF(J3<=4890000,1040000,IF(J3<=6550000,670000,620000)),IF(J3<=1320000,950000,IF(J3<=3360000,880000,IF(J3<=4890000,680000,IF(J3<=6550000,630000,580000)))))) | L3: =IF(D3=1,IF(J3<=9000000,380000,IF(J3<=9500000,260000,IF(J3<=10000000,130000,0))),0) | M3: =IF(D3=1,IF(J3<=9000000,330000,IF(J3<=9500000,220000,IF(J3<=10000000,110000,0))),0) | N3: =IF(D3=1,IF(J3<=9000000,50000,IF(J3<=9500000,40000,IF(J3<=10000000,20000,0))),0) | O3: =MAX(0,ROUNDDOWN(J3-G3-K3-L3-E3*380000-F3*630000-H3,-3)) | P3: =MAX(0,ROUNDDOWN(J3-G3-430000-M3-E3*330000-F3*450000-I3,-3)) | Q3: =50000+N3+E3*50000+F3*180000 | R3: =IF(P3<=2000000,MIN(Q3,P3),MAX(Q3-(P3-2000000),50000))*0.05 | S3: =MAX(0,P3*0.1-R3) | T3: =Q3+MAX(0,K3-480000) | U3: =P3-T3 | V3: =IF(U3<0,0,LOOKUP(U3,{0,1950001,3300001,6950001,9000001,18000001,40000001},{0.05,0.1,0.2,0.23,0.33,0.4,0.45})) | W3: =IF(U3<0,0.9,0.9-V3*1.021) | X3: =ROUNDDOWN(S3*0.2/W3+2000,0) | Y3: =IF(O3<=0,0,LOOKUP(O3,{0,1950001,3300001,6950001,9000001,18000001,40000001},{0.05,0.1,0.2,0.23,0.33,0.4,0.45}))
A4: 早見表 独身または共働き | B4: ='2_早見表'!$A$3 | C4: 2026 | D4: 0 | E4: 0 | F4: 0 | G4: =ROUND(MIN(B4/12,650000)*12*0.0915+MIN(B4/12,1390000)*12*(0.0504+0)+B4*0.005,0) | H4: 0 | I4: 0 | J4: =IF(C4=2026,IF(B4<741000,0,IF(B4<2191000,B4-740000,IF(B4<2193000,1451000,IF(B4<2196000,1453000,IF(B4<2200000,1456000,IF(B4<3600000,ROUNDDOWN(B4/4,-3)*2.8-80000,IF(B4<6600000,ROUNDDOWN(B4/4,-3)*3.2-440000,IF(B4<8500000,ROUNDDOWN(B4*0.9,0)-1100000,B4-1950000)))))))),IF(B4<651000,0,IF(B4<1900000,B4-650000,IF(B4<3600000,ROUNDDOWN(B4/4,-3)*2.8-80000,IF(B4<6600000,ROUNDDOWN(B4/4,-3)*3.2-440000,IF(B4<8500000,ROUNDDOWN(B4*0.9,0)-1100000,B4-1950000)))))) | K4: =IF(J4>23500000,NA(),IF(C4=2026,IF(J4<=4890000,1040000,IF(J4<=6550000,670000,620000)),IF(J4<=1320000,950000,IF(J4<=3360000,880000,IF(J4<=4890000,680000,IF(J4<=6550000,630000,580000)))))) | L4: =IF(D4=1,IF(J4<=9000000,380000,IF(J4<=9500000,260000,IF(J4<=10000000,130000,0))),0) | M4: =IF(D4=1,IF(J4<=9000000,330000,IF(J4<=9500000,220000,IF(J4<=10000000,110000,0))),0) | N4: =IF(D4=1,IF(J4<=9000000,50000,IF(J4<=9500000,40000,IF(J4<=10000000,20000,0))),0) | O4: =MAX(0,ROUNDDOWN(J4-G4-K4-L4-E4*380000-F4*630000-H4,-3)) | P4: =MAX(0,ROUNDDOWN(J4-G4-430000-M4-E4*330000-F4*450000-I4,-3)) | Q4: =50000+N4+E4*50000+F4*180000 | R4: =IF(P4<=2000000,MIN(Q4,P4),MAX(Q4-(P4-2000000),50000))*0.05 | S4: =MAX(0,P4*0.1-R4) | T4: =Q4+MAX(0,K4-480000) | U4: =P4-T4 | V4: =IF(U4<0,0,LOOKUP(U4,{0,1950001,3300001,6950001,9000001,18000001,40000001},{0.05,0.1,0.2,0.23,0.33,0.4,0.45})) | W4: =IF(U4<0,0.9,0.9-V4*1.021) | X4: =ROUNDDOWN(S4*0.2/W4+2000,0) | Y4: =IF(O4<=0,0,LOOKUP(O4,{0,1950001,3300001,6950001,9000001,18000001,40000001},{0.05,0.1,0.2,0.23,0.33,0.4,0.45}))
A5: 早見表 夫婦（配偶者控除あり） | B5: ='2_早見表'!$A$3 | C5: 2025 | D5: 1 | E5: 0 | F5: 0 | G5: =ROUND(MIN(B5/12,650000)*12*0.0915+MIN(B5/12,1390000)*12*(0.0504+0)+B5*0.005,0) | H5: 0 | I5: 0 | J5: =IF(C5=2026,IF(B5<741000,0,IF(B5<2191000,B5-740000,IF(B5<2193000,1451000,IF(B5<2196000,1453000,IF(B5<2200000,1456000,IF(B5<3600000,ROUNDDOWN(B5/4,-3)*2.8-80000,IF(B5<6600000,ROUNDDOWN(B5/4,-3)*3.2-440000,IF(B5<8500000,ROUNDDOWN(B5*0.9,0)-1100000,B5-1950000)))))))),IF(B5<651000,0,IF(B5<1900000,B5-650000,IF(B5<3600000,ROUNDDOWN(B5/4,-3)*2.8-80000,IF(B5<6600000,ROUNDDOWN(B5/4,-3)*3.2-440000,IF(B5<8500000,ROUNDDOWN(B5*0.9,0)-1100000,B5-1950000)))))) | K5: =IF(J5>23500000,NA(),IF(C5=2026,IF(J5<=4890000,1040000,IF(J5<=6550000,670000,620000)),IF(J5<=1320000,950000,IF(J5<=3360000,880000,IF(J5<=4890000,680000,IF(J5<=6550000,630000,580000)))))) | L5: =IF(D5=1,IF(J5<=9000000,380000,IF(J5<=9500000,260000,IF(J5<=10000000,130000,0))),0) | M5: =IF(D5=1,IF(J5<=9000000,330000,IF(J5<=9500000,220000,IF(J5<=10000000,110000,0))),0) | N5: =IF(D5=1,IF(J5<=9000000,50000,IF(J5<=9500000,40000,IF(J5<=10000000,20000,0))),0) | O5: =MAX(0,ROUNDDOWN(J5-G5-K5-L5-E5*380000-F5*630000-H5,-3)) | P5: =MAX(0,ROUNDDOWN(J5-G5-430000-M5-E5*330000-F5*450000-I5,-3)) | Q5: =50000+N5+E5*50000+F5*180000 | R5: =IF(P5<=2000000,MIN(Q5,P5),MAX(Q5-(P5-2000000),50000))*0.05 | S5: =MAX(0,P5*0.1-R5) | T5: =Q5+MAX(0,K5-480000) | U5: =P5-T5 | V5: =IF(U5<0,0,LOOKUP(U5,{0,1950001,3300001,6950001,9000001,18000001,40000001},{0.05,0.1,0.2,0.23,0.33,0.4,0.45})) | W5: =IF(U5<0,0.9,0.9-V5*1.021) | X5: =ROUNDDOWN(S5*0.2/W5+2000,0) | Y5: =IF(O5<=0,0,LOOKUP(O5,{0,1950001,3300001,6950001,9000001,18000001,40000001},{0.05,0.1,0.2,0.23,0.33,0.4,0.45}))
A6: 早見表 夫婦（配偶者控除あり） | B6: ='2_早見表'!$A$3 | C6: 2026 | D6: 1 | E6: 0 | F6: 0 | G6: =ROUND(MIN(B6/12,650000)*12*0.0915+MIN(B6/12,1390000)*12*(0.0504+0)+B6*0.005,0) | H6: 0 | I6: 0 | J6: =IF(C6=2026,IF(B6<741000,0,IF(B6<2191000,B6-740000,IF(B6<2193000,1451000,IF(B6<2196000,1453000,IF(B6<2200000,1456000,IF(B6<3600000,ROUNDDOWN(B6/4,-3)*2.8-80000,IF(B6<6600000,ROUNDDOWN(B6/4,-3)*3.2-440000,IF(B6<8500000,ROUNDDOWN(B6*0.9,0)-1100000,B6-1950000)))))))),IF(B6<651000,0,IF(B6<1900000,B6-650000,IF(B6<3600000,ROUNDDOWN(B6/4,-3)*2.8-80000,IF(B6<6600000,ROUNDDOWN(B6/4,-3)*3.2-440000,IF(B6<8500000,ROUNDDOWN(B6*0.9,0)-1100000,B6-1950000)))))) | K6: =IF(J6>23500000,NA(),IF(C6=2026,IF(J6<=4890000,1040000,IF(J6<=6550000,670000,620000)),IF(J6<=1320000,950000,IF(J6<=3360000,880000,IF(J6<=4890000,680000,IF(J6<=6550000,630000,580000)))))) | L6: =IF(D6=1,IF(J6<=9000000,380000,IF(J6<=9500000,260000,IF(J6<=10000000,130000,0))),0) | M6: =IF(D6=1,IF(J6<=9000000,330000,IF(J6<=9500000,220000,IF(J6<=10000000,110000,0))),0) | N6: =IF(D6=1,IF(J6<=9000000,50000,IF(J6<=9500000,40000,IF(J6<=10000000,20000,0))),0) | O6: =MAX(0,ROUNDDOWN(J6-G6-K6-L6-E6*380000-F6*630000-H6,-3)) | P6: =MAX(0,ROUNDDOWN(J6-G6-430000-M6-E6*330000-F6*450000-I6,-3)) | Q6: =50000+N6+E6*50000+F6*180000 | R6: =IF(P6<=2000000,MIN(Q6,P6),MAX(Q6-(P6-2000000),50000))*0.05 | S6: =MAX(0,P6*0.1-R6) | T6: =Q6+MAX(0,K6-480000) | U6: =P6-T6 | V6: =IF(U6<0,0,LOOKUP(U6,{0,1950001,3300001,6950001,9000001,18000001,40000001},{0.05,0.1,0.2,0.23,0.33,0.4,0.45})) | W6: =IF(U6<0,0.9,0.9-V6*1.021) | X6: =ROUNDDOWN(S6*0.2/W6+2000,0) | Y6: =IF(O6<=0,0,LOOKUP(O6,{0,1950001,3300001,6950001,9000001,18000001,40000001},{0.05,0.1,0.2,0.23,0.33,0.4,0.45}))
A7: 早見表 共働き＋高校生1人 | B7: ='2_早見表'!$A$3 | C7: 2025 | D7: 0 | E7: 1 | F7: 0 | G7: =ROUND(MIN(B7/12,650000)*12*0.0915+MIN(B7/12,1390000)*12*(0.0504+0)+B7*0.005,0) | H7: 0 | I7: 0 | J7: =IF(C7=2026,IF(B7<741000,0,IF(B7<2191000,B7-740000,IF(B7<2193000,1451000,IF(B7<2196000,1453000,IF(B7<2200000,1456000,IF(B7<3600000,ROUNDDOWN(B7/4,-3)*2.8-80000,IF(B7<6600000,ROUNDDOWN(B7/4,-3)*3.2-440000,IF(B7<8500000,ROUNDDOWN(B7*0.9,0)-1100000,B7-1950000)))))))),IF(B7<651000,0,IF(B7<1900000,B7-650000,IF(B7<3600000,ROUNDDOWN(B7/4,-3)*2.8-80000,IF(B7<6600000,ROUNDDOWN(B7/4,-3)*3.2-440000,IF(B7<8500000,ROUNDDOWN(B7*0.9,0)-1100000,B7-1950000)))))) | K7: =IF(J7>23500000,NA(),IF(C7=2026,IF(J7<=4890000,1040000,IF(J7<=6550000,670000,620000)),IF(J7<=1320000,950000,IF(J7<=3360000,880000,IF(J7<=4890000,680000,IF(J7<=6550000,630000,580000)))))) | L7: =IF(D7=1,IF(J7<=9000000,380000,IF(J7<=9500000,260000,IF(J7<=10000000,130000,0))),0) | M7: =IF(D7=1,IF(J7<=9000000,330000,IF(J7<=9500000,220000,IF(J7<=10000000,110000,0))),0) | N7: =IF(D7=1,IF(J7<=9000000,50000,IF(J7<=9500000,40000,IF(J7<=10000000,20000,0))),0) | O7: =MAX(0,ROUNDDOWN(J7-G7-K7-L7-E7*380000-F7*630000-H7,-3)) | P7: =MAX(0,ROUNDDOWN(J7-G7-430000-M7-E7*330000-F7*450000-I7,-3)) | Q7: =50000+N7+E7*50000+F7*180000 | R7: =IF(P7<=2000000,MIN(Q7,P7),MAX(Q7-(P7-2000000),50000))*0.05 | S7: =MAX(0,P7*0.1-R7) | T7: =Q7+MAX(0,K7-480000) | U7: =P7-T7 | V7: =IF(U7<0,0,LOOKUP(U7,{0,1950001,3300001,6950001,9000001,18000001,40000001},{0.05,0.1,0.2,0.23,0.33,0.4,0.45})) | W7: =IF(U7<0,0.9,0.9-V7*1.021) | X7: =ROUNDDOWN(S7*0.2/W7+2000,0) | Y7: =IF(O7<=0,0,LOOKUP(O7,{0,1950001,3300001,6950001,9000001,18000001,40000001},{0.05,0.1,0.2,0.23,0.33,0.4,0.45}))
A8: 早見表 共働き＋高校生1人 | B8: ='2_早見表'!$A$3 | C8: 2026 | D8: 0 | E8: 1 | F8: 0 | G8: =ROUND(MIN(B8/12,650000)*12*0.0915+MIN(B8/12,1390000)*12*(0.0504+0)+B8*0.005,0) | H8: 0 | I8: 0 | J8: =IF(C8=2026,IF(B8<741000,0,IF(B8<2191000,B8-740000,IF(B8<2193000,1451000,IF(B8<2196000,1453000,IF(B8<2200000,1456000,IF(B8<3600000,ROUNDDOWN(B8/4,-3)*2.8-80000,IF(B8<6600000,ROUNDDOWN(B8/4,-3)*3.2-440000,IF(B8<8500000,ROUNDDOWN(B8*0.9,0)-1100000,B8-1950000)))))))),IF(B8<651000,0,IF(B8<1900000,B8-650000,IF(B8<3600000,ROUNDDOWN(B8/4,-3)*2.8-80000,IF(B8<6600000,ROUNDDOWN(B8/4,-3)*3.2-440000,IF(B8<8500000,ROUNDDOWN(B8*0.9,0)-1100000,B8-1950000)))))) | K8: =IF(J8>23500000,NA(),IF(C8=2026,IF(J8<=4890000,1040000,IF(J8<=6550000,670000,620000)),IF(J8<=1320000,950000,IF(J8<=3360000,880000,IF(J8<=4890000,680000,IF(J8<=6550000,630000,580000)))))) | L8: =IF(D8=1,IF(J8<=9000000,380000,IF(J8<=9500000,260000,IF(J8<=10000000,130000,0))),0) | M8: =IF(D8=1,IF(J8<=9000000,330000,IF(J8<=9500000,220000,IF(J8<=10000000,110000,0))),0) | N8: =IF(D8=1,IF(J8<=9000000,50000,IF(J8<=9500000,40000,IF(J8<=10000000,20000,0))),0) | O8: =MAX(0,ROUNDDOWN(J8-G8-K8-L8-E8*380000-F8*630000-H8,-3)) | P8: =MAX(0,ROUNDDOWN(J8-G8-430000-M8-E8*330000-F8*450000-I8,-3)) | Q8: =50000+N8+E8*50000+F8*180000 | R8: =IF(P8<=2000000,MIN(Q8,P8),MAX(Q8-(P8-2000000),50000))*0.05 | S8: =MAX(0,P8*0.1-R8) | T8: =Q8+MAX(0,K8-480000) | U8: =P8-T8 | V8: =IF(U8<0,0,LOOKUP(U8,{0,1950001,3300001,6950001,9000001,18000001,40000001},{0.05,0.1,0.2,0.23,0.33,0.4,0.45})) | W8: =IF(U8<0,0.9,0.9-V8*1.021) | X8: =ROUNDDOWN(S8*0.2/W8+2000,0) | Y8: =IF(O8<=0,0,LOOKUP(O8,{0,1950001,3300001,6950001,9000001,18000001,40000001},{0.05,0.1,0.2,0.23,0.33,0.4,0.45}))
A9: 早見表 共働き＋大学生1人 | B9: ='2_早見表'!$A$3 | C9: 2025 | D9: 0 | E9: 0 | F9: 1 | G9: =ROUND(MIN(B9/12,650000)*12*0.0915+MIN(B9/12,1390000)*12*(0.0504+0)+B9*0.005,0) | H9: 0 | I9: 0 | J9: =IF(C9=2026,IF(B9<741000,0,IF(B9<2191000,B9-740000,IF(B9<2193000,1451000,IF(B9<2196000,1453000,IF(B9<2200000,1456000,IF(B9<3600000,ROUNDDOWN(B9/4,-3)*2.8-80000,IF(B9<6600000,ROUNDDOWN(B9/4,-3)*3.2-440000,IF(B9<8500000,ROUNDDOWN(B9*0.9,0)-1100000,B9-1950000)))))))),IF(B9<651000,0,IF(B9<1900000,B9-650000,IF(B9<3600000,ROUNDDOWN(B9/4,-3)*2.8-80000,IF(B9<6600000,ROUNDDOWN(B9/4,-3)*3.2-440000,IF(B9<8500000,ROUNDDOWN(B9*0.9,0)-1100000,B9-1950000)))))) | K9: =IF(J9>23500000,NA(),IF(C9=2026,IF(J9<=4890000,1040000,IF(J9<=6550000,670000,620000)),IF(J9<=1320000,950000,IF(J9<=3360000,880000,IF(J9<=4890000,680000,IF(J9<=6550000,630000,580000)))))) | L9: =IF(D9=1,IF(J9<=9000000,380000,IF(J9<=9500000,260000,IF(J9<=10000000,130000,0))),0) | M9: =IF(D9=1,IF(J9<=9000000,330000,IF(J9<=9500000,220000,IF(J9<=10000000,110000,0))),0) | N9: =IF(D9=1,IF(J9<=9000000,50000,IF(J9<=9500000,40000,IF(J9<=10000000,20000,0))),0) | O9: =MAX(0,ROUNDDOWN(J9-G9-K9-L9-E9*380000-F9*630000-H9,-3)) | P9: =MAX(0,ROUNDDOWN(J9-G9-430000-M9-E9*330000-F9*450000-I9,-3)) | Q9: =50000+N9+E9*50000+F9*180000 | R9: =IF(P9<=2000000,MIN(Q9,P9),MAX(Q9-(P9-2000000),50000))*0.05 | S9: =MAX(0,P9*0.1-R9) | T9: =Q9+MAX(0,K9-480000) | U9: =P9-T9 | V9: =IF(U9<0,0,LOOKUP(U9,{0,1950001,3300001,6950001,9000001,18000001,40000001},{0.05,0.1,0.2,0.23,0.33,0.4,0.45})) | W9: =IF(U9<0,0.9,0.9-V9*1.021) | X9: =ROUNDDOWN(S9*0.2/W9+2000,0) | Y9: =IF(O9<=0,0,LOOKUP(O9,{0,1950001,3300001,6950001,9000001,18000001,40000001},{0.05,0.1,0.2,0.23,0.33,0.4,0.45}))
A10: 早見表 共働き＋大学生1人 | B10: ='2_早見表'!$A$3 | C10: 2026 | D10: 0 | E10: 0 | F10: 1 | G10: =ROUND(MIN(B10/12,650000)*12*0.0915+MIN(B10/12,1390000)*12*(0.0504+0)+B10*0.005,0) | H10: 0 | I10: 0 | J10: =IF(C10=2026,IF(B10<741000,0,IF(B10<2191000,B10-740000,IF(B10<2193000,1451000,IF(B10<2196000,1453000,IF(B10<2200000,1456000,IF(B10<3600000,ROUNDDOWN(B10/4,-3)*2.8-80000,IF(B10<6600000,ROUNDDOWN(B10/4,-3)*3.2-440000,IF(B10<8500000,ROUNDDOWN(B10*0.9,0)-1100000,B10-1950000)))))))),IF(B10<651000,0,IF(B10<1900000,B10-650000,IF(B10<3600000,ROUNDDOWN(B10/4,-3)*2.8-80000,IF(B10<6600000,ROUNDDOWN(B10/4,-3)*3.2-440000,IF(B10<8500000,ROUNDDOWN(B10*0.9,0)-1100000,B10-1950000)))))) | K10: =IF(J10>23500000,NA(),IF(C10=2026,IF(J10<=4890000,1040000,IF(J10<=6550000,670000,620000)),IF(J10<=1320000,950000,IF(J10<=3360000,880000,IF(J10<=4890000,680000,IF(J10<=6550000,630000,580000)))))) | L10: =IF(D10=1,IF(J10<=9000000,380000,IF(J10<=9500000,260000,IF(J10<=10000000,130000,0))),0) | M10: =IF(D10=1,IF(J10<=9000000,330000,IF(J10<=9500000,220000,IF(J10<=10000000,110000,0))),0) | N10: =IF(D10=1,IF(J10<=9000000,50000,IF(J10<=9500000,40000,IF(J10<=10000000,20000,0))),0) | O10: =MAX(0,ROUNDDOWN(J10-G10-K10-L10-E10*380000-F10*630000-H10,-3)) | P10: =MAX(0,ROUNDDOWN(J10-G10-430000-M10-E10*330000-F10*450000-I10,-3)) | Q10: =50000+N10+E10*50000+F10*180000 | R10: =IF(P10<=2000000,MIN(Q10,P10),MAX(Q10-(P10-2000000),50000))*0.05 | S10: =MAX(0,P10*0.1-R10) | T10: =Q10+MAX(0,K10-480000) | U10: =P10-T10 | V10: =IF(U10<0,0,LOOKUP(U10,{0,1950001,3300001,6950001,9000001,18000001,40000001},{0.05,0.1,0.2,0.23,0.33,0.4,0.45})) | W10: =IF(U10<0,0.9,0.9-V10*1.021) | X10: =ROUNDDOWN(S10*0.2/W10+2000,0) | Y10: =IF(O10<=0,0,LOOKUP(O10,{0,1950001,3300001,6950001,9000001,18000001,40000001},{0.05,0.1,0.2,0.23,0.33,0.4,0.45}))
A11: 早見表 夫婦＋高校生1人 | B11: ='2_早見表'!$A$3 | C11: 2025 | D11: 1 | E11: 1 | F11: 0 | G11: =ROUND(MIN(B11/12,650000)*12*0.0915+MIN(B11/12,1390000)*12*(0.0504+0)+B11*0.005,0) | H11: 0 | I11: 0 | J11: =IF(C11=2026,IF(B11<741000,0,IF(B11<2191000,B11-740000,IF(B11<2193000,1451000,IF(B11<2196000,1453000,IF(B11<2200000,1456000,IF(B11<3600000,ROUNDDOWN(B11/4,-3)*2.8-80000,IF(B11<6600000,ROUNDDOWN(B11/4,-3)*3.2-440000,IF(B11<8500000,ROUNDDOWN(B11*0.9,0)-1100000,B11-1950000)))))))),IF(B11<651000,0,IF(B11<1900000,B11-650000,IF(B11<3600000,ROUNDDOWN(B11/4,-3)*2.8-80000,IF(B11<6600000,ROUNDDOWN(B11/4,-3)*3.2-440000,IF(B11<8500000,ROUNDDOWN(B11*0.9,0)-1100000,B11-1950000)))))) | K11: =IF(J11>23500000,NA(),IF(C11=2026,IF(J11<=4890000,1040000,IF(J11<=6550000,670000,620000)),IF(J11<=1320000,950000,IF(J11<=3360000,880000,IF(J11<=4890000,680000,IF(J11<=6550000,630000,580000)))))) | L11: =IF(D11=1,IF(J11<=9000000,380000,IF(J11<=9500000,260000,IF(J11<=10000000,130000,0))),0) | M11: =IF(D11=1,IF(J11<=9000000,330000,IF(J11<=9500000,220000,IF(J11<=10000000,110000,0))),0) | N11: =IF(D11=1,IF(J11<=9000000,50000,IF(J11<=9500000,40000,IF(J11<=10000000,20000,0))),0) | O11: =MAX(0,ROUNDDOWN(J11-G11-K11-L11-E11*380000-F11*630000-H11,-3)) | P11: =MAX(0,ROUNDDOWN(J11-G11-430000-M11-E11*330000-F11*450000-I11,-3)) | Q11: =50000+N11+E11*50000+F11*180000 | R11: =IF(P11<=2000000,MIN(Q11,P11),MAX(Q11-(P11-2000000),50000))*0.05 | S11: =MAX(0,P11*0.1-R11) | T11: =Q11+MAX(0,K11-480000) | U11: =P11-T11 | V11: =IF(U11<0,0,LOOKUP(U11,{0,1950001,3300001,6950001,9000001,18000001,40000001},{0.05,0.1,0.2,0.23,0.33,0.4,0.45})) | W11: =IF(U11<0,0.9,0.9-V11*1.021) | X11: =ROUNDDOWN(S11*0.2/W11+2000,0) | Y11: =IF(O11<=0,0,LOOKUP(O11,{0,1950001,3300001,6950001,9000001,18000001,40000001},{0.05,0.1,0.2,0.23,0.33,0.4,0.45}))
A12: 早見表 夫婦＋高校生1人 | B12: ='2_早見表'!$A$3 | C12: 2026 | D12: 1 | E12: 1 | F12: 0 | G12: =ROUND(MIN(B12/12,650000)*12*0.0915+MIN(B12/12,1390000)*12*(0.0504+0)+B12*0.005,0) | H12: 0 | I12: 0 | J12: =IF(C12=2026,IF(B12<741000,0,IF(B12<2191000,B12-740000,IF(B12<2193000,1451000,IF(B12<2196000,1453000,IF(B12<2200000,1456000,IF(B12<3600000,ROUNDDOWN(B12/4,-3)*2.8-80000,IF(B12<6600000,ROUNDDOWN(B12/4,-3)*3.2-440000,IF(B12<8500000,ROUNDDOWN(B12*0.9,0)-1100000,B12-1950000)))))))),IF(B12<651000,0,IF(B12<1900000,B12-650000,IF(B12<3600000,ROUNDDOWN(B12/4,-3)*2.8-80000,IF(B12<6600000,ROUNDDOWN(B12/4,-3)*3.2-440000,IF(B12<8500000,ROUNDDOWN(B12*0.9,0)-1100000,B12-1950000)))))) | K12: =IF(J12>23500000,NA(),IF(C12=2026,IF(J12<=4890000,1040000,IF(J12<=6550000,670000,620000)),IF(J12<=1320000,950000,IF(J12<=3360000,880000,IF(J12<=4890000,680000,IF(J12<=6550000,630000,580000)))))) | L12: =IF(D12=1,IF(J12<=9000000,380000,IF(J12<=9500000,260000,IF(J12<=10000000,130000,0))),0) | M12: =IF(D12=1,IF(J12<=9000000,330000,IF(J12<=9500000,220000,IF(J12<=10000000,110000,0))),0) | N12: =IF(D12=1,IF(J12<=9000000,50000,IF(J12<=9500000,40000,IF(J12<=10000000,20000,0))),0) | O12: =MAX(0,ROUNDDOWN(J12-G12-K12-L12-E12*380000-F12*630000-H12,-3)) | P12: =MAX(0,ROUNDDOWN(J12-G12-430000-M12-E12*330000-F12*450000-I12,-3)) | Q12: =50000+N12+E12*50000+F12*180000 | R12: =IF(P12<=2000000,MIN(Q12,P12),MAX(Q12-(P12-2000000),50000))*0.05 | S12: =MAX(0,P12*0.1-R12) | T12: =Q12+MAX(0,K12-480000) | U12: =P12-T12 | V12: =IF(U12<0,0,LOOKUP(U12,{0,1950001,3300001,6950001,9000001,18000001,40000001},{0.05,0.1,0.2,0.23,0.33,0.4,0.45})) | W12: =IF(U12<0,0.9,0.9-V12*1.021) | X12: =ROUNDDOWN(S12*0.2/W12+2000,0) | Y12: =IF(O12<=0,0,LOOKUP(O12,{0,1950001,3300001,6950001,9000001,18000001,40000001},{0.05,0.1,0.2,0.23,0.33,0.4,0.45}))
A13: 早見表 共働き＋大学生と高校生 | B13: ='2_早見表'!$A$3 | C13: 2025 | D13: 0 | E13: 1 | F13: 1 | G13: =ROUND(MIN(B13/12,650000)*12*0.0915+MIN(B13/12,1390000)*12*(0.0504+0)+B13*0.005,0) | H13: 0 | I13: 0 | J13: =IF(C13=2026,IF(B13<741000,0,IF(B13<2191000,B13-740000,IF(B13<2193000,1451000,IF(B13<2196000,1453000,IF(B13<2200000,1456000,IF(B13<3600000,ROUNDDOWN(B13/4,-3)*2.8-80000,IF(B13<6600000,ROUNDDOWN(B13/4,-3)*3.2-440000,IF(B13<8500000,ROUNDDOWN(B13*0.9,0)-1100000,B13-1950000)))))))),IF(B13<651000,0,IF(B13<1900000,B13-650000,IF(B13<3600000,ROUNDDOWN(B13/4,-3)*2.8-80000,IF(B13<6600000,ROUNDDOWN(B13/4,-3)*3.2-440000,IF(B13<8500000,ROUNDDOWN(B13*0.9,0)-1100000,B13-1950000)))))) | K13: =IF(J13>23500000,NA(),IF(C13=2026,IF(J13<=4890000,1040000,IF(J13<=6550000,670000,620000)),IF(J13<=1320000,950000,IF(J13<=3360000,880000,IF(J13<=4890000,680000,IF(J13<=6550000,630000,580000)))))) | L13: =IF(D13=1,IF(J13<=9000000,380000,IF(J13<=9500000,260000,IF(J13<=10000000,130000,0))),0) | M13: =IF(D13=1,IF(J13<=9000000,330000,IF(J13<=9500000,220000,IF(J13<=10000000,110000,0))),0) | N13: =IF(D13=1,IF(J13<=9000000,50000,IF(J13<=9500000,40000,IF(J13<=10000000,20000,0))),0) | O13: =MAX(0,ROUNDDOWN(J13-G13-K13-L13-E13*380000-F13*630000-H13,-3)) | P13: =MAX(0,ROUNDDOWN(J13-G13-430000-M13-E13*330000-F13*450000-I13,-3)) | Q13: =50000+N13+E13*50000+F13*180000 | R13: =IF(P13<=2000000,MIN(Q13,P13),MAX(Q13-(P13-2000000),50000))*0.05 | S13: =MAX(0,P13*0.1-R13) | T13: =Q13+MAX(0,K13-480000) | U13: =P13-T13 | V13: =IF(U13<0,0,LOOKUP(U13,{0,1950001,3300001,6950001,9000001,18000001,40000001},{0.05,0.1,0.2,0.23,0.33,0.4,0.45})) | W13: =IF(U13<0,0.9,0.9-V13*1.021) | X13: =ROUNDDOWN(S13*0.2/W13+2000,0) | Y13: =IF(O13<=0,0,LOOKUP(O13,{0,1950001,3300001,6950001,9000001,18000001,40000001},{0.05,0.1,0.2,0.23,0.33,0.4,0.45}))
A14: 早見表 共働き＋大学生と高校生 | B14: ='2_早見表'!$A$3 | C14: 2026 | D14: 0 | E14: 1 | F14: 1 | G14: =ROUND(MIN(B14/12,650000)*12*0.0915+MIN(B14/12,1390000)*12*(0.0504+0)+B14*0.005,0) | H14: 0 | I14: 0 | J14: =IF(C14=2026,IF(B14<741000,0,IF(B14<2191000,B14-740000,IF(B14<2193000,1451000,IF(B14<2196000,1453000,IF(B14<2200000,1456000,IF(B14<3600000,ROUNDDOWN(B14/4,-3)*2.8-80000,IF(B14<6600000,ROUNDDOWN(B14/4,-3)*3.2-440000,IF(B14<8500000,ROUNDDOWN(B14*0.9,0)-1100000,B14-1950000)))))))),IF(B14<651000,0,IF(B14<1900000,B14-650000,IF(B14<3600000,ROUNDDOWN(B14/4,-3)*2.8-80000,IF(B14<6600000,ROUNDDOWN(B14/4,-3)*3.2-440000,IF(B14<8500000,ROUNDDOWN(B14*0.9,0)-1100000,B14-1950000)))))) | K14: =IF(J14>23500000,NA(),IF(C14=2026,IF(J14<=4890000,1040000,IF(J14<=6550000,670000,620000)),IF(J14<=1320000,950000,IF(J14<=3360000,880000,IF(J14<=4890000,680000,IF(J14<=6550000,630000,580000)))))) | L14: =IF(D14=1,IF(J14<=9000000,380000,IF(J14<=9500000,260000,IF(J14<=10000000,130000,0))),0) | M14: =IF(D14=1,IF(J14<=9000000,330000,IF(J14<=9500000,220000,IF(J14<=10000000,110000,0))),0) | N14: =IF(D14=1,IF(J14<=9000000,50000,IF(J14<=9500000,40000,IF(J14<=10000000,20000,0))),0) | O14: =MAX(0,ROUNDDOWN(J14-G14-K14-L14-E14*380000-F14*630000-H14,-3)) | P14: =MAX(0,ROUNDDOWN(J14-G14-430000-M14-E14*330000-F14*450000-I14,-3)) | Q14: =50000+N14+E14*50000+F14*180000 | R14: =IF(P14<=2000000,MIN(Q14,P14),MAX(Q14-(P14-2000000),50000))*0.05 | S14: =MAX(0,P14*0.1-R14) | T14: =Q14+MAX(0,K14-480000) | U14: =P14-T14 | V14: =IF(U14<0,0,LOOKUP(U14,{0,1950001,3300001,6950001,9000001,18000001,40000001},{0.05,0.1,0.2,0.23,0.33,0.4,0.45})) | W14: =IF(U14<0,0.9,0.9-V14*1.021) | X14: =ROUNDDOWN(S14*0.2/W14+2000,0) | Y14: =IF(O14<=0,0,LOOKUP(O14,{0,1950001,3300001,6950001,9000001,18000001,40000001},{0.05,0.1,0.2,0.23,0.33,0.4,0.45}))
... A16: 早見表 夫婦＋大学生と高校生 | B16: ='2_早見表'!$A$3 | C16: 2026 | D16: 1 | E16: 1 | F16: 1 | G16: =ROUND(MIN(B16/12,650000)*12*0.0915+MIN(B16/12,1390000)*12*(0.0504+0)+B16*0.005,0) | H16: 0 | I16: 0 | J16: =IF(C16=2026,IF(B16<741000,0,IF(B16<2191000,B16-740000,IF(B16<2193000,1451000,IF(B16<2196000,1453000,IF(B16<2200000,1456000,IF(B16<3600000,ROUNDDOWN(B16/4,-3)*2.8-80000,IF(B16<6600000,ROUNDDOWN(B16/4,-3)*3.2-440000,IF(B16<8500000,ROUNDDOWN(B16*0.9,0)-1100000,B16-1950000)))))))),IF(B16<651000,0,IF(B16<1900000,B16-650000,IF(B16<3600000,ROUNDDOWN(B16/4,-3)*2.8-80000,IF(B16<6600000,ROUNDDOWN(B16/4,-3)*3.2-440000,IF(B16<8500000,ROUNDDOWN(B16*0.9,0)-1100000,B16-1950000)))))) | K16: =IF(J16>23500000,NA(),IF(C16=2026,IF(J16<=4890000,1040000,IF(J16<=6550000,670000,620000)),IF(J16<=1320000,950000,IF(J16<=3360000,880000,IF(J16<=4890000,680000,IF(J16<=6550000,630000,580000)))))) | L16: =IF(D16=1,IF(J16<=9000000,380000,IF(J16<=9500000,260000,IF(J16<=10000000,130000,0))),0) | M16: =IF(D16=1,IF(J16<=9000000,330000,IF(J16<=9500000,220000,IF(J16<=10000000,110000,0))),0) | N16: =IF(D16=1,IF(J16<=9000000,50000,IF(J16<=9500000,40000,IF(J16<=10000000,20000,0))),0) | O16: =MAX(0,ROUNDDOWN(J16-G16-K16-L16-E16*380000-F16*630000-H16,-3)) | P16: =MAX(0,ROUNDDOWN(J16-G16-430000-M16-E16*330000-F16*450000-I16,-3)) | Q16: =50000+N16+E16*50000+F16*180000 | R16: =IF(P16<=2000000,MIN(Q16,P16),MAX(Q16-(P16-2000000),50000))*0.05 | S16: =MAX(0,P16*0.1-R16) | T16: =Q16+MAX(0,K16-480000) | U16: =P16-T16 | V16: =IF(U16<0,0,LOOKUP(U16,{0,1950001,3300001,6950001,9000001,18000001,40000001},{0.05,0.1,0.2,0.23,0.33,0.4,0.45})) | W16: =IF(U16<0,0.9,0.9-V16*1.021) | X16: =ROUNDDOWN(S16*0.2/W16+2000,0) | Y16: =IF(O16<=0,0,LOOKUP(O16,{0,1950001,3300001,6950001,9000001,18000001,40000001},{0.05,0.1,0.2,0.23,0.33,0.4,0.45}))
A17: 早見表 独身または共働き | B17: ='2_早見表'!$A$4 | C17: 2025 | D17: 0 | E17: 0 | F17: 0 | G17: =ROUND(MIN(B17/12,650000)*12*0.0915+MIN(B17/12,1390000)*12*(0.0504+0)+B17*0.005,0) | H17: 0 | I17: 0 | J17: =IF(C17=2026,IF(B17<741000,0,IF(B17<2191000,B17-740000,IF(B17<2193000,1451000,IF(B17<2196000,1453000,IF(B17<2200000,1456000,IF(B17<3600000,ROUNDDOWN(B17/4,-3)*2.8-80000,IF(B17<6600000,ROUNDDOWN(B17/4,-3)*3.2-440000,IF(B17<8500000,ROUNDDOWN(B17*0.9,0)-1100000,B17-1950000)))))))),IF(B17<651000,0,IF(B17<1900000,B17-650000,IF(B17<3600000,ROUNDDOWN(B17/4,-3)*2.8-80000,IF(B17<6600000,ROUNDDOWN(B17/4,-3)*3.2-440000,IF(B17<8500000,ROUNDDOWN(B17*0.9,0)-1100000,B17-1950000)))))) | K17: =IF(J17>23500000,NA(),IF(C17=2026,IF(J17<=4890000,1040000,IF(J17<=6550000,670000,620000)),IF(J17<=1320000,950000,IF(J17<=3360000,880000,IF(J17<=4890000,680000,IF(J17<=6550000,630000,580000)))))) | L17: =IF(D17=1,IF(J17<=9000000,380000,IF(J17<=9500000,260000,IF(J17<=10000000,130000,0))),0) | M17: =IF(D17=1,IF(J17<=9000000,330000,IF(J17<=9500000,220000,IF(J17<=10000000,110000,0))),0) | N17: =IF(D17=1,IF(J17<=9000000,50000,IF(J17<=9500000,40000,IF(J17<=10000000,20000,0))),0) | O17: =MAX(0,ROUNDDOWN(J17-G17-K17-L17-E17*380000-F17*630000-H17,-3)) | P17: =MAX(0,ROUNDDOWN(J17-G17-430000-M17-E17*330000-F17*450000-I17,-3)) | Q17: =50000+N17+E17*50000+F17*180000 | R17: =IF(P17<=2000000,MIN(Q17,P17),MAX(Q17-(P17-2000000),50000))*0.05 | S17: =MAX(0,P17*0.1-R17) | T17: =Q17+MAX(0,K17-480000) | U17: =P17-T17 | V17: =IF(U17<0,0,LOOKUP(U17,{0,1950001,3300001,6950001,9000001,18000001,40000001},{0.05,0.1,0.2,0.23,0.33,0.4,0.45})) | W17: =IF(U17<0,0.9,0.9-V17*1.021) | X17: =ROUNDDOWN(S17*0.2/W17+2000,0) | Y17: =IF(O17<=0,0,LOOKUP(O17,{0,1950001,3300001,6950001,9000001,18000001,40000001},{0.05,0.1,0.2,0.23,0.33,0.4,0.45}))
A18: 早見表 独身または共働き | B18: ='2_早見表'!$A$4 | C18: 2026 | D18: 0 | E18: 0 | F18: 0 | G18: =ROUND(MIN(B18/12,650000)*12*0.0915+MIN(B18/12,1390000)*12*(0.0504+0)+B18*0.005,0) | H18: 0 | I18: 0 | J18: =IF(C18=2026,IF(B18<741000,0,IF(B18<2191000,B18-740000,IF(B18<2193000,1451000,IF(B18<2196000,1453000,IF(B18<2200000,1456000,IF(B18<3600000,ROUNDDOWN(B18/4,-3)*2.8-80000,IF(B18<6600000,ROUNDDOWN(B18/4,-3)*3.2-440000,IF(B18<8500000,ROUNDDOWN(B18*0.9,0)-1100000,B18-1950000)))))))),IF(B18<651000,0,IF(B18<1900000,B18-650000,IF(B18<3600000,ROUNDDOWN(B18/4,-3)*2.8-80000,IF(B18<6600000,ROUNDDOWN(B18/4,-3)*3.2-440000,IF(B18<8500000,ROUNDDOWN(B18*0.9,0)-1100000,B18-1950000)))))) | K18: =IF(J18>23500000,NA(),IF(C18=2026,IF(J18<=4890000,1040000,IF(J18<=6550000,670000,620000)),IF(J18<=1320000,950000,IF(J18<=3360000,880000,IF(J18<=4890000,680000,IF(J18<=6550000,630000,580000)))))) | L18: =IF(D18=1,IF(J18<=9000000,380000,IF(J18<=9500000,260000,IF(J18<=10000000,130000,0))),0) | M18: =IF(D18=1,IF(J18<=9000000,330000,IF(J18<=9500000,220000,IF(J18<=10000000,110000,0))),0) | N18: =IF(D18=1,IF(J18<=9000000,50000,IF(J18<=9500000,40000,IF(J18<=10000000,20000,0))),0) | O18: =MAX(0,ROUNDDOWN(J18-G18-K18-L18-E18*380000-F18*630000-H18,-3)) | P18: =MAX(0,ROUNDDOWN(J18-G18-430000-M18-E18*330000-F18*450000-I18,-3)) | Q18: =50000+N18+E18*50000+F18*180000 | R18: =IF(P18<=2000000,MIN(Q18,P18),MAX(Q18-(P18-2000000),50000))*0.05 | S18: =MAX(0,P18*0.1-R18) | T18: =Q18+MAX(0,K18-480000) | U18: =P18-T18 | V18: =IF(U18<0,0,LOOKUP(U18,{0,1950001,3300001,6950001,9000001,18000001,40000001},{0.05,0.1,0.2,0.23,0.33,0.4,0.45})) | W18: =IF(U18<0,0.9,0.9-V18*1.021) | X18: =ROUNDDOWN(S18*0.2/W18+2000,0) | Y18: =IF(O18<=0,0,LOOKUP(O18,{0,1950001,3300001,6950001,9000001,18000001,40000001},{0.05,0.1,0.2,0.23,0.33,0.4,0.45}))
A19: 早見表 夫婦（配偶者控除あり） | B19: ='2_早見表'!$A$4 | C19: 2025 | D19: 1 | E19: 0 | F19: 0 | G19: =ROUND(MIN(B19/12,650000)*12*0.0915+MIN(B19/12,1390000)*12*(0.0504+0)+B19*0.005,0) | H19: 0 | I19: 0 | J19: =IF(C19=2026,IF(B19<741000,0,IF(B19<2191000,B19-740000,IF(B19<2193000,1451000,IF(B19<2196000,1453000,IF(B19<2200000,1456000,IF(B19<3600000,ROUNDDOWN(B19/4,-3)*2.8-80000,IF(B19<6600000,ROUNDDOWN(B19/4,-3)*3.2-440000,IF(B19<8500000,ROUNDDOWN(B19*0.9,0)-1100000,B19-1950000)))))))),IF(B19<651000,0,IF(B19<1900000,B19-650000,IF(B19<3600000,ROUNDDOWN(B19/4,-3)*2.8-80000,IF(B19<6600000,ROUNDDOWN(B19/4,-3)*3.2-440000,IF(B19<8500000,ROUNDDOWN(B19*0.9,0)-1100000,B19-1950000)))))) | K19: =IF(J19>23500000,NA(),IF(C19=2026,IF(J19<=4890000,1040000,IF(J19<=6550000,670000,620000)),IF(J19<=1320000,950000,IF(J19<=3360000,880000,IF(J19<=4890000,680000,IF(J19<=6550000,630000,580000)))))) | L19: =IF(D19=1,IF(J19<=9000000,380000,IF(J19<=9500000,260000,IF(J19<=10000000,130000,0))),0) | M19: =IF(D19=1,IF(J19<=9000000,330000,IF(J19<=9500000,220000,IF(J19<=10000000,110000,0))),0) | N19: =IF(D19=1,IF(J19<=9000000,50000,IF(J19<=9500000,40000,IF(J19<=10000000,20000,0))),0) | O19: =MAX(0,ROUNDDOWN(J19-G19-K19-L19-E19*380000-F19*630000-H19,-3)) | P19: =MAX(0,ROUNDDOWN(J19-G19-430000-M19-E19*330000-F19*450000-I19,-3)) | Q19: =50000+N19+E19*50000+F19*180000 | R19: =IF(P19<=2000000,MIN(Q19,P19),MAX(Q19-(P19-2000000),50000))*0.05 | S19: =MAX(0,P19*0.1-R19) | T19: =Q19+MAX(0,K19-480000) | U19: =P19-T19 | V19: =IF(U19<0,0,LOOKUP(U19,{0,1950001,3300001,6950001,9000001,18000001,40000001},{0.05,0.1,0.2,0.23,0.33,0.4,0.45})) | W19: =IF(U19<0,0.9,0.9-V19*1.021) | X19: =ROUNDDOWN(S19*0.2/W19+2000,0) | Y19: =IF(O19<=0,0,LOOKUP(O19,{0,1950001,3300001,6950001,9000001,18000001,40000001},{0.05,0.1,0.2,0.23,0.33,0.4,0.45}))
A20: 早見表 夫婦（配偶者控除あり） | B20: ='2_早見表'!$A$4 | C20: 2026 | D20: 1 | E20: 0 | F20: 0 | G20: =ROUND(MIN(B20/12,650000)*12*0.0915+MIN(B20/12,1390000)*12*(0.0504+0)+B20*0.005,0) | H20: 0 | I20: 0 | J20: =IF(C20=2026,IF(B20<741000,0,IF(B20<2191000,B20-740000,IF(B20<2193000,1451000,IF(B20<2196000,1453000,IF(B20<2200000,1456000,IF(B20<3600000,ROUNDDOWN(B20/4,-3)*2.8-80000,IF(B20<6600000,ROUNDDOWN(B20/4,-3)*3.2-440000,IF(B20<8500000,ROUNDDOWN(B20*0.9,0)-1100000,B20-1950000)))))))),IF(B20<651000,0,IF(B20<1900000,B20-650000,IF(B20<3600000,ROUNDDOWN(B20/4,-3)*2.8-80000,IF(B20<6600000,ROUNDDOWN(B20/4,-3)*3.2-440000,IF(B20<8500000,ROUNDDOWN(B20*0.9,0)-1100000,B20-1950000)))))) | K20: =IF(J20>23500000,NA(),IF(C20=2026,IF(J20<=4890000,1040000,IF(J20<=6550000,670000,620000)),IF(J20<=1320000,950000,IF(J20<=3360000,880000,IF(J20<=4890000,680000,IF(J20<=6550000,630000,580000)))))) | L20: =IF(D20=1,IF(J20<=9000000,380000,IF(J20<=9500000,260000,IF(J20<=10000000,130000,0))),0) | M20: =IF(D20=1,IF(J20<=9000000,330000,IF(J20<=9500000,220000,IF(J20<=10000000,110000,0))),0) | N20: =IF(D20=1,IF(J20<=9000000,50000,IF(J20<=9500000,40000,IF(J20<=10000000,20000,0))),0) | O20: =MAX(0,ROUNDDOWN(J20-G20-K20-L20-E20*380000-F20*630000-H20,-3)) | P20: =MAX(0,ROUNDDOWN(J20-G20-430000-M20-E20*330000-F20*450000-I20,-3)) | Q20: =50000+N20+E20*50000+F20*180000 | R20: =IF(P20<=2000000,MIN(Q20,P20),MAX(Q20-(P20-2000000),50000))*0.05 | S20: =MAX(0,P20*0.1-R20) | T20: =Q20+MAX(0,K20-480000) | U20: =P20-T20 | V20: =IF(U20<0,0,LOOKUP(U20,{0,1950001,3300001,6950001,9000001,18000001,40000001},{0.05,0.1,0.2,0.23,0.33,0.4,0.45})) | W20: =IF(U20<0,0.9,0.9-V20*1.021) | X20: =ROUNDDOWN(S20*0.2/W20+2000,0) | Y20: =IF(O20<=0,0,LOOKUP(O20,{0,1950001,3300001,6950001,9000001,18000001,40000001},{0.05,0.1,0.2,0.23,0.33,0.4,0.45}))
A21: 早見表 共働き＋高校生1人 | B21: ='2_早見表'!$A$4 | C21: 2025 | D21: 0 | E21: 1 | F21: 0 | G21: =ROUND(MIN(B21/12,650000)*12*0.0915+MIN(B21/12,1390000)*12*(0.0504+0)+B21*0.005,0) | H21: 0 | I21: 0 | J21: =IF(C21=2026,IF(B21<741000,0,IF(B21<2191000,B21-740000,IF(B21<2193000,1451000,IF(B21<2196000,1453000,IF(B21<2200000,1456000,IF(B21<3600000,ROUNDDOWN(B21/4,-3)*2.8-80000,IF(B21<6600000,ROUNDDOWN(B21/4,-3)*3.2-440000,IF(B21<8500000,ROUNDDOWN(B21*0.9,0)-1100000,B21-1950000)))))))),IF(B21<651000,0,IF(B21<1900000,B21-650000,IF(B21<3600000,ROUNDDOWN(B21/4,-3)*2.8-80000,IF(B21<6600000,ROUNDDOWN(B21/4,-3)*3.2-440000,IF(B21<8500000,ROUNDDOWN(B21*0.9,0)-1100000,B21-1950000)))))) | K21: =IF(J21>23500000,NA(),IF(C21=2026,IF(J21<=4890000,1040000,IF(J21<=6550000,670000,620000)),IF(J21<=1320000,950000,IF(J21<=3360000,880000,IF(J21<=4890000,680000,IF(J21<=6550000,630000,580000)))))) | L21: =IF(D21=1,IF(J21<=9000000,380000,IF(J21<=9500000,260000,IF(J21<=10000000,130000,0))),0) | M21: =IF(D21=1,IF(J21<=9000000,330000,IF(J21<=9500000,220000,IF(J21<=10000000,110000,0))),0) | N21: =IF(D21=1,IF(J21<=9000000,50000,IF(J21<=9500000,40000,IF(J21<=10000000,20000,0))),0) | O21: =MAX(0,ROUNDDOWN(J21-G21-K21-L21-E21*380000-F21*630000-H21,-3)) | P21: =MAX(0,ROUNDDOWN(J21-G21-430000-M21-E21*330000-F21*450000-I21,-3)) | Q21: =50000+N21+E21*50000+F21*180000 | R21: =IF(P21<=2000000,MIN(Q21,P21),MAX(Q21-(P21-2000000),50000))*0.05 | S21: =MAX(0,P21*0.1-R21) | T21: =Q21+MAX(0,K21-480000) | U21: =P21-T21 | V21: =IF(U21<0,0,LOOKUP(U21,{0,1950001,3300001,6950001,9000001,18000001,40000001},{0.05,0.1,0.2,0.23,0.33,0.4,0.45})) | W21: =IF(U21<0,0.9,0.9-V21*1.021) | X21: =ROUNDDOWN(S21*0.2/W21+2000,0) | Y21: =IF(O21<=0,0,LOOKUP(O21,{0,1950001,3300001,6950001,9000001,18000001,40000001},{0.05,0.1,0.2,0.23,0.33,0.4,0.45}))
A22: 早見表 共働き＋高校生1人 | B22: ='2_早見表'!$A$4 | C22: 2026 | D22: 0 | E22: 1 | F22: 0 | G22: =ROUND(MIN(B22/12,650000)*12*0.0915+MIN(B22/12,1390000)*12*(0.0504+0)+B22*0.005,0) | H22: 0 | I22: 0 | J22: =IF(C22=2026,IF(B22<741000,0,IF(B22<2191000,B22-740000,IF(B22<2193000,1451000,IF(B22<2196000,1453000,IF(B22<2200000,1456000,IF(B22<3600000,ROUNDDOWN(B22/4,-3)*2.8-80000,IF(B22<6600000,ROUNDDOWN(B22/4,-3)*3.2-440000,IF(B22<8500000,ROUNDDOWN(B22*0.9,0)-1100000,B22-1950000)))))))),IF(B22<651000,0,IF(B22<1900000,B22-650000,IF(B22<3600000,ROUNDDOWN(B22/4,-3)*2.8-80000,IF(B22<6600000,ROUNDDOWN(B22/4,-3)*3.2-440000,IF(B22<8500000,ROUNDDOWN(B22*0.9,0)-1100000,B22-1950000)))))) | K22: =IF(J22>23500000,NA(),IF(C22=2026,IF(J22<=4890000,1040000,IF(J22<=6550000,670000,620000)),IF(J22<=1320000,950000,IF(J22<=3360000,880000,IF(J22<=4890000,680000,IF(J22<=6550000,630000,580000)))))) | L22: =IF(D22=1,IF(J22<=9000000,380000,IF(J22<=9500000,260000,IF(J22<=10000000,130000,0))),0) | M22: =IF(D22=1,IF(J22<=9000000,330000,IF(J22<=9500000,220000,IF(J22<=10000000,110000,0))),0) | N22: =IF(D22=1,IF(J22<=9000000,50000,IF(J22<=9500000,40000,IF(J22<=10000000,20000,0))),0) | O22: =MAX(0,ROUNDDOWN(J22-G22-K22-L22-E22*380000-F22*630000-H22,-3)) | P22: =MAX(0,ROUNDDOWN(J22-G22-430000-M22-E22*330000-F22*450000-I22,-3)) | Q22: =50000+N22+E22*50000+F22*180000 | R22: =IF(P22<=2000000,MIN(Q22,P22),MAX(Q22-(P22-2000000),50000))*0.05 | S22: =MAX(0,P22*0.1-R22) | T22: =Q22+MAX(0,K22-480000) | U22: =P22-T22 | V22: =IF(U22<0,0,LOOKUP(U22,{0,1950001,3300001,6950001,9000001,18000001,40000001},{0.05,0.1,0.2,0.23,0.33,0.4,0.45})) | W22: =IF(U22<0,0.9,0.9-V22*1.021) | X22: =ROUNDDOWN(S22*0.2/W22+2000,0) | Y22: =IF(O22<=0,0,LOOKUP(O22,{0,1950001,3300001,6950001,9000001,18000001,40000001},{0.05,0.1,0.2,0.23,0.33,0.4,0.45}))
A23: 早見表 共働き＋大学生1人 | B23: ='2_早見表'!$A$4 | C23: 2025 | D23: 0 | E23: 0 | F23: 1 | G23: =ROUND(MIN(B23/12,650000)*12*0.0915+MIN(B23/12,1390000)*12*(0.0504+0)+B23*0.005,0) | H23: 0 | I23: 0 | J23: =IF(C23=2026,IF(B23<741000,0,IF(B23<2191000,B23-740000,IF(B23<2193000,1451000,IF(B23<2196000,1453000,IF(B23<2200000,1456000,IF(B23<3600000,ROUNDDOWN(B23/4,-3)*2.8-80000,IF(B23<6600000,ROUNDDOWN(B23/4,-3)*3.2-440000,IF(B23<8500000,ROUNDDOWN(B23*0.9,0)-1100000,B23-1950000)))))))),IF(B23<651000,0,IF(B23<1900000,B23-650000,IF(B23<3600000,ROUNDDOWN(B23/4,-3)*2.8-80000,IF(B23<6600000,ROUNDDOWN(B23/4,-3)*3.2-440000,IF(B23<8500000,ROUNDDOWN(B23*0.9,0)-1100000,B23-1950000)))))) | K23: =IF(J23>23500000,NA(),IF(C23=2026,IF(J23<=4890000,1040000,IF(J23<=6550000,670000,620000)),IF(J23<=1320000,950000,IF(J23<=3360000,880000,IF(J23<=4890000,680000,IF(J23<=6550000,630000,580000)))))) | L23: =IF(D23=1,IF(J23<=9000000,380000,IF(J23<=9500000,260000,IF(J23<=10000000,130000,0))),0) | M23: =IF(D23=1,IF(J23<=9000000,330000,IF(J23<=9500000,220000,IF(J23<=10000000,110000,0))),0) | N23: =IF(D23=1,IF(J23<=9000000,50000,IF(J23<=9500000,40000,IF(J23<=10000000,20000,0))),0) | O23: =MAX(0,ROUNDDOWN(J23-G23-K23-L23-E23*380000-F23*630000-H23,-3)) | P23: =MAX(0,ROUNDDOWN(J23-G23-430000-M23-E23*330000-F23*450000-I23,-3)) | Q23: =50000+N23+E23*50000+F23*180000 | R23: =IF(P23<=2000000,MIN(Q23,P23),MAX(Q23-(P23-2000000),50000))*0.05 | S23: =MAX(0,P23*0.1-R23) | T23: =Q23+MAX(0,K23-480000) | U23: =P23-T23 | V23: =IF(U23<0,0,LOOKUP(U23,{0,1950001,3300001,6950001,9000001,18000001,40000001},{0.05,0.1,0.2,0.23,0.33,0.4,0.45})) | W23: =IF(U23<0,0.9,0.9-V23*1.021) | X23: =ROUNDDOWN(S23*0.2/W23+2000,0) | Y23: =IF(O23<=0,0,LOOKUP(O23,{0,1950001,3300001,6950001,9000001,18000001,40000001},{0.05,0.1,0.2,0.23,0.33,0.4,0.45}))
A24: 早見表 共働き＋大学生1人 | B24: ='2_早見表'!$A$4 | C24: 2026 | D24: 0 | E24: 0 | F24: 1 | G24: =ROUND(MIN(B24/12,650000)*12*0.0915+MIN(B24/12,1390000)*12*(0.0504+0)+B24*0.005,0) | H24: 0 | I24: 0 | J24: =IF(C24=2026,IF(B24<741000,0,IF(B24<2191000,B24-740000,IF(B24<2193000,1451000,IF(B24<2196000,1453000,IF(B24<2200000,1456000,IF(B24<3600000,ROUNDDOWN(B24/4,-3)*2.8-80000,IF(B24<6600000,ROUNDDOWN(B24/4,-3)*3.2-440000,IF(B24<8500000,ROUNDDOWN(B24*0.9,0)-1100000,B24-1950000)))))))),IF(B24<651000,0,IF(B24<1900000,B24-650000,IF(B24<3600000,ROUNDDOWN(B24/4,-3)*2.8-80000,IF(B24<6600000,ROUNDDOWN(B24/4,-3)*3.2-440000,IF(B24<8500000,ROUNDDOWN(B24*0.9,0)-1100000,B24-1950000)))))) | K24: =IF(J24>23500000,NA(),IF(C24=2026,IF(J24<=4890000,1040000,IF(J24<=6550000,670000,620000)),IF(J24<=1320000,950000,IF(J24<=3360000,880000,IF(J24<=4890000,680000,IF(J24<=6550000,630000,580000)))))) | L24: =IF(D24=1,IF(J24<=9000000,380000,IF(J24<=9500000,260000,IF(J24<=10000000,130000,0))),0) | M24: =IF(D24=1,IF(J24<=9000000,330000,IF(J24<=9500000,220000,IF(J24<=10000000,110000,0))),0) | N24: =IF(D24=1,IF(J24<=9000000,50000,IF(J24<=9500000,40000,IF(J24<=10000000,20000,0))),0) | O24: =MAX(0,ROUNDDOWN(J24-G24-K24-L24-E24*380000-F24*630000-H24,-3)) | P24: =MAX(0,ROUNDDOWN(J24-G24-430000-M24-E24*330000-F24*450000-I24,-3)) | Q24: =50000+N24+E24*50000+F24*180000 | R24: =IF(P24<=2000000,MIN(Q24,P24),MAX(Q24-(P24-2000000),50000))*0.05 | S24: =MAX(0,P24*0.1-R24) | T24: =Q24+MAX(0,K24-480000) | U24: =P24-T24 | V24: =IF(U24<0,0,LOOKUP(U24,{0,1950001,3300001,6950001,9000001,18000001,40000001},{0.05,0.1,0.2,0.23,0.33,0.4,0.45})) | W24: =IF(U24<0,0.9,0.9-V24*1.021) | X24: =ROUNDDOWN(S24*0.2/W24+2000,0) | Y24: =IF(O24<=0,0,LOOKUP(O24,{0,1950001,3300001,6950001,9000001,18000001,40000001},{0.05,0.1,0.2,0.23,0.33,0.4,0.45}))
A25: 早見表 夫婦＋高校生1人 | B25: ='2_早見表'!$A$4 | C25: 2025 | D25: 1 | E25: 1 | F25: 0 | G25: =ROUND(MIN(B25/12,650000)*12*0.0915+MIN(B25/12,1390000)*12*(0.0504+0)+B25*0.005,0) | H25: 0 | I25: 0 | J25: =IF(C25=2026,IF(B25<741000,0,IF(B25<2191000,B25-740000,IF(B25<2193000,1451000,IF(B25<2196000,1453000,IF(B25<2200000,1456000,IF(B25<3600000,ROUNDDOWN(B25/4,-3)*2.8-80000,IF(B25<6600000,ROUNDDOWN(B25/4,-3)*3.2-440000,IF(B25<8500000,ROUNDDOWN(B25*0.9,0)-1100000,B25-1950000)))))))),IF(B25<651000,0,IF(B25<1900000,B25-650000,IF(B25<3600000,ROUNDDOWN(B25/4,-3)*2.8-80000,IF(B25<6600000,ROUNDDOWN(B25/4,-3)*3.2-440000,IF(B25<8500000,ROUNDDOWN(B25*0.9,0)-1100000,B25-1950000)))))) | K25: =IF(J25>23500000,NA(),IF(C25=2026,IF(J25<=4890000,1040000,IF(J25<=6550000,670000,620000)),IF(J25<=1320000,950000,IF(J25<=3360000,880000,IF(J25<=4890000,680000,IF(J25<=6550000,630000,580000)))))) | L25: =IF(D25=1,IF(J25<=9000000,380000,IF(J25<=9500000,260000,IF(J25<=10000000,130000,0))),0) | M25: =IF(D25=1,IF(J25<=9000000,330000,IF(J25<=9500000,220000,IF(J25<=10000000,110000,0))),0) | N25: =IF(D25=1,IF(J25<=9000000,50000,IF(J25<=9500000,40000,IF(J25<=10000000,20000,0))),0) | O25: =MAX(0,ROUNDDOWN(J25-G25-K25-L25-E25*380000-F25*630000-H25,-3)) | P25: =MAX(0,ROUNDDOWN(J25-G25-430000-M25-E25*330000-F25*450000-I25,-3)) | Q25: =50000+N25+E25*50000+F25*180000 | R25: =IF(P25<=2000000,MIN(Q25,P25),MAX(Q25-(P25-2000000),50000))*0.05 | S25: =MAX(0,P25*0.1-R25) | T25: =Q25+MAX(0,K25-480000) | U25: =P25-T25 | V25: =IF(U25<0,0,LOOKUP(U25,{0,1950001,3300001,6950001,9000001,18000001,40000001},{0.05,0.1,0.2,0.23,0.33,0.4,0.45})) | W25: =IF(U25<0,0.9,0.9-V25*1.021) | X25: =ROUNDDOWN(S25*0.2/W25+2000,0) | Y25: =IF(O25<=0,0,LOOKUP(O25,{0,1950001,3300001,6950001,9000001,18000001,40000001},{0.05,0.1,0.2,0.23,0.33,0.4,0.45}))
A26: 早見表 夫婦＋高校生1人 | B26: ='2_早見表'!$A$4 | C26: 2026 | D26: 1 | E26: 1 | F26: 0 | G26: =ROUND(MIN(B26/12,650000)*12*0.0915+MIN(B26/12,1390000)*12*(0.0504+0)+B26*0.005,0) | H26: 0 | I26: 0 | J26: =IF(C26=2026,IF(B26<741000,0,IF(B26<2191000,B26-740000,IF(B26<2193000,1451000,IF(B26<2196000,1453000,IF(B26<2200000,1456000,IF(B26<3600000,ROUNDDOWN(B26/4,-3)*2.8-80000,IF(B26<6600000,ROUNDDOWN(B26/4,-3)*3.2-440000,IF(B26<8500000,ROUNDDOWN(B26*0.9,0)-1100000,B26-1950000)))))))),IF(B26<651000,0,IF(B26<1900000,B26-650000,IF(B26<3600000,ROUNDDOWN(B26/4,-3)*2.8-80000,IF(B26<6600000,ROUNDDOWN(B26/4,-3)*3.2-440000,IF(B26<8500000,ROUNDDOWN(B26*0.9,0)-1100000,B26-1950000)))))) | K26: =IF(J26>23500000,NA(),IF(C26=2026,IF(J26<=4890000,1040000,IF(J26<=6550000,670000,620000)),IF(J26<=1320000,950000,IF(J26<=3360000,880000,IF(J26<=4890000,680000,IF(J26<=6550000,630000,580000)))))) | L26: =IF(D26=1,IF(J26<=9000000,380000,IF(J26<=9500000,260000,IF(J26<=10000000,130000,0))),0) | M26: =IF(D26=1,IF(J26<=9000000,330000,IF(J26<=9500000,220000,IF(J26<=10000000,110000,0))),0) | N26: =IF(D26=1,IF(J26<=9000000,50000,IF(J26<=9500000,40000,IF(J26<=10000000,20000,0))),0) | O26: =MAX(0,ROUNDDOWN(J26-G26-K26-L26-E26*380000-F26*630000-H26,-3)) | P26: =MAX(0,ROUNDDOWN(J26-G26-430000-M26-E26*330000-F26*450000-I26,-3)) | Q26: =50000+N26+E26*50000+F26*180000 | R26: =IF(P26<=2000000,MIN(Q26,P26),MAX(Q26-(P26-2000000),50000))*0.05 | S26: =MAX(0,P26*0.1-R26) | T26: =Q26+MAX(0,K26-480000) | U26: =P26-T26 | V26: =IF(U26<0,0,LOOKUP(U26,{0,1950001,3300001,6950001,9000001,18000001,40000001},{0.05,0.1,0.2,0.23,0.33,0.4,0.45})) | W26: =IF(U26<0,0.9,0.9-V26*1.021) | X26: =ROUNDDOWN(S26*0.2/W26+2000,0) | Y26: =IF(O26<=0,0,LOOKUP(O26,{0,1950001,3300001,6950001,9000001,18000001,40000001},{0.05,0.1,0.2,0.23,0.33,0.4,0.45}))
A27: 早見表 共働き＋大学生と高校生 | B27: ='2_早見表'!$A$4 | C27: 2025 | D27: 0 | E27: 1 | F27: 1 | G27: =ROUND(MIN(B27/12,650000)*12*0.0915+MIN(B27/12,1390000)*12*(0.0504+0)+B27*0.005,0) | H27: 0 | I27: 0 | J27: =IF(C27=2026,IF(B27<741000,0,IF(B27<2191000,B27-740000,IF(B27<2193000,1451000,IF(B27<2196000,1453000,IF(B27<2200000,1456000,IF(B27<3600000,ROUNDDOWN(B27/4,-3)*2.8-80000,IF(B27<6600000,ROUNDDOWN(B27/4,-3)*3.2-440000,IF(B27<8500000,ROUNDDOWN(B27*0.9,0)-1100000,B27-1950000)))))))),IF(B27<651000,0,IF(B27<1900000,B27-650000,IF(B27<3600000,ROUNDDOWN(B27/4,-3)*2.8-80000,IF(B27<6600000,ROUNDDOWN(B27/4,-3)*3.2-440000,IF(B27<8500000,ROUNDDOWN(B27*0.9,0)-1100000,B27-1950000)))))) | K27: =IF(J27>23500000,NA(),IF(C27=2026,IF(J27<=4890000,1040000,IF(J27<=6550000,670000,620000)),IF(J27<=1320000,950000,IF(J27<=3360000,880000,IF(J27<=4890000,680000,IF(J27<=6550000,630000,580000)))))) | L27: =IF(D27=1,IF(J27<=9000000,380000,IF(J27<=9500000,260000,IF(J27<=10000000,130000,0))),0) | M27: =IF(D27=1,IF(J27<=9000000,330000,IF(J27<=9500000,220000,IF(J27<=10000000,110000,0))),0) | N27: =IF(D27=1,IF(J27<=9000000,50000,IF(J27<=9500000,40000,IF(J27<=10000000,20000,0))),0) | O27: =MAX(0,ROUNDDOWN(J27-G27-K27-L27-E27*380000-F27*630000-H27,-3)) | P27: =MAX(0,ROUNDDOWN(J27-G27-430000-M27-E27*330000-F27*450000-I27,-3)) | Q27: =50000+N27+E27*50000+F27*180000 | R27: =IF(P27<=2000000,MIN(Q27,P27),MAX(Q27-(P27-2000000),50000))*0.05 | S27: =MAX(0,P27*0.1-R27) | T27: =Q27+MAX(0,K27-480000) | U27: =P27-T27 | V27: =IF(U27<0,0,LOOKUP(U27,{0,1950001,3300001,6950001,9000001,18000001,40000001},{0.05,0.1,0.2,0.23,0.33,0.4,0.45})) | W27: =IF(U27<0,0.9,0.9-V27*1.021) | X27: =ROUNDDOWN(S27*0.2/W27+2000,0) | Y27: =IF(O27<=0,0,LOOKUP(O27,{0,1950001,3300001,6950001,9000001,18000001,40000001},{0.05,0.1,0.2,0.23,0.33,0.4,0.45}))
A28: 早見表 共働き＋大学生と高校生 | B28: ='2_早見表'!$A$4 | C28: 2026 | D28: 0 | E28: 1 | F28: 1 | G28: =ROUND(MIN(B28/12,650000)*12*0.0915+MIN(B28/12,1390000)*12*(0.0504+0)+B28*0.005,0) | H28: 0 | I28: 0 | J28: =IF(C28=2026,IF(B28<741000,0,IF(B28<2191000,B28-740000,IF(B28<2193000,1451000,IF(B28<2196000,1453000,IF(B28<2200000,1456000,IF(B28<3600000,ROUNDDOWN(B28/4,-3)*2.8-80000,IF(B28<6600000,ROUNDDOWN(B28/4,-3)*3.2-440000,IF(B28<8500000,ROUNDDOWN(B28*0.9,0)-1100000,B28-1950000)))))))),IF(B28<651000,0,IF(B28<1900000,B28-650000,IF(B28<3600000,ROUNDDOWN(B28/4,-3)*2.8-80000,IF(B28<6600000,ROUNDDOWN(B28/4,-3)*3.2-440000,IF(B28<8500000,ROUNDDOWN(B28*0.9,0)-1100000,B28-1950000)))))) | K28: =IF(J28>23500000,NA(),IF(C28=2026,IF(J28<=4890000,1040000,IF(J28<=6550000,670000,620000)),IF(J28<=1320000,950000,IF(J28<=3360000,880000,IF(J28<=4890000,680000,IF(J28<=6550000,630000,580000)))))) | L28: =IF(D28=1,IF(J28<=9000000,380000,IF(J28<=9500000,260000,IF(J28<=10000000,130000,0))),0) | M28: =IF(D28=1,IF(J28<=9000000,330000,IF(J28<=9500000,220000,IF(J28<=10000000,110000,0))),0) | N28: =IF(D28=1,IF(J28<=9000000,50000,IF(J28<=9500000,40000,IF(J28<=10000000,20000,0))),0) | O28: =MAX(0,ROUNDDOWN(J28-G28-K28-L28-E28*380000-F28*630000-H28,-3)) | P28: =MAX(0,ROUNDDOWN(J28-G28-430000-M28-E28*330000-F28*450000-I28,-3)) | Q28: =50000+N28+E28*50000+F28*180000 | R28: =IF(P28<=2000000,MIN(Q28,P28),MAX(Q28-(P28-2000000),50000))*0.05 | S28: =MAX(0,P28*0.1-R28) | T28: =Q28+MAX(0,K28-480000) | U28: =P28-T28 | V28: =IF(U28<0,0,LOOKUP(U28,{0,1950001,3300001,6950001,9000001,18000001,40000001},{0.05,0.1,0.2,0.23,0.33,0.4,0.45})) | W28: =IF(U28<0,0.9,0.9-V28*1.021) | X28: =ROUNDDOWN(S28*0.2/W28+2000,0) | Y28: =IF(O28<=0,0,LOOKUP(O28,{0,1950001,3300001,6950001,9000001,18000001,40000001},{0.05,0.1,0.2,0.23,0.33,0.4,0.45}))
... A30: 早見表 夫婦＋大学生と高校生 | B30: ='2_早見表'!$A$4 | C30: 2026 | D30: 1 | E30: 1 | F30: 1 | G30: =ROUND(MIN(B30/12,650000)*12*0.0915+MIN(B30/12,1390000)*12*(0.0504+0)+B30*0.005,0) | H30: 0 | I30: 0 | J30: =IF(C30=2026,IF(B30<741000,0,IF(B30<2191000,B30-740000,IF(B30<2193000,1451000,IF(B30<2196000,1453000,IF(B30<2200000,1456000,IF(B30<3600000,ROUNDDOWN(B30/4,-3)*2.8-80000,IF(B30<6600000,ROUNDDOWN(B30/4,-3)*3.2-440000,IF(B30<8500000,ROUNDDOWN(B30*0.9,0)-1100000,B30-1950000)))))))),IF(B30<651000,0,IF(B30<1900000,B30-650000,IF(B30<3600000,ROUNDDOWN(B30/4,-3)*2.8-80000,IF(B30<6600000,ROUNDDOWN(B30/4,-3)*3.2-440000,IF(B30<8500000,ROUNDDOWN(B30*0.9,0)-1100000,B30-1950000)))))) | K30: =IF(J30>23500000,NA(),IF(C30=2026,IF(J30<=4890000,1040000,IF(J30<=6550000,670000,620000)),IF(J30<=1320000,950000,IF(J30<=3360000,880000,IF(J30<=4890000,680000,IF(J30<=6550000,630000,580000)))))) | L30: =IF(D30=1,IF(J30<=9000000,380000,IF(J30<=9500000,260000,IF(J30<=10000000,130000,0))),0) | M30: =IF(D30=1,IF(J30<=9000000,330000,IF(J30<=9500000,220000,IF(J30<=10000000,110000,0))),0) | N30: =IF(D30=1,IF(J30<=9000000,50000,IF(J30<=9500000,40000,IF(J30<=10000000,20000,0))),0) | O30: =MAX(0,ROUNDDOWN(J30-G30-K30-L30-E30*380000-F30*630000-H30,-3)) | P30: =MAX(0,ROUNDDOWN(J30-G30-430000-M30-E30*330000-F30*450000-I30,-3)) | Q30: =50000+N30+E30*50000+F30*180000 | R30: =IF(P30<=2000000,MIN(Q30,P30),MAX(Q30-(P30-2000000),50000))*0.05 | S30: =MAX(0,P30*0.1-R30) | T30: =Q30+MAX(0,K30-480000) | U30: =P30-T30 | V30: =IF(U30<0,0,LOOKUP(U30,{0,1950001,3300001,6950001,9000001,18000001,40000001},{0.05,0.1,0.2,0.23,0.33,0.4,0.45})) | W30: =IF(U30<0,0.9,0.9-V30*1.021) | X30: =ROUNDDOWN(S30*0.2/W30+2000,0) | Y30: =IF(O30<=0,0,LOOKUP(O30,{0,1950001,3300001,6950001,9000001,18000001,40000001},{0.05,0.1,0.2,0.23,0.33,0.4,0.45}))
A31: 早見表 独身または共働き | B31: ='2_早見表'!$A$5 | C31: 2025 | D31: 0 | E31: 0 | F31: 0 | G31: =ROUND(MIN(B31/12,650000)*12*0.0915+MIN(B31/12,1390000)*12*(0.0504+0)+B31*0.005,0) | H31: 0 | I31: 0 | J31: =IF(C31=2026,IF(B31<741000,0,IF(B31<2191000,B31-740000,IF(B31<2193000,1451000,IF(B31<2196000,1453000,IF(B31<2200000,1456000,IF(B31<3600000,ROUNDDOWN(B31/4,-3)*2.8-80000,IF(B31<6600000,ROUNDDOWN(B31/4,-3)*3.2-440000,IF(B31<8500000,ROUNDDOWN(B31*0.9,0)-1100000,B31-1950000)))))))),IF(B31<651000,0,IF(B31<1900000,B31-650000,IF(B31<3600000,ROUNDDOWN(B31/4,-3)*2.8-80000,IF(B31<6600000,ROUNDDOWN(B31/4,-3)*3.2-440000,IF(B31<8500000,ROUNDDOWN(B31*0.9,0)-1100000,B31-1950000)))))) | K31: =IF(J31>23500000,NA(),IF(C31=2026,IF(J31<=4890000,1040000,IF(J31<=6550000,670000,620000)),IF(J31<=1320000,950000,IF(J31<=3360000,880000,IF(J31<=4890000,680000,IF(J31<=6550000,630000,580000)))))) | L31: =IF(D31=1,IF(J31<=9000000,380000,IF(J31<=9500000,260000,IF(J31<=10000000,130000,0))),0) | M31: =IF(D31=1,IF(J31<=9000000,330000,IF(J31<=9500000,220000,IF(J31<=10000000,110000,0))),0) | N31: =IF(D31=1,IF(J31<=9000000,50000,IF(J31<=9500000,40000,IF(J31<=10000000,20000,0))),0) | O31: =MAX(0,ROUNDDOWN(J31-G31-K31-L31-E31*380000-F31*630000-H31,-3)) | P31: =MAX(0,ROUNDDOWN(J31-G31-430000-M31-E31*330000-F31*450000-I31,-3)) | Q31: =50000+N31+E31*50000+F31*180000 | R31: =IF(P31<=2000000,MIN(Q31,P31),MAX(Q31-(P31-2000000),50000))*0.05 | S31: =MAX(0,P31*0.1-R31) | T31: =Q31+MAX(0,K31-480000) | U31: =P31-T31 | V31: =IF(U31<0,0,LOOKUP(U31,{0,1950001,3300001,6950001,9000001,18000001,40000001},{0.05,0.1,0.2,0.23,0.33,0.4,0.45})) | W31: =IF(U31<0,0.9,0.9-V31*1.021) | X31: =ROUNDDOWN(S31*0.2/W31+2000,0) | Y31: =IF(O31<=0,0,LOOKUP(O31,{0,1950001,3300001,6950001,9000001,18000001,40000001},{0.05,0.1,0.2,0.23,0.33,0.4,0.45}))
A32: 早見表 独身または共働き | B32: ='2_早見表'!$A$5 | C32: 2026 | D32: 0 | E32: 0 | F32: 0 | G32: =ROUND(MIN(B32/12,650000)*12*0.0915+MIN(B32/12,1390000)*12*(0.0504+0)+B32*0.005,0) | H32: 0 | I32: 0 | J32: =IF(C32=2026,IF(B32<741000,0,IF(B32<2191000,B32-740000,IF(B32<2193000,1451000,IF(B32<2196000,1453000,IF(B32<2200000,1456000,IF(B32<3600000,ROUNDDOWN(B32/4,-3)*2.8-80000,IF(B32<6600000,ROUNDDOWN(B32/4,-3)*3.2-440000,IF(B32<8500000,ROUNDDOWN(B32*0.9,0)-1100000,B32-1950000)))))))),IF(B32<651000,0,IF(B32<1900000,B32-650000,IF(B32<3600000,ROUNDDOWN(B32/4,-3)*2.8-80000,IF(B32<6600000,ROUNDDOWN(B32/4,-3)*3.2-440000,IF(B32<8500000,ROUNDDOWN(B32*0.9,0)-1100000,B32-1950000)))))) | K32: =IF(J32>23500000,NA(),IF(C32=2026,IF(J32<=4890000,1040000,IF(J32<=6550000,670000,620000)),IF(J32<=1320000,950000,IF(J32<=3360000,880000,IF(J32<=4890000,680000,IF(J32<=6550000,630000,580000)))))) | L32: =IF(D32=1,IF(J32<=9000000,380000,IF(J32<=9500000,260000,IF(J32<=10000000,130000,0))),0) | M32: =IF(D32=1,IF(J32<=9000000,330000,IF(J32<=9500000,220000,IF(J32<=10000000,110000,0))),0) | N32: =IF(D32=1,IF(J32<=9000000,50000,IF(J32<=9500000,40000,IF(J32<=10000000,20000,0))),0) | O32: =MAX(0,ROUNDDOWN(J32-G32-K32-L32-E32*380000-F32*630000-H32,-3)) | P32: =MAX(0,ROUNDDOWN(J32-G32-430000-M32-E32*330000-F32*450000-I32,-3)) | Q32: =50000+N32+E32*50000+F32*180000 | R32: =IF(P32<=2000000,MIN(Q32,P32),MAX(Q32-(P32-2000000),50000))*0.05 | S32: =MAX(0,P32*0.1-R32) | T32: =Q32+MAX(0,K32-480000) | U32: =P32-T32 | V32: =IF(U32<0,0,LOOKUP(U32,{0,1950001,3300001,6950001,9000001,18000001,40000001},{0.05,0.1,0.2,0.23,0.33,0.4,0.45})) | W32: =IF(U32<0,0.9,0.9-V32*1.021) | X32: =ROUNDDOWN(S32*0.2/W32+2000,0) | Y32: =IF(O32<=0,0,LOOKUP(O32,{0,1950001,3300001,6950001,9000001,18000001,40000001},{0.05,0.1,0.2,0.23,0.33,0.4,0.45}))
A33: 早見表 夫婦（配偶者控除あり） | B33: ='2_早見表'!$A$5 | C33: 2025 | D33: 1 | E33: 0 | F33: 0 | G33: =ROUND(MIN(B33/12,650000)*12*0.0915+MIN(B33/12,1390000)*12*(0.0504+0)+B33*0.005,0) | H33: 0 | I33: 0 | J33: =IF(C33=2026,IF(B33<741000,0,IF(B33<2191000,B33-740000,IF(B33<2193000,1451000,IF(B33<2196000,1453000,IF(B33<2200000,1456000,IF(B33<3600000,ROUNDDOWN(B33/4,-3)*2.8-80000,IF(B33<6600000,ROUNDDOWN(B33/4,-3)*3.2-440000,IF(B33<8500000,ROUNDDOWN(B33*0.9,0)-1100000,B33-1950000)))))))),IF(B33<651000,0,IF(B33<1900000,B33-650000,IF(B33<3600000,ROUNDDOWN(B33/4,-3)*2.8-80000,IF(B33<6600000,ROUNDDOWN(B33/4,-3)*3.2-440000,IF(B33<8500000,ROUNDDOWN(B33*0.9,0)-1100000,B33-1950000)))))) | K33: =IF(J33>23500000,NA(),IF(C33=2026,IF(J33<=4890000,1040000,IF(J33<=6550000,670000,620000)),IF(J33<=1320000,950000,IF(J33<=3360000,880000,IF(J33<=4890000,680000,IF(J33<=6550000,630000,580000)))))) | L33: =IF(D33=1,IF(J33<=9000000,380000,IF(J33<=9500000,260000,IF(J33<=10000000,130000,0))),0) | M33: =IF(D33=1,IF(J33<=9000000,330000,IF(J33<=9500000,220000,IF(J33<=10000000,110000,0))),0) | N33: =IF(D33=1,IF(J33<=9000000,50000,IF(J33<=9500000,40000,IF(J33<=10000000,20000,0))),0) | O33: =MAX(0,ROUNDDOWN(J33-G33-K33-L33-E33*380000-F33*630000-H33,-3)) | P33: =MAX(0,ROUNDDOWN(J33-G33-430000-M33-E33*330000-F33*450000-I33,-3)) | Q33: =50000+N33+E33*50000+F33*180000 | R33: =IF(P33<=2000000,MIN(Q33,P33),MAX(Q33-(P33-2000000),50000))*0.05 | S33: =MAX(0,P33*0.1-R33) | T33: =Q33+MAX(0,K33-480000) | U33: =P33-T33 | V33: =IF(U33<0,0,LOOKUP(U33,{0,1950001,3300001,6950001,9000001,18000001,40000001},{0.05,0.1,0.2,0.23,0.33,0.4,0.45})) | W33: =IF(U33<0,0.9,0.9-V33*1.021) | X33: =ROUNDDOWN(S33*0.2/W33+2000,0) | Y33: =IF(O33<=0,0,LOOKUP(O33,{0,1950001,3300001,6950001,9000001,18000001,40000001},{0.05,0.1,0.2,0.23,0.33,0.4,0.45}))
A34: 早見表 夫婦（配偶者控除あり） | B34: ='2_早見表'!$A$5 | C34: 2026 | D34: 1 | E34: 0 | F34: 0 | G34: =ROUND(MIN(B34/12,650000)*12*0.0915+MIN(B34/12,1390000)*12*(0.0504+0)+B34*0.005,0) | H34: 0 | I34: 0 | J34: =IF(C34=2026,IF(B34<741000,0,IF(B34<2191000,B34-740000,IF(B34<2193000,1451000,IF(B34<2196000,1453000,IF(B34<2200000,1456000,IF(B34<3600000,ROUNDDOWN(B34/4,-3)*2.8-80000,IF(B34<6600000,ROUNDDOWN(B34/4,-3)*3.2-440000,IF(B34<8500000,ROUNDDOWN(B34*0.9,0)-1100000,B34-1950000)))))))),IF(B34<651000,0,IF(B34<1900000,B34-650000,IF(B34<3600000,ROUNDDOWN(B34/4,-3)*2.8-80000,IF(B34<6600000,ROUNDDOWN(B34/4,-3)*3.2-440000,IF(B34<8500000,ROUNDDOWN(B34*0.9,0)-1100000,B34-1950000)))))) | K34: =IF(J34>23500000,NA(),IF(C34=2026,IF(J34<=4890000,1040000,IF(J34<=6550000,670000,620000)),IF(J34<=1320000,950000,IF(J34<=3360000,880000,IF(J34<=4890000,680000,IF(J34<=6550000,630000,580000)))))) | L34: =IF(D34=1,IF(J34<=9000000,380000,IF(J34<=9500000,260000,IF(J34<=10000000,130000,0))),0) | M34: =IF(D34=1,IF(J34<=9000000,330000,IF(J34<=9500000,220000,IF(J34<=10000000,110000,0))),0) | N34: =IF(D34=1,IF(J34<=9000000,50000,IF(J34<=9500000,40000,IF(J34<=10000000,20000,0))),0) | O34: =MAX(0,ROUNDDOWN(J34-G34-K34-L34-E34*380000-F34*630000-H34,-3)) | P34: =MAX(0,ROUNDDOWN(J34-G34-430000-M34-E34*330000-F34*450000-I34,-3)) | Q34: =50000+N34+E34*50000+F34*180000 | R34: =IF(P34<=2000000,MIN(Q34,P34),MAX(Q34-(P34-2000000),50000))*0.05 | S34: =MAX(0,P34*0.1-R34) | T34: =Q34+MAX(0,K34-480000) | U34: =P34-T34 | V34: =IF(U34<0,0,LOOKUP(U34,{0,1950001,3300001,6950001,9000001,18000001,40000001},{0.05,0.1,0.2,0.23,0.33,0.4,0.45})) | W34: =IF(U34<0,0.9,0.9-V34*1.021) | X34: =ROUNDDOWN(S34*0.2/W34+2000,0) | Y34: =IF(O34<=0,0,LOOKUP(O34,{0,1950001,3300001,6950001,9000001,18000001,40000001},{0.05,0.1,0.2,0.23,0.33,0.4,0.45}))
A35: 早見表 共働き＋高校生1人 | B35: ='2_早見表'!$A$5 | C35: 2025 | D35: 0 | E35: 1 | F35: 0 | G35: =ROUND(MIN(B35/12,650000)*12*0.0915+MIN(B35/12,1390000)*12*(0.0504+0)+B35*0.005,0) | H35: 0 | I35: 0 | J35: =IF(C35=2026,IF(B35<741000,0,IF(B35<2191000,B35-740000,IF(B35<2193000,1451000,IF(B35<2196000,1453000,IF(B35<2200000,1456000,IF(B35<3600000,ROUNDDOWN(B35/4,-3)*2.8-80000,IF(B35<6600000,ROUNDDOWN(B35/4,-3)*3.2-440000,IF(B35<8500000,ROUNDDOWN(B35*0.9,0)-1100000,B35-1950000)))))))),IF(B35<651000,0,IF(B35<1900000,B35-650000,IF(B35<3600000,ROUNDDOWN(B35/4,-3)*2.8-80000,IF(B35<6600000,ROUNDDOWN(B35/4,-3)*3.2-440000,IF(B35<8500000,ROUNDDOWN(B35*0.9,0)-1100000,B35-1950000)))))) | K35: =IF(J35>23500000,NA(),IF(C35=2026,IF(J35<=4890000,1040000,IF(J35<=6550000,670000,620000)),IF(J35<=1320000,950000,IF(J35<=3360000,880000,IF(J35<=4890000,680000,IF(J35<=6550000,630000,580000)))))) | L35: =IF(D35=1,IF(J35<=9000000,380000,IF(J35<=9500000,260000,IF(J35<=10000000,130000,0))),0) | M35: =IF(D35=1,IF(J35<=9000000,330000,IF(J35<=9500000,220000,IF(J35<=10000000,110000,0))),0) | N35: =IF(D35=1,IF(J35<=9000000,50000,IF(J35<=9500000,40000,IF(J35<=10000000,20000,0))),0) | O35: =MAX(0,ROUNDDOWN(J35-G35-K35-L35-E35*380000-F35*630000-H35,-3)) | P35: =MAX(0,ROUNDDOWN(J35-G35-430000-M35-E35*330000-F35*450000-I35,-3)) | Q35: =50000+N35+E35*50000+F35*180000 | R35: =IF(P35<=2000000,MIN(Q35,P35),MAX(Q35-(P35-2000000),50000))*0.05 | S35: =MAX(0,P35*0.1-R35) | T35: =Q35+MAX(0,K35-480000) | U35: =P35-T35 | V35: =IF(U35<0,0,LOOKUP(U35,{0,1950001,3300001,6950001,9000001,18000001,40000001},{0.05,0.1,0.2,0.23,0.33,0.4,0.45})) | W35: =IF(U35<0,0.9,0.9-V35*1.021) | X35: =ROUNDDOWN(S35*0.2/W35+2000,0) | Y35: =IF(O35<=0,0,LOOKUP(O35,{0,1950001,3300001,6950001,9000001,18000001,40000001},{0.05,0.1,0.2,0.23,0.33,0.4,0.45}))
A36: 早見表 共働き＋高校生1人 | B36: ='2_早見表'!$A$5 | C36: 2026 | D36: 0 | E36: 1 | F36: 0 | G36: =ROUND(MIN(B36/12,650000)*12*0.0915+MIN(B36/12,1390000)*12*(0.0504+0)+B36*0.005,0) | H36: 0 | I36: 0 | J36: =IF(C36=2026,IF(B36<741000,0,IF(B36<2191000,B36-740000,IF(B36<2193000,1451000,IF(B36<2196000,1453000,IF(B36<2200000,1456000,IF(B36<3600000,ROUNDDOWN(B36/4,-3)*2.8-80000,IF(B36<6600000,ROUNDDOWN(B36/4,-3)*3.2-440000,IF(B36<8500000,ROUNDDOWN(B36*0.9,0)-1100000,B36-1950000)))))))),IF(B36<651000,0,IF(B36<1900000,B36-650000,IF(B36<3600000,ROUNDDOWN(B36/4,-3)*2.8-80000,IF(B36<6600000,ROUNDDOWN(B36/4,-3)*3.2-440000,IF(B36<8500000,ROUNDDOWN(B36*0.9,0)-1100000,B36-1950000)))))) | K36: =IF(J36>23500000,NA(),IF(C36=2026,IF(J36<=4890000,1040000,IF(J36<=6550000,670000,620000)),IF(J36<=1320000,950000,IF(J36<=3360000,880000,IF(J36<=4890000,680000,IF(J36<=6550000,630000,580000)))))) | L36: =IF(D36=1,IF(J36<=9000000,380000,IF(J36<=9500000,260000,IF(J36<=10000000,130000,0))),0) | M36: =IF(D36=1,IF(J36<=9000000,330000,IF(J36<=9500000,220000,IF(J36<=10000000,110000,0))),0) | N36: =IF(D36=1,IF(J36<=9000000,50000,IF(J36<=9500000,40000,IF(J36<=10000000,20000,0))),0) | O36: =MAX(0,ROUNDDOWN(J36-G36-K36-L36-E36*380000-F36*630000-H36,-3)) | P36: =MAX(0,ROUNDDOWN(J36-G36-430000-M36-E36*330000-F36*450000-I36,-3)) | Q36: =50000+N36+E36*50000+F36*180000 | R36: =IF(P36<=2000000,MIN(Q36,P36),MAX(Q36-(P36-2000000),50000))*0.05 | S36: =MAX(0,P36*0.1-R36) | T36: =Q36+MAX(0,K36-480000) | U36: =P36-T36 | V36: =IF(U36<0,0,LOOKUP(U36,{0,1950001,3300001,6950001,9000001,18000001,40000001},{0.05,0.1,0.2,0.23,0.33,0.4,0.45})) | W36: =IF(U36<0,0.9,0.9-V36*1.021) | X36: =ROUNDDOWN(S36*0.2/W36+2000,0) | Y36: =IF(O36<=0,0,LOOKUP(O36,{0,1950001,3300001,6950001,9000001,18000001,40000001},{0.05,0.1,0.2,0.23,0.33,0.4,0.45}))
A37: 早見表 共働き＋大学生1人 | B37: ='2_早見表'!$A$5 | C37: 2025 | D37: 0 | E37: 0 | F37: 1 | G37: =ROUND(MIN(B37/12,650000)*12*0.0915+MIN(B37/12,1390000)*12*(0.0504+0)+B37*0.005,0) | H37: 0 | I37: 0 | J37: =IF(C37=2026,IF(B37<741000,0,IF(B37<2191000,B37-740000,IF(B37<2193000,1451000,IF(B37<2196000,1453000,IF(B37<2200000,1456000,IF(B37<3600000,ROUNDDOWN(B37/4,-3)*2.8-80000,IF(B37<6600000,ROUNDDOWN(B37/4,-3)*3.2-440000,IF(B37<8500000,ROUNDDOWN(B37*0.9,0)-1100000,B37-1950000)))))))),IF(B37<651000,0,IF(B37<1900000,B37-650000,IF(B37<3600000,ROUNDDOWN(B37/4,-3)*2.8-80000,IF(B37<6600000,ROUNDDOWN(B37/4,-3)*3.2-440000,IF(B37<8500000,ROUNDDOWN(B37*0.9,0)-1100000,B37-1950000)))))) | K37: =IF(J37>23500000,NA(),IF(C37=2026,IF(J37<=4890000,1040000,IF(J37<=6550000,670000,620000)),IF(J37<=1320000,950000,IF(J37<=3360000,880000,IF(J37<=4890000,680000,IF(J37<=6550000,630000,580000)))))) | L37: =IF(D37=1,IF(J37<=9000000,380000,IF(J37<=9500000,260000,IF(J37<=10000000,130000,0))),0) | M37: =IF(D37=1,IF(J37<=9000000,330000,IF(J37<=9500000,220000,IF(J37<=10000000,110000,0))),0) | N37: =IF(D37=1,IF(J37<=9000000,50000,IF(J37<=9500000,40000,IF(J37<=10000000,20000,0))),0) | O37: =MAX(0,ROUNDDOWN(J37-G37-K37-L37-E37*380000-F37*630000-H37,-3)) | P37: =MAX(0,ROUNDDOWN(J37-G37-430000-M37-E37*330000-F37*450000-I37,-3)) | Q37: =50000+N37+E37*50000+F37*180000 | R37: =IF(P37<=2000000,MIN(Q37,P37),MAX(Q37-(P37-2000000),50000))*0.05 | S37: =MAX(0,P37*0.1-R37) | T37: =Q37+MAX(0,K37-480000) | U37: =P37-T37 | V37: =IF(U37<0,0,LOOKUP(U37,{0,1950001,3300001,6950001,9000001,18000001,40000001},{0.05,0.1,0.2,0.23,0.33,0.4,0.45})) | W37: =IF(U37<0,0.9,0.9-V37*1.021) | X37: =ROUNDDOWN(S37*0.2/W37+2000,0) | Y37: =IF(O37<=0,0,LOOKUP(O37,{0,1950001,3300001,6950001,9000001,18000001,40000001},{0.05,0.1,0.2,0.23,0.33,0.4,0.45}))
A38: 早見表 共働き＋大学生1人 | B38: ='2_早見表'!$A$5 | C38: 2026 | D38: 0 | E38: 0 | F38: 1 | G38: =ROUND(MIN(B38/12,650000)*12*0.0915+MIN(B38/12,1390000)*12*(0.0504+0)+B38*0.005,0) | H38: 0 | I38: 0 | J38: =IF(C38=2026,IF(B38<741000,0,IF(B38<2191000,B38-740000,IF(B38<2193000,1451000,IF(B38<2196000,1453000,IF(B38<2200000,1456000,IF(B38<3600000,ROUNDDOWN(B38/4,-3)*2.8-80000,IF(B38<6600000,ROUNDDOWN(B38/4,-3)*3.2-440000,IF(B38<8500000,ROUNDDOWN(B38*0.9,0)-1100000,B38-1950000)))))))),IF(B38<651000,0,IF(B38<1900000,B38-650000,IF(B38<3600000,ROUNDDOWN(B38/4,-3)*2.8-80000,IF(B38<6600000,ROUNDDOWN(B38/4,-3)*3.2-440000,IF(B38<8500000,ROUNDDOWN(B38*0.9,0)-1100000,B38-1950000)))))) | K38: =IF(J38>23500000,NA(),IF(C38=2026,IF(J38<=4890000,1040000,IF(J38<=6550000,670000,620000)),IF(J38<=1320000,950000,IF(J38<=3360000,880000,IF(J38<=4890000,680000,IF(J38<=6550000,630000,580000)))))) | L38: =IF(D38=1,IF(J38<=9000000,380000,IF(J38<=9500000,260000,IF(J38<=10000000,130000,0))),0) | M38: =IF(D38=1,IF(J38<=9000000,330000,IF(J38<=9500000,220000,IF(J38<=10000000,110000,0))),0) | N38: =IF(D38=1,IF(J38<=9000000,50000,IF(J38<=9500000,40000,IF(J38<=10000000,20000,0))),0) | O38: =MAX(0,ROUNDDOWN(J38-G38-K38-L38-E38*380000-F38*630000-H38,-3)) | P38: =MAX(0,ROUNDDOWN(J38-G38-430000-M38-E38*330000-F38*450000-I38,-3)) | Q38: =50000+N38+E38*50000+F38*180000 | R38: =IF(P38<=2000000,MIN(Q38,P38),MAX(Q38-(P38-2000000),50000))*0.05 | S38: =MAX(0,P38*0.1-R38) | T38: =Q38+MAX(0,K38-480000) | U38: =P38-T38 | V38: =IF(U38<0,0,LOOKUP(U38,{0,1950001,3300001,6950001,9000001,18000001,40000001},{0.05,0.1,0.2,0.23,0.33,0.4,0.45})) | W38: =IF(U38<0,0.9,0.9-V38*1.021) | X38: =ROUNDDOWN(S38*0.2/W38+2000,0) | Y38: =IF(O38<=0,0,LOOKUP(O38,{0,1950001,3300001,6950001,9000001,18000001,40000001},{0.05,0.1,0.2,0.23,0.33,0.4,0.45}))
A39: 早見表 夫婦＋高校生1人 | B39: ='2_早見表'!$A$5 | C39: 2025 | D39: 1 | E39: 1 | F39: 0 | G39: =ROUND(MIN(B39/12,650000)*12*0.0915+MIN(B39/12,1390000)*12*(0.0504+0)+B39*0.005,0) | H39: 0 | I39: 0 | J39: =IF(C39=2026,IF(B39<741000,0,IF(B39<2191000,B39-740000,IF(B39<2193000,1451000,IF(B39<2196000,1453000,IF(B39<2200000,1456000,IF(B39<3600000,ROUNDDOWN(B39/4,-3)*2.8-80000,IF(B39<6600000,ROUNDDOWN(B39/4,-3)*3.2-440000,IF(B39<8500000,ROUNDDOWN(B39*0.9,0)-1100000,B39-1950000)))))))),IF(B39<651000,0,IF(B39<1900000,B39-650000,IF(B39<3600000,ROUNDDOWN(B39/4,-3)*2.8-80000,IF(B39<6600000,ROUNDDOWN(B39/4,-3)*3.2-440000,IF(B39<8500000,ROUNDDOWN(B39*0.9,0)-1100000,B39-1950000)))))) | K39: =IF(J39>23500000,NA(),IF(C39=2026,IF(J39<=4890000,1040000,IF(J39<=6550000,670000,620000)),IF(J39<=1320000,950000,IF(J39<=3360000,880000,IF(J39<=4890000,680000,IF(J39<=6550000,630000,580000)))))) | L39: =IF(D39=1,IF(J39<=9000000,380000,IF(J39<=9500000,260000,IF(J39<=10000000,130000,0))),0) | M39: =IF(D39=1,IF(J39<=9000000,330000,IF(J39<=9500000,220000,IF(J39<=10000000,110000,0))),0) | N39: =IF(D39=1,IF(J39<=9000000,50000,IF(J39<=9500000,40000,IF(J39<=10000000,20000,0))),0) | O39: =MAX(0,ROUNDDOWN(J39-G39-K39-L39-E39*380000-F39*630000-H39,-3)) | P39: =MAX(0,ROUNDDOWN(J39-G39-430000-M39-E39*330000-F39*450000-I39,-3)) | Q39: =50000+N39+E39*50000+F39*180000 | R39: =IF(P39<=2000000,MIN(Q39,P39),MAX(Q39-(P39-2000000),50000))*0.05 | S39: =MAX(0,P39*0.1-R39) | T39: =Q39+MAX(0,K39-480000) | U39: =P39-T39 | V39: =IF(U39<0,0,LOOKUP(U39,{0,1950001,3300001,6950001,9000001,18000001,40000001},{0.05,0.1,0.2,0.23,0.33,0.4,0.45})) | W39: =IF(U39<0,0.9,0.9-V39*1.021) | X39: =ROUNDDOWN(S39*0.2/W39+2000,0) | Y39: =IF(O39<=0,0,LOOKUP(O39,{0,1950001,3300001,6950001,9000001,18000001,40000001},{0.05,0.1,0.2,0.23,0.33,0.4,0.45}))
A40: 早見表 夫婦＋高校生1人 | B40: ='2_早見表'!$A$5 | C40: 2026 | D40: 1 | E40: 1 | F40: 0 | G40: =ROUND(MIN(B40/12,650000)*12*0.0915+MIN(B40/12,1390000)*12*(0.0504+0)+B40*0.005,0) | H40: 0 | I40: 0 | J40: =IF(C40=2026,IF(B40<741000,0,IF(B40<2191000,B40-740000,IF(B40<2193000,1451000,IF(B40<2196000,1453000,IF(B40<2200000,1456000,IF(B40<3600000,ROUNDDOWN(B40/4,-3)*2.8-80000,IF(B40<6600000,ROUNDDOWN(B40/4,-3)*3.2-440000,IF(B40<8500000,ROUNDDOWN(B40*0.9,0)-1100000,B40-1950000)))))))),IF(B40<651000,0,IF(B40<1900000,B40-650000,IF(B40<3600000,ROUNDDOWN(B40/4,-3)*2.8-80000,IF(B40<6600000,ROUNDDOWN(B40/4,-3)*3.2-440000,IF(B40<8500000,ROUNDDOWN(B40*0.9,0)-1100000,B40-1950000)))))) | K40: =IF(J40>23500000,NA(),IF(C40=2026,IF(J40<=4890000,1040000,IF(J40<=6550000,670000,620000)),IF(J40<=1320000,950000,IF(J40<=3360000,880000,IF(J40<=4890000,680000,IF(J40<=6550000,630000,580000)))))) | L40: =IF(D40=1,IF(J40<=9000000,380000,IF(J40<=9500000,260000,IF(J40<=10000000,130000,0))),0) | M40: =IF(D40=1,IF(J40<=9000000,330000,IF(J40<=9500000,220000,IF(J40<=10000000,110000,0))),0) | N40: =IF(D40=1,IF(J40<=9000000,50000,IF(J40<=9500000,40000,IF(J40<=10000000,20000,0))),0) | O40: =MAX(0,ROUNDDOWN(J40-G40-K40-L40-E40*380000-F40*630000-H40,-3)) | P40: =MAX(0,ROUNDDOWN(J40-G40-430000-M40-E40*330000-F40*450000-I40,-3)) | Q40: =50000+N40+E40*50000+F40*180000 | R40: =IF(P40<=2000000,MIN(Q40,P40),MAX(Q40-(P40-2000000),50000))*0.05 | S40: =MAX(0,P40*0.1-R40) | T40: =Q40+MAX(0,K40-480000) | U40: =P40-T40 | V40: =IF(U40<0,0,LOOKUP(U40,{0,1950001,3300001,6950001,9000001,18000001,40000001},{0.05,0.1,0.2,0.23,0.33,0.4,0.45})) | W40: =IF(U40<0,0.9,0.9-V40*1.021) | X40: =ROUNDDOWN(S40*0.2/W40+2000,0) | Y40: =IF(O40<=0,0,LOOKUP(O40,{0,1950001,3300001,6950001,9000001,18000001,40000001},{0.05,0.1,0.2,0.23,0.33,0.4,0.45}))
A41: 早見表 共働き＋大学生と高校生 | B41: ='2_早見表'!$A$5 | C41: 2025 | D41: 0 | E41: 1 | F41: 1 | G41: =ROUND(MIN(B41/12,650000)*12*0.0915+MIN(B41/12,1390000)*12*(0.0504+0)+B41*0.005,0) | H41: 0 | I41: 0 | J41: =IF(C41=2026,IF(B41<741000,0,IF(B41<2191000,B41-740000,IF(B41<2193000,1451000,IF(B41<2196000,1453000,IF(B41<2200000,1456000,IF(B41<3600000,ROUNDDOWN(B41/4,-3)*2.8-80000,IF(B41<6600000,ROUNDDOWN(B41/4,-3)*3.2-440000,IF(B41<8500000,ROUNDDOWN(B41*0.9,0)-1100000,B41-1950000)))))))),IF(B41<651000,0,IF(B41<1900000,B41-650000,IF(B41<3600000,ROUNDDOWN(B41/4,-3)*2.8-80000,IF(B41<6600000,ROUNDDOWN(B41/4,-3)*3.2-440000,IF(B41<8500000,ROUNDDOWN(B41*0.9,0)-1100000,B41-1950000)))))) | K41: =IF(J41>23500000,NA(),IF(C41=2026,IF(J41<=4890000,1040000,IF(J41<=6550000,670000,620000)),IF(J41<=1320000,950000,IF(J41<=3360000,880000,IF(J41<=4890000,680000,IF(J41<=6550000,630000,580000)))))) | L41: =IF(D41=1,IF(J41<=9000000,380000,IF(J41<=9500000,260000,IF(J41<=10000000,130000,0))),0) | M41: =IF(D41=1,IF(J41<=9000000,330000,IF(J41<=9500000,220000,IF(J41<=10000000,110000,0))),0) | N41: =IF(D41=1,IF(J41<=9000000,50000,IF(J41<=9500000,40000,IF(J41<=10000000,20000,0))),0) | O41: =MAX(0,ROUNDDOWN(J41-G41-K41-L41-E41*380000-F41*630000-H41,-3)) | P41: =MAX(0,ROUNDDOWN(J41-G41-430000-M41-E41*330000-F41*450000-I41,-3)) | Q41: =50000+N41+E41*50000+F41*180000 | R41: =IF(P41<=2000000,MIN(Q41,P41),MAX(Q41-(P41-2000000),50000))*0.05 | S41: =MAX(0,P41*0.1-R41) | T41: =Q41+MAX(0,K41-480000) | U41: =P41-T41 | V41: =IF(U41<0,0,LOOKUP(U41,{0,1950001,3300001,6950001,9000001,18000001,40000001},{0.05,0.1,0.2,0.23,0.33,0.4,0.45})) | W41: =IF(U41<0,0.9,0.9-V41*1.021) | X41: =ROUNDDOWN(S41*0.2/W41+2000,0) | Y41: =IF(O41<=0,0,LOOKUP(O41,{0,1950001,3300001,6950001,9000001,18000001,40000001},{0.05,0.1,0.2,0.23,0.33,0.4,0.45}))
A42: 早見表 共働き＋大学生と高校生 | B42: ='2_早見表'!$A$5 | C42: 2026 | D42: 0 | E42: 1 | F42: 1 | G42: =ROUND(MIN(B42/12,650000)*12*0.0915+MIN(B42/12,1390000)*12*(0.0504+0)+B42*0.005,0) | H42: 0 | I42: 0 | J42: =IF(C42=2026,IF(B42<741000,0,IF(B42<2191000,B42-740000,IF(B42<2193000,1451000,IF(B42<2196000,1453000,IF(B42<2200000,1456000,IF(B42<3600000,ROUNDDOWN(B42/4,-3)*2.8-80000,IF(B42<6600000,ROUNDDOWN(B42/4,-3)*3.2-440000,IF(B42<8500000,ROUNDDOWN(B42*0.9,0)-1100000,B42-1950000)))))))),IF(B42<651000,0,IF(B42<1900000,B42-650000,IF(B42<3600000,ROUNDDOWN(B42/4,-3)*2.8-80000,IF(B42<6600000,ROUNDDOWN(B42/4,-3)*3.2-440000,IF(B42<8500000,ROUNDDOWN(B42*0.9,0)-1100000,B42-1950000)))))) | K42: =IF(J42>23500000,NA(),IF(C42=2026,IF(J42<=4890000,1040000,IF(J42<=6550000,670000,620000)),IF(J42<=1320000,950000,IF(J42<=3360000,880000,IF(J42<=4890000,680000,IF(J42<=6550000,630000,580000)))))) | L42: =IF(D42=1,IF(J42<=9000000,380000,IF(J42<=9500000,260000,IF(J42<=10000000,130000,0))),0) | M42: =IF(D42=1,IF(J42<=9000000,330000,IF(J42<=9500000,220000,IF(J42<=10000000,110000,0))),0) | N42: =IF(D42=1,IF(J42<=9000000,50000,IF(J42<=9500000,40000,IF(J42<=10000000,20000,0))),0) | O42: =MAX(0,ROUNDDOWN(J42-G42-K42-L42-E42*380000-F42*630000-H42,-3)) | P42: =MAX(0,ROUNDDOWN(J42-G42-430000-M42-E42*330000-F42*450000-I42,-3)) | Q42: =50000+N42+E42*50000+F42*180000 | R42: =IF(P42<=2000000,MIN(Q42,P42),MAX(Q42-(P42-2000000),50000))*0.05 | S42: =MAX(0,P42*0.1-R42) | T42: =Q42+MAX(0,K42-480000) | U42: =P42-T42 | V42: =IF(U42<0,0,LOOKUP(U42,{0,1950001,3300001,6950001,9000001,18000001,40000001},{0.05,0.1,0.2,0.23,0.33,0.4,0.45})) | W42: =IF(U42<0,0.9,0.9-V42*1.021) | X42: =ROUNDDOWN(S42*0.2/W42+2000,0) | Y42: =IF(O42<=0,0,LOOKUP(O42,{0,1950001,3300001,6950001,9000001,18000001,40000001},{0.05,0.1,0.2,0.23,0.33,0.4,0.45}))
... A44: 早見表 夫婦＋大学生と高校生 | B44: ='2_早見表'!$A$5 | C44: 2026 | D44: 1 | E44: 1 | F44: 1 | G44: =ROUND(MIN(B44/12,650000)*12*0.0915+MIN(B44/12,1390000)*12*(0.0504+0)+B44*0.005,0) | H44: 0 | I44: 0 | J44: =IF(C44=2026,IF(B44<741000,0,IF(B44<2191000,B44-740000,IF(B44<2193000,1451000,IF(B44<2196000,1453000,IF(B44<2200000,1456000,IF(B44<3600000,ROUNDDOWN(B44/4,-3)*2.8-80000,IF(B44<6600000,ROUNDDOWN(B44/4,-3)*3.2-440000,IF(B44<8500000,ROUNDDOWN(B44*0.9,0)-1100000,B44-1950000)))))))),IF(B44<651000,0,IF(B44<1900000,B44-650000,IF(B44<3600000,ROUNDDOWN(B44/4,-3)*2.8-80000,IF(B44<6600000,ROUNDDOWN(B44/4,-3)*3.2-440000,IF(B44<8500000,ROUNDDOWN(B44*0.9,0)-1100000,B44-1950000)))))) | K44: =IF(J44>23500000,NA(),IF(C44=2026,IF(J44<=4890000,1040000,IF(J44<=6550000,670000,620000)),IF(J44<=1320000,950000,IF(J44<=3360000,880000,IF(J44<=4890000,680000,IF(J44<=6550000,630000,580000)))))) | L44: =IF(D44=1,IF(J44<=9000000,380000,IF(J44<=9500000,260000,IF(J44<=10000000,130000,0))),0) | M44: =IF(D44=1,IF(J44<=9000000,330000,IF(J44<=9500000,220000,IF(J44<=10000000,110000,0))),0) | N44: =IF(D44=1,IF(J44<=9000000,50000,IF(J44<=9500000,40000,IF(J44<=10000000,20000,0))),0) | O44: =MAX(0,ROUNDDOWN(J44-G44-K44-L44-E44*380000-F44*630000-H44,-3)) | P44: =MAX(0,ROUNDDOWN(J44-G44-430000-M44-E44*330000-F44*450000-I44,-3)) | Q44: =50000+N44+E44*50000+F44*180000 | R44: =IF(P44<=2000000,MIN(Q44,P44),MAX(Q44-(P44-2000000),50000))*0.05 | S44: =MAX(0,P44*0.1-R44) | T44: =Q44+MAX(0,K44-480000) | U44: =P44-T44 | V44: =IF(U44<0,0,LOOKUP(U44,{0,1950001,3300001,6950001,9000001,18000001,40000001},{0.05,0.1,0.2,0.23,0.33,0.4,0.45})) | W44: =IF(U44<0,0.9,0.9-V44*1.021) | X44: =ROUNDDOWN(S44*0.2/W44+2000,0) | Y44: =IF(O44<=0,0,LOOKUP(O44,{0,1950001,3300001,6950001,9000001,18000001,40000001},{0.05,0.1,0.2,0.23,0.33,0.4,0.45}))
A45: 早見表 独身または共働き | B45: ='2_早見表'!$A$6 | C45: 2025 | D45: 0 | E45: 0 | F45: 0 | G45: =ROUND(MIN(B45/12,650000)*12*0.0915+MIN(B45/12,1390000)*12*(0.0504+0)+B45*0.005,0) | H45: 0 | I45: 0 | J45: =IF(C45=2026,IF(B45<741000,0,IF(B45<2191000,B45-740000,IF(B45<2193000,1451000,IF(B45<2196000,1453000,IF(B45<2200000,1456000,IF(B45<3600000,ROUNDDOWN(B45/4,-3)*2.8-80000,IF(B45<6600000,ROUNDDOWN(B45/4,-3)*3.2-440000,IF(B45<8500000,ROUNDDOWN(B45*0.9,0)-1100000,B45-1950000)))))))),IF(B45<651000,0,IF(B45<1900000,B45-650000,IF(B45<3600000,ROUNDDOWN(B45/4,-3)*2.8-80000,IF(B45<6600000,ROUNDDOWN(B45/4,-3)*3.2-440000,IF(B45<8500000,ROUNDDOWN(B45*0.9,0)-1100000,B45-1950000)))))) | K45: =IF(J45>23500000,NA(),IF(C45=2026,IF(J45<=4890000,1040000,IF(J45<=6550000,670000,620000)),IF(J45<=1320000,950000,IF(J45<=3360000,880000,IF(J45<=4890000,680000,IF(J45<=6550000,630000,580000)))))) | L45: =IF(D45=1,IF(J45<=9000000,380000,IF(J45<=9500000,260000,IF(J45<=10000000,130000,0))),0) | M45: =IF(D45=1,IF(J45<=9000000,330000,IF(J45<=9500000,220000,IF(J45<=10000000,110000,0))),0) | N45: =IF(D45=1,IF(J45<=9000000,50000,IF(J45<=9500000,40000,IF(J45<=10000000,20000,0))),0) | O45: =MAX(0,ROUNDDOWN(J45-G45-K45-L45-E45*380000-F45*630000-H45,-3)) | P45: =MAX(0,ROUNDDOWN(J45-G45-430000-M45-E45*330000-F45*450000-I45,-3)) | Q45: =50000+N45+E45*50000+F45*180000 | R45: =IF(P45<=2000000,MIN(Q45,P45),MAX(Q45-(P45-2000000),50000))*0.05 | S45: =MAX(0,P45*0.1-R45) | T45: =Q45+MAX(0,K45-480000) | U45: =P45-T45 | V45: =IF(U45<0,0,LOOKUP(U45,{0,1950001,3300001,6950001,9000001,18000001,40000001},{0.05,0.1,0.2,0.23,0.33,0.4,0.45})) | W45: =IF(U45<0,0.9,0.9-V45*1.021) | X45: =ROUNDDOWN(S45*0.2/W45+2000,0) | Y45: =IF(O45<=0,0,LOOKUP(O45,{0,1950001,3300001,6950001,9000001,18000001,40000001},{0.05,0.1,0.2,0.23,0.33,0.4,0.45}))
A46: 早見表 独身または共働き | B46: ='2_早見表'!$A$6 | C46: 2026 | D46: 0 | E46: 0 | F46: 0 | G46: =ROUND(MIN(B46/12,650000)*12*0.0915+MIN(B46/12,1390000)*12*(0.0504+0)+B46*0.005,0) | H46: 0 | I46: 0 | J46: =IF(C46=2026,IF(B46<741000,0,IF(B46<2191000,B46-740000,IF(B46<2193000,1451000,IF(B46<2196000,1453000,IF(B46<2200000,1456000,IF(B46<3600000,ROUNDDOWN(B46/4,-3)*2.8-80000,IF(B46<6600000,ROUNDDOWN(B46/4,-3)*3.2-440000,IF(B46<8500000,ROUNDDOWN(B46*0.9,0)-1100000,B46-1950000)))))))),IF(B46<651000,0,IF(B46<1900000,B46-650000,IF(B46<3600000,ROUNDDOWN(B46/4,-3)*2.8-80000,IF(B46<6600000,ROUNDDOWN(B46/4,-3)*3.2-440000,IF(B46<8500000,ROUNDDOWN(B46*0.9,0)-1100000,B46-1950000)))))) | K46: =IF(J46>23500000,NA(),IF(C46=2026,IF(J46<=4890000,1040000,IF(J46<=6550000,670000,620000)),IF(J46<=1320000,950000,IF(J46<=3360000,880000,IF(J46<=4890000,680000,IF(J46<=6550000,630000,580000)))))) | L46: =IF(D46=1,IF(J46<=9000000,380000,IF(J46<=9500000,260000,IF(J46<=10000000,130000,0))),0) | M46: =IF(D46=1,IF(J46<=9000000,330000,IF(J46<=9500000,220000,IF(J46<=10000000,110000,0))),0) | N46: =IF(D46=1,IF(J46<=9000000,50000,IF(J46<=9500000,40000,IF(J46<=10000000,20000,0))),0) | O46: =MAX(0,ROUNDDOWN(J46-G46-K46-L46-E46*380000-F46*630000-H46,-3)) | P46: =MAX(0,ROUNDDOWN(J46-G46-430000-M46-E46*330000-F46*450000-I46,-3)) | Q46: =50000+N46+E46*50000+F46*180000 | R46: =IF(P46<=2000000,MIN(Q46,P46),MAX(Q46-(P46-2000000),50000))*0.05 | S46: =MAX(0,P46*0.1-R46) | T46: =Q46+MAX(0,K46-480000) | U46: =P46-T46 | V46: =IF(U46<0,0,LOOKUP(U46,{0,1950001,3300001,6950001,9000001,18000001,40000001},{0.05,0.1,0.2,0.23,0.33,0.4,0.45})) | W46: =IF(U46<0,0.9,0.9-V46*1.021) | X46: =ROUNDDOWN(S46*0.2/W46+2000,0) | Y46: =IF(O46<=0,0,LOOKUP(O46,{0,1950001,3300001,6950001,9000001,18000001,40000001},{0.05,0.1,0.2,0.23,0.33,0.4,0.45}))
A47: 早見表 夫婦（配偶者控除あり） | B47: ='2_早見表'!$A$6 | C47: 2025 | D47: 1 | E47: 0 | F47: 0 | G47: =ROUND(MIN(B47/12,650000)*12*0.0915+MIN(B47/12,1390000)*12*(0.0504+0)+B47*0.005,0) | H47: 0 | I47: 0 | J47: =IF(C47=2026,IF(B47<741000,0,IF(B47<2191000,B47-740000,IF(B47<2193000,1451000,IF(B47<2196000,1453000,IF(B47<2200000,1456000,IF(B47<3600000,ROUNDDOWN(B47/4,-3)*2.8-80000,IF(B47<6600000,ROUNDDOWN(B47/4,-3)*3.2-440000,IF(B47<8500000,ROUNDDOWN(B47*0.9,0)-1100000,B47-1950000)))))))),IF(B47<651000,0,IF(B47<1900000,B47-650000,IF(B47<3600000,ROUNDDOWN(B47/4,-3)*2.8-80000,IF(B47<6600000,ROUNDDOWN(B47/4,-3)*3.2-440000,IF(B47<8500000,ROUNDDOWN(B47*0.9,0)-1100000,B47-1950000)))))) | K47: =IF(J47>23500000,NA(),IF(C47=2026,IF(J47<=4890000,1040000,IF(J47<=6550000,670000,620000)),IF(J47<=1320000,950000,IF(J47<=3360000,880000,IF(J47<=4890000,680000,IF(J47<=6550000,630000,580000)))))) | L47: =IF(D47=1,IF(J47<=9000000,380000,IF(J47<=9500000,260000,IF(J47<=10000000,130000,0))),0) | M47: =IF(D47=1,IF(J47<=9000000,330000,IF(J47<=9500000,220000,IF(J47<=10000000,110000,0))),0) | N47: =IF(D47=1,IF(J47<=9000000,50000,IF(J47<=9500000,40000,IF(J47<=10000000,20000,0))),0) | O47: =MAX(0,ROUNDDOWN(J47-G47-K47-L47-E47*380000-F47*630000-H47,-3)) | P47: =MAX(0,ROUNDDOWN(J47-G47-430000-M47-E47*330000-F47*450000-I47,-3)) | Q47: =50000+N47+E47*50000+F47*180000 | R47: =IF(P47<=2000000,MIN(Q47,P47),MAX(Q47-(P47-2000000),50000))*0.05 | S47: =MAX(0,P47*0.1-R47) | T47: =Q47+MAX(0,K47-480000) | U47: =P47-T47 | V47: =IF(U47<0,0,LOOKUP(U47,{0,1950001,3300001,6950001,9000001,18000001,40000001},{0.05,0.1,0.2,0.23,0.33,0.4,0.45})) | W47: =IF(U47<0,0.9,0.9-V47*1.021) | X47: =ROUNDDOWN(S47*0.2/W47+2000,0) | Y47: =IF(O47<=0,0,LOOKUP(O47,{0,1950001,3300001,6950001,9000001,18000001,40000001},{0.05,0.1,0.2,0.23,0.33,0.4,0.45}))
A48: 早見表 夫婦（配偶者控除あり） | B48: ='2_早見表'!$A$6 | C48: 2026 | D48: 1 | E48: 0 | F48: 0 | G48: =ROUND(MIN(B48/12,650000)*12*0.0915+MIN(B48/12,1390000)*12*(0.0504+0)+B48*0.005,0) | H48: 0 | I48: 0 | J48: =IF(C48=2026,IF(B48<741000,0,IF(B48<2191000,B48-740000,IF(B48<2193000,1451000,IF(B48<2196000,1453000,IF(B48<2200000,1456000,IF(B48<3600000,ROUNDDOWN(B48/4,-3)*2.8-80000,IF(B48<6600000,ROUNDDOWN(B48/4,-3)*3.2-440000,IF(B48<8500000,ROUNDDOWN(B48*0.9,0)-1100000,B48-1950000)))))))),IF(B48<651000,0,IF(B48<1900000,B48-650000,IF(B48<3600000,ROUNDDOWN(B48/4,-3)*2.8-80000,IF(B48<6600000,ROUNDDOWN(B48/4,-3)*3.2-440000,IF(B48<8500000,ROUNDDOWN(B48*0.9,0)-1100000,B48-1950000)))))) | K48: =IF(J48>23500000,NA(),IF(C48=2026,IF(J48<=4890000,1040000,IF(J48<=6550000,670000,620000)),IF(J48<=1320000,950000,IF(J48<=3360000,880000,IF(J48<=4890000,680000,IF(J48<=6550000,630000,580000)))))) | L48: =IF(D48=1,IF(J48<=9000000,380000,IF(J48<=9500000,260000,IF(J48<=10000000,130000,0))),0) | M48: =IF(D48=1,IF(J48<=9000000,330000,IF(J48<=9500000,220000,IF(J48<=10000000,110000,0))),0) | N48: =IF(D48=1,IF(J48<=9000000,50000,IF(J48<=9500000,40000,IF(J48<=10000000,20000,0))),0) | O48: =MAX(0,ROUNDDOWN(J48-G48-K48-L48-E48*380000-F48*630000-H48,-3)) | P48: =MAX(0,ROUNDDOWN(J48-G48-430000-M48-E48*330000-F48*450000-I48,-3)) | Q48: =50000+N48+E48*50000+F48*180000 | R48: =IF(P48<=2000000,MIN(Q48,P48),MAX(Q48-(P48-2000000),50000))*0.05 | S48: =MAX(0,P48*0.1-R48) | T48: =Q48+MAX(0,K48-480000) | U48: =P48-T48 | V48: =IF(U48<0,0,LOOKUP(U48,{0,1950001,3300001,6950001,9000001,18000001,40000001},{0.05,0.1,0.2,0.23,0.33,0.4,0.45})) | W48: =IF(U48<0,0.9,0.9-V48*1.021) | X48: =ROUNDDOWN(S48*0.2/W48+2000,0) | Y48: =IF(O48<=0,0,LOOKUP(O48,{0,1950001,3300001,6950001,9000001,18000001,40000001},{0.05,0.1,0.2,0.23,0.33,0.4,0.45}))
A49: 早見表 共働き＋高校生1人 | B49: ='2_早見表'!$A$6 | C49: 2025 | D49: 0 | E49: 1 | F49: 0 | G49: =ROUND(MIN(B49/12,650000)*12*0.0915+MIN(B49/12,1390000)*12*(0.0504+0)+B49*0.005,0) | H49: 0 | I49: 0 | J49: =IF(C49=2026,IF(B49<741000,0,IF(B49<2191000,B49-740000,IF(B49<2193000,1451000,IF(B49<2196000,1453000,IF(B49<2200000,1456000,IF(B49<3600000,ROUNDDOWN(B49/4,-3)*2.8-80000,IF(B49<6600000,ROUNDDOWN(B49/4,-3)*3.2-440000,IF(B49<8500000,ROUNDDOWN(B49*0.9,0)-1100000,B49-1950000)))))))),IF(B49<651000,0,IF(B49<1900000,B49-650000,IF(B49<3600000,ROUNDDOWN(B49/4,-3)*2.8-80000,IF(B49<6600000,ROUNDDOWN(B49/4,-3)*3.2-440000,IF(B49<8500000,ROUNDDOWN(B49*0.9,0)-1100000,B49-1950000)))))) | K49: =IF(J49>23500000,NA(),IF(C49=2026,IF(J49<=4890000,1040000,IF(J49<=6550000,670000,620000)),IF(J49<=1320000,950000,IF(J49<=3360000,880000,IF(J49<=4890000,680000,IF(J49<=6550000,630000,580000)))))) | L49: =IF(D49=1,IF(J49<=9000000,380000,IF(J49<=9500000,260000,IF(J49<=10000000,130000,0))),0) | M49: =IF(D49=1,IF(J49<=9000000,330000,IF(J49<=9500000,220000,IF(J49<=10000000,110000,0))),0) | N49: =IF(D49=1,IF(J49<=9000000,50000,IF(J49<=9500000,40000,IF(J49<=10000000,20000,0))),0) | O49: =MAX(0,ROUNDDOWN(J49-G49-K49-L49-E49*380000-F49*630000-H49,-3)) | P49: =MAX(0,ROUNDDOWN(J49-G49-430000-M49-E49*330000-F49*450000-I49,-3)) | Q49: =50000+N49+E49*50000+F49*180000 | R49: =IF(P49<=2000000,MIN(Q49,P49),MAX(Q49-(P49-2000000),50000))*0.05 | S49: =MAX(0,P49*0.1-R49) | T49: =Q49+MAX(0,K49-480000) | U49: =P49-T49 | V49: =IF(U49<0,0,LOOKUP(U49,{0,1950001,3300001,6950001,9000001,18000001,40000001},{0.05,0.1,0.2,0.23,0.33,0.4,0.45})) | W49: =IF(U49<0,0.9,0.9-V49*1.021) | X49: =ROUNDDOWN(S49*0.2/W49+2000,0) | Y49: =IF(O49<=0,0,LOOKUP(O49,{0,1950001,3300001,6950001,9000001,18000001,40000001},{0.05,0.1,0.2,0.23,0.33,0.4,0.45}))
A50: 早見表 共働き＋高校生1人 | B50: ='2_早見表'!$A$6 | C50: 2026 | D50: 0 | E50: 1 | F50: 0 | G50: =ROUND(MIN(B50/12,650000)*12*0.0915+MIN(B50/12,1390000)*12*(0.0504+0)+B50*0.005,0) | H50: 0 | I50: 0 | J50: =IF(C50=2026,IF(B50<741000,0,IF(B50<2191000,B50-740000,IF(B50<2193000,1451000,IF(B50<2196000,1453000,IF(B50<2200000,1456000,IF(B50<3600000,ROUNDDOWN(B50/4,-3)*2.8-80000,IF(B50<6600000,ROUNDDOWN(B50/4,-3)*3.2-440000,IF(B50<8500000,ROUNDDOWN(B50*0.9,0)-1100000,B50-1950000)))))))),IF(B50<651000,0,IF(B50<1900000,B50-650000,IF(B50<3600000,ROUNDDOWN(B50/4,-3)*2.8-80000,IF(B50<6600000,ROUNDDOWN(B50/4,-3)*3.2-440000,IF(B50<8500000,ROUNDDOWN(B50*0.9,0)-1100000,B50-1950000)))))) | K50: =IF(J50>23500000,NA(),IF(C50=2026,IF(J50<=4890000,1040000,IF(J50<=6550000,670000,620000)),IF(J50<=1320000,950000,IF(J50<=3360000,880000,IF(J50<=4890000,680000,IF(J50<=6550000,630000,580000)))))) | L50: =IF(D50=1,IF(J50<=9000000,380000,IF(J50<=9500000,260000,IF(J50<=10000000,130000,0))),0) | M50: =IF(D50=1,IF(J50<=9000000,330000,IF(J50<=9500000,220000,IF(J50<=10000000,110000,0))),0) | N50: =IF(D50=1,IF(J50<=9000000,50000,IF(J50<=9500000,40000,IF(J50<=10000000,20000,0))),0) | O50: =MAX(0,ROUNDDOWN(J50-G50-K50-L50-E50*380000-F50*630000-H50,-3)) | P50: =MAX(0,ROUNDDOWN(J50-G50-430000-M50-E50*330000-F50*450000-I50,-3)) | Q50: =50000+N50+E50*50000+F50*180000 | R50: =IF(P50<=2000000,MIN(Q50,P50),MAX(Q50-(P50-2000000),50000))*0.05 | S50: =MAX(0,P50*0.1-R50) | T50: =Q50+MAX(0,K50-480000) | U50: =P50-T50 | V50: =IF(U50<0,0,LOOKUP(U50,{0,1950001,3300001,6950001,9000001,18000001,40000001},{0.05,0.1,0.2,0.23,0.33,0.4,0.45})) | W50: =IF(U50<0,0.9,0.9-V50*1.021) | X50: =ROUNDDOWN(S50*0.2/W50+2000,0) | Y50: =IF(O50<=0,0,LOOKUP(O50,{0,1950001,3300001,6950001,9000001,18000001,40000001},{0.05,0.1,0.2,0.23,0.33,0.4,0.45}))
A51: 早見表 共働き＋大学生1人 | B51: ='2_早見表'!$A$6 | C51: 2025 | D51: 0 | E51: 0 | F51: 1 | G51: =ROUND(MIN(B51/12,650000)*12*0.0915+MIN(B51/12,1390000)*12*(0.0504+0)+B51*0.005,0) | H51: 0 | I51: 0 | J51: =IF(C51=2026,IF(B51<741000,0,IF(B51<2191000,B51-740000,IF(B51<2193000,1451000,IF(B51<2196000,1453000,IF(B51<2200000,1456000,IF(B51<3600000,ROUNDDOWN(B51/4,-3)*2.8-80000,IF(B51<6600000,ROUNDDOWN(B51/4,-3)*3.2-440000,IF(B51<8500000,ROUNDDOWN(B51*0.9,0)-1100000,B51-1950000)))))))),IF(B51<651000,0,IF(B51<1900000,B51-650000,IF(B51<3600000,ROUNDDOWN(B51/4,-3)*2.8-80000,IF(B51<6600000,ROUNDDOWN(B51/4,-3)*3.2-440000,IF(B51<8500000,ROUNDDOWN(B51*0.9,0)-1100000,B51-1950000)))))) | K51: =IF(J51>23500000,NA(),IF(C51=2026,IF(J51<=4890000,1040000,IF(J51<=6550000,670000,620000)),IF(J51<=1320000,950000,IF(J51<=3360000,880000,IF(J51<=4890000,680000,IF(J51<=6550000,630000,580000)))))) | L51: =IF(D51=1,IF(J51<=9000000,380000,IF(J51<=9500000,260000,IF(J51<=10000000,130000,0))),0) | M51: =IF(D51=1,IF(J51<=9000000,330000,IF(J51<=9500000,220000,IF(J51<=10000000,110000,0))),0) | N51: =IF(D51=1,IF(J51<=9000000,50000,IF(J51<=9500000,40000,IF(J51<=10000000,20000,0))),0) | O51: =MAX(0,ROUNDDOWN(J51-G51-K51-L51-E51*380000-F51*630000-H51,-3)) | P51: =MAX(0,ROUNDDOWN(J51-G51-430000-M51-E51*330000-F51*450000-I51,-3)) | Q51: =50000+N51+E51*50000+F51*180000 | R51: =IF(P51<=2000000,MIN(Q51,P51),MAX(Q51-(P51-2000000),50000))*0.05 | S51: =MAX(0,P51*0.1-R51) | T51: =Q51+MAX(0,K51-480000) | U51: =P51-T51 | V51: =IF(U51<0,0,LOOKUP(U51,{0,1950001,3300001,6950001,9000001,18000001,40000001},{0.05,0.1,0.2,0.23,0.33,0.4,0.45})) | W51: =IF(U51<0,0.9,0.9-V51*1.021) | X51: =ROUNDDOWN(S51*0.2/W51+2000,0) | Y51: =IF(O51<=0,0,LOOKUP(O51,{0,1950001,3300001,6950001,9000001,18000001,40000001},{0.05,0.1,0.2,0.23,0.33,0.4,0.45}))
A52: 早見表 共働き＋大学生1人 | B52: ='2_早見表'!$A$6 | C52: 2026 | D52: 0 | E52: 0 | F52: 1 | G52: =ROUND(MIN(B52/12,650000)*12*0.0915+MIN(B52/12,1390000)*12*(0.0504+0)+B52*0.005,0) | H52: 0 | I52: 0 | J52: =IF(C52=2026,IF(B52<741000,0,IF(B52<2191000,B52-740000,IF(B52<2193000,1451000,IF(B52<2196000,1453000,IF(B52<2200000,1456000,IF(B52<3600000,ROUNDDOWN(B52/4,-3)*2.8-80000,IF(B52<6600000,ROUNDDOWN(B52/4,-3)*3.2-440000,IF(B52<8500000,ROUNDDOWN(B52*0.9,0)-1100000,B52-1950000)))))))),IF(B52<651000,0,IF(B52<1900000,B52-650000,IF(B52<3600000,ROUNDDOWN(B52/4,-3)*2.8-80000,IF(B52<6600000,ROUNDDOWN(B52/4,-3)*3.2-440000,IF(B52<8500000,ROUNDDOWN(B52*0.9,0)-1100000,B52-1950000)))))) | K52: =IF(J52>23500000,NA(),IF(C52=2026,IF(J52<=4890000,1040000,IF(J52<=6550000,670000,620000)),IF(J52<=1320000,950000,IF(J52<=3360000,880000,IF(J52<=4890000,680000,IF(J52<=6550000,630000,580000)))))) | L52: =IF(D52=1,IF(J52<=9000000,380000,IF(J52<=9500000,260000,IF(J52<=10000000,130000,0))),0) | M52: =IF(D52=1,IF(J52<=9000000,330000,IF(J52<=9500000,220000,IF(J52<=10000000,110000,0))),0) | N52: =IF(D52=1,IF(J52<=9000000,50000,IF(J52<=9500000,40000,IF(J52<=10000000,20000,0))),0) | O52: =MAX(0,ROUNDDOWN(J52-G52-K52-L52-E52*380000-F52*630000-H52,-3)) | P52: =MAX(0,ROUNDDOWN(J52-G52-430000-M52-E52*330000-F52*450000-I52,-3)) | Q52: =50000+N52+E52*50000+F52*180000 | R52: =IF(P52<=2000000,MIN(Q52,P52),MAX(Q52-(P52-2000000),50000))*0.05 | S52: =MAX(0,P52*0.1-R52) | T52: =Q52+MAX(0,K52-480000) | U52: =P52-T52 | V52: =IF(U52<0,0,LOOKUP(U52,{0,1950001,3300001,6950001,9000001,18000001,40000001},{0.05,0.1,0.2,0.23,0.33,0.4,0.45})) | W52: =IF(U52<0,0.9,0.9-V52*1.021) | X52: =ROUNDDOWN(S52*0.2/W52+2000,0) | Y52: =IF(O52<=0,0,LOOKUP(O52,{0,1950001,3300001,6950001,9000001,18000001,40000001},{0.05,0.1,0.2,0.23,0.33,0.4,0.45}))
A53: 早見表 夫婦＋高校生1人 | B53: ='2_早見表'!$A$6 | C53: 2025 | D53: 1 | E53: 1 | F53: 0 | G53: =ROUND(MIN(B53/12,650000)*12*0.0915+MIN(B53/12,1390000)*12*(0.0504+0)+B53*0.005,0) | H53: 0 | I53: 0 | J53: =IF(C53=2026,IF(B53<741000,0,IF(B53<2191000,B53-740000,IF(B53<2193000,1451000,IF(B53<2196000,1453000,IF(B53<2200000,1456000,IF(B53<3600000,ROUNDDOWN(B53/4,-3)*2.8-80000,IF(B53<6600000,ROUNDDOWN(B53/4,-3)*3.2-440000,IF(B53<8500000,ROUNDDOWN(B53*0.9,0)-1100000,B53-1950000)))))))),IF(B53<651000,0,IF(B53<1900000,B53-650000,IF(B53<3600000,ROUNDDOWN(B53/4,-3)*2.8-80000,IF(B53<6600000,ROUNDDOWN(B53/4,-3)*3.2-440000,IF(B53<8500000,ROUNDDOWN(B53*0.9,0)-1100000,B53-1950000)))))) | K53: =IF(J53>23500000,NA(),IF(C53=2026,IF(J53<=4890000,1040000,IF(J53<=6550000,670000,620000)),IF(J53<=1320000,950000,IF(J53<=3360000,880000,IF(J53<=4890000,680000,IF(J53<=6550000,630000,580000)))))) | L53: =IF(D53=1,IF(J53<=9000000,380000,IF(J53<=9500000,260000,IF(J53<=10000000,130000,0))),0) | M53: =IF(D53=1,IF(J53<=9000000,330000,IF(J53<=9500000,220000,IF(J53<=10000000,110000,0))),0) | N53: =IF(D53=1,IF(J53<=9000000,50000,IF(J53<=9500000,40000,IF(J53<=10000000,20000,0))),0) | O53: =MAX(0,ROUNDDOWN(J53-G53-K53-L53-E53*380000-F53*630000-H53,-3)) | P53: =MAX(0,ROUNDDOWN(J53-G53-430000-M53-E53*330000-F53*450000-I53,-3)) | Q53: =50000+N53+E53*50000+F53*180000 | R53: =IF(P53<=2000000,MIN(Q53,P53),MAX(Q53-(P53-2000000),50000))*0.05 | S53: =MAX(0,P53*0.1-R53) | T53: =Q53+MAX(0,K53-480000) | U53: =P53-T53 | V53: =IF(U53<0,0,LOOKUP(U53,{0,1950001,3300001,6950001,9000001,18000001,40000001},{0.05,0.1,0.2,0.23,0.33,0.4,0.45})) | W53: =IF(U53<0,0.9,0.9-V53*1.021) | X53: =ROUNDDOWN(S53*0.2/W53+2000,0) | Y53: =IF(O53<=0,0,LOOKUP(O53,{0,1950001,3300001,6950001,9000001,18000001,40000001},{0.05,0.1,0.2,0.23,0.33,0.4,0.45}))
A54: 早見表 夫婦＋高校生1人 | B54: ='2_早見表'!$A$6 | C54: 2026 | D54: 1 | E54: 1 | F54: 0 | G54: =ROUND(MIN(B54/12,650000)*12*0.0915+MIN(B54/12,1390000)*12*(0.0504+0)+B54*0.005,0) | H54: 0 | I54: 0 | J54: =IF(C54=2026,IF(B54<741000,0,IF(B54<2191000,B54-740000,IF(B54<2193000,1451000,IF(B54<2196000,1453000,IF(B54<2200000,1456000,IF(B54<3600000,ROUNDDOWN(B54/4,-3)*2.8-80000,IF(B54<6600000,ROUNDDOWN(B54/4,-3)*3.2-440000,IF(B54<8500000,ROUNDDOWN(B54*0.9,0)-1100000,B54-1950000)))))))),IF(B54<651000,0,IF(B54<1900000,B54-650000,IF(B54<3600000,ROUNDDOWN(B54/4,-3)*2.8-80000,IF(B54<6600000,ROUNDDOWN(B54/4,-3)*3.2-440000,IF(B54<8500000,ROUNDDOWN(B54*0.9,0)-1100000,B54-1950000)))))) | K54: =IF(J54>23500000,NA(),IF(C54=2026,IF(J54<=4890000,1040000,IF(J54<=6550000,670000,620000)),IF(J54<=1320000,950000,IF(J54<=3360000,880000,IF(J54<=4890000,680000,IF(J54<=6550000,630000,580000)))))) | L54: =IF(D54=1,IF(J54<=9000000,380000,IF(J54<=9500000,260000,IF(J54<=10000000,130000,0))),0) | M54: =IF(D54=1,IF(J54<=9000000,330000,IF(J54<=9500000,220000,IF(J54<=10000000,110000,0))),0) | N54: =IF(D54=1,IF(J54<=9000000,50000,IF(J54<=9500000,40000,IF(J54<=10000000,20000,0))),0) | O54: =MAX(0,ROUNDDOWN(J54-G54-K54-L54-E54*380000-F54*630000-H54,-3)) | P54: =MAX(0,ROUNDDOWN(J54-G54-430000-M54-E54*330000-F54*450000-I54,-3)) | Q54: =50000+N54+E54*50000+F54*180000 | R54: =IF(P54<=2000000,MIN(Q54,P54),MAX(Q54-(P54-2000000),50000))*0.05 | S54: =MAX(0,P54*0.1-R54) | T54: =Q54+MAX(0,K54-480000) | U54: =P54-T54 | V54: =IF(U54<0,0,LOOKUP(U54,{0,1950001,3300001,6950001,9000001,18000001,40000001},{0.05,0.1,0.2,0.23,0.33,0.4,0.45})) | W54: =IF(U54<0,0.9,0.9-V54*1.021) | X54: =ROUNDDOWN(S54*0.2/W54+2000,0) | Y54: =IF(O54<=0,0,LOOKUP(O54,{0,1950001,3300001,6950001,9000001,18000001,40000001},{0.05,0.1,0.2,0.23,0.33,0.4,0.45}))
A55: 早見表 共働き＋大学生と高校生 | B55: ='2_早見表'!$A$6 | C55: 2025 | D55: 0 | E55: 1 | F55: 1 | G55: =ROUND(MIN(B55/12,650000)*12*0.0915+MIN(B55/12,1390000)*12*(0.0504+0)+B55*0.005,0) | H55: 0 | I55: 0 | J55: =IF(C55=2026,IF(B55<741000,0,IF(B55<2191000,B55-740000,IF(B55<2193000,1451000,IF(B55<2196000,1453000,IF(B55<2200000,1456000,IF(B55<3600000,ROUNDDOWN(B55/4,-3)*2.8-80000,IF(B55<6600000,ROUNDDOWN(B55/4,-3)*3.2-440000,IF(B55<8500000,ROUNDDOWN(B55*0.9,0)-1100000,B55-1950000)))))))),IF(B55<651000,0,IF(B55<1900000,B55-650000,IF(B55<3600000,ROUNDDOWN(B55/4,-3)*2.8-80000,IF(B55<6600000,ROUNDDOWN(B55/4,-3)*3.2-440000,IF(B55<8500000,ROUNDDOWN(B55*0.9,0)-1100000,B55-1950000)))))) | K55: =IF(J55>23500000,NA(),IF(C55=2026,IF(J55<=4890000,1040000,IF(J55<=6550000,670000,620000)),IF(J55<=1320000,950000,IF(J55<=3360000,880000,IF(J55<=4890000,680000,IF(J55<=6550000,630000,580000)))))) | L55: =IF(D55=1,IF(J55<=9000000,380000,IF(J55<=9500000,260000,IF(J55<=10000000,130000,0))),0) | M55: =IF(D55=1,IF(J55<=9000000,330000,IF(J55<=9500000,220000,IF(J55<=10000000,110000,0))),0) | N55: =IF(D55=1,IF(J55<=9000000,50000,IF(J55<=9500000,40000,IF(J55<=10000000,20000,0))),0) | O55: =MAX(0,ROUNDDOWN(J55-G55-K55-L55-E55*380000-F55*630000-H55,-3)) | P55: =MAX(0,ROUNDDOWN(J55-G55-430000-M55-E55*330000-F55*450000-I55,-3)) | Q55: =50000+N55+E55*50000+F55*180000 | R55: =IF(P55<=2000000,MIN(Q55,P55),MAX(Q55-(P55-2000000),50000))*0.05 | S55: =MAX(0,P55*0.1-R55) | T55: =Q55+MAX(0,K55-480000) | U55: =P55-T55 | V55: =IF(U55<0,0,LOOKUP(U55,{0,1950001,3300001,6950001,9000001,18000001,40000001},{0.05,0.1,0.2,0.23,0.33,0.4,0.45})) | W55: =IF(U55<0,0.9,0.9-V55*1.021) | X55: =ROUNDDOWN(S55*0.2/W55+2000,0) | Y55: =IF(O55<=0,0,LOOKUP(O55,{0,1950001,3300001,6950001,9000001,18000001,40000001},{0.05,0.1,0.2,0.23,0.33,0.4,0.45}))
A56: 早見表 共働き＋大学生と高校生 | B56: ='2_早見表'!$A$6 | C56: 2026 | D56: 0 | E56: 1 | F56: 1 | G56: =ROUND(MIN(B56/12,650000)*12*0.0915+MIN(B56/12,1390000)*12*(0.0504+0)+B56*0.005,0) | H56: 0 | I56: 0 | J56: =IF(C56=2026,IF(B56<741000,0,IF(B56<2191000,B56-740000,IF(B56<2193000,1451000,IF(B56<2196000,1453000,IF(B56<2200000,1456000,IF(B56<3600000,ROUNDDOWN(B56/4,-3)*2.8-80000,IF(B56<6600000,ROUNDDOWN(B56/4,-3)*3.2-440000,IF(B56<8500000,ROUNDDOWN(B56*0.9,0)-1100000,B56-1950000)))))))),IF(B56<651000,0,IF(B56<1900000,B56-650000,IF(B56<3600000,ROUNDDOWN(B56/4,-3)*2.8-80000,IF(B56<6600000,ROUNDDOWN(B56/4,-3)*3.2-440000,IF(B56<8500000,ROUNDDOWN(B56*0.9,0)-1100000,B56-1950000)))))) | K56: =IF(J56>23500000,NA(),IF(C56=2026,IF(J56<=4890000,1040000,IF(J56<=6550000,670000,620000)),IF(J56<=1320000,950000,IF(J56<=3360000,880000,IF(J56<=4890000,680000,IF(J56<=6550000,630000,580000)))))) | L56: =IF(D56=1,IF(J56<=9000000,380000,IF(J56<=9500000,260000,IF(J56<=10000000,130000,0))),0) | M56: =IF(D56=1,IF(J56<=9000000,330000,IF(J56<=9500000,220000,IF(J56<=10000000,110000,0))),0) | N56: =IF(D56=1,IF(J56<=9000000,50000,IF(J56<=9500000,40000,IF(J56<=10000000,20000,0))),0) | O56: =MAX(0,ROUNDDOWN(J56-G56-K56-L56-E56*380000-F56*630000-H56,-3)) | P56: =MAX(0,ROUNDDOWN(J56-G56-430000-M56-E56*330000-F56*450000-I56,-3)) | Q56: =50000+N56+E56*50000+F56*180000 | R56: =IF(P56<=2000000,MIN(Q56,P56),MAX(Q56-(P56-2000000),50000))*0.05 | S56: =MAX(0,P56*0.1-R56) | T56: =Q56+MAX(0,K56-480000) | U56: =P56-T56 | V56: =IF(U56<0,0,LOOKUP(U56,{0,1950001,3300001,6950001,9000001,18000001,40000001},{0.05,0.1,0.2,0.23,0.33,0.4,0.45})) | W56: =IF(U56<0,0.9,0.9-V56*1.021) | X56: =ROUNDDOWN(S56*0.2/W56+2000,0) | Y56: =IF(O56<=0,0,LOOKUP(O56,{0,1950001,3300001,6950001,9000001,18000001,40000001},{0.05,0.1,0.2,0.23,0.33,0.4,0.45}))
... A58: 早見表 夫婦＋大学生と高校生 | B58: ='2_早見表'!$A$6 | C58: 2026 | D58: 1 | E58: 1 | F58: 1 | G58: =ROUND(MIN(B58/12,650000)*12*0.0915+MIN(B58/12,1390000)*12*(0.0504+0)+B58*0.005,0) | H58: 0 | I58: 0 | J58: =IF(C58=2026,IF(B58<741000,0,IF(B58<2191000,B58-740000,IF(B58<2193000,1451000,IF(B58<2196000,1453000,IF(B58<2200000,1456000,IF(B58<3600000,ROUNDDOWN(B58/4,-3)*2.8-80000,IF(B58<6600000,ROUNDDOWN(B58/4,-3)*3.2-440000,IF(B58<8500000,ROUNDDOWN(B58*0.9,0)-1100000,B58-1950000)))))))),IF(B58<651000,0,IF(B58<1900000,B58-650000,IF(B58<3600000,ROUNDDOWN(B58/4,-3)*2.8-80000,IF(B58<6600000,ROUNDDOWN(B58/4,-3)*3.2-440000,IF(B58<8500000,ROUNDDOWN(B58*0.9,0)-1100000,B58-1950000)))))) | K58: =IF(J58>23500000,NA(),IF(C58=2026,IF(J58<=4890000,1040000,IF(J58<=6550000,670000,620000)),IF(J58<=1320000,950000,IF(J58<=3360000,880000,IF(J58<=4890000,680000,IF(J58<=6550000,630000,580000)))))) | L58: =IF(D58=1,IF(J58<=9000000,380000,IF(J58<=9500000,260000,IF(J58<=10000000,130000,0))),0) | M58: =IF(D58=1,IF(J58<=9000000,330000,IF(J58<=9500000,220000,IF(J58<=10000000,110000,0))),0) | N58: =IF(D58=1,IF(J58<=9000000,50000,IF(J58<=9500000,40000,IF(J58<=10000000,20000,0))),0) | O58: =MAX(0,ROUNDDOWN(J58-G58-K58-L58-E58*380000-F58*630000-H58,-3)) | P58: =MAX(0,ROUNDDOWN(J58-G58-430000-M58-E58*330000-F58*450000-I58,-3)) | Q58: =50000+N58+E58*50000+F58*180000 | R58: =IF(P58<=2000000,MIN(Q58,P58),MAX(Q58-(P58-2000000),50000))*0.05 | S58: =MAX(0,P58*0.1-R58) | T58: =Q58+MAX(0,K58-480000) | U58: =P58-T58 | V58: =IF(U58<0,0,LOOKUP(U58,{0,1950001,3300001,6950001,9000001,18000001,40000001},{0.05,0.1,0.2,0.23,0.33,0.4,0.45})) | W58: =IF(U58<0,0.9,0.9-V58*1.021) | X58: =ROUNDDOWN(S58*0.2/W58+2000,0) | Y58: =IF(O58<=0,0,LOOKUP(O58,{0,1950001,3300001,6950001,9000001,18000001,40000001},{0.05,0.1,0.2,0.23,0.33,0.4,0.45}))
A59: 早見表 独身または共働き | B59: ='2_早見表'!$A$7 | C59: 2025 | D59: 0 | E59: 0 | F59: 0 | G59: =ROUND(MIN(B59/12,650000)*12*0.0915+MIN(B59/12,1390000)*12*(0.0504+0)+B59*0.005,0) | H59: 0 | I59: 0 | J59: =IF(C59=2026,IF(B59<741000,0,IF(B59<2191000,B59-740000,IF(B59<2193000,1451000,IF(B59<2196000,1453000,IF(B59<2200000,1456000,IF(B59<3600000,ROUNDDOWN(B59/4,-3)*2.8-80000,IF(B59<6600000,ROUNDDOWN(B59/4,-3)*3.2-440000,IF(B59<8500000,ROUNDDOWN(B59*0.9,0)-1100000,B59-1950000)))))))),IF(B59<651000,0,IF(B59<1900000,B59-650000,IF(B59<3600000,ROUNDDOWN(B59/4,-3)*2.8-80000,IF(B59<6600000,ROUNDDOWN(B59/4,-3)*3.2-440000,IF(B59<8500000,ROUNDDOWN(B59*0.9,0)-1100000,B59-1950000)))))) | K59: =IF(J59>23500000,NA(),IF(C59=2026,IF(J59<=4890000,1040000,IF(J59<=6550000,670000,620000)),IF(J59<=1320000,950000,IF(J59<=3360000,880000,IF(J59<=4890000,680000,IF(J59<=6550000,630000,580000)))))) | L59: =IF(D59=1,IF(J59<=9000000,380000,IF(J59<=9500000,260000,IF(J59<=10000000,130000,0))),0) | M59: =IF(D59=1,IF(J59<=9000000,330000,IF(J59<=9500000,220000,IF(J59<=10000000,110000,0))),0) | N59: =IF(D59=1,IF(J59<=9000000,50000,IF(J59<=9500000,40000,IF(J59<=10000000,20000,0))),0) | O59: =MAX(0,ROUNDDOWN(J59-G59-K59-L59-E59*380000-F59*630000-H59,-3)) | P59: =MAX(0,ROUNDDOWN(J59-G59-430000-M59-E59*330000-F59*450000-I59,-3)) | Q59: =50000+N59+E59*50000+F59*180000 | R59: =IF(P59<=2000000,MIN(Q59,P59),MAX(Q59-(P59-2000000),50000))*0.05 | S59: =MAX(0,P59*0.1-R59) | T59: =Q59+MAX(0,K59-480000) | U59: =P59-T59 | V59: =IF(U59<0,0,LOOKUP(U59,{0,1950001,3300001,6950001,9000001,18000001,40000001},{0.05,0.1,0.2,0.23,0.33,0.4,0.45})) | W59: =IF(U59<0,0.9,0.9-V59*1.021) | X59: =ROUNDDOWN(S59*0.2/W59+2000,0) | Y59: =IF(O59<=0,0,LOOKUP(O59,{0,1950001,3300001,6950001,9000001,18000001,40000001},{0.05,0.1,0.2,0.23,0.33,0.4,0.45}))
A60: 早見表 独身または共働き | B60: ='2_早見表'!$A$7 | C60: 2026 | D60: 0 | E60: 0 | F60: 0 | G60: =ROUND(MIN(B60/12,650000)*12*0.0915+MIN(B60/12,1390000)*12*(0.0504+0)+B60*0.005,0) | H60: 0 | I60: 0 | J60: =IF(C60=2026,IF(B60<741000,0,IF(B60<2191000,B60-740000,IF(B60<2193000,1451000,IF(B60<2196000,1453000,IF(B60<2200000,1456000,IF(B60<3600000,ROUNDDOWN(B60/4,-3)*2.8-80000,IF(B60<6600000,ROUNDDOWN(B60/4,-3)*3.2-440000,IF(B60<8500000,ROUNDDOWN(B60*0.9,0)-1100000,B60-1950000)))))))),IF(B60<651000,0,IF(B60<1900000,B60-650000,IF(B60<3600000,ROUNDDOWN(B60/4,-3)*2.8-80000,IF(B60<6600000,ROUNDDOWN(B60/4,-3)*3.2-440000,IF(B60<8500000,ROUNDDOWN(B60*0.9,0)-1100000,B60-1950000)))))) | K60: =IF(J60>23500000,NA(),IF(C60=2026,IF(J60<=4890000,1040000,IF(J60<=6550000,670000,620000)),IF(J60<=1320000,950000,IF(J60<=3360000,880000,IF(J60<=4890000,680000,IF(J60<=6550000,630000,580000)))))) | L60: =IF(D60=1,IF(J60<=9000000,380000,IF(J60<=9500000,260000,IF(J60<=10000000,130000,0))),0) | M60: =IF(D60=1,IF(J60<=9000000,330000,IF(J60<=9500000,220000,IF(J60<=10000000,110000,0))),0) | N60: =IF(D60=1,IF(J60<=9000000,50000,IF(J60<=9500000,40000,IF(J60<=10000000,20000,0))),0) | O60: =MAX(0,ROUNDDOWN(J60-G60-K60-L60-E60*380000-F60*630000-H60,-3)) | P60: =MAX(0,ROUNDDOWN(J60-G60-430000-M60-E60*330000-F60*450000-I60,-3)) | Q60: =50000+N60+E60*50000+F60*180000 | R60: =IF(P60<=2000000,MIN(Q60,P60),MAX(Q60-(P60-2000000),50000))*0.05 | S60: =MAX(0,P60*0.1-R60) | T60: =Q60+MAX(0,K60-480000) | U60: =P60-T60 | V60: =IF(U60<0,0,LOOKUP(U60,{0,1950001,3300001,6950001,9000001,18000001,40000001},{0.05,0.1,0.2,0.23,0.33,0.4,0.45})) | W60: =IF(U60<0,0.9,0.9-V60*1.021) | X60: =ROUNDDOWN(S60*0.2/W60+2000,0) | Y60: =IF(O60<=0,0,LOOKUP(O60,{0,1950001,3300001,6950001,9000001,18000001,40000001},{0.05,0.1,0.2,0.23,0.33,0.4,0.45}))
A61: 早見表 夫婦（配偶者控除あり） | B61: ='2_早見表'!$A$7 | C61: 2025 | D61: 1 | E61: 0 | F61: 0 | G61: =ROUND(MIN(B61/12,650000)*12*0.0915+MIN(B61/12,1390000)*12*(0.0504+0)+B61*0.005,0) | H61: 0 | I61: 0 | J61: =IF(C61=2026,IF(B61<741000,0,IF(B61<2191000,B61-740000,IF(B61<2193000,1451000,IF(B61<2196000,1453000,IF(B61<2200000,1456000,IF(B61<3600000,ROUNDDOWN(B61/4,-3)*2.8-80000,IF(B61<6600000,ROUNDDOWN(B61/4,-3)*3.2-440000,IF(B61<8500000,ROUNDDOWN(B61*0.9,0)-1100000,B61-1950000)))))))),IF(B61<651000,0,IF(B61<1900000,B61-650000,IF(B61<3600000,ROUNDDOWN(B61/4,-3)*2.8-80000,IF(B61<6600000,ROUNDDOWN(B61/4,-3)*3.2-440000,IF(B61<8500000,ROUNDDOWN(B61*0.9,0)-1100000,B61-1950000)))))) | K61: =IF(J61>23500000,NA(),IF(C61=2026,IF(J61<=4890000,1040000,IF(J61<=6550000,670000,620000)),IF(J61<=1320000,950000,IF(J61<=3360000,880000,IF(J61<=4890000,680000,IF(J61<=6550000,630000,580000)))))) | L61: =IF(D61=1,IF(J61<=9000000,380000,IF(J61<=9500000,260000,IF(J61<=10000000,130000,0))),0) | M61: =IF(D61=1,IF(J61<=9000000,330000,IF(J61<=9500000,220000,IF(J61<=10000000,110000,0))),0) | N61: =IF(D61=1,IF(J61<=9000000,50000,IF(J61<=9500000,40000,IF(J61<=10000000,20000,0))),0) | O61: =MAX(0,ROUNDDOWN(J61-G61-K61-L61-E61*380000-F61*630000-H61,-3)) | P61: =MAX(0,ROUNDDOWN(J61-G61-430000-M61-E61*330000-F61*450000-I61,-3)) | Q61: =50000+N61+E61*50000+F61*180000 | R61: =IF(P61<=2000000,MIN(Q61,P61),MAX(Q61-(P61-2000000),50000))*0.05 | S61: =MAX(0,P61*0.1-R61) | T61: =Q61+MAX(0,K61-480000) | U61: =P61-T61 | V61: =IF(U61<0,0,LOOKUP(U61,{0,1950001,3300001,6950001,9000001,18000001,40000001},{0.05,0.1,0.2,0.23,0.33,0.4,0.45})) | W61: =IF(U61<0,0.9,0.9-V61*1.021) | X61: =ROUNDDOWN(S61*0.2/W61+2000,0) | Y61: =IF(O61<=0,0,LOOKUP(O61,{0,1950001,3300001,6950001,9000001,18000001,40000001},{0.05,0.1,0.2,0.23,0.33,0.4,0.45}))
A62: 早見表 夫婦（配偶者控除あり） | B62: ='2_早見表'!$A$7 | C62: 2026 | D62: 1 | E62: 0 | F62: 0 | G62: =ROUND(MIN(B62/12,650000)*12*0.0915+MIN(B62/12,1390000)*12*(0.0504+0)+B62*0.005,0) | H62: 0 | I62: 0 | J62: =IF(C62=2026,IF(B62<741000,0,IF(B62<2191000,B62-740000,IF(B62<2193000,1451000,IF(B62<2196000,1453000,IF(B62<2200000,1456000,IF(B62<3600000,ROUNDDOWN(B62/4,-3)*2.8-80000,IF(B62<6600000,ROUNDDOWN(B62/4,-3)*3.2-440000,IF(B62<8500000,ROUNDDOWN(B62*0.9,0)-1100000,B62-1950000)))))))),IF(B62<651000,0,IF(B62<1900000,B62-650000,IF(B62<3600000,ROUNDDOWN(B62/4,-3)*2.8-80000,IF(B62<6600000,ROUNDDOWN(B62/4,-3)*3.2-440000,IF(B62<8500000,ROUNDDOWN(B62*0.9,0)-1100000,B62-1950000)))))) | K62: =IF(J62>23500000,NA(),IF(C62=2026,IF(J62<=4890000,1040000,IF(J62<=6550000,670000,620000)),IF(J62<=1320000,950000,IF(J62<=3360000,880000,IF(J62<=4890000,680000,IF(J62<=6550000,630000,580000)))))) | L62: =IF(D62=1,IF(J62<=9000000,380000,IF(J62<=9500000,260000,IF(J62<=10000000,130000,0))),0) | M62: =IF(D62=1,IF(J62<=9000000,330000,IF(J62<=9500000,220000,IF(J62<=10000000,110000,0))),0) | N62: =IF(D62=1,IF(J62<=9000000,50000,IF(J62<=9500000,40000,IF(J62<=10000000,20000,0))),0) | O62: =MAX(0,ROUNDDOWN(J62-G62-K62-L62-E62*380000-F62*630000-H62,-3)) | P62: =MAX(0,ROUNDDOWN(J62-G62-430000-M62-E62*330000-F62*450000-I62,-3)) | Q62: =50000+N62+E62*50000+F62*180000 | R62: =IF(P62<=2000000,MIN(Q62,P62),MAX(Q62-(P62-2000000),50000))*0.05 | S62: =MAX(0,P62*0.1-R62) | T62: =Q62+MAX(0,K62-480000) | U62: =P62-T62 | V62: =IF(U62<0,0,LOOKUP(U62,{0,1950001,3300001,6950001,9000001,18000001,40000001},{0.05,0.1,0.2,0.23,0.33,0.4,0.45})) | W62: =IF(U62<0,0.9,0.9-V62*1.021) | X62: =ROUNDDOWN(S62*0.2/W62+2000,0) | Y62: =IF(O62<=0,0,LOOKUP(O62,{0,1950001,3300001,6950001,9000001,18000001,40000001},{0.05,0.1,0.2,0.23,0.33,0.4,0.45}))
A63: 早見表 共働き＋高校生1人 | B63: ='2_早見表'!$A$7 | C63: 2025 | D63: 0 | E63: 1 | F63: 0 | G63: =ROUND(MIN(B63/12,650000)*12*0.0915+MIN(B63/12,1390000)*12*(0.0504+0)+B63*0.005,0) | H63: 0 | I63: 0 | J63: =IF(C63=2026,IF(B63<741000,0,IF(B63<2191000,B63-740000,IF(B63<2193000,1451000,IF(B63<2196000,1453000,IF(B63<2200000,1456000,IF(B63<3600000,ROUNDDOWN(B63/4,-3)*2.8-80000,IF(B63<6600000,ROUNDDOWN(B63/4,-3)*3.2-440000,IF(B63<8500000,ROUNDDOWN(B63*0.9,0)-1100000,B63-1950000)))))))),IF(B63<651000,0,IF(B63<1900000,B63-650000,IF(B63<3600000,ROUNDDOWN(B63/4,-3)*2.8-80000,IF(B63<6600000,ROUNDDOWN(B63/4,-3)*3.2-440000,IF(B63<8500000,ROUNDDOWN(B63*0.9,0)-1100000,B63-1950000)))))) | K63: =IF(J63>23500000,NA(),IF(C63=2026,IF(J63<=4890000,1040000,IF(J63<=6550000,670000,620000)),IF(J63<=1320000,950000,IF(J63<=3360000,880000,IF(J63<=4890000,680000,IF(J63<=6550000,630000,580000)))))) | L63: =IF(D63=1,IF(J63<=9000000,380000,IF(J63<=9500000,260000,IF(J63<=10000000,130000,0))),0) | M63: =IF(D63=1,IF(J63<=9000000,330000,IF(J63<=9500000,220000,IF(J63<=10000000,110000,0))),0) | N63: =IF(D63=1,IF(J63<=9000000,50000,IF(J63<=9500000,40000,IF(J63<=10000000,20000,0))),0) | O63: =MAX(0,ROUNDDOWN(J63-G63-K63-L63-E63*380000-F63*630000-H63,-3)) | P63: =MAX(0,ROUNDDOWN(J63-G63-430000-M63-E63*330000-F63*450000-I63,-3)) | Q63: =50000+N63+E63*50000+F63*180000 | R63: =IF(P63<=2000000,MIN(Q63,P63),MAX(Q63-(P63-2000000),50000))*0.05 | S63: =MAX(0,P63*0.1-R63) | T63: =Q63+MAX(0,K63-480000) | U63: =P63-T63 | V63: =IF(U63<0,0,LOOKUP(U63,{0,1950001,3300001,6950001,9000001,18000001,40000001},{0.05,0.1,0.2,0.23,0.33,0.4,0.45})) | W63: =IF(U63<0,0.9,0.9-V63*1.021) | X63: =ROUNDDOWN(S63*0.2/W63+2000,0) | Y63: =IF(O63<=0,0,LOOKUP(O63,{0,1950001,3300001,6950001,9000001,18000001,40000001},{0.05,0.1,0.2,0.23,0.33,0.4,0.45}))
A64: 早見表 共働き＋高校生1人 | B64: ='2_早見表'!$A$7 | C64: 2026 | D64: 0 | E64: 1 | F64: 0 | G64: =ROUND(MIN(B64/12,650000)*12*0.0915+MIN(B64/12,1390000)*12*(0.0504+0)+B64*0.005,0) | H64: 0 | I64: 0 | J64: =IF(C64=2026,IF(B64<741000,0,IF(B64<2191000,B64-740000,IF(B64<2193000,1451000,IF(B64<2196000,1453000,IF(B64<2200000,1456000,IF(B64<3600000,ROUNDDOWN(B64/4,-3)*2.8-80000,IF(B64<6600000,ROUNDDOWN(B64/4,-3)*3.2-440000,IF(B64<8500000,ROUNDDOWN(B64*0.9,0)-1100000,B64-1950000)))))))),IF(B64<651000,0,IF(B64<1900000,B64-650000,IF(B64<3600000,ROUNDDOWN(B64/4,-3)*2.8-80000,IF(B64<6600000,ROUNDDOWN(B64/4,-3)*3.2-440000,IF(B64<8500000,ROUNDDOWN(B64*0.9,0)-1100000,B64-1950000)))))) | K64: =IF(J64>23500000,NA(),IF(C64=2026,IF(J64<=4890000,1040000,IF(J64<=6550000,670000,620000)),IF(J64<=1320000,950000,IF(J64<=3360000,880000,IF(J64<=4890000,680000,IF(J64<=6550000,630000,580000)))))) | L64: =IF(D64=1,IF(J64<=9000000,380000,IF(J64<=9500000,260000,IF(J64<=10000000,130000,0))),0) | M64: =IF(D64=1,IF(J64<=9000000,330000,IF(J64<=9500000,220000,IF(J64<=10000000,110000,0))),0) | N64: =IF(D64=1,IF(J64<=9000000,50000,IF(J64<=9500000,40000,IF(J64<=10000000,20000,0))),0) | O64: =MAX(0,ROUNDDOWN(J64-G64-K64-L64-E64*380000-F64*630000-H64,-3)) | P64: =MAX(0,ROUNDDOWN(J64-G64-430000-M64-E64*330000-F64*450000-I64,-3)) | Q64: =50000+N64+E64*50000+F64*180000 | R64: =IF(P64<=2000000,MIN(Q64,P64),MAX(Q64-(P64-2000000),50000))*0.05 | S64: =MAX(0,P64*0.1-R64) | T64: =Q64+MAX(0,K64-480000) | U64: =P64-T64 | V64: =IF(U64<0,0,LOOKUP(U64,{0,1950001,3300001,6950001,9000001,18000001,40000001},{0.05,0.1,0.2,0.23,0.33,0.4,0.45})) | W64: =IF(U64<0,0.9,0.9-V64*1.021) | X64: =ROUNDDOWN(S64*0.2/W64+2000,0) | Y64: =IF(O64<=0,0,LOOKUP(O64,{0,1950001,3300001,6950001,9000001,18000001,40000001},{0.05,0.1,0.2,0.23,0.33,0.4,0.45}))
A65: 早見表 共働き＋大学生1人 | B65: ='2_早見表'!$A$7 | C65: 2025 | D65: 0 | E65: 0 | F65: 1 | G65: =ROUND(MIN(B65/12,650000)*12*0.0915+MIN(B65/12,1390000)*12*(0.0504+0)+B65*0.005,0) | H65: 0 | I65: 0 | J65: =IF(C65=2026,IF(B65<741000,0,IF(B65<2191000,B65-740000,IF(B65<2193000,1451000,IF(B65<2196000,1453000,IF(B65<2200000,1456000,IF(B65<3600000,ROUNDDOWN(B65/4,-3)*2.8-80000,IF(B65<6600000,ROUNDDOWN(B65/4,-3)*3.2-440000,IF(B65<8500000,ROUNDDOWN(B65*0.9,0)-1100000,B65-1950000)))))))),IF(B65<651000,0,IF(B65<1900000,B65-650000,IF(B65<3600000,ROUNDDOWN(B65/4,-3)*2.8-80000,IF(B65<6600000,ROUNDDOWN(B65/4,-3)*3.2-440000,IF(B65<8500000,ROUNDDOWN(B65*0.9,0)-1100000,B65-1950000)))))) | K65: =IF(J65>23500000,NA(),IF(C65=2026,IF(J65<=4890000,1040000,IF(J65<=6550000,670000,620000)),IF(J65<=1320000,950000,IF(J65<=3360000,880000,IF(J65<=4890000,680000,IF(J65<=6550000,630000,580000)))))) | L65: =IF(D65=1,IF(J65<=9000000,380000,IF(J65<=9500000,260000,IF(J65<=10000000,130000,0))),0) | M65: =IF(D65=1,IF(J65<=9000000,330000,IF(J65<=9500000,220000,IF(J65<=10000000,110000,0))),0) | N65: =IF(D65=1,IF(J65<=9000000,50000,IF(J65<=9500000,40000,IF(J65<=10000000,20000,0))),0) | O65: =MAX(0,ROUNDDOWN(J65-G65-K65-L65-E65*380000-F65*630000-H65,-3)) | P65: =MAX(0,ROUNDDOWN(J65-G65-430000-M65-E65*330000-F65*450000-I65,-3)) | Q65: =50000+N65+E65*50000+F65*180000 | R65: =IF(P65<=2000000,MIN(Q65,P65),MAX(Q65-(P65-2000000),50000))*0.05 | S65: =MAX(0,P65*0.1-R65) | T65: =Q65+MAX(0,K65-480000) | U65: =P65-T65 | V65: =IF(U65<0,0,LOOKUP(U65,{0,1950001,3300001,6950001,9000001,18000001,40000001},{0.05,0.1,0.2,0.23,0.33,0.4,0.45})) | W65: =IF(U65<0,0.9,0.9-V65*1.021) | X65: =ROUNDDOWN(S65*0.2/W65+2000,0) | Y65: =IF(O65<=0,0,LOOKUP(O65,{0,1950001,3300001,6950001,9000001,18000001,40000001},{0.05,0.1,0.2,0.23,0.33,0.4,0.45}))
A66: 早見表 共働き＋大学生1人 | B66: ='2_早見表'!$A$7 | C66: 2026 | D66: 0 | E66: 0 | F66: 1 | G66: =ROUND(MIN(B66/12,650000)*12*0.0915+MIN(B66/12,1390000)*12*(0.0504+0)+B66*0.005,0) | H66: 0 | I66: 0 | J66: =IF(C66=2026,IF(B66<741000,0,IF(B66<2191000,B66-740000,IF(B66<2193000,1451000,IF(B66<2196000,1453000,IF(B66<2200000,1456000,IF(B66<3600000,ROUNDDOWN(B66/4,-3)*2.8-80000,IF(B66<6600000,ROUNDDOWN(B66/4,-3)*3.2-440000,IF(B66<8500000,ROUNDDOWN(B66*0.9,0)-1100000,B66-1950000)))))))),IF(B66<651000,0,IF(B66<1900000,B66-650000,IF(B66<3600000,ROUNDDOWN(B66/4,-3)*2.8-80000,IF(B66<6600000,ROUNDDOWN(B66/4,-3)*3.2-440000,IF(B66<8500000,ROUNDDOWN(B66*0.9,0)-1100000,B66-1950000)))))) | K66: =IF(J66>23500000,NA(),IF(C66=2026,IF(J66<=4890000,1040000,IF(J66<=6550000,670000,620000)),IF(J66<=1320000,950000,IF(J66<=3360000,880000,IF(J66<=4890000,680000,IF(J66<=6550000,630000,580000)))))) | L66: =IF(D66=1,IF(J66<=9000000,380000,IF(J66<=9500000,260000,IF(J66<=10000000,130000,0))),0) | M66: =IF(D66=1,IF(J66<=9000000,330000,IF(J66<=9500000,220000,IF(J66<=10000000,110000,0))),0) | N66: =IF(D66=1,IF(J66<=9000000,50000,IF(J66<=9500000,40000,IF(J66<=10000000,20000,0))),0) | O66: =MAX(0,ROUNDDOWN(J66-G66-K66-L66-E66*380000-F66*630000-H66,-3)) | P66: =MAX(0,ROUNDDOWN(J66-G66-430000-M66-E66*330000-F66*450000-I66,-3)) | Q66: =50000+N66+E66*50000+F66*180000 | R66: =IF(P66<=2000000,MIN(Q66,P66),MAX(Q66-(P66-2000000),50000))*0.05 | S66: =MAX(0,P66*0.1-R66) | T66: =Q66+MAX(0,K66-480000) | U66: =P66-T66 | V66: =IF(U66<0,0,LOOKUP(U66,{0,1950001,3300001,6950001,9000001,18000001,40000001},{0.05,0.1,0.2,0.23,0.33,0.4,0.45})) | W66: =IF(U66<0,0.9,0.9-V66*1.021) | X66: =ROUNDDOWN(S66*0.2/W66+2000,0) | Y66: =IF(O66<=0,0,LOOKUP(O66,{0,1950001,3300001,6950001,9000001,18000001,40000001},{0.05,0.1,0.2,0.23,0.33,0.4,0.45}))
A67: 早見表 夫婦＋高校生1人 | B67: ='2_早見表'!$A$7 | C67: 2025 | D67: 1 | E67: 1 | F67: 0 | G67: =ROUND(MIN(B67/12,650000)*12*0.0915+MIN(B67/12,1390000)*12*(0.0504+0)+B67*0.005,0) | H67: 0 | I67: 0 | J67: =IF(C67=2026,IF(B67<741000,0,IF(B67<2191000,B67-740000,IF(B67<2193000,1451000,IF(B67<2196000,1453000,IF(B67<2200000,1456000,IF(B67<3600000,ROUNDDOWN(B67/4,-3)*2.8-80000,IF(B67<6600000,ROUNDDOWN(B67/4,-3)*3.2-440000,IF(B67<8500000,ROUNDDOWN(B67*0.9,0)-1100000,B67-1950000)))))))),IF(B67<651000,0,IF(B67<1900000,B67-650000,IF(B67<3600000,ROUNDDOWN(B67/4,-3)*2.8-80000,IF(B67<6600000,ROUNDDOWN(B67/4,-3)*3.2-440000,IF(B67<8500000,ROUNDDOWN(B67*0.9,0)-1100000,B67-1950000)))))) | K67: =IF(J67>23500000,NA(),IF(C67=2026,IF(J67<=4890000,1040000,IF(J67<=6550000,670000,620000)),IF(J67<=1320000,950000,IF(J67<=3360000,880000,IF(J67<=4890000,680000,IF(J67<=6550000,630000,580000)))))) | L67: =IF(D67=1,IF(J67<=9000000,380000,IF(J67<=9500000,260000,IF(J67<=10000000,130000,0))),0) | M67: =IF(D67=1,IF(J67<=9000000,330000,IF(J67<=9500000,220000,IF(J67<=10000000,110000,0))),0) | N67: =IF(D67=1,IF(J67<=9000000,50000,IF(J67<=9500000,40000,IF(J67<=10000000,20000,0))),0) | O67: =MAX(0,ROUNDDOWN(J67-G67-K67-L67-E67*380000-F67*630000-H67,-3)) | P67: =MAX(0,ROUNDDOWN(J67-G67-430000-M67-E67*330000-F67*450000-I67,-3)) | Q67: =50000+N67+E67*50000+F67*180000 | R67: =IF(P67<=2000000,MIN(Q67,P67),MAX(Q67-(P67-2000000),50000))*0.05 | S67: =MAX(0,P67*0.1-R67) | T67: =Q67+MAX(0,K67-480000) | U67: =P67-T67 | V67: =IF(U67<0,0,LOOKUP(U67,{0,1950001,3300001,6950001,9000001,18000001,40000001},{0.05,0.1,0.2,0.23,0.33,0.4,0.45})) | W67: =IF(U67<0,0.9,0.9-V67*1.021) | X67: =ROUNDDOWN(S67*0.2/W67+2000,0) | Y67: =IF(O67<=0,0,LOOKUP(O67,{0,1950001,3300001,6950001,9000001,18000001,40000001},{0.05,0.1,0.2,0.23,0.33,0.4,0.45}))
A68: 早見表 夫婦＋高校生1人 | B68: ='2_早見表'!$A$7 | C68: 2026 | D68: 1 | E68: 1 | F68: 0 | G68: =ROUND(MIN(B68/12,650000)*12*0.0915+MIN(B68/12,1390000)*12*(0.0504+0)+B68*0.005,0) | H68: 0 | I68: 0 | J68: =IF(C68=2026,IF(B68<741000,0,IF(B68<2191000,B68-740000,IF(B68<2193000,1451000,IF(B68<2196000,1453000,IF(B68<2200000,1456000,IF(B68<3600000,ROUNDDOWN(B68/4,-3)*2.8-80000,IF(B68<6600000,ROUNDDOWN(B68/4,-3)*3.2-440000,IF(B68<8500000,ROUNDDOWN(B68*0.9,0)-1100000,B68-1950000)))))))),IF(B68<651000,0,IF(B68<1900000,B68-650000,IF(B68<3600000,ROUNDDOWN(B68/4,-3)*2.8-80000,IF(B68<6600000,ROUNDDOWN(B68/4,-3)*3.2-440000,IF(B68<8500000,ROUNDDOWN(B68*0.9,0)-1100000,B68-1950000)))))) | K68: =IF(J68>23500000,NA(),IF(C68=2026,IF(J68<=4890000,1040000,IF(J68<=6550000,670000,620000)),IF(J68<=1320000,950000,IF(J68<=3360000,880000,IF(J68<=4890000,680000,IF(J68<=6550000,630000,580000)))))) | L68: =IF(D68=1,IF(J68<=9000000,380000,IF(J68<=9500000,260000,IF(J68<=10000000,130000,0))),0) | M68: =IF(D68=1,IF(J68<=9000000,330000,IF(J68<=9500000,220000,IF(J68<=10000000,110000,0))),0) | N68: =IF(D68=1,IF(J68<=9000000,50000,IF(J68<=9500000,40000,IF(J68<=10000000,20000,0))),0) | O68: =MAX(0,ROUNDDOWN(J68-G68-K68-L68-E68*380000-F68*630000-H68,-3)) | P68: =MAX(0,ROUNDDOWN(J68-G68-430000-M68-E68*330000-F68*450000-I68,-3)) | Q68: =50000+N68+E68*50000+F68*180000 | R68: =IF(P68<=2000000,MIN(Q68,P68),MAX(Q68-(P68-2000000),50000))*0.05 | S68: =MAX(0,P68*0.1-R68) | T68: =Q68+MAX(0,K68-480000) | U68: =P68-T68 | V68: =IF(U68<0,0,LOOKUP(U68,{0,1950001,3300001,6950001,9000001,18000001,40000001},{0.05,0.1,0.2,0.23,0.33,0.4,0.45})) | W68: =IF(U68<0,0.9,0.9-V68*1.021) | X68: =ROUNDDOWN(S68*0.2/W68+2000,0) | Y68: =IF(O68<=0,0,LOOKUP(O68,{0,1950001,3300001,6950001,9000001,18000001,40000001},{0.05,0.1,0.2,0.23,0.33,0.4,0.45}))
A69: 早見表 共働き＋大学生と高校生 | B69: ='2_早見表'!$A$7 | C69: 2025 | D69: 0 | E69: 1 | F69: 1 | G69: =ROUND(MIN(B69/12,650000)*12*0.0915+MIN(B69/12,1390000)*12*(0.0504+0)+B69*0.005,0) | H69: 0 | I69: 0 | J69: =IF(C69=2026,IF(B69<741000,0,IF(B69<2191000,B69-740000,IF(B69<2193000,1451000,IF(B69<2196000,1453000,IF(B69<2200000,1456000,IF(B69<3600000,ROUNDDOWN(B69/4,-3)*2.8-80000,IF(B69<6600000,ROUNDDOWN(B69/4,-3)*3.2-440000,IF(B69<8500000,ROUNDDOWN(B69*0.9,0)-1100000,B69-1950000)))))))),IF(B69<651000,0,IF(B69<1900000,B69-650000,IF(B69<3600000,ROUNDDOWN(B69/4,-3)*2.8-80000,IF(B69<6600000,ROUNDDOWN(B69/4,-3)*3.2-440000,IF(B69<8500000,ROUNDDOWN(B69*0.9,0)-1100000,B69-1950000)))))) | K69: =IF(J69>23500000,NA(),IF(C69=2026,IF(J69<=4890000,1040000,IF(J69<=6550000,670000,620000)),IF(J69<=1320000,950000,IF(J69<=3360000,880000,IF(J69<=4890000,680000,IF(J69<=6550000,630000,580000)))))) | L69: =IF(D69=1,IF(J69<=9000000,380000,IF(J69<=9500000,260000,IF(J69<=10000000,130000,0))),0) | M69: =IF(D69=1,IF(J69<=9000000,330000,IF(J69<=9500000,220000,IF(J69<=10000000,110000,0))),0) | N69: =IF(D69=1,IF(J69<=9000000,50000,IF(J69<=9500000,40000,IF(J69<=10000000,20000,0))),0) | O69: =MAX(0,ROUNDDOWN(J69-G69-K69-L69-E69*380000-F69*630000-H69,-3)) | P69: =MAX(0,ROUNDDOWN(J69-G69-430000-M69-E69*330000-F69*450000-I69,-3)) | Q69: =50000+N69+E69*50000+F69*180000 | R69: =IF(P69<=2000000,MIN(Q69,P69),MAX(Q69-(P69-2000000),50000))*0.05 | S69: =MAX(0,P69*0.1-R69) | T69: =Q69+MAX(0,K69-480000) | U69: =P69-T69 | V69: =IF(U69<0,0,LOOKUP(U69,{0,1950001,3300001,6950001,9000001,18000001,40000001},{0.05,0.1,0.2,0.23,0.33,0.4,0.45})) | W69: =IF(U69<0,0.9,0.9-V69*1.021) | X69: =ROUNDDOWN(S69*0.2/W69+2000,0) | Y69: =IF(O69<=0,0,LOOKUP(O69,{0,1950001,3300001,6950001,9000001,18000001,40000001},{0.05,0.1,0.2,0.23,0.33,0.4,0.45}))
A70: 早見表 共働き＋大学生と高校生 | B70: ='2_早見表'!$A$7 | C70: 2026 | D70: 0 | E70: 1 | F70: 1 | G70: =ROUND(MIN(B70/12,650000)*12*0.0915+MIN(B70/12,1390000)*12*(0.0504+0)+B70*0.005,0) | H70: 0 | I70: 0 | J70: =IF(C70=2026,IF(B70<741000,0,IF(B70<2191000,B70-740000,IF(B70<2193000,1451000,IF(B70<2196000,1453000,IF(B70<2200000,1456000,IF(B70<3600000,ROUNDDOWN(B70/4,-3)*2.8-80000,IF(B70<6600000,ROUNDDOWN(B70/4,-3)*3.2-440000,IF(B70<8500000,ROUNDDOWN(B70*0.9,0)-1100000,B70-1950000)))))))),IF(B70<651000,0,IF(B70<1900000,B70-650000,IF(B70<3600000,ROUNDDOWN(B70/4,-3)*2.8-80000,IF(B70<6600000,ROUNDDOWN(B70/4,-3)*3.2-440000,IF(B70<8500000,ROUNDDOWN(B70*0.9,0)-1100000,B70-1950000)))))) | K70: =IF(J70>23500000,NA(),IF(C70=2026,IF(J70<=4890000,1040000,IF(J70<=6550000,670000,620000)),IF(J70<=1320000,950000,IF(J70<=3360000,880000,IF(J70<=4890000,680000,IF(J70<=6550000,630000,580000)))))) | L70: =IF(D70=1,IF(J70<=9000000,380000,IF(J70<=9500000,260000,IF(J70<=10000000,130000,0))),0) | M70: =IF(D70=1,IF(J70<=9000000,330000,IF(J70<=9500000,220000,IF(J70<=10000000,110000,0))),0) | N70: =IF(D70=1,IF(J70<=9000000,50000,IF(J70<=9500000,40000,IF(J70<=10000000,20000,0))),0) | O70: =MAX(0,ROUNDDOWN(J70-G70-K70-L70-E70*380000-F70*630000-H70,-3)) | P70: =MAX(0,ROUNDDOWN(J70-G70-430000-M70-E70*330000-F70*450000-I70,-3)) | Q70: =50000+N70+E70*50000+F70*180000 | R70: =IF(P70<=2000000,MIN(Q70,P70),MAX(Q70-(P70-2000000),50000))*0.05 | S70: =MAX(0,P70*0.1-R70) | T70: =Q70+MAX(0,K70-480000) | U70: =P70-T70 | V70: =IF(U70<0,0,LOOKUP(U70,{0,1950001,3300001,6950001,9000001,18000001,40000001},{0.05,0.1,0.2,0.23,0.33,0.4,0.45})) | W70: =IF(U70<0,0.9,0.9-V70*1.021) | X70: =ROUNDDOWN(S70*0.2/W70+2000,0) | Y70: =IF(O70<=0,0,LOOKUP(O70,{0,1950001,3300001,6950001,9000001,18000001,40000001},{0.05,0.1,0.2,0.23,0.33,0.4,0.45}))
... A72: 早見表 夫婦＋大学生と高校生 | B72: ='2_早見表'!$A$7 | C72: 2026 | D72: 1 | E72: 1 | F72: 1 | G72: =ROUND(MIN(B72/12,650000)*12*0.0915+MIN(B72/12,1390000)*12*(0.0504+0)+B72*0.005,0) | H72: 0 | I72: 0 | J72: =IF(C72=2026,IF(B72<741000,0,IF(B72<2191000,B72-740000,IF(B72<2193000,1451000,IF(B72<2196000,1453000,IF(B72<2200000,1456000,IF(B72<3600000,ROUNDDOWN(B72/4,-3)*2.8-80000,IF(B72<6600000,ROUNDDOWN(B72/4,-3)*3.2-440000,IF(B72<8500000,ROUNDDOWN(B72*0.9,0)-1100000,B72-1950000)))))))),IF(B72<651000,0,IF(B72<1900000,B72-650000,IF(B72<3600000,ROUNDDOWN(B72/4,-3)*2.8-80000,IF(B72<6600000,ROUNDDOWN(B72/4,-3)*3.2-440000,IF(B72<8500000,ROUNDDOWN(B72*0.9,0)-1100000,B72-1950000)))))) | K72: =IF(J72>23500000,NA(),IF(C72=2026,IF(J72<=4890000,1040000,IF(J72<=6550000,670000,620000)),IF(J72<=1320000,950000,IF(J72<=3360000,880000,IF(J72<=4890000,680000,IF(J72<=6550000,630000,580000)))))) | L72: =IF(D72=1,IF(J72<=9000000,380000,IF(J72<=9500000,260000,IF(J72<=10000000,130000,0))),0) | M72: =IF(D72=1,IF(J72<=9000000,330000,IF(J72<=9500000,220000,IF(J72<=10000000,110000,0))),0) | N72: =IF(D72=1,IF(J72<=9000000,50000,IF(J72<=9500000,40000,IF(J72<=10000000,20000,0))),0) | O72: =MAX(0,ROUNDDOWN(J72-G72-K72-L72-E72*380000-F72*630000-H72,-3)) | P72: =MAX(0,ROUNDDOWN(J72-G72-430000-M72-E72*330000-F72*450000-I72,-3)) | Q72: =50000+N72+E72*50000+F72*180000 | R72: =IF(P72<=2000000,MIN(Q72,P72),MAX(Q72-(P72-2000000),50000))*0.05 | S72: =MAX(0,P72*0.1-R72) | T72: =Q72+MAX(0,K72-480000) | U72: =P72-T72 | V72: =IF(U72<0,0,LOOKUP(U72,{0,1950001,3300001,6950001,9000001,18000001,40000001},{0.05,0.1,0.2,0.23,0.33,0.4,0.45})) | W72: =IF(U72<0,0.9,0.9-V72*1.021) | X72: =ROUNDDOWN(S72*0.2/W72+2000,0) | Y72: =IF(O72<=0,0,LOOKUP(O72,{0,1950001,3300001,6950001,9000001,18000001,40000001},{0.05,0.1,0.2,0.23,0.33,0.4,0.45}))
A73: 早見表 独身または共働き | B73: ='2_早見表'!$A$8 | C73: 2025 | D73: 0 | E73: 0 | F73: 0 | G73: =ROUND(MIN(B73/12,650000)*12*0.0915+MIN(B73/12,1390000)*12*(0.0504+0)+B73*0.005,0) | H73: 0 | I73: 0 | J73: =IF(C73=2026,IF(B73<741000,0,IF(B73<2191000,B73-740000,IF(B73<2193000,1451000,IF(B73<2196000,1453000,IF(B73<2200000,1456000,IF(B73<3600000,ROUNDDOWN(B73/4,-3)*2.8-80000,IF(B73<6600000,ROUNDDOWN(B73/4,-3)*3.2-440000,IF(B73<8500000,ROUNDDOWN(B73*0.9,0)-1100000,B73-1950000)))))))),IF(B73<651000,0,IF(B73<1900000,B73-650000,IF(B73<3600000,ROUNDDOWN(B73/4,-3)*2.8-80000,IF(B73<6600000,ROUNDDOWN(B73/4,-3)*3.2-440000,IF(B73<8500000,ROUNDDOWN(B73*0.9,0)-1100000,B73-1950000)))))) | K73: =IF(J73>23500000,NA(),IF(C73=2026,IF(J73<=4890000,1040000,IF(J73<=6550000,670000,620000)),IF(J73<=1320000,950000,IF(J73<=3360000,880000,IF(J73<=4890000,680000,IF(J73<=6550000,630000,580000)))))) | L73: =IF(D73=1,IF(J73<=9000000,380000,IF(J73<=9500000,260000,IF(J73<=10000000,130000,0))),0) | M73: =IF(D73=1,IF(J73<=9000000,330000,IF(J73<=9500000,220000,IF(J73<=10000000,110000,0))),0) | N73: =IF(D73=1,IF(J73<=9000000,50000,IF(J73<=9500000,40000,IF(J73<=10000000,20000,0))),0) | O73: =MAX(0,ROUNDDOWN(J73-G73-K73-L73-E73*380000-F73*630000-H73,-3)) | P73: =MAX(0,ROUNDDOWN(J73-G73-430000-M73-E73*330000-F73*450000-I73,-3)) | Q73: =50000+N73+E73*50000+F73*180000 | R73: =IF(P73<=2000000,MIN(Q73,P73),MAX(Q73-(P73-2000000),50000))*0.05 | S73: =MAX(0,P73*0.1-R73) | T73: =Q73+MAX(0,K73-480000) | U73: =P73-T73 | V73: =IF(U73<0,0,LOOKUP(U73,{0,1950001,3300001,6950001,9000001,18000001,40000001},{0.05,0.1,0.2,0.23,0.33,0.4,0.45})) | W73: =IF(U73<0,0.9,0.9-V73*1.021) | X73: =ROUNDDOWN(S73*0.2/W73+2000,0) | Y73: =IF(O73<=0,0,LOOKUP(O73,{0,1950001,3300001,6950001,9000001,18000001,40000001},{0.05,0.1,0.2,0.23,0.33,0.4,0.45}))
A74: 早見表 独身または共働き | B74: ='2_早見表'!$A$8 | C74: 2026 | D74: 0 | E74: 0 | F74: 0 | G74: =ROUND(MIN(B74/12,650000)*12*0.0915+MIN(B74/12,1390000)*12*(0.0504+0)+B74*0.005,0) | H74: 0 | I74: 0 | J74: =IF(C74=2026,IF(B74<741000,0,IF(B74<2191000,B74-740000,IF(B74<2193000,1451000,IF(B74<2196000,1453000,IF(B74<2200000,1456000,IF(B74<3600000,ROUNDDOWN(B74/4,-3)*2.8-80000,IF(B74<6600000,ROUNDDOWN(B74/4,-3)*3.2-440000,IF(B74<8500000,ROUNDDOWN(B74*0.9,0)-1100000,B74-1950000)))))))),IF(B74<651000,0,IF(B74<1900000,B74-650000,IF(B74<3600000,ROUNDDOWN(B74/4,-3)*2.8-80000,IF(B74<6600000,ROUNDDOWN(B74/4,-3)*3.2-440000,IF(B74<8500000,ROUNDDOWN(B74*0.9,0)-1100000,B74-1950000)))))) | K74: =IF(J74>23500000,NA(),IF(C74=2026,IF(J74<=4890000,1040000,IF(J74<=6550000,670000,620000)),IF(J74<=1320000,950000,IF(J74<=3360000,880000,IF(J74<=4890000,680000,IF(J74<=6550000,630000,580000)))))) | L74: =IF(D74=1,IF(J74<=9000000,380000,IF(J74<=9500000,260000,IF(J74<=10000000,130000,0))),0) | M74: =IF(D74=1,IF(J74<=9000000,330000,IF(J74<=9500000,220000,IF(J74<=10000000,110000,0))),0) | N74: =IF(D74=1,IF(J74<=9000000,50000,IF(J74<=9500000,40000,IF(J74<=10000000,20000,0))),0) | O74: =MAX(0,ROUNDDOWN(J74-G74-K74-L74-E74*380000-F74*630000-H74,-3)) | P74: =MAX(0,ROUNDDOWN(J74-G74-430000-M74-E74*330000-F74*450000-I74,-3)) | Q74: =50000+N74+E74*50000+F74*180000 | R74: =IF(P74<=2000000,MIN(Q74,P74),MAX(Q74-(P74-2000000),50000))*0.05 | S74: =MAX(0,P74*0.1-R74) | T74: =Q74+MAX(0,K74-480000) | U74: =P74-T74 | V74: =IF(U74<0,0,LOOKUP(U74,{0,1950001,3300001,6950001,9000001,18000001,40000001},{0.05,0.1,0.2,0.23,0.33,0.4,0.45})) | W74: =IF(U74<0,0.9,0.9-V74*1.021) | X74: =ROUNDDOWN(S74*0.2/W74+2000,0) | Y74: =IF(O74<=0,0,LOOKUP(O74,{0,1950001,3300001,6950001,9000001,18000001,40000001},{0.05,0.1,0.2,0.23,0.33,0.4,0.45}))
A75: 早見表 夫婦（配偶者控除あり） | B75: ='2_早見表'!$A$8 | C75: 2025 | D75: 1 | E75: 0 | F75: 0 | G75: =ROUND(MIN(B75/12,650000)*12*0.0915+MIN(B75/12,1390000)*12*(0.0504+0)+B75*0.005,0) | H75: 0 | I75: 0 | J75: =IF(C75=2026,IF(B75<741000,0,IF(B75<2191000,B75-740000,IF(B75<2193000,1451000,IF(B75<2196000,1453000,IF(B75<2200000,1456000,IF(B75<3600000,ROUNDDOWN(B75/4,-3)*2.8-80000,IF(B75<6600000,ROUNDDOWN(B75/4,-3)*3.2-440000,IF(B75<8500000,ROUNDDOWN(B75*0.9,0)-1100000,B75-1950000)))))))),IF(B75<651000,0,IF(B75<1900000,B75-650000,IF(B75<3600000,ROUNDDOWN(B75/4,-3)*2.8-80000,IF(B75<6600000,ROUNDDOWN(B75/4,-3)*3.2-440000,IF(B75<8500000,ROUNDDOWN(B75*0.9,0)-1100000,B75-1950000)))))) | K75: =IF(J75>23500000,NA(),IF(C75=2026,IF(J75<=4890000,1040000,IF(J75<=6550000,670000,620000)),IF(J75<=1320000,950000,IF(J75<=3360000,880000,IF(J75<=4890000,680000,IF(J75<=6550000,630000,580000)))))) | L75: =IF(D75=1,IF(J75<=9000000,380000,IF(J75<=9500000,260000,IF(J75<=10000000,130000,0))),0) | M75: =IF(D75=1,IF(J75<=9000000,330000,IF(J75<=9500000,220000,IF(J75<=10000000,110000,0))),0) | N75: =IF(D75=1,IF(J75<=9000000,50000,IF(J75<=9500000,40000,IF(J75<=10000000,20000,0))),0) | O75: =MAX(0,ROUNDDOWN(J75-G75-K75-L75-E75*380000-F75*630000-H75,-3)) | P75: =MAX(0,ROUNDDOWN(J75-G75-430000-M75-E75*330000-F75*450000-I75,-3)) | Q75: =50000+N75+E75*50000+F75*180000 | R75: =IF(P75<=2000000,MIN(Q75,P75),MAX(Q75-(P75-2000000),50000))*0.05 | S75: =MAX(0,P75*0.1-R75) | T75: =Q75+MAX(0,K75-480000) | U75: =P75-T75 | V75: =IF(U75<0,0,LOOKUP(U75,{0,1950001,3300001,6950001,9000001,18000001,40000001},{0.05,0.1,0.2,0.23,0.33,0.4,0.45})) | W75: =IF(U75<0,0.9,0.9-V75*1.021) | X75: =ROUNDDOWN(S75*0.2/W75+2000,0) | Y75: =IF(O75<=0,0,LOOKUP(O75,{0,1950001,3300001,6950001,9000001,18000001,40000001},{0.05,0.1,0.2,0.23,0.33,0.4,0.45}))
A76: 早見表 夫婦（配偶者控除あり） | B76: ='2_早見表'!$A$8 | C76: 2026 | D76: 1 | E76: 0 | F76: 0 | G76: =ROUND(MIN(B76/12,650000)*12*0.0915+MIN(B76/12,1390000)*12*(0.0504+0)+B76*0.005,0) | H76: 0 | I76: 0 | J76: =IF(C76=2026,IF(B76<741000,0,IF(B76<2191000,B76-740000,IF(B76<2193000,1451000,IF(B76<2196000,1453000,IF(B76<2200000,1456000,IF(B76<3600000,ROUNDDOWN(B76/4,-3)*2.8-80000,IF(B76<6600000,ROUNDDOWN(B76/4,-3)*3.2-440000,IF(B76<8500000,ROUNDDOWN(B76*0.9,0)-1100000,B76-1950000)))))))),IF(B76<651000,0,IF(B76<1900000,B76-650000,IF(B76<3600000,ROUNDDOWN(B76/4,-3)*2.8-80000,IF(B76<6600000,ROUNDDOWN(B76/4,-3)*3.2-440000,IF(B76<8500000,ROUNDDOWN(B76*0.9,0)-1100000,B76-1950000)))))) | K76: =IF(J76>23500000,NA(),IF(C76=2026,IF(J76<=4890000,1040000,IF(J76<=6550000,670000,620000)),IF(J76<=1320000,950000,IF(J76<=3360000,880000,IF(J76<=4890000,680000,IF(J76<=6550000,630000,580000)))))) | L76: =IF(D76=1,IF(J76<=9000000,380000,IF(J76<=9500000,260000,IF(J76<=10000000,130000,0))),0) | M76: =IF(D76=1,IF(J76<=9000000,330000,IF(J76<=9500000,220000,IF(J76<=10000000,110000,0))),0) | N76: =IF(D76=1,IF(J76<=9000000,50000,IF(J76<=9500000,40000,IF(J76<=10000000,20000,0))),0) | O76: =MAX(0,ROUNDDOWN(J76-G76-K76-L76-E76*380000-F76*630000-H76,-3)) | P76: =MAX(0,ROUNDDOWN(J76-G76-430000-M76-E76*330000-F76*450000-I76,-3)) | Q76: =50000+N76+E76*50000+F76*180000 | R76: =IF(P76<=2000000,MIN(Q76,P76),MAX(Q76-(P76-2000000),50000))*0.05 | S76: =MAX(0,P76*0.1-R76) | T76: =Q76+MAX(0,K76-480000) | U76: =P76-T76 | V76: =IF(U76<0,0,LOOKUP(U76,{0,1950001,3300001,6950001,9000001,18000001,40000001},{0.05,0.1,0.2,0.23,0.33,0.4,0.45})) | W76: =IF(U76<0,0.9,0.9-V76*1.021) | X76: =ROUNDDOWN(S76*0.2/W76+2000,0) | Y76: =IF(O76<=0,0,LOOKUP(O76,{0,1950001,3300001,6950001,9000001,18000001,40000001},{0.05,0.1,0.2,0.23,0.33,0.4,0.45}))
A77: 早見表 共働き＋高校生1人 | B77: ='2_早見表'!$A$8 | C77: 2025 | D77: 0 | E77: 1 | F77: 0 | G77: =ROUND(MIN(B77/12,650000)*12*0.0915+MIN(B77/12,1390000)*12*(0.0504+0)+B77*0.005,0) | H77: 0 | I77: 0 | J77: =IF(C77=2026,IF(B77<741000,0,IF(B77<2191000,B77-740000,IF(B77<2193000,1451000,IF(B77<2196000,1453000,IF(B77<2200000,1456000,IF(B77<3600000,ROUNDDOWN(B77/4,-3)*2.8-80000,IF(B77<6600000,ROUNDDOWN(B77/4,-3)*3.2-440000,IF(B77<8500000,ROUNDDOWN(B77*0.9,0)-1100000,B77-1950000)))))))),IF(B77<651000,0,IF(B77<1900000,B77-650000,IF(B77<3600000,ROUNDDOWN(B77/4,-3)*2.8-80000,IF(B77<6600000,ROUNDDOWN(B77/4,-3)*3.2-440000,IF(B77<8500000,ROUNDDOWN(B77*0.9,0)-1100000,B77-1950000)))))) | K77: =IF(J77>23500000,NA(),IF(C77=2026,IF(J77<=4890000,1040000,IF(J77<=6550000,670000,620000)),IF(J77<=1320000,950000,IF(J77<=3360000,880000,IF(J77<=4890000,680000,IF(J77<=6550000,630000,580000)))))) | L77: =IF(D77=1,IF(J77<=9000000,380000,IF(J77<=9500000,260000,IF(J77<=10000000,130000,0))),0) | M77: =IF(D77=1,IF(J77<=9000000,330000,IF(J77<=9500000,220000,IF(J77<=10000000,110000,0))),0) | N77: =IF(D77=1,IF(J77<=9000000,50000,IF(J77<=9500000,40000,IF(J77<=10000000,20000,0))),0) | O77: =MAX(0,ROUNDDOWN(J77-G77-K77-L77-E77*380000-F77*630000-H77,-3)) | P77: =MAX(0,ROUNDDOWN(J77-G77-430000-M77-E77*330000-F77*450000-I77,-3)) | Q77: =50000+N77+E77*50000+F77*180000 | R77: =IF(P77<=2000000,MIN(Q77,P77),MAX(Q77-(P77-2000000),50000))*0.05 | S77: =MAX(0,P77*0.1-R77) | T77: =Q77+MAX(0,K77-480000) | U77: =P77-T77 | V77: =IF(U77<0,0,LOOKUP(U77,{0,1950001,3300001,6950001,9000001,18000001,40000001},{0.05,0.1,0.2,0.23,0.33,0.4,0.45})) | W77: =IF(U77<0,0.9,0.9-V77*1.021) | X77: =ROUNDDOWN(S77*0.2/W77+2000,0) | Y77: =IF(O77<=0,0,LOOKUP(O77,{0,1950001,3300001,6950001,9000001,18000001,40000001},{0.05,0.1,0.2,0.23,0.33,0.4,0.45}))
A78: 早見表 共働き＋高校生1人 | B78: ='2_早見表'!$A$8 | C78: 2026 | D78: 0 | E78: 1 | F78: 0 | G78: =ROUND(MIN(B78/12,650000)*12*0.0915+MIN(B78/12,1390000)*12*(0.0504+0)+B78*0.005,0) | H78: 0 | I78: 0 | J78: =IF(C78=2026,IF(B78<741000,0,IF(B78<2191000,B78-740000,IF(B78<2193000,1451000,IF(B78<2196000,1453000,IF(B78<2200000,1456000,IF(B78<3600000,ROUNDDOWN(B78/4,-3)*2.8-80000,IF(B78<6600000,ROUNDDOWN(B78/4,-3)*3.2-440000,IF(B78<8500000,ROUNDDOWN(B78*0.9,0)-1100000,B78-1950000)))))))),IF(B78<651000,0,IF(B78<1900000,B78-650000,IF(B78<3600000,ROUNDDOWN(B78/4,-3)*2.8-80000,IF(B78<6600000,ROUNDDOWN(B78/4,-3)*3.2-440000,IF(B78<8500000,ROUNDDOWN(B78*0.9,0)-1100000,B78-1950000)))))) | K78: =IF(J78>23500000,NA(),IF(C78=2026,IF(J78<=4890000,1040000,IF(J78<=6550000,670000,620000)),IF(J78<=1320000,950000,IF(J78<=3360000,880000,IF(J78<=4890000,680000,IF(J78<=6550000,630000,580000)))))) | L78: =IF(D78=1,IF(J78<=9000000,380000,IF(J78<=9500000,260000,IF(J78<=10000000,130000,0))),0) | M78: =IF(D78=1,IF(J78<=9000000,330000,IF(J78<=9500000,220000,IF(J78<=10000000,110000,0))),0) | N78: =IF(D78=1,IF(J78<=9000000,50000,IF(J78<=9500000,40000,IF(J78<=10000000,20000,0))),0) | O78: =MAX(0,ROUNDDOWN(J78-G78-K78-L78-E78*380000-F78*630000-H78,-3)) | P78: =MAX(0,ROUNDDOWN(J78-G78-430000-M78-E78*330000-F78*450000-I78,-3)) | Q78: =50000+N78+E78*50000+F78*180000 | R78: =IF(P78<=2000000,MIN(Q78,P78),MAX(Q78-(P78-2000000),50000))*0.05 | S78: =MAX(0,P78*0.1-R78) | T78: =Q78+MAX(0,K78-480000) | U78: =P78-T78 | V78: =IF(U78<0,0,LOOKUP(U78,{0,1950001,3300001,6950001,9000001,18000001,40000001},{0.05,0.1,0.2,0.23,0.33,0.4,0.45})) | W78: =IF(U78<0,0.9,0.9-V78*1.021) | X78: =ROUNDDOWN(S78*0.2/W78+2000,0) | Y78: =IF(O78<=0,0,LOOKUP(O78,{0,1950001,3300001,6950001,9000001,18000001,40000001},{0.05,0.1,0.2,0.23,0.33,0.4,0.45}))
A79: 早見表 共働き＋大学生1人 | B79: ='2_早見表'!$A$8 | C79: 2025 | D79: 0 | E79: 0 | F79: 1 | G79: =ROUND(MIN(B79/12,650000)*12*0.0915+MIN(B79/12,1390000)*12*(0.0504+0)+B79*0.005,0) | H79: 0 | I79: 0 | J79: =IF(C79=2026,IF(B79<741000,0,IF(B79<2191000,B79-740000,IF(B79<2193000,1451000,IF(B79<2196000,1453000,IF(B79<2200000,1456000,IF(B79<3600000,ROUNDDOWN(B79/4,-3)*2.8-80000,IF(B79<6600000,ROUNDDOWN(B79/4,-3)*3.2-440000,IF(B79<8500000,ROUNDDOWN(B79*0.9,0)-1100000,B79-1950000)))))))),IF(B79<651000,0,IF(B79<1900000,B79-650000,IF(B79<3600000,ROUNDDOWN(B79/4,-3)*2.8-80000,IF(B79<6600000,ROUNDDOWN(B79/4,-3)*3.2-440000,IF(B79<8500000,ROUNDDOWN(B79*0.9,0)-1100000,B79-1950000)))))) | K79: =IF(J79>23500000,NA(),IF(C79=2026,IF(J79<=4890000,1040000,IF(J79<=6550000,670000,620000)),IF(J79<=1320000,950000,IF(J79<=3360000,880000,IF(J79<=4890000,680000,IF(J79<=6550000,630000,580000)))))) | L79: =IF(D79=1,IF(J79<=9000000,380000,IF(J79<=9500000,260000,IF(J79<=10000000,130000,0))),0) | M79: =IF(D79=1,IF(J79<=9000000,330000,IF(J79<=9500000,220000,IF(J79<=10000000,110000,0))),0) | N79: =IF(D79=1,IF(J79<=9000000,50000,IF(J79<=9500000,40000,IF(J79<=10000000,20000,0))),0) | O79: =MAX(0,ROUNDDOWN(J79-G79-K79-L79-E79*380000-F79*630000-H79,-3)) | P79: =MAX(0,ROUNDDOWN(J79-G79-430000-M79-E79*330000-F79*450000-I79,-3)) | Q79: =50000+N79+E79*50000+F79*180000 | R79: =IF(P79<=2000000,MIN(Q79,P79),MAX(Q79-(P79-2000000),50000))*0.05 | S79: =MAX(0,P79*0.1-R79) | T79: =Q79+MAX(0,K79-480000) | U79: =P79-T79 | V79: =IF(U79<0,0,LOOKUP(U79,{0,1950001,3300001,6950001,9000001,18000001,40000001},{0.05,0.1,0.2,0.23,0.33,0.4,0.45})) | W79: =IF(U79<0,0.9,0.9-V79*1.021) | X79: =ROUNDDOWN(S79*0.2/W79+2000,0) | Y79: =IF(O79<=0,0,LOOKUP(O79,{0,1950001,3300001,6950001,9000001,18000001,40000001},{0.05,0.1,0.2,0.23,0.33,0.4,0.45}))
A80: 早見表 共働き＋大学生1人 | B80: ='2_早見表'!$A$8 | C80: 2026 | D80: 0 | E80: 0 | F80: 1 | G80: =ROUND(MIN(B80/12,650000)*12*0.0915+MIN(B80/12,1390000)*12*(0.0504+0)+B80*0.005,0) | H80: 0 | I80: 0 | J80: =IF(C80=2026,IF(B80<741000,0,IF(B80<2191000,B80-740000,IF(B80<2193000,1451000,IF(B80<2196000,1453000,IF(B80<2200000,1456000,IF(B80<3600000,ROUNDDOWN(B80/4,-3)*2.8-80000,IF(B80<6600000,ROUNDDOWN(B80/4,-3)*3.2-440000,IF(B80<8500000,ROUNDDOWN(B80*0.9,0)-1100000,B80-1950000)))))))),IF(B80<651000,0,IF(B80<1900000,B80-650000,IF(B80<3600000,ROUNDDOWN(B80/4,-3)*2.8-80000,IF(B80<6600000,ROUNDDOWN(B80/4,-3)*3.2-440000,IF(B80<8500000,ROUNDDOWN(B80*0.9,0)-1100000,B80-1950000)))))) | K80: =IF(J80>23500000,NA(),IF(C80=2026,IF(J80<=4890000,1040000,IF(J80<=6550000,670000,620000)),IF(J80<=1320000,950000,IF(J80<=3360000,880000,IF(J80<=4890000,680000,IF(J80<=6550000,630000,580000)))))) | L80: =IF(D80=1,IF(J80<=9000000,380000,IF(J80<=9500000,260000,IF(J80<=10000000,130000,0))),0) | M80: =IF(D80=1,IF(J80<=9000000,330000,IF(J80<=9500000,220000,IF(J80<=10000000,110000,0))),0) | N80: =IF(D80=1,IF(J80<=9000000,50000,IF(J80<=9500000,40000,IF(J80<=10000000,20000,0))),0) | O80: =MAX(0,ROUNDDOWN(J80-G80-K80-L80-E80*380000-F80*630000-H80,-3)) | P80: =MAX(0,ROUNDDOWN(J80-G80-430000-M80-E80*330000-F80*450000-I80,-3)) | Q80: =50000+N80+E80*50000+F80*180000 | R80: =IF(P80<=2000000,MIN(Q80,P80),MAX(Q80-(P80-2000000),50000))*0.05 | S80: =MAX(0,P80*0.1-R80) | T80: =Q80+MAX(0,K80-480000) | U80: =P80-T80 | V80: =IF(U80<0,0,LOOKUP(U80,{0,1950001,3300001,6950001,9000001,18000001,40000001},{0.05,0.1,0.2,0.23,0.33,0.4,0.45})) | W80: =IF(U80<0,0.9,0.9-V80*1.021) | X80: =ROUNDDOWN(S80*0.2/W80+2000,0) | Y80: =IF(O80<=0,0,LOOKUP(O80,{0,1950001,3300001,6950001,9000001,18000001,40000001},{0.05,0.1,0.2,0.23,0.33,0.4,0.45}))
A81: 早見表 夫婦＋高校生1人 | B81: ='2_早見表'!$A$8 | C81: 2025 | D81: 1 | E81: 1 | F81: 0 | G81: =ROUND(MIN(B81/12,650000)*12*0.0915+MIN(B81/12,1390000)*12*(0.0504+0)+B81*0.005,0) | H81: 0 | I81: 0 | J81: =IF(C81=2026,IF(B81<741000,0,IF(B81<2191000,B81-740000,IF(B81<2193000,1451000,IF(B81<2196000,1453000,IF(B81<2200000,1456000,IF(B81<3600000,ROUNDDOWN(B81/4,-3)*2.8-80000,IF(B81<6600000,ROUNDDOWN(B81/4,-3)*3.2-440000,IF(B81<8500000,ROUNDDOWN(B81*0.9,0)-1100000,B81-1950000)))))))),IF(B81<651000,0,IF(B81<1900000,B81-650000,IF(B81<3600000,ROUNDDOWN(B81/4,-3)*2.8-80000,IF(B81<6600000,ROUNDDOWN(B81/4,-3)*3.2-440000,IF(B81<8500000,ROUNDDOWN(B81*0.9,0)-1100000,B81-1950000)))))) | K81: =IF(J81>23500000,NA(),IF(C81=2026,IF(J81<=4890000,1040000,IF(J81<=6550000,670000,620000)),IF(J81<=1320000,950000,IF(J81<=3360000,880000,IF(J81<=4890000,680000,IF(J81<=6550000,630000,580000)))))) | L81: =IF(D81=1,IF(J81<=9000000,380000,IF(J81<=9500000,260000,IF(J81<=10000000,130000,0))),0) | M81: =IF(D81=1,IF(J81<=9000000,330000,IF(J81<=9500000,220000,IF(J81<=10000000,110000,0))),0) | N81: =IF(D81=1,IF(J81<=9000000,50000,IF(J81<=9500000,40000,IF(J81<=10000000,20000,0))),0) | O81: =MAX(0,ROUNDDOWN(J81-G81-K81-L81-E81*380000-F81*630000-H81,-3)) | P81: =MAX(0,ROUNDDOWN(J81-G81-430000-M81-E81*330000-F81*450000-I81,-3)) | Q81: =50000+N81+E81*50000+F81*180000 | R81: =IF(P81<=2000000,MIN(Q81,P81),MAX(Q81-(P81-2000000),50000))*0.05 | S81: =MAX(0,P81*0.1-R81) | T81: =Q81+MAX(0,K81-480000) | U81: =P81-T81 | V81: =IF(U81<0,0,LOOKUP(U81,{0,1950001,3300001,6950001,9000001,18000001,40000001},{0.05,0.1,0.2,0.23,0.33,0.4,0.45})) | W81: =IF(U81<0,0.9,0.9-V81*1.021) | X81: =ROUNDDOWN(S81*0.2/W81+2000,0) | Y81: =IF(O81<=0,0,LOOKUP(O81,{0,1950001,3300001,6950001,9000001,18000001,40000001},{0.05,0.1,0.2,0.23,0.33,0.4,0.45}))
A82: 早見表 夫婦＋高校生1人 | B82: ='2_早見表'!$A$8 | C82: 2026 | D82: 1 | E82: 1 | F82: 0 | G82: =ROUND(MIN(B82/12,650000)*12*0.0915+MIN(B82/12,1390000)*12*(0.0504+0)+B82*0.005,0) | H82: 0 | I82: 0 | J82: =IF(C82=2026,IF(B82<741000,0,IF(B82<2191000,B82-740000,IF(B82<2193000,1451000,IF(B82<2196000,1453000,IF(B82<2200000,1456000,IF(B82<3600000,ROUNDDOWN(B82/4,-3)*2.8-80000,IF(B82<6600000,ROUNDDOWN(B82/4,-3)*3.2-440000,IF(B82<8500000,ROUNDDOWN(B82*0.9,0)-1100000,B82-1950000)))))))),IF(B82<651000,0,IF(B82<1900000,B82-650000,IF(B82<3600000,ROUNDDOWN(B82/4,-3)*2.8-80000,IF(B82<6600000,ROUNDDOWN(B82/4,-3)*3.2-440000,IF(B82<8500000,ROUNDDOWN(B82*0.9,0)-1100000,B82-1950000)))))) | K82: =IF(J82>23500000,NA(),IF(C82=2026,IF(J82<=4890000,1040000,IF(J82<=6550000,670000,620000)),IF(J82<=1320000,950000,IF(J82<=3360000,880000,IF(J82<=4890000,680000,IF(J82<=6550000,630000,580000)))))) | L82: =IF(D82=1,IF(J82<=9000000,380000,IF(J82<=9500000,260000,IF(J82<=10000000,130000,0))),0) | M82: =IF(D82=1,IF(J82<=9000000,330000,IF(J82<=9500000,220000,IF(J82<=10000000,110000,0))),0) | N82: =IF(D82=1,IF(J82<=9000000,50000,IF(J82<=9500000,40000,IF(J82<=10000000,20000,0))),0) | O82: =MAX(0,ROUNDDOWN(J82-G82-K82-L82-E82*380000-F82*630000-H82,-3)) | P82: =MAX(0,ROUNDDOWN(J82-G82-430000-M82-E82*330000-F82*450000-I82,-3)) | Q82: =50000+N82+E82*50000+F82*180000 | R82: =IF(P82<=2000000,MIN(Q82,P82),MAX(Q82-(P82-2000000),50000))*0.05 | S82: =MAX(0,P82*0.1-R82) | T82: =Q82+MAX(0,K82-480000) | U82: =P82-T82 | V82: =IF(U82<0,0,LOOKUP(U82,{0,1950001,3300001,6950001,9000001,18000001,40000001},{0.05,0.1,0.2,0.23,0.33,0.4,0.45})) | W82: =IF(U82<0,0.9,0.9-V82*1.021) | X82: =ROUNDDOWN(S82*0.2/W82+2000,0) | Y82: =IF(O82<=0,0,LOOKUP(O82,{0,1950001,3300001,6950001,9000001,18000001,40000001},{0.05,0.1,0.2,0.23,0.33,0.4,0.45}))
A83: 早見表 共働き＋大学生と高校生 | B83: ='2_早見表'!$A$8 | C83: 2025 | D83: 0 | E83: 1 | F83: 1 | G83: =ROUND(MIN(B83/12,650000)*12*0.0915+MIN(B83/12,1390000)*12*(0.0504+0)+B83*0.005,0) | H83: 0 | I83: 0 | J83: =IF(C83=2026,IF(B83<741000,0,IF(B83<2191000,B83-740000,IF(B83<2193000,1451000,IF(B83<2196000,1453000,IF(B83<2200000,1456000,IF(B83<3600000,ROUNDDOWN(B83/4,-3)*2.8-80000,IF(B83<6600000,ROUNDDOWN(B83/4,-3)*3.2-440000,IF(B83<8500000,ROUNDDOWN(B83*0.9,0)-1100000,B83-1950000)))))))),IF(B83<651000,0,IF(B83<1900000,B83-650000,IF(B83<3600000,ROUNDDOWN(B83/4,-3)*2.8-80000,IF(B83<6600000,ROUNDDOWN(B83/4,-3)*3.2-440000,IF(B83<8500000,ROUNDDOWN(B83*0.9,0)-1100000,B83-1950000)))))) | K83: =IF(J83>23500000,NA(),IF(C83=2026,IF(J83<=4890000,1040000,IF(J83<=6550000,670000,620000)),IF(J83<=1320000,950000,IF(J83<=3360000,880000,IF(J83<=4890000,680000,IF(J83<=6550000,630000,580000)))))) | L83: =IF(D83=1,IF(J83<=9000000,380000,IF(J83<=9500000,260000,IF(J83<=10000000,130000,0))),0) | M83: =IF(D83=1,IF(J83<=9000000,330000,IF(J83<=9500000,220000,IF(J83<=10000000,110000,0))),0) | N83: =IF(D83=1,IF(J83<=9000000,50000,IF(J83<=9500000,40000,IF(J83<=10000000,20000,0))),0) | O83: =MAX(0,ROUNDDOWN(J83-G83-K83-L83-E83*380000-F83*630000-H83,-3)) | P83: =MAX(0,ROUNDDOWN(J83-G83-430000-M83-E83*330000-F83*450000-I83,-3)) | Q83: =50000+N83+E83*50000+F83*180000 | R83: =IF(P83<=2000000,MIN(Q83,P83),MAX(Q83-(P83-2000000),50000))*0.05 | S83: =MAX(0,P83*0.1-R83) | T83: =Q83+MAX(0,K83-480000) | U83: =P83-T83 | V83: =IF(U83<0,0,LOOKUP(U83,{0,1950001,3300001,6950001,9000001,18000001,40000001},{0.05,0.1,0.2,0.23,0.33,0.4,0.45})) | W83: =IF(U83<0,0.9,0.9-V83*1.021) | X83: =ROUNDDOWN(S83*0.2/W83+2000,0) | Y83: =IF(O83<=0,0,LOOKUP(O83,{0,1950001,3300001,6950001,9000001,18000001,40000001},{0.05,0.1,0.2,0.23,0.33,0.4,0.45}))
A84: 早見表 共働き＋大学生と高校生 | B84: ='2_早見表'!$A$8 | C84: 2026 | D84: 0 | E84: 1 | F84: 1 | G84: =ROUND(MIN(B84/12,650000)*12*0.0915+MIN(B84/12,1390000)*12*(0.0504+0)+B84*0.005,0) | H84: 0 | I84: 0 | J84: =IF(C84=2026,IF(B84<741000,0,IF(B84<2191000,B84-740000,IF(B84<2193000,1451000,IF(B84<2196000,1453000,IF(B84<2200000,1456000,IF(B84<3600000,ROUNDDOWN(B84/4,-3)*2.8-80000,IF(B84<6600000,ROUNDDOWN(B84/4,-3)*3.2-440000,IF(B84<8500000,ROUNDDOWN(B84*0.9,0)-1100000,B84-1950000)))))))),IF(B84<651000,0,IF(B84<1900000,B84-650000,IF(B84<3600000,ROUNDDOWN(B84/4,-3)*2.8-80000,IF(B84<6600000,ROUNDDOWN(B84/4,-3)*3.2-440000,IF(B84<8500000,ROUNDDOWN(B84*0.9,0)-1100000,B84-1950000)))))) | K84: =IF(J84>23500000,NA(),IF(C84=2026,IF(J84<=4890000,1040000,IF(J84<=6550000,670000,620000)),IF(J84<=1320000,950000,IF(J84<=3360000,880000,IF(J84<=4890000,680000,IF(J84<=6550000,630000,580000)))))) | L84: =IF(D84=1,IF(J84<=9000000,380000,IF(J84<=9500000,260000,IF(J84<=10000000,130000,0))),0) | M84: =IF(D84=1,IF(J84<=9000000,330000,IF(J84<=9500000,220000,IF(J84<=10000000,110000,0))),0) | N84: =IF(D84=1,IF(J84<=9000000,50000,IF(J84<=9500000,40000,IF(J84<=10000000,20000,0))),0) | O84: =MAX(0,ROUNDDOWN(J84-G84-K84-L84-E84*380000-F84*630000-H84,-3)) | P84: =MAX(0,ROUNDDOWN(J84-G84-430000-M84-E84*330000-F84*450000-I84,-3)) | Q84: =50000+N84+E84*50000+F84*180000 | R84: =IF(P84<=2000000,MIN(Q84,P84),MAX(Q84-(P84-2000000),50000))*0.05 | S84: =MAX(0,P84*0.1-R84) | T84: =Q84+MAX(0,K84-480000) | U84: =P84-T84 | V84: =IF(U84<0,0,LOOKUP(U84,{0,1950001,3300001,6950001,9000001,18000001,40000001},{0.05,0.1,0.2,0.23,0.33,0.4,0.45})) | W84: =IF(U84<0,0.9,0.9-V84*1.021) | X84: =ROUNDDOWN(S84*0.2/W84+2000,0) | Y84: =IF(O84<=0,0,LOOKUP(O84,{0,1950001,3300001,6950001,9000001,18000001,40000001},{0.05,0.1,0.2,0.23,0.33,0.4,0.45}))
... A86: 早見表 夫婦＋大学生と高校生 | B86: ='2_早見表'!$A$8 | C86: 2026 | D86: 1 | E86: 1 | F86: 1 | G86: =ROUND(MIN(B86/12,650000)*12*0.0915+MIN(B86/12,1390000)*12*(0.0504+0)+B86*0.005,0) | H86: 0 | I86: 0 | J86: =IF(C86=2026,IF(B86<741000,0,IF(B86<2191000,B86-740000,IF(B86<2193000,1451000,IF(B86<2196000,1453000,IF(B86<2200000,1456000,IF(B86<3600000,ROUNDDOWN(B86/4,-3)*2.8-80000,IF(B86<6600000,ROUNDDOWN(B86/4,-3)*3.2-440000,IF(B86<8500000,ROUNDDOWN(B86*0.9,0)-1100000,B86-1950000)))))))),IF(B86<651000,0,IF(B86<1900000,B86-650000,IF(B86<3600000,ROUNDDOWN(B86/4,-3)*2.8-80000,IF(B86<6600000,ROUNDDOWN(B86/4,-3)*3.2-440000,IF(B86<8500000,ROUNDDOWN(B86*0.9,0)-1100000,B86-1950000)))))) | K86: =IF(J86>23500000,NA(),IF(C86=2026,IF(J86<=4890000,1040000,IF(J86<=6550000,670000,620000)),IF(J86<=1320000,950000,IF(J86<=3360000,880000,IF(J86<=4890000,680000,IF(J86<=6550000,630000,580000)))))) | L86: =IF(D86=1,IF(J86<=9000000,380000,IF(J86<=9500000,260000,IF(J86<=10000000,130000,0))),0) | M86: =IF(D86=1,IF(J86<=9000000,330000,IF(J86<=9500000,220000,IF(J86<=10000000,110000,0))),0) | N86: =IF(D86=1,IF(J86<=9000000,50000,IF(J86<=9500000,40000,IF(J86<=10000000,20000,0))),0) | O86: =MAX(0,ROUNDDOWN(J86-G86-K86-L86-E86*380000-F86*630000-H86,-3)) | P86: =MAX(0,ROUNDDOWN(J86-G86-430000-M86-E86*330000-F86*450000-I86,-3)) | Q86: =50000+N86+E86*50000+F86*180000 | R86: =IF(P86<=2000000,MIN(Q86,P86),MAX(Q86-(P86-2000000),50000))*0.05 | S86: =MAX(0,P86*0.1-R86) | T86: =Q86+MAX(0,K86-480000) | U86: =P86-T86 | V86: =IF(U86<0,0,LOOKUP(U86,{0,1950001,3300001,6950001,9000001,18000001,40000001},{0.05,0.1,0.2,0.23,0.33,0.4,0.45})) | W86: =IF(U86<0,0.9,0.9-V86*1.021) | X86: =ROUNDDOWN(S86*0.2/W86+2000,0) | Y86: =IF(O86<=0,0,LOOKUP(O86,{0,1950001,3300001,6950001,9000001,18000001,40000001},{0.05,0.1,0.2,0.23,0.33,0.4,0.45}))
A87: 早見表 独身または共働き | B87: ='2_早見表'!$A$9 | C87: 2025 | D87: 0 | E87: 0 | F87: 0 | G87: =ROUND(MIN(B87/12,650000)*12*0.0915+MIN(B87/12,1390000)*12*(0.0504+0)+B87*0.005,0) | H87: 0 | I87: 0 | J87: =IF(C87=2026,IF(B87<741000,0,IF(B87<2191000,B87-740000,IF(B87<2193000,1451000,IF(B87<2196000,1453000,IF(B87<2200000,1456000,IF(B87<3600000,ROUNDDOWN(B87/4,-3)*2.8-80000,IF(B87<6600000,ROUNDDOWN(B87/4,-3)*3.2-440000,IF(B87<8500000,ROUNDDOWN(B87*0.9,0)-1100000,B87-1950000)))))))),IF(B87<651000,0,IF(B87<1900000,B87-650000,IF(B87<3600000,ROUNDDOWN(B87/4,-3)*2.8-80000,IF(B87<6600000,ROUNDDOWN(B87/4,-3)*3.2-440000,IF(B87<8500000,ROUNDDOWN(B87*0.9,0)-1100000,B87-1950000)))))) | K87: =IF(J87>23500000,NA(),IF(C87=2026,IF(J87<=4890000,1040000,IF(J87<=6550000,670000,620000)),IF(J87<=1320000,950000,IF(J87<=3360000,880000,IF(J87<=4890000,680000,IF(J87<=6550000,630000,580000)))))) | L87: =IF(D87=1,IF(J87<=9000000,380000,IF(J87<=9500000,260000,IF(J87<=10000000,130000,0))),0) | M87: =IF(D87=1,IF(J87<=9000000,330000,IF(J87<=9500000,220000,IF(J87<=10000000,110000,0))),0) | N87: =IF(D87=1,IF(J87<=9000000,50000,IF(J87<=9500000,40000,IF(J87<=10000000,20000,0))),0) | O87: =MAX(0,ROUNDDOWN(J87-G87-K87-L87-E87*380000-F87*630000-H87,-3)) | P87: =MAX(0,ROUNDDOWN(J87-G87-430000-M87-E87*330000-F87*450000-I87,-3)) | Q87: =50000+N87+E87*50000+F87*180000 | R87: =IF(P87<=2000000,MIN(Q87,P87),MAX(Q87-(P87-2000000),50000))*0.05 | S87: =MAX(0,P87*0.1-R87) | T87: =Q87+MAX(0,K87-480000) | U87: =P87-T87 | V87: =IF(U87<0,0,LOOKUP(U87,{0,1950001,3300001,6950001,9000001,18000001,40000001},{0.05,0.1,0.2,0.23,0.33,0.4,0.45})) | W87: =IF(U87<0,0.9,0.9-V87*1.021) | X87: =ROUNDDOWN(S87*0.2/W87+2000,0) | Y87: =IF(O87<=0,0,LOOKUP(O87,{0,1950001,3300001,6950001,9000001,18000001,40000001},{0.05,0.1,0.2,0.23,0.33,0.4,0.45}))
A88: 早見表 独身または共働き | B88: ='2_早見表'!$A$9 | C88: 2026 | D88: 0 | E88: 0 | F88: 0 | G88: =ROUND(MIN(B88/12,650000)*12*0.0915+MIN(B88/12,1390000)*12*(0.0504+0)+B88*0.005,0) | H88: 0 | I88: 0 | J88: =IF(C88=2026,IF(B88<741000,0,IF(B88<2191000,B88-740000,IF(B88<2193000,1451000,IF(B88<2196000,1453000,IF(B88<2200000,1456000,IF(B88<3600000,ROUNDDOWN(B88/4,-3)*2.8-80000,IF(B88<6600000,ROUNDDOWN(B88/4,-3)*3.2-440000,IF(B88<8500000,ROUNDDOWN(B88*0.9,0)-1100000,B88-1950000)))))))),IF(B88<651000,0,IF(B88<1900000,B88-650000,IF(B88<3600000,ROUNDDOWN(B88/4,-3)*2.8-80000,IF(B88<6600000,ROUNDDOWN(B88/4,-3)*3.2-440000,IF(B88<8500000,ROUNDDOWN(B88*0.9,0)-1100000,B88-1950000)))))) | K88: =IF(J88>23500000,NA(),IF(C88=2026,IF(J88<=4890000,1040000,IF(J88<=6550000,670000,620000)),IF(J88<=1320000,950000,IF(J88<=3360000,880000,IF(J88<=4890000,680000,IF(J88<=6550000,630000,580000)))))) | L88: =IF(D88=1,IF(J88<=9000000,380000,IF(J88<=9500000,260000,IF(J88<=10000000,130000,0))),0) | M88: =IF(D88=1,IF(J88<=9000000,330000,IF(J88<=9500000,220000,IF(J88<=10000000,110000,0))),0) | N88: =IF(D88=1,IF(J88<=9000000,50000,IF(J88<=9500000,40000,IF(J88<=10000000,20000,0))),0) | O88: =MAX(0,ROUNDDOWN(J88-G88-K88-L88-E88*380000-F88*630000-H88,-3)) | P88: =MAX(0,ROUNDDOWN(J88-G88-430000-M88-E88*330000-F88*450000-I88,-3)) | Q88: =50000+N88+E88*50000+F88*180000 | R88: =IF(P88<=2000000,MIN(Q88,P88),MAX(Q88-(P88-2000000),50000))*0.05 | S88: =MAX(0,P88*0.1-R88) | T88: =Q88+MAX(0,K88-480000) | U88: =P88-T88 | V88: =IF(U88<0,0,LOOKUP(U88,{0,1950001,3300001,6950001,9000001,18000001,40000001},{0.05,0.1,0.2,0.23,0.33,0.4,0.45})) | W88: =IF(U88<0,0.9,0.9-V88*1.021) | X88: =ROUNDDOWN(S88*0.2/W88+2000,0) | Y88: =IF(O88<=0,0,LOOKUP(O88,{0,1950001,3300001,6950001,9000001,18000001,40000001},{0.05,0.1,0.2,0.23,0.33,0.4,0.45}))
A89: 早見表 夫婦（配偶者控除あり） | B89: ='2_早見表'!$A$9 | C89: 2025 | D89: 1 | E89: 0 | F89: 0 | G89: =ROUND(MIN(B89/12,650000)*12*0.0915+MIN(B89/12,1390000)*12*(0.0504+0)+B89*0.005,0) | H89: 0 | I89: 0 | J89: =IF(C89=2026,IF(B89<741000,0,IF(B89<2191000,B89-740000,IF(B89<2193000,1451000,IF(B89<2196000,1453000,IF(B89<2200000,1456000,IF(B89<3600000,ROUNDDOWN(B89/4,-3)*2.8-80000,IF(B89<6600000,ROUNDDOWN(B89/4,-3)*3.2-440000,IF(B89<8500000,ROUNDDOWN(B89*0.9,0)-1100000,B89-1950000)))))))),IF(B89<651000,0,IF(B89<1900000,B89-650000,IF(B89<3600000,ROUNDDOWN(B89/4,-3)*2.8-80000,IF(B89<6600000,ROUNDDOWN(B89/4,-3)*3.2-440000,IF(B89<8500000,ROUNDDOWN(B89*0.9,0)-1100000,B89-1950000)))))) | K89: =IF(J89>23500000,NA(),IF(C89=2026,IF(J89<=4890000,1040000,IF(J89<=6550000,670000,620000)),IF(J89<=1320000,950000,IF(J89<=3360000,880000,IF(J89<=4890000,680000,IF(J89<=6550000,630000,580000)))))) | L89: =IF(D89=1,IF(J89<=9000000,380000,IF(J89<=9500000,260000,IF(J89<=10000000,130000,0))),0) | M89: =IF(D89=1,IF(J89<=9000000,330000,IF(J89<=9500000,220000,IF(J89<=10000000,110000,0))),0) | N89: =IF(D89=1,IF(J89<=9000000,50000,IF(J89<=9500000,40000,IF(J89<=10000000,20000,0))),0) | O89: =MAX(0,ROUNDDOWN(J89-G89-K89-L89-E89*380000-F89*630000-H89,-3)) | P89: =MAX(0,ROUNDDOWN(J89-G89-430000-M89-E89*330000-F89*450000-I89,-3)) | Q89: =50000+N89+E89*50000+F89*180000 | R89: =IF(P89<=2000000,MIN(Q89,P89),MAX(Q89-(P89-2000000),50000))*0.05 | S89: =MAX(0,P89*0.1-R89) | T89: =Q89+MAX(0,K89-480000) | U89: =P89-T89 | V89: =IF(U89<0,0,LOOKUP(U89,{0,1950001,3300001,6950001,9000001,18000001,40000001},{0.05,0.1,0.2,0.23,0.33,0.4,0.45})) | W89: =IF(U89<0,0.9,0.9-V89*1.021) | X89: =ROUNDDOWN(S89*0.2/W89+2000,0) | Y89: =IF(O89<=0,0,LOOKUP(O89,{0,1950001,3300001,6950001,9000001,18000001,40000001},{0.05,0.1,0.2,0.23,0.33,0.4,0.45}))
A90: 早見表 夫婦（配偶者控除あり） | B90: ='2_早見表'!$A$9 | C90: 2026 | D90: 1 | E90: 0 | F90: 0 | G90: =ROUND(MIN(B90/12,650000)*12*0.0915+MIN(B90/12,1390000)*12*(0.0504+0)+B90*0.005,0) | H90: 0 | I90: 0 | J90: =IF(C90=2026,IF(B90<741000,0,IF(B90<2191000,B90-740000,IF(B90<2193000,1451000,IF(B90<2196000,1453000,IF(B90<2200000,1456000,IF(B90<3600000,ROUNDDOWN(B90/4,-3)*2.8-80000,IF(B90<6600000,ROUNDDOWN(B90/4,-3)*3.2-440000,IF(B90<8500000,ROUNDDOWN(B90*0.9,0)-1100000,B90-1950000)))))))),IF(B90<651000,0,IF(B90<1900000,B90-650000,IF(B90<3600000,ROUNDDOWN(B90/4,-3)*2.8-80000,IF(B90<6600000,ROUNDDOWN(B90/4,-3)*3.2-440000,IF(B90<8500000,ROUNDDOWN(B90*0.9,0)-1100000,B90-1950000)))))) | K90: =IF(J90>23500000,NA(),IF(C90=2026,IF(J90<=4890000,1040000,IF(J90<=6550000,670000,620000)),IF(J90<=1320000,950000,IF(J90<=3360000,880000,IF(J90<=4890000,680000,IF(J90<=6550000,630000,580000)))))) | L90: =IF(D90=1,IF(J90<=9000000,380000,IF(J90<=9500000,260000,IF(J90<=10000000,130000,0))),0) | M90: =IF(D90=1,IF(J90<=9000000,330000,IF(J90<=9500000,220000,IF(J90<=10000000,110000,0))),0) | N90: =IF(D90=1,IF(J90<=9000000,50000,IF(J90<=9500000,40000,IF(J90<=10000000,20000,0))),0) | O90: =MAX(0,ROUNDDOWN(J90-G90-K90-L90-E90*380000-F90*630000-H90,-3)) | P90: =MAX(0,ROUNDDOWN(J90-G90-430000-M90-E90*330000-F90*450000-I90,-3)) | Q90: =50000+N90+E90*50000+F90*180000 | R90: =IF(P90<=2000000,MIN(Q90,P90),MAX(Q90-(P90-2000000),50000))*0.05 | S90: =MAX(0,P90*0.1-R90) | T90: =Q90+MAX(0,K90-480000) | U90: =P90-T90 | V90: =IF(U90<0,0,LOOKUP(U90,{0,1950001,3300001,6950001,9000001,18000001,40000001},{0.05,0.1,0.2,0.23,0.33,0.4,0.45})) | W90: =IF(U90<0,0.9,0.9-V90*1.021) | X90: =ROUNDDOWN(S90*0.2/W90+2000,0) | Y90: =IF(O90<=0,0,LOOKUP(O90,{0,1950001,3300001,6950001,9000001,18000001,40000001},{0.05,0.1,0.2,0.23,0.33,0.4,0.45}))
A91: 早見表 共働き＋高校生1人 | B91: ='2_早見表'!$A$9 | C91: 2025 | D91: 0 | E91: 1 | F91: 0 | G91: =ROUND(MIN(B91/12,650000)*12*0.0915+MIN(B91/12,1390000)*12*(0.0504+0)+B91*0.005,0) | H91: 0 | I91: 0 | J91: =IF(C91=2026,IF(B91<741000,0,IF(B91<2191000,B91-740000,IF(B91<2193000,1451000,IF(B91<2196000,1453000,IF(B91<2200000,1456000,IF(B91<3600000,ROUNDDOWN(B91/4,-3)*2.8-80000,IF(B91<6600000,ROUNDDOWN(B91/4,-3)*3.2-440000,IF(B91<8500000,ROUNDDOWN(B91*0.9,0)-1100000,B91-1950000)))))))),IF(B91<651000,0,IF(B91<1900000,B91-650000,IF(B91<3600000,ROUNDDOWN(B91/4,-3)*2.8-80000,IF(B91<6600000,ROUNDDOWN(B91/4,-3)*3.2-440000,IF(B91<8500000,ROUNDDOWN(B91*0.9,0)-1100000,B91-1950000)))))) | K91: =IF(J91>23500000,NA(),IF(C91=2026,IF(J91<=4890000,1040000,IF(J91<=6550000,670000,620000)),IF(J91<=1320000,950000,IF(J91<=3360000,880000,IF(J91<=4890000,680000,IF(J91<=6550000,630000,580000)))))) | L91: =IF(D91=1,IF(J91<=9000000,380000,IF(J91<=9500000,260000,IF(J91<=10000000,130000,0))),0) | M91: =IF(D91=1,IF(J91<=9000000,330000,IF(J91<=9500000,220000,IF(J91<=10000000,110000,0))),0) | N91: =IF(D91=1,IF(J91<=9000000,50000,IF(J91<=9500000,40000,IF(J91<=10000000,20000,0))),0) | O91: =MAX(0,ROUNDDOWN(J91-G91-K91-L91-E91*380000-F91*630000-H91,-3)) | P91: =MAX(0,ROUNDDOWN(J91-G91-430000-M91-E91*330000-F91*450000-I91,-3)) | Q91: =50000+N91+E91*50000+F91*180000 | R91: =IF(P91<=2000000,MIN(Q91,P91),MAX(Q91-(P91-2000000),50000))*0.05 | S91: =MAX(0,P91*0.1-R91) | T91: =Q91+MAX(0,K91-480000) | U91: =P91-T91 | V91: =IF(U91<0,0,LOOKUP(U91,{0,1950001,3300001,6950001,9000001,18000001,40000001},{0.05,0.1,0.2,0.23,0.33,0.4,0.45})) | W91: =IF(U91<0,0.9,0.9-V91*1.021) | X91: =ROUNDDOWN(S91*0.2/W91+2000,0) | Y91: =IF(O91<=0,0,LOOKUP(O91,{0,1950001,3300001,6950001,9000001,18000001,40000001},{0.05,0.1,0.2,0.23,0.33,0.4,0.45}))
A92: 早見表 共働き＋高校生1人 | B92: ='2_早見表'!$A$9 | C92: 2026 | D92: 0 | E92: 1 | F92: 0 | G92: =ROUND(MIN(B92/12,650000)*12*0.0915+MIN(B92/12,1390000)*12*(0.0504+0)+B92*0.005,0) | H92: 0 | I92: 0 | J92: =IF(C92=2026,IF(B92<741000,0,IF(B92<2191000,B92-740000,IF(B92<2193000,1451000,IF(B92<2196000,1453000,IF(B92<2200000,1456000,IF(B92<3600000,ROUNDDOWN(B92/4,-3)*2.8-80000,IF(B92<6600000,ROUNDDOWN(B92/4,-3)*3.2-440000,IF(B92<8500000,ROUNDDOWN(B92*0.9,0)-1100000,B92-1950000)))))))),IF(B92<651000,0,IF(B92<1900000,B92-650000,IF(B92<3600000,ROUNDDOWN(B92/4,-3)*2.8-80000,IF(B92<6600000,ROUNDDOWN(B92/4,-3)*3.2-440000,IF(B92<8500000,ROUNDDOWN(B92*0.9,0)-1100000,B92-1950000)))))) | K92: =IF(J92>23500000,NA(),IF(C92=2026,IF(J92<=4890000,1040000,IF(J92<=6550000,670000,620000)),IF(J92<=1320000,950000,IF(J92<=3360000,880000,IF(J92<=4890000,680000,IF(J92<=6550000,630000,580000)))))) | L92: =IF(D92=1,IF(J92<=9000000,380000,IF(J92<=9500000,260000,IF(J92<=10000000,130000,0))),0) | M92: =IF(D92=1,IF(J92<=9000000,330000,IF(J92<=9500000,220000,IF(J92<=10000000,110000,0))),0) | N92: =IF(D92=1,IF(J92<=9000000,50000,IF(J92<=9500000,40000,IF(J92<=10000000,20000,0))),0) | O92: =MAX(0,ROUNDDOWN(J92-G92-K92-L92-E92*380000-F92*630000-H92,-3)) | P92: =MAX(0,ROUNDDOWN(J92-G92-430000-M92-E92*330000-F92*450000-I92,-3)) | Q92: =50000+N92+E92*50000+F92*180000 | R92: =IF(P92<=2000000,MIN(Q92,P92),MAX(Q92-(P92-2000000),50000))*0.05 | S92: =MAX(0,P92*0.1-R92) | T92: =Q92+MAX(0,K92-480000) | U92: =P92-T92 | V92: =IF(U92<0,0,LOOKUP(U92,{0,1950001,3300001,6950001,9000001,18000001,40000001},{0.05,0.1,0.2,0.23,0.33,0.4,0.45})) | W92: =IF(U92<0,0.9,0.9-V92*1.021) | X92: =ROUNDDOWN(S92*0.2/W92+2000,0) | Y92: =IF(O92<=0,0,LOOKUP(O92,{0,1950001,3300001,6950001,9000001,18000001,40000001},{0.05,0.1,0.2,0.23,0.33,0.4,0.45}))
A93: 早見表 共働き＋大学生1人 | B93: ='2_早見表'!$A$9 | C93: 2025 | D93: 0 | E93: 0 | F93: 1 | G93: =ROUND(MIN(B93/12,650000)*12*0.0915+MIN(B93/12,1390000)*12*(0.0504+0)+B93*0.005,0) | H93: 0 | I93: 0 | J93: =IF(C93=2026,IF(B93<741000,0,IF(B93<2191000,B93-740000,IF(B93<2193000,1451000,IF(B93<2196000,1453000,IF(B93<2200000,1456000,IF(B93<3600000,ROUNDDOWN(B93/4,-3)*2.8-80000,IF(B93<6600000,ROUNDDOWN(B93/4,-3)*3.2-440000,IF(B93<8500000,ROUNDDOWN(B93*0.9,0)-1100000,B93-1950000)))))))),IF(B93<651000,0,IF(B93<1900000,B93-650000,IF(B93<3600000,ROUNDDOWN(B93/4,-3)*2.8-80000,IF(B93<6600000,ROUNDDOWN(B93/4,-3)*3.2-440000,IF(B93<8500000,ROUNDDOWN(B93*0.9,0)-1100000,B93-1950000)))))) | K93: =IF(J93>23500000,NA(),IF(C93=2026,IF(J93<=4890000,1040000,IF(J93<=6550000,670000,620000)),IF(J93<=1320000,950000,IF(J93<=3360000,880000,IF(J93<=4890000,680000,IF(J93<=6550000,630000,580000)))))) | L93: =IF(D93=1,IF(J93<=9000000,380000,IF(J93<=9500000,260000,IF(J93<=10000000,130000,0))),0) | M93: =IF(D93=1,IF(J93<=9000000,330000,IF(J93<=9500000,220000,IF(J93<=10000000,110000,0))),0) | N93: =IF(D93=1,IF(J93<=9000000,50000,IF(J93<=9500000,40000,IF(J93<=10000000,20000,0))),0) | O93: =MAX(0,ROUNDDOWN(J93-G93-K93-L93-E93*380000-F93*630000-H93,-3)) | P93: =MAX(0,ROUNDDOWN(J93-G93-430000-M93-E93*330000-F93*450000-I93,-3)) | Q93: =50000+N93+E93*50000+F93*180000 | R93: =IF(P93<=2000000,MIN(Q93,P93),MAX(Q93-(P93-2000000),50000))*0.05 | S93: =MAX(0,P93*0.1-R93) | T93: =Q93+MAX(0,K93-480000) | U93: =P93-T93 | V93: =IF(U93<0,0,LOOKUP(U93,{0,1950001,3300001,6950001,9000001,18000001,40000001},{0.05,0.1,0.2,0.23,0.33,0.4,0.45})) | W93: =IF(U93<0,0.9,0.9-V93*1.021) | X93: =ROUNDDOWN(S93*0.2/W93+2000,0) | Y93: =IF(O93<=0,0,LOOKUP(O93,{0,1950001,3300001,6950001,9000001,18000001,40000001},{0.05,0.1,0.2,0.23,0.33,0.4,0.45}))
A94: 早見表 共働き＋大学生1人 | B94: ='2_早見表'!$A$9 | C94: 2026 | D94: 0 | E94: 0 | F94: 1 | G94: =ROUND(MIN(B94/12,650000)*12*0.0915+MIN(B94/12,1390000)*12*(0.0504+0)+B94*0.005,0) | H94: 0 | I94: 0 | J94: =IF(C94=2026,IF(B94<741000,0,IF(B94<2191000,B94-740000,IF(B94<2193000,1451000,IF(B94<2196000,1453000,IF(B94<2200000,1456000,IF(B94<3600000,ROUNDDOWN(B94/4,-3)*2.8-80000,IF(B94<6600000,ROUNDDOWN(B94/4,-3)*3.2-440000,IF(B94<8500000,ROUNDDOWN(B94*0.9,0)-1100000,B94-1950000)))))))),IF(B94<651000,0,IF(B94<1900000,B94-650000,IF(B94<3600000,ROUNDDOWN(B94/4,-3)*2.8-80000,IF(B94<6600000,ROUNDDOWN(B94/4,-3)*3.2-440000,IF(B94<8500000,ROUNDDOWN(B94*0.9,0)-1100000,B94-1950000)))))) | K94: =IF(J94>23500000,NA(),IF(C94=2026,IF(J94<=4890000,1040000,IF(J94<=6550000,670000,620000)),IF(J94<=1320000,950000,IF(J94<=3360000,880000,IF(J94<=4890000,680000,IF(J94<=6550000,630000,580000)))))) | L94: =IF(D94=1,IF(J94<=9000000,380000,IF(J94<=9500000,260000,IF(J94<=10000000,130000,0))),0) | M94: =IF(D94=1,IF(J94<=9000000,330000,IF(J94<=9500000,220000,IF(J94<=10000000,110000,0))),0) | N94: =IF(D94=1,IF(J94<=9000000,50000,IF(J94<=9500000,40000,IF(J94<=10000000,20000,0))),0) | O94: =MAX(0,ROUNDDOWN(J94-G94-K94-L94-E94*380000-F94*630000-H94,-3)) | P94: =MAX(0,ROUNDDOWN(J94-G94-430000-M94-E94*330000-F94*450000-I94,-3)) | Q94: =50000+N94+E94*50000+F94*180000 | R94: =IF(P94<=2000000,MIN(Q94,P94),MAX(Q94-(P94-2000000),50000))*0.05 | S94: =MAX(0,P94*0.1-R94) | T94: =Q94+MAX(0,K94-480000) | U94: =P94-T94 | V94: =IF(U94<0,0,LOOKUP(U94,{0,1950001,3300001,6950001,9000001,18000001,40000001},{0.05,0.1,0.2,0.23,0.33,0.4,0.45})) | W94: =IF(U94<0,0.9,0.9-V94*1.021) | X94: =ROUNDDOWN(S94*0.2/W94+2000,0) | Y94: =IF(O94<=0,0,LOOKUP(O94,{0,1950001,3300001,6950001,9000001,18000001,40000001},{0.05,0.1,0.2,0.23,0.33,0.4,0.45}))
A95: 早見表 夫婦＋高校生1人 | B95: ='2_早見表'!$A$9 | C95: 2025 | D95: 1 | E95: 1 | F95: 0 | G95: =ROUND(MIN(B95/12,650000)*12*0.0915+MIN(B95/12,1390000)*12*(0.0504+0)+B95*0.005,0) | H95: 0 | I95: 0 | J95: =IF(C95=2026,IF(B95<741000,0,IF(B95<2191000,B95-740000,IF(B95<2193000,1451000,IF(B95<2196000,1453000,IF(B95<2200000,1456000,IF(B95<3600000,ROUNDDOWN(B95/4,-3)*2.8-80000,IF(B95<6600000,ROUNDDOWN(B95/4,-3)*3.2-440000,IF(B95<8500000,ROUNDDOWN(B95*0.9,0)-1100000,B95-1950000)))))))),IF(B95<651000,0,IF(B95<1900000,B95-650000,IF(B95<3600000,ROUNDDOWN(B95/4,-3)*2.8-80000,IF(B95<6600000,ROUNDDOWN(B95/4,-3)*3.2-440000,IF(B95<8500000,ROUNDDOWN(B95*0.9,0)-1100000,B95-1950000)))))) | K95: =IF(J95>23500000,NA(),IF(C95=2026,IF(J95<=4890000,1040000,IF(J95<=6550000,670000,620000)),IF(J95<=1320000,950000,IF(J95<=3360000,880000,IF(J95<=4890000,680000,IF(J95<=6550000,630000,580000)))))) | L95: =IF(D95=1,IF(J95<=9000000,380000,IF(J95<=9500000,260000,IF(J95<=10000000,130000,0))),0) | M95: =IF(D95=1,IF(J95<=9000000,330000,IF(J95<=9500000,220000,IF(J95<=10000000,110000,0))),0) | N95: =IF(D95=1,IF(J95<=9000000,50000,IF(J95<=9500000,40000,IF(J95<=10000000,20000,0))),0) | O95: =MAX(0,ROUNDDOWN(J95-G95-K95-L95-E95*380000-F95*630000-H95,-3)) | P95: =MAX(0,ROUNDDOWN(J95-G95-430000-M95-E95*330000-F95*450000-I95,-3)) | Q95: =50000+N95+E95*50000+F95*180000 | R95: =IF(P95<=2000000,MIN(Q95,P95),MAX(Q95-(P95-2000000),50000))*0.05 | S95: =MAX(0,P95*0.1-R95) | T95: =Q95+MAX(0,K95-480000) | U95: =P95-T95 | V95: =IF(U95<0,0,LOOKUP(U95,{0,1950001,3300001,6950001,9000001,18000001,40000001},{0.05,0.1,0.2,0.23,0.33,0.4,0.45})) | W95: =IF(U95<0,0.9,0.9-V95*1.021) | X95: =ROUNDDOWN(S95*0.2/W95+2000,0) | Y95: =IF(O95<=0,0,LOOKUP(O95,{0,1950001,3300001,6950001,9000001,18000001,40000001},{0.05,0.1,0.2,0.23,0.33,0.4,0.45}))
A96: 早見表 夫婦＋高校生1人 | B96: ='2_早見表'!$A$9 | C96: 2026 | D96: 1 | E96: 1 | F96: 0 | G96: =ROUND(MIN(B96/12,650000)*12*0.0915+MIN(B96/12,1390000)*12*(0.0504+0)+B96*0.005,0) | H96: 0 | I96: 0 | J96: =IF(C96=2026,IF(B96<741000,0,IF(B96<2191000,B96-740000,IF(B96<2193000,1451000,IF(B96<2196000,1453000,IF(B96<2200000,1456000,IF(B96<3600000,ROUNDDOWN(B96/4,-3)*2.8-80000,IF(B96<6600000,ROUNDDOWN(B96/4,-3)*3.2-440000,IF(B96<8500000,ROUNDDOWN(B96*0.9,0)-1100000,B96-1950000)))))))),IF(B96<651000,0,IF(B96<1900000,B96-650000,IF(B96<3600000,ROUNDDOWN(B96/4,-3)*2.8-80000,IF(B96<6600000,ROUNDDOWN(B96/4,-3)*3.2-440000,IF(B96<8500000,ROUNDDOWN(B96*0.9,0)-1100000,B96-1950000)))))) | K96: =IF(J96>23500000,NA(),IF(C96=2026,IF(J96<=4890000,1040000,IF(J96<=6550000,670000,620000)),IF(J96<=1320000,950000,IF(J96<=3360000,880000,IF(J96<=4890000,680000,IF(J96<=6550000,630000,580000)))))) | L96: =IF(D96=1,IF(J96<=9000000,380000,IF(J96<=9500000,260000,IF(J96<=10000000,130000,0))),0) | M96: =IF(D96=1,IF(J96<=9000000,330000,IF(J96<=9500000,220000,IF(J96<=10000000,110000,0))),0) | N96: =IF(D96=1,IF(J96<=9000000,50000,IF(J96<=9500000,40000,IF(J96<=10000000,20000,0))),0) | O96: =MAX(0,ROUNDDOWN(J96-G96-K96-L96-E96*380000-F96*630000-H96,-3)) | P96: =MAX(0,ROUNDDOWN(J96-G96-430000-M96-E96*330000-F96*450000-I96,-3)) | Q96: =50000+N96+E96*50000+F96*180000 | R96: =IF(P96<=2000000,MIN(Q96,P96),MAX(Q96-(P96-2000000),50000))*0.05 | S96: =MAX(0,P96*0.1-R96) | T96: =Q96+MAX(0,K96-480000) | U96: =P96-T96 | V96: =IF(U96<0,0,LOOKUP(U96,{0,1950001,3300001,6950001,9000001,18000001,40000001},{0.05,0.1,0.2,0.23,0.33,0.4,0.45})) | W96: =IF(U96<0,0.9,0.9-V96*1.021) | X96: =ROUNDDOWN(S96*0.2/W96+2000,0) | Y96: =IF(O96<=0,0,LOOKUP(O96,{0,1950001,3300001,6950001,9000001,18000001,40000001},{0.05,0.1,0.2,0.23,0.33,0.4,0.45}))
A97: 早見表 共働き＋大学生と高校生 | B97: ='2_早見表'!$A$9 | C97: 2025 | D97: 0 | E97: 1 | F97: 1 | G97: =ROUND(MIN(B97/12,650000)*12*0.0915+MIN(B97/12,1390000)*12*(0.0504+0)+B97*0.005,0) | H97: 0 | I97: 0 | J97: =IF(C97=2026,IF(B97<741000,0,IF(B97<2191000,B97-740000,IF(B97<2193000,1451000,IF(B97<2196000,1453000,IF(B97<2200000,1456000,IF(B97<3600000,ROUNDDOWN(B97/4,-3)*2.8-80000,IF(B97<6600000,ROUNDDOWN(B97/4,-3)*3.2-440000,IF(B97<8500000,ROUNDDOWN(B97*0.9,0)-1100000,B97-1950000)))))))),IF(B97<651000,0,IF(B97<1900000,B97-650000,IF(B97<3600000,ROUNDDOWN(B97/4,-3)*2.8-80000,IF(B97<6600000,ROUNDDOWN(B97/4,-3)*3.2-440000,IF(B97<8500000,ROUNDDOWN(B97*0.9,0)-1100000,B97-1950000)))))) | K97: =IF(J97>23500000,NA(),IF(C97=2026,IF(J97<=4890000,1040000,IF(J97<=6550000,670000,620000)),IF(J97<=1320000,950000,IF(J97<=3360000,880000,IF(J97<=4890000,680000,IF(J97<=6550000,630000,580000)))))) | L97: =IF(D97=1,IF(J97<=9000000,380000,IF(J97<=9500000,260000,IF(J97<=10000000,130000,0))),0) | M97: =IF(D97=1,IF(J97<=9000000,330000,IF(J97<=9500000,220000,IF(J97<=10000000,110000,0))),0) | N97: =IF(D97=1,IF(J97<=9000000,50000,IF(J97<=9500000,40000,IF(J97<=10000000,20000,0))),0) | O97: =MAX(0,ROUNDDOWN(J97-G97-K97-L97-E97*380000-F97*630000-H97,-3)) | P97: =MAX(0,ROUNDDOWN(J97-G97-430000-M97-E97*330000-F97*450000-I97,-3)) | Q97: =50000+N97+E97*50000+F97*180000 | R97: =IF(P97<=2000000,MIN(Q97,P97),MAX(Q97-(P97-2000000),50000))*0.05 | S97: =MAX(0,P97*0.1-R97) | T97: =Q97+MAX(0,K97-480000) | U97: =P97-T97 | V97: =IF(U97<0,0,LOOKUP(U97,{0,1950001,3300001,6950001,9000001,18000001,40000001},{0.05,0.1,0.2,0.23,0.33,0.4,0.45})) | W97: =IF(U97<0,0.9,0.9-V97*1.021) | X97: =ROUNDDOWN(S97*0.2/W97+2000,0) | Y97: =IF(O97<=0,0,LOOKUP(O97,{0,1950001,3300001,6950001,9000001,18000001,40000001},{0.05,0.1,0.2,0.23,0.33,0.4,0.45}))
A98: 早見表 共働き＋大学生と高校生 | B98: ='2_早見表'!$A$9 | C98: 2026 | D98: 0 | E98: 1 | F98: 1 | G98: =ROUND(MIN(B98/12,650000)*12*0.0915+MIN(B98/12,1390000)*12*(0.0504+0)+B98*0.005,0) | H98: 0 | I98: 0 | J98: =IF(C98=2026,IF(B98<741000,0,IF(B98<2191000,B98-740000,IF(B98<2193000,1451000,IF(B98<2196000,1453000,IF(B98<2200000,1456000,IF(B98<3600000,ROUNDDOWN(B98/4,-3)*2.8-80000,IF(B98<6600000,ROUNDDOWN(B98/4,-3)*3.2-440000,IF(B98<8500000,ROUNDDOWN(B98*0.9,0)-1100000,B98-1950000)))))))),IF(B98<651000,0,IF(B98<1900000,B98-650000,IF(B98<3600000,ROUNDDOWN(B98/4,-3)*2.8-80000,IF(B98<6600000,ROUNDDOWN(B98/4,-3)*3.2-440000,IF(B98<8500000,ROUNDDOWN(B98*0.9,0)-1100000,B98-1950000)))))) | K98: =IF(J98>23500000,NA(),IF(C98=2026,IF(J98<=4890000,1040000,IF(J98<=6550000,670000,620000)),IF(J98<=1320000,950000,IF(J98<=3360000,880000,IF(J98<=4890000,680000,IF(J98<=6550000,630000,580000)))))) | L98: =IF(D98=1,IF(J98<=9000000,380000,IF(J98<=9500000,260000,IF(J98<=10000000,130000,0))),0) | M98: =IF(D98=1,IF(J98<=9000000,330000,IF(J98<=9500000,220000,IF(J98<=10000000,110000,0))),0) | N98: =IF(D98=1,IF(J98<=9000000,50000,IF(J98<=9500000,40000,IF(J98<=10000000,20000,0))),0) | O98: =MAX(0,ROUNDDOWN(J98-G98-K98-L98-E98*380000-F98*630000-H98,-3)) | P98: =MAX(0,ROUNDDOWN(J98-G98-430000-M98-E98*330000-F98*450000-I98,-3)) | Q98: =50000+N98+E98*50000+F98*180000 | R98: =IF(P98<=2000000,MIN(Q98,P98),MAX(Q98-(P98-2000000),50000))*0.05 | S98: =MAX(0,P98*0.1-R98) | T98: =Q98+MAX(0,K98-480000) | U98: =P98-T98 | V98: =IF(U98<0,0,LOOKUP(U98,{0,1950001,3300001,6950001,9000001,18000001,40000001},{0.05,0.1,0.2,0.23,0.33,0.4,0.45})) | W98: =IF(U98<0,0.9,0.9-V98*1.021) | X98: =ROUNDDOWN(S98*0.2/W98+2000,0) | Y98: =IF(O98<=0,0,LOOKUP(O98,{0,1950001,3300001,6950001,9000001,18000001,40000001},{0.05,0.1,0.2,0.23,0.33,0.4,0.45}))
... A100: 早見表 夫婦＋大学生と高校生 | B100: ='2_早見表'!$A$9 | C100: 2026 | D100: 1 | E100: 1 | F100: 1 | G100: =ROUND(MIN(B100/12,650000)*12*0.0915+MIN(B100/12,1390000)*12*(0.0504+0)+B100*0.005,0) | H100: 0 | I100: 0 | J100: =IF(C100=2026,IF(B100<741000,0,IF(B100<2191000,B100-740000,IF(B100<2193000,1451000,IF(B100<2196000,1453000,IF(B100<2200000,1456000,IF(B100<3600000,ROUNDDOWN(B100/4,-3)*2.8-80000,IF(B100<6600000,ROUNDDOWN(B100/4,-3)*3.2-440000,IF(B100<8500000,ROUNDDOWN(B100*0.9,0)-1100000,B100-1950000)))))))),IF(B100<651000,0,IF(B100<1900000,B100-650000,IF(B100<3600000,ROUNDDOWN(B100/4,-3)*2.8-80000,IF(B100<6600000,ROUNDDOWN(B100/4,-3)*3.2-440000,IF(B100<8500000,ROUNDDOWN(B100*0.9,0)-1100000,B100-1950000)))))) | K100: =IF(J100>23500000,NA(),IF(C100=2026,IF(J100<=4890000,1040000,IF(J100<=6550000,670000,620000)),IF(J100<=1320000,950000,IF(J100<=3360000,880000,IF(J100<=4890000,680000,IF(J100<=6550000,630000,580000)))))) | L100: =IF(D100=1,IF(J100<=9000000,380000,IF(J100<=9500000,260000,IF(J100<=10000000,130000,0))),0) | M100: =IF(D100=1,IF(J100<=9000000,330000,IF(J100<=9500000,220000,IF(J100<=10000000,110000,0))),0) | N100: =IF(D100=1,IF(J100<=9000000,50000,IF(J100<=9500000,40000,IF(J100<=10000000,20000,0))),0) | O100: =MAX(0,ROUNDDOWN(J100-G100-K100-L100-E100*380000-F100*630000-H100,-3)) | P100: =MAX(0,ROUNDDOWN(J100-G100-430000-M100-E100*330000-F100*450000-I100,-3)) | Q100: =50000+N100+E100*50000+F100*180000 | R100: =IF(P100<=2000000,MIN(Q100,P100),MAX(Q100-(P100-2000000),50000))*0.05 | S100: =MAX(0,P100*0.1-R100) | T100: =Q100+MAX(0,K100-480000) | U100: =P100-T100 | V100: =IF(U100<0,0,LOOKUP(U100,{0,1950001,3300001,6950001,9000001,18000001,40000001},{0.05,0.1,0.2,0.23,0.33,0.4,0.45})) | W100: =IF(U100<0,0.9,0.9-V100*1.021) | X100: =ROUNDDOWN(S100*0.2/W100+2000,0) | Y100: =IF(O100<=0,0,LOOKUP(O100,{0,1950001,3300001,6950001,9000001,18000001,40000001},{0.05,0.1,0.2,0.23,0.33,0.4,0.45}))
A101: 早見表 独身または共働き | B101: ='2_早見表'!$A$10 | C101: 2025 | D101: 0 | E101: 0 | F101: 0 | G101: =ROUND(MIN(B101/12,650000)*12*0.0915+MIN(B101/12,1390000)*12*(0.0504+0)+B101*0.005,0) | H101: 0 | I101: 0 | J101: =IF(C101=2026,IF(B101<741000,0,IF(B101<2191000,B101-740000,IF(B101<2193000,1451000,IF(B101<2196000,1453000,IF(B101<2200000,1456000,IF(B101<3600000,ROUNDDOWN(B101/4,-3)*2.8-80000,IF(B101<6600000,ROUNDDOWN(B101/4,-3)*3.2-440000,IF(B101<8500000,ROUNDDOWN(B101*0.9,0)-1100000,B101-1950000)))))))),IF(B101<651000,0,IF(B101<1900000,B101-650000,IF(B101<3600000,ROUNDDOWN(B101/4,-3)*2.8-80000,IF(B101<6600000,ROUNDDOWN(B101/4,-3)*3.2-440000,IF(B101<8500000,ROUNDDOWN(B101*0.9,0)-1100000,B101-1950000)))))) | K101: =IF(J101>23500000,NA(),IF(C101=2026,IF(J101<=4890000,1040000,IF(J101<=6550000,670000,620000)),IF(J101<=1320000,950000,IF(J101<=3360000,880000,IF(J101<=4890000,680000,IF(J101<=6550000,630000,580000)))))) | L101: =IF(D101=1,IF(J101<=9000000,380000,IF(J101<=9500000,260000,IF(J101<=10000000,130000,0))),0) | M101: =IF(D101=1,IF(J101<=9000000,330000,IF(J101<=9500000,220000,IF(J101<=10000000,110000,0))),0) | N101: =IF(D101=1,IF(J101<=9000000,50000,IF(J101<=9500000,40000,IF(J101<=10000000,20000,0))),0) | O101: =MAX(0,ROUNDDOWN(J101-G101-K101-L101-E101*380000-F101*630000-H101,-3)) | P101: =MAX(0,ROUNDDOWN(J101-G101-430000-M101-E101*330000-F101*450000-I101,-3)) | Q101: =50000+N101+E101*50000+F101*180000 | R101: =IF(P101<=2000000,MIN(Q101,P101),MAX(Q101-(P101-2000000),50000))*0.05 | S101: =MAX(0,P101*0.1-R101) | T101: =Q101+MAX(0,K101-480000) | U101: =P101-T101 | V101: =IF(U101<0,0,LOOKUP(U101,{0,1950001,3300001,6950001,9000001,18000001,40000001},{0.05,0.1,0.2,0.23,0.33,0.4,0.45})) | W101: =IF(U101<0,0.9,0.9-V101*1.021) | X101: =ROUNDDOWN(S101*0.2/W101+2000,0) | Y101: =IF(O101<=0,0,LOOKUP(O101,{0,1950001,3300001,6950001,9000001,18000001,40000001},{0.05,0.1,0.2,0.23,0.33,0.4,0.45}))
A102: 早見表 独身または共働き | B102: ='2_早見表'!$A$10 | C102: 2026 | D102: 0 | E102: 0 | F102: 0 | G102: =ROUND(MIN(B102/12,650000)*12*0.0915+MIN(B102/12,1390000)*12*(0.0504+0)+B102*0.005,0) | H102: 0 | I102: 0 | J102: =IF(C102=2026,IF(B102<741000,0,IF(B102<2191000,B102-740000,IF(B102<2193000,1451000,IF(B102<2196000,1453000,IF(B102<2200000,1456000,IF(B102<3600000,ROUNDDOWN(B102/4,-3)*2.8-80000,IF(B102<6600000,ROUNDDOWN(B102/4,-3)*3.2-440000,IF(B102<8500000,ROUNDDOWN(B102*0.9,0)-1100000,B102-1950000)))))))),IF(B102<651000,0,IF(B102<1900000,B102-650000,IF(B102<3600000,ROUNDDOWN(B102/4,-3)*2.8-80000,IF(B102<6600000,ROUNDDOWN(B102/4,-3)*3.2-440000,IF(B102<8500000,ROUNDDOWN(B102*0.9,0)-1100000,B102-1950000)))))) | K102: =IF(J102>23500000,NA(),IF(C102=2026,IF(J102<=4890000,1040000,IF(J102<=6550000,670000,620000)),IF(J102<=1320000,950000,IF(J102<=3360000,880000,IF(J102<=4890000,680000,IF(J102<=6550000,630000,580000)))))) | L102: =IF(D102=1,IF(J102<=9000000,380000,IF(J102<=9500000,260000,IF(J102<=10000000,130000,0))),0) | M102: =IF(D102=1,IF(J102<=9000000,330000,IF(J102<=9500000,220000,IF(J102<=10000000,110000,0))),0) | N102: =IF(D102=1,IF(J102<=9000000,50000,IF(J102<=9500000,40000,IF(J102<=10000000,20000,0))),0) | O102: =MAX(0,ROUNDDOWN(J102-G102-K102-L102-E102*380000-F102*630000-H102,-3)) | P102: =MAX(0,ROUNDDOWN(J102-G102-430000-M102-E102*330000-F102*450000-I102,-3)) | Q102: =50000+N102+E102*50000+F102*180000 | R102: =IF(P102<=2000000,MIN(Q102,P102),MAX(Q102-(P102-2000000),50000))*0.05 | S102: =MAX(0,P102*0.1-R102) | T102: =Q102+MAX(0,K102-480000) | U102: =P102-T102 | V102: =IF(U102<0,0,LOOKUP(U102,{0,1950001,3300001,6950001,9000001,18000001,40000001},{0.05,0.1,0.2,0.23,0.33,0.4,0.45})) | W102: =IF(U102<0,0.9,0.9-V102*1.021) | X102: =ROUNDDOWN(S102*0.2/W102+2000,0) | Y102: =IF(O102<=0,0,LOOKUP(O102,{0,1950001,3300001,6950001,9000001,18000001,40000001},{0.05,0.1,0.2,0.23,0.33,0.4,0.45}))
