Workbook

Sheet 1_上限
A1: ふるさと納税の上限。黄色を埋める（2025年の寄附と2026年の寄附を同じ式で並べる）
A2: 入れるもの | B2: 値 | C2: メモ | E2: 計算 | F2: 2025年の寄附 | G2: 2026年の寄附 | H2: メモ
A3: 給与の年収（税引き前の総支給） | B3: 5000000 | C3: 源泉徴収票の支払金額。通勤手当は含まない | E3: 寄附の年 | F3: 2025 | G3: 2026 | H3: 住民税は翌年度（令和8年度・令和9年度）から引かれる
A4: 社会保険料（空欄なら見積もり） | C4: 源泉徴収票の社会保険料等の金額を入れると正確 | E4: 給与所得 | F4: =IF(F$3=2026,IF($B$3<741000,0,IF($B$3<2191000,$B$3-740000,IF($B$3<2193000,1451000,IF($B$3<2196000,1453000,IF($B$3<2200000,1456000,IF($B$3<3600000,ROUNDDOWN($B$3/4,-3)*2.8-80000,IF($B$3<6600000,ROUNDDOWN($B$3/4,-3)*3.2-440000,IF($B$3<8500000,ROUNDDOWN($B$3*0.9,0)-1100000,$B$3-1950000)))))))),IF($B$3<651000,0,IF($B$3<1900000,$B$3-650000,IF($B$3<3600000,ROUNDDOWN($B$3/4,-3)*2.8-80000,IF($B$3<6600000,ROUNDDOWN($B$3/4,-3)*3.2-440000,IF($B$3<8500000,ROUNDDOWN($B$3*0.9,0)-1100000,$B$3-1950000)))))) | G4: =IF(G$3=2026,IF($B$3<741000,0,IF($B$3<2191000,$B$3-740000,IF($B$3<2193000,1451000,IF($B$3<2196000,1453000,IF($B$3<2200000,1456000,IF($B$3<3600000,ROUNDDOWN($B$3/4,-3)*2.8-80000,IF($B$3<6600000,ROUNDDOWN($B$3/4,-3)*3.2-440000,IF($B$3<8500000,ROUNDDOWN($B$3*0.9,0)-1100000,$B$3-1950000)))))))),IF($B$3<651000,0,IF($B$3<1900000,$B$3-650000,IF($B$3<3600000,ROUNDDOWN($B$3/4,-3)*2.8-80000,IF($B$3<6600000,ROUNDDOWN($B$3/4,-3)*3.2-440000,IF($B$3<8500000,ROUNDDOWN($B$3*0.9,0)-1100000,$B$3-1950000)))))) | H4: 年末調整等のための表の端数処理（4,000円刻み）を入れた
A5: 40歳から64歳か | B5: いいえ | C5: 見積もりのときだけ使う。はいなら介護保険料を足す | E5: 基礎控除（所得税） | F5: =IF(F4>23500000,NA(),IF(F$3=2026,IF(F4<=4890000,1040000,IF(F4<=6550000,670000,620000)),IF(F4<=1320000,950000,IF(F4<=3360000,880000,IF(F4<=4890000,680000,IF(F4<=6550000,630000,580000)))))) | G5: =IF(G4>23500000,NA(),IF(G$3=2026,IF(G4<=4890000,1040000,IF(G4<=6550000,670000,620000)),IF(G4<=1320000,950000,IF(G4<=3360000,880000,IF(G4<=4890000,680000,IF(G4<=6550000,630000,580000)))))) | H5: 令和8年分は合計所得489万円以下で104万円
A6: 配偶者控除を受けるか | B6: なし | C6: 配偶者の給与収入が136万円以下（2026年） | E6: 配偶者控除（所得税） | F6: =IF((IF($B$6="あり",1,0))=1,IF(F4<=9000000,380000,IF(F4<=9500000,260000,IF(F4<=10000000,130000,0))),0) | G6: =IF((IF($B$6="あり",1,0))=1,IF(G4<=9000000,380000,IF(G4<=9500000,260000,IF(G4<=10000000,130000,0))),0) | H6: 38万円。本人の合計所得900万円超で減る
A7: 16〜18歳と23〜69歳の扶養親族 | B7: 0 | C7: 高校生の子など。15歳以下は数えない | E7: 配偶者控除（住民税） | F7: =IF((IF($B$6="あり",1,0))=1,IF(F4<=9000000,330000,IF(F4<=9500000,220000,IF(F4<=10000000,110000,0))),0) | G7: =IF((IF($B$6="あり",1,0))=1,IF(G4<=9000000,330000,IF(G4<=9500000,220000,IF(G4<=10000000,110000,0))),0) | H7: 33万円
A8: 19〜22歳の扶養親族 | B8: 0 | C8: 大学生の子など（特定扶養親族） | E8: 配偶者の人的控除差 | F8: =IF((IF($B$6="あり",1,0))=1,IF(F4<=9000000,50000,IF(F4<=9500000,40000,IF(F4<=10000000,20000,0))),0) | G8: =IF((IF($B$6="あり",1,0))=1,IF(G4<=9000000,50000,IF(G4<=9500000,40000,IF(G4<=10000000,20000,0))),0) | H8: 5万円（調整控除に使う）
A9: iDeCoなど両方で同じ控除 | B9: 0 | C9: iDeCoの掛金、医療費控除など | E9: 所得税の課税所得 | F9: =MAX(0,ROUNDDOWN(F4-$B$14-F5-F6-$B$7*380000-$B$8*630000-($B$9+$B$10),-3)) | G9: =MAX(0,ROUNDDOWN(G4-$B$14-G5-G6-$B$7*380000-$B$8*630000-($B$9+$B$10),-3)) | H9: 千円未満を切り捨て
A10: 生命保険料控除（所得税） | B10: 0 | C10: 所得税は最高12万円 | E10: 住民税の課税所得 | F10: =MAX(0,ROUNDDOWN(F4-$B$14-430000-F7-$B$7*330000-$B$8*450000-($B$9+$B$11),-3)) | G10: =MAX(0,ROUNDDOWN(G4-$B$14-430000-G7-$B$7*330000-$B$8*450000-($B$9+$B$11),-3)) | H10: 基礎控除は43万円のまま
A11: 生命保険料控除（住民税） | B11: 0 | C11: 住民税の控除額。所得税とは別の表で決まる | E11: 人的控除の差の合計 | F11: =50000+F8+$B$7*50000+$B$8*180000 | G11: =50000+G8+$B$7*50000+$B$8*180000 | H11: 地方税法第37条第1号イ
A12: 寄附する額（実質負担を見る） | B12: 61405 | C12: その年に寄附する合計。例は2025年の上限 | E12: 調整控除 | F12: =IF(F10<=2000000,MIN(F11,F10),MAX(F11-(F10-2000000),50000))*0.05 | G12: =IF(G10<=2000000,MIN(G11,G10),MAX(G11-(G10-2000000),50000))*0.05 | H12: 道府県民税2%と市町村民税3%の合計
E13: 住民税の所得割 | F13: =MAX(0,F10*0.1-F12) | G13: =MAX(0,G10*0.1-G12) | H13: 課税所得×10%−調整控除
A14: 社会保険料（計算に使う額） | B14: =IF(B4="",ROUND(MIN(B3/12,650000)*12*0.0915+MIN(B3/12,1390000)*12*(0.0504+IF(B5="はい",0.0081,0))+B3*0.005,0),B4) | C14: 見積もりは協会けんぽ東京支部・賞与なし | E14: 人的控除差調整額 | F14: =F11+MAX(0,F5-480000) | G14: =G11+MAX(0,G5-480000) | H14: 上の合計に、所得税の基礎控除−48万円を足す
E15: 税率を決める額 | F15: =F10-F14 | G15: =G10-G14 | H15: 住民税の課税所得−人的控除差調整額
E16: その額に当たる所得税率 | F16: =IF(F15<0,0,LOOKUP(F15,{0,1950001,3300001,6950001,9000001,18000001,40000001},{0.05,0.1,0.2,0.23,0.33,0.4,0.45})) | G16: =IF(G15<0,0,LOOKUP(G15,{0,1950001,3300001,6950001,9000001,18000001,40000001},{0.05,0.1,0.2,0.23,0.33,0.4,0.45})) | H16: マイナスなら0%
E17: 特例分の割合 | F17: =IF(F15<0,0.9,0.9-F16*1.021) | G17: =IF(G15<0,0.9,0.9-G16*1.021) | H17: 90%−所得税率×1.021
E18: 上限（2,000円の負担で済む寄附額） | F18: =ROUNDDOWN(F13*0.2/F17+2000,0) | G18: =ROUNDDOWN(G13*0.2/G17+2000,0) | H18: 所得割×20%÷特例分の割合＋2,000円
E19: 所得税の実際の税率 | F19: =IF(F9<=0,0,LOOKUP(F9,{0,1950001,3300001,6950001,9000001,18000001,40000001},{0.05,0.1,0.2,0.23,0.33,0.4,0.45})) | G19: =IF(G9<=0,0,LOOKUP(G9,{0,1950001,3300001,6950001,9000001,18000001,40000001},{0.05,0.1,0.2,0.23,0.33,0.4,0.45})) | H19: 所得税の課税所得から
E20: 上限の差（2026年−2025年） | G20: =G18-F18
E22: 寄附した額の行方（確定申告） | F22: 2025年の寄附 | G22: 2026年の寄附 | H22: メモ
E23: 所得税から戻る額 | F23: =MAX(0,$B$12-2000)*F19*1.021 | G23: =MAX(0,$B$12-2000)*G19*1.021 | H23: 寄附−2,000円に実際の税率×1.021
E24: 住民税の基本分 | F24: =MAX(0,$B$12-2000)*0.1 | G24: =MAX(0,$B$12-2000)*0.1 | H24: 寄附−2,000円の10%
E25: 住民税の特例分 | F25: =MIN(MAX(0,$B$12-2000)*F17,F13*0.2) | G25: =MIN(MAX(0,$B$12-2000)*G17,G13*0.2) | H25: 所得割の20%で頭打ち
E26: 実質負担 | F26: =ROUND($B$12-SUM(F23:F25),0) | G26: =ROUND($B$12-SUM(G23:G25),0) | H26: 2,000円なら上限の内側

Sheet 2_早見表
A1: 2026年の寄附の上限（円）と、2025年の寄附の上限との差。社会保険料は年収から見積もり（40歳未満・協会けんぽ東京）
A2: 年収 | B2: 独身または共働き | C2: 夫婦（配偶者控除あり） | D2: 共働き＋高校生1人 | E2: 共働き＋大学生1人 | F2: 夫婦＋高校生1人 | G2: 共働き＋大学生と高校生 | H2: 夫婦＋大学生と高校生 | I2: 差：独身または共働き | J2: 差：夫婦（配偶者控除あり） | K2: 差：共働き＋高校生1人 | L2: 差：共働き＋大学生1人 | M2: 差：夫婦＋高校生1人 | N2: 差：共働き＋大学生と高校生 | O2: 差：夫婦＋大学生と高校生
A3: 3000000 | B3: =計算!X4 | C3: =計算!X6 | D3: =計算!X8 | E3: =計算!X10 | F3: =計算!X12 | G3: =計算!X14 | H3: =計算!X16 | I3: =計算!X4-計算!X3 | J3: =計算!X6-計算!X5 | K3: =計算!X8-計算!X7 | L3: =計算!X10-計算!X9 | M3: =計算!X12-計算!X11 | N3: =計算!X14-計算!X13 | O3: =計算!X16-計算!X15
A4: 3500000 | B4: =計算!X18 | C4: =計算!X20 | D4: =計算!X22 | E4: =計算!X24 | F4: =計算!X26 | G4: =計算!X28 | H4: =計算!X30 | I4: =計算!X18-計算!X17 | J4: =計算!X20-計算!X19 | K4: =計算!X22-計算!X21 | L4: =計算!X24-計算!X23 | M4: =計算!X26-計算!X25 | N4: =計算!X28-計算!X27 | O4: =計算!X30-計算!X29
A5: 4000000 | B5: =計算!X32 | C5: =計算!X34 | D5: =計算!X36 | E5: =計算!X38 | F5: =計算!X40 | G5: =計算!X42 | H5: =計算!X44 | I5: =計算!X32-計算!X31 | J5: =計算!X34-計算!X33 | K5: =計算!X36-計算!X35 | L5: =計算!X38-計算!X37 | M5: =計算!X40-計算!X39 | N5: =計算!X42-計算!X41 | O5: =計算!X44-計算!X43
A6: 4500000 | B6: =計算!X46 | C6: =計算!X48 | D6: =計算!X50 | E6: =計算!X52 | F6: =計算!X54 | G6: =計算!X56 | H6: =計算!X58 | I6: =計算!X46-計算!X45 | J6: =計算!X48-計算!X47 | K6: =計算!X50-計算!X49 | L6: =計算!X52-計算!X51 | M6: =計算!X54-計算!X53 | N6: =計算!X56-計算!X55 | O6: =計算!X58-計算!X57
A7: 5000000 | B7: =計算!X60 | C7: =計算!X62 | D7: =計算!X64 | E7: =計算!X66 | F7: =計算!X68 | G7: =計算!X70 | H7: =計算!X72 | I7: =計算!X60-計算!X59 | J7: =計算!X62-計算!X61 | K7: =計算!X64-計算!X63 | L7: =計算!X66-計算!X65 | M7: =計算!X68-計算!X67 | N7: =計算!X70-計算!X69 | O7: =計算!X72-計算!X71
A8: 5500000 | B8: =計算!X74 | C8: =計算!X76 | D8: =計算!X78 | E8: =計算!X80 | F8: =計算!X82 | G8: =計算!X84 | H8: =計算!X86 | I8: =計算!X74-計算!X73 | J8: =計算!X76-計算!X75 | K8: =計算!X78-計算!X77 | L8: =計算!X80-計算!X79 | M8: =計算!X82-計算!X81 | N8: =計算!X84-計算!X83 | O8: =計算!X86-計算!X85
A9: 6000000 | B9: =計算!X88 | C9: =計算!X90 | D9: =計算!X92 | E9: =計算!X94 | F9: =計算!X96 | G9: =計算!X98 | H9: =計算!X100 | I9: =計算!X88-計算!X87 | J9: =計算!X90-計算!X89 | K9: =計算!X92-計算!X91 | L9: =計算!X94-計算!X93 | M9: =計算!X96-計算!X95 | N9: =計算!X98-計算!X97 | O9: =計算!X100-計算!X99
A10: 6500000 | B10: =計算!X102 | C10: =計算!X104 | D10: =計算!X106 | E10: =計算!X108 | F10: =計算!X110 | G10: =計算!X112 | H10: =計算!X114 | I10: =計算!X102-計算!X101 | J10: =計算!X104-計算!X103 | K10: =計算!X106-計算!X105 | L10: =計算!X108-計算!X107 | M10: =計算!X110-計算!X109 | N10: =計算!X112-計算!X111 | O10: =計算!X114-計算!X113
A11: 7000000 | B11: =計算!X116 | C11: =計算!X118 | D11: =計算!X120 | E11: =計算!X122 | F11: =計算!X124 | G11: =計算!X126 | H11: =計算!X128 | I11: =計算!X116-計算!X115 | J11: =計算!X118-計算!X117 | K11: =計算!X120-計算!X119 | L11: =計算!X122-計算!X121 | M11: =計算!X124-計算!X123 | N11: =計算!X126-計算!X125 | O11: =計算!X128-計算!X127
A12: 7500000 | B12: =計算!X130 | C12: =計算!X132 | D12: =計算!X134 | E12: =計算!X136 | F12: =計算!X138 | G12: =計算!X140 | H12: =計算!X142 | I12: =計算!X130-計算!X129 | J12: =計算!X132-計算!X131 | K12: =計算!X134-計算!X133 | L12: =計算!X136-計算!X135 | M12: =計算!X138-計算!X137 | N12: =計算!X140-計算!X139 | O12: =計算!X142-計算!X141
A13: 8000000 | B13: =計算!X144 | C13: =計算!X146 | D13: =計算!X148 | E13: =計算!X150 | F13: =計算!X152 | G13: =計算!X154 | H13: =計算!X156 | I13: =計算!X144-計算!X143 | J13: =計算!X146-計算!X145 | K13: =計算!X148-計算!X147 | L13: =計算!X150-計算!X149 | M13: =計算!X152-計算!X151 | N13: =計算!X154-計算!X153 | O13: =計算!X156-計算!X155
A14: 8500000 | B14: =計算!X158 | C14: =計算!X160 | D14: =計算!X162 | E14: =計算!X164 | F14: =計算!X166 | G14: =計算!X168 | H14: =計算!X170 | I14: =計算!X158-計算!X157 | J14: =計算!X160-計算!X159 | K14: =計算!X162-計算!X161 | L14: =計算!X164-計算!X163 | M14: =計算!X166-計算!X165 | N14: =計算!X168-計算!X167 | O14: =計算!X170-計算!X169
A15: 9000000 | B15: =計算!X172 | C15: =計算!X174 | D15: =計算!X176 | E15: =計算!X178 | F15: =計算!X180 | G15: =計算!X182 | H15: =計算!X184 | I15: =計算!X172-計算!X171 | J15: =計算!X174-計算!X173 | K15: =計算!X176-計算!X175 | L15: =計算!X178-計算!X177 | M15: =計算!X180-計算!X179 | N15: =計算!X182-計算!X181 | O15: =計算!X184-計算!X183
A16: 9500000 | B16: =計算!X186 | C16: =計算!X188 | D16: =計算!X190 | E16: =計算!X192 | F16: =計算!X194 | G16: =計算!X196 | H16: =計算!X198 | I16: =計算!X186-計算!X185 | J16: =計算!X188-計算!X187 | K16: =計算!X190-計算!X189 | L16: =計算!X192-計算!X191 | M16: =計算!X194-計算!X193 | N16: =計算!X196-計算!X195 | O16: =計算!X198-計算!X197
A17: 10000000 | B17: =計算!X200 | C17: =計算!X202 | D17: =計算!X204 | E17: =計算!X206 | F17: =計算!X208 | G17: =計算!X210 | H17: =計算!X212 | I17: =計算!X200-計算!X199 | J17: =計算!X202-計算!X201 | K17: =計算!X204-計算!X203 | L17: =計算!X206-計算!X205 | M17: =計算!X208-計算!X207 | N17: =計算!X210-計算!X209 | O17: =計算!X212-計算!X211
A18: 10500000 | B18: =計算!X214 | C18: =計算!X216 | D18: =計算!X218 | E18: =計算!X220 | F18: =計算!X222 | G18: =計算!X224 | H18: =計算!X226 | I18: =計算!X214-計算!X213 | J18: =計算!X216-計算!X215 | K18: =計算!X218-計算!X217 | L18: =計算!X220-計算!X219 | M18: =計算!X222-計算!X221 | N18: =計算!X224-計算!X223 | O18: =計算!X226-計算!X225
A19: 11000000 | B19: =計算!X228 | C19: =計算!X230 | D19: =計算!X232 | E19: =計算!X234 | F19: =計算!X236 | G19: =計算!X238 | H19: =計算!X240 | I19: =計算!X228-計算!X227 | J19: =計算!X230-計算!X229 | K19: =計算!X232-計算!X231 | L19: =計算!X234-計算!X233 | M19: =計算!X236-計算!X235 | N19: =計算!X238-計算!X237 | O19: =計算!X240-計算!X239
A20: 11500000 | B20: =計算!X242 | C20: =計算!X244 | D20: =計算!X246 | E20: =計算!X248 | F20: =計算!X250 | G20: =計算!X252 | H20: =計算!X254 | I20: =計算!X242-計算!X241 | J20: =計算!X244-計算!X243 | K20: =計算!X246-計算!X245 | L20: =計算!X248-計算!X247 | M20: =計算!X250-計算!X249 | N20: =計算!X252-計算!X251 | O20: =計算!X254-計算!X253
A21: 12000000 | B21: =計算!X256 | C21: =計算!X258 | D21: =計算!X260 | E21: =計算!X262 | F21: =計算!X264 | G21: =計算!X266 | H21: =計算!X268 | I21: =計算!X256-計算!X255 | J21: =計算!X258-計算!X257 | K21: =計算!X260-計算!X259 | L21: =計算!X262-計算!X261 | M21: =計算!X264-計算!X263 | N21: =計算!X266-計算!X265 | O21: =計算!X268-計算!X267
A22: 12500000 | B22: =計算!X270 | C22: =計算!X272 | D22: =計算!X274 | E22: =計算!X276 | F22: =計算!X278 | G22: =計算!X280 | H22: =計算!X282 | I22: =計算!X270-計算!X269 | J22: =計算!X272-計算!X271 | K22: =計算!X274-計算!X273 | L22: =計算!X276-計算!X275 | M22: =計算!X278-計算!X277 | N22: =計算!X280-計算!X279 | O22: =計算!X282-計算!X281
A23: 13000000 | B23: =計算!X284 | C23: =計算!X286 | D23: =計算!X288 | E23: =計算!X290 | F23: =計算!X292 | G23: =計算!X294 | H23: =計算!X296 | I23: =計算!X284-計算!X283 | J23: =計算!X286-計算!X285 | K23: =計算!X288-計算!X287 | L23: =計算!X290-計算!X289 | M23: =計算!X292-計算!X291 | N23: =計算!X294-計算!X293 | O23: =計算!X296-計算!X295
A24: 13500000 | B24: =計算!X298 | C24: =計算!X300 | D24: =計算!X302 | E24: =計算!X304 | F24: =計算!X306 | G24: =計算!X308 | H24: =計算!X310 | I24: =計算!X298-計算!X297 | J24: =計算!X300-計算!X299 | K24: =計算!X302-計算!X301 | L24: =計算!X304-計算!X303 | M24: =計算!X306-計算!X305 | N24: =計算!X308-計算!X307 | O24: =計算!X310-計算!X309
A25: 14000000 | B25: =計算!X312 | C25: =計算!X314 | D25: =計算!X316 | E25: =計算!X318 | F25: =計算!X320 | G25: =計算!X322 | H25: =計算!X324 | I25: =計算!X312-計算!X311 | J25: =計算!X314-計算!X313 | K25: =計算!X316-計算!X315 | L25: =計算!X318-計算!X317 | M25: =計算!X320-計算!X319 | N25: =計算!X322-計算!X321 | O25: =計算!X324-計算!X323
A26: 14500000 | B26: =計算!X326 | C26: =計算!X328 | D26: =計算!X330 | E26: =計算!X332 | F26: =計算!X334 | G26: =計算!X336 | H26: =計算!X338 | I26: =計算!X326-計算!X325 | J26: =計算!X328-計算!X327 | K26: =計算!X330-計算!X329 | L26: =計算!X332-計算!X331 | M26: =計算!X334-計算!X333 | N26: =計算!X336-計算!X335 | O26: =計算!X338-計算!X337
A27: 15000000 | B27: =計算!X340 | C27: =計算!X342 | D27: =計算!X344 | E27: =計算!X346 | F27: =計算!X348 | G27: =計算!X350 | H27: =計算!X352 | I27: =計算!X340-計算!X339 | J27: =計算!X342-計算!X341 | K27: =計算!X344-計算!X343 | L27: =計算!X346-計算!X345 | M27: =計算!X348-計算!X347 | N27: =計算!X350-計算!X349 | O27: =計算!X352-計算!X351
A28: 15500000 | B28: =計算!X354 | C28: =計算!X356 | D28: =計算!X358 | E28: =計算!X360 | F28: =計算!X362 | G28: =計算!X364 | H28: =計算!X366 | I28: =計算!X354-計算!X353 | J28: =計算!X356-計算!X355 | K28: =計算!X358-計算!X357 | L28: =計算!X360-計算!X359 | M28: =計算!X362-計算!X361 | N28: =計算!X364-計算!X363 | O28: =計算!X366-計算!X365
A29: 16000000 | B29: =計算!X368 | C29: =計算!X370 | D29: =計算!X372 | E29: =計算!X374 | F29: =計算!X376 | G29: =計算!X378 | H29: =計算!X380 | I29: =計算!X368-計算!X367 | J29: =計算!X370-計算!X369 | K29: =計算!X372-計算!X371 | L29: =計算!X374-計算!X373 | M29: =計算!X376-計算!X375 | N29: =計算!X378-計算!X377 | O29: =計算!X380-計算!X379
A30: 16500000 | B30: =計算!X382 | C30: =計算!X384 | D30: =計算!X386 | E30: =計算!X388 | F30: =計算!X390 | G30: =計算!X392 | H30: =計算!X394 | I30: =計算!X382-計算!X381 | J30: =計算!X384-計算!X383 | K30: =計算!X386-計算!X385 | L30: =計算!X388-計算!X387 | M30: =計算!X390-計算!X389 | N30: =計算!X392-計算!X391 | O30: =計算!X394-計算!X393
A31: 17000000 | B31: =計算!X396 | C31: =計算!X398 | D31: =計算!X400 | E31: =計算!X402 | F31: =計算!X404 | G31: =計算!X406 | H31: =計算!X408 | I31: =計算!X396-計算!X395 | J31: =計算!X398-計算!X397 | K31: =計算!X400-計算!X399 | L31: =計算!X402-計算!X401 | M31: =計算!X404-計算!X403 | N31: =計算!X406-計算!X405 | O31: =計算!X408-計算!X407
A32: 17500000 | B32: =計算!X410 | C32: =計算!X412 | D32: =計算!X414 | E32: =計算!X416 | F32: =計算!X418 | G32: =計算!X420 | H32: =計算!X422 | I32: =計算!X410-計算!X409 | J32: =計算!X412-計算!X411 | K32: =計算!X414-計算!X413 | L32: =計算!X416-計算!X415 | M32: =計算!X418-計算!X417 | N32: =計算!X420-計算!X419 | O32: =計算!X422-計算!X421
A33: 18000000 | B33: =計算!X424 | C33: =計算!X426 | D33: =計算!X428 | E33: =計算!X430 | F33: =計算!X432 | G33: =計算!X434 | H33: =計算!X436 | I33: =計算!X424-計算!X423 | J33: =計算!X426-計算!X425 | K33: =計算!X428-計算!X427 | L33: =計算!X430-計算!X429 | M33: =計算!X432-計算!X431 | N33: =計算!X434-計算!X433 | O33: =計算!X436-計算!X435
A34: 18500000 | B34: =計算!X438 | C34: =計算!X440 | D34: =計算!X442 | E34: =計算!X444 | F34: =計算!X446 | G34: =計算!X448 | H34: =計算!X450 | I34: =計算!X438-計算!X437 | J34: =計算!X440-計算!X439 | K34: =計算!X442-計算!X441 | L34: =計算!X444-計算!X443 | M34: =計算!X446-計算!X445 | N34: =計算!X448-計算!X447 | O34: =計算!X450-計算!X449
A35: 19000000 | B35: =計算!X452 | C35: =計算!X454 | D35: =計算!X456 | E35: =計算!X458 | F35: =計算!X460 | G35: =計算!X462 | H35: =計算!X464 | I35: =計算!X452-計算!X451 | J35: =計算!X454-計算!X453 | K35: =計算!X456-計算!X455 | L35: =計算!X458-計算!X457 | M35: =計算!X460-計算!X459 | N35: =計算!X462-計算!X461 | O35: =計算!X464-計算!X463
A36: 19500000 | B36: =計算!X466 | C36: =計算!X468 | D36: =計算!X470 | E36: =計算!X472 | F36: =計算!X474 | G36: =計算!X476 | H36: =計算!X478 | I36: =計算!X466-計算!X465 | J36: =計算!X468-計算!X467 | K36: =計算!X470-計算!X469 | L36: =計算!X472-計算!X471 | M36: =計算!X474-計算!X473 | N36: =計算!X476-計算!X475 | O36: =計算!X478-計算!X477
A37: 20000000 | B37: =計算!X480 | C37: =計算!X482 | D37: =計算!X484 | E37: =計算!X486 | F37: =計算!X488 | G37: =計算!X490 | H37: =計算!X492 | I37: =計算!X480-計算!X479 | J37: =計算!X482-計算!X481 | K37: =計算!X484-計算!X483 | L37: =計算!X486-計算!X485 | M37: =計算!X488-計算!X487 | N37: =計算!X490-計算!X489 | O37: =計算!X492-計算!X491

Sheet 3_1万円刻み
A1: 年収を1万円ずつ動かしたときの上限。差がマイナスの行は、2026年の減税で上限が下がった年収
A2: 年収 | B2: 独身 2025年 | C2: 独身 2026年 | D2: 独身 差 | E2: 独身 税率 | F2: 夫婦 2025年 | G2: 夫婦 2026年 | H2: 夫婦 差 | I2: 夫婦 税率
A3: 3000000 | B3: =計算!X493 | C3: =計算!X494 | D3: =C3-B3 | E3: =計算!V494 | F3: =計算!X495 | G3: =計算!X496 | H3: =G3-F3 | I3: =計算!V496
A4: 3010000 | B4: =計算!X497 | C4: =計算!X498 | D4: =C4-B4 | E4: =計算!V498 | F4: =計算!X499 | G4: =計算!X500 | H4: =G4-F4 | I4: =計算!V500
A5: 3020000 | B5: =計算!X501 | C5: =計算!X502 | D5: =C5-B5 | E5: =計算!V502 | F5: =計算!X503 | G5: =計算!X504 | H5: =G5-F5 | I5: =計算!V504
A6: 3030000 | B6: =計算!X505 | C6: =計算!X506 | D6: =C6-B6 | E6: =計算!V506 | F6: =計算!X507 | G6: =計算!X508 | H6: =G6-F6 | I6: =計算!V508
A7: 3040000 | B7: =計算!X509 | C7: =計算!X510 | D7: =C7-B7 | E7: =計算!V510 | F7: =計算!X511 | G7: =計算!X512 | H7: =G7-F7 | I7: =計算!V512
A8: 3050000 | B8: =計算!X513 | C8: =計算!X514 | D8: =C8-B8 | E8: =計算!V514 | F8: =計算!X515 | G8: =計算!X516 | H8: =G8-F8 | I8: =計算!V516
A9: 3060000 | B9: =計算!X517 | C9: =計算!X518 | D9: =C9-B9 | E9: =計算!V518 | F9: =計算!X519 | G9: =計算!X520 | H9: =G9-F9 | I9: =計算!V520
A10: 3070000 | B10: =計算!X521 | C10: =計算!X522 | D10: =C10-B10 | E10: =計算!V522 | F10: =計算!X523 | G10: =計算!X524 | H10: =G10-F10 | I10: =計算!V524
A11: 3080000 | B11: =計算!X525 | C11: =計算!X526 | D11: =C11-B11 | E11: =計算!V526 | F11: =計算!X527 | G11: =計算!X528 | H11: =G11-F11 | I11: =計算!V528
A12: 3090000 | B12: =計算!X529 | C12: =計算!X530 | D12: =C12-B12 | E12: =計算!V530 | F12: =計算!X531 | G12: =計算!X532 | H12: =G12-F12 | I12: =計算!V532
A13: 3100000 | B13: =計算!X533 | C13: =計算!X534 | D13: =C13-B13 | E13: =計算!V534 | F13: =計算!X535 | G13: =計算!X536 | H13: =G13-F13 | I13: =計算!V536
A14: 3110000 | B14: =計算!X537 | C14: =計算!X538 | D14: =C14-B14 | E14: =計算!V538 | F14: =計算!X539 | G14: =計算!X540 | H14: =G14-F14 | I14: =計算!V540
A15: 3120000 | B15: =計算!X541 | C15: =計算!X542 | D15: =C15-B15 | E15: =計算!V542 | F15: =計算!X543 | G15: =計算!X544 | H15: =G15-F15 | I15: =計算!V544
A16: 3130000 | B16: =計算!X545 | C16: =計算!X546 | D16: =C16-B16 | E16: =計算!V546 | F16: =計算!X547 | G16: =計算!X548 | H16: =G16-F16 | I16: =計算!V548
A17: 3140000 | B17: =計算!X549 | C17: =計算!X550 | D17: =C17-B17 | E17: =計算!V550 | F17: =計算!X551 | G17: =計算!X552 | H17: =G17-F17 | I17: =計算!V552
A18: 3150000 | B18: =計算!X553 | C18: =計算!X554 | D18: =C18-B18 | E18: =計算!V554 | F18: =計算!X555 | G18: =計算!X556 | H18: =G18-F18 | I18: =計算!V556
A19: 3160000 | B19: =計算!X557 | C19: =計算!X558 | D19: =C19-B19 | E19: =計算!V558 | F19: =計算!X559 | G19: =計算!X560 | H19: =G19-F19 | I19: =計算!V560
A20: 3170000 | B20: =計算!X561 | C20: =計算!X562 | D20: =C20-B20 | E20: =計算!V562 | F20: =計算!X563 | G20: =計算!X564 | H20: =G20-F20 | I20: =計算!V564
A21: 3180000 | B21: =計算!X565 | C21: =計算!X566 | D21: =C21-B21 | E21: =計算!V566 | F21: =計算!X567 | G21: =計算!X568 | H21: =G21-F21 | I21: =計算!V568
A22: 3190000 | B22: =計算!X569 | C22: =計算!X570 | D22: =C22-B22 | E22: =計算!V570 | F22: =計算!X571 | G22: =計算!X572 | H22: =G22-F22 | I22: =計算!V572
A23: 3200000 | B23: =計算!X573 | C23: =計算!X574 | D23: =C23-B23 | E23: =計算!V574 | F23: =計算!X575 | G23: =計算!X576 | H23: =G23-F23 | I23: =計算!V576
A24: 3210000 | B24: =計算!X577 | C24: =計算!X578 | D24: =C24-B24 | E24: =計算!V578 | F24: =計算!X579 | G24: =計算!X580 | H24: =G24-F24 | I24: =計算!V580
A25: 3220000 | B25: =計算!X581 | C25: =計算!X582 | D25: =C25-B25 | E25: =計算!V582 | F25: =計算!X583 | G25: =計算!X584 | H25: =G25-F25 | I25: =計算!V584
A26: 3230000 | B26: =計算!X585 | C26: =計算!X586 | D26: =C26-B26 | E26: =計算!V586 | F26: =計算!X587 | G26: =計算!X588 | H26: =G26-F26 | I26: =計算!V588
A27: 3240000 | B27: =計算!X589 | C27: =計算!X590 | D27: =C27-B27 | E27: =計算!V590 | F27: =計算!X591 | G27: =計算!X592 | H27: =G27-F27 | I27: =計算!V592
A28: 3250000 | B28: =計算!X593 | C28: =計算!X594 | D28: =C28-B28 | E28: =計算!V594 | F28: =計算!X595 | G28: =計算!X596 | H28: =G28-F28 | I28: =計算!V596
A29: 3260000 | B29: =計算!X597 | C29: =計算!X598 | D29: =C29-B29 | E29: =計算!V598 | F29: =計算!X599 | G29: =計算!X600 | H29: =G29-F29 | I29: =計算!V600
A30: 3270000 | B30: =計算!X601 | C30: =計算!X602 | D30: =C30-B30 | E30: =計算!V602 | F30: =計算!X603 | G30: =計算!X604 | H30: =G30-F30 | I30: =計算!V604
A31: 3280000 | B31: =計算!X605 | C31: =計算!X606 | D31: =C31-B31 | E31: =計算!V606 | F31: =計算!X607 | G31: =計算!X608 | H31: =G31-F31 | I31: =計算!V608
A32: 3290000 | B32: =計算!X609 | C32: =計算!X610 | D32: =C32-B32 | E32: =計算!V610 | F32: =計算!X611 | G32: =計算!X612 | H32: =G32-F32 | I32: =計算!V612
A33: 3300000 | B33: =計算!X613 | C33: =計算!X614 | D33: =C33-B33 | E33: =計算!V614 | F33: =計算!X615 | G33: =計算!X616 | H33: =G33-F33 | I33: =計算!V616
A34: 3310000 | B34: =計算!X617 | C34: =計算!X618 | D34: =C34-B34 | E34: =計算!V618 | F34: =計算!X619 | G34: =計算!X620 | H34: =G34-F34 | I34: =計算!V620
A35: 3320000 | B35: =計算!X621 | C35: =計算!X622 | D35: =C35-B35 | E35: =計算!V622 | F35: =計算!X623 | G35: =計算!X624 | H35: =G35-F35 | I35: =計算!V624
A36: 3330000 | B36: =計算!X625 | C36: =計算!X626 | D36: =C36-B36 | E36: =計算!V626 | F36: =計算!X627 | G36: =計算!X628 | H36: =G36-F36 | I36: =計算!V628
A37: 3340000 | B37: =計算!X629 | C37: =計算!X630 | D37: =C37-B37 | E37: =計算!V630 | F37: =計算!X631 | G37: =計算!X632 | H37: =G37-F37 | I37: =計算!V632
A38: 3350000 | B38: =計算!X633 | C38: =計算!X634 | D38: =C38-B38 | E38: =計算!V634 | F38: =計算!X635 | G38: =計算!X636 | H38: =G38-F38 | I38: =計算!V636
A39: 3360000 | B39: =計算!X637 | C39: =計算!X638 | D39: =C39-B39 | E39: =計算!V638 | F39: =計算!X639 | G39: =計算!X640 | H39: =G39-F39 | I39: =計算!V640
A40: 3370000 | B40: =計算!X641 | C40: =計算!X642 | D40: =C40-B40 | E40: =計算!V642 | F40: =計算!X643 | G40: =計算!X644 | H40: =G40-F40 | I40: =計算!V644
...

Sheet 4_総務省の目安と比べる
A1: 総務省の資料の目安（千円単位）と、この表の2025年の寄附の計算を並べる。子1人は高校生、子2人は大学生と高校生で計算
A2: 年収 | B2: 独身 総務省 | C2: 独身 この表 | D2: 差 | E2: 夫婦＋子1人 総務省 | F2: この表 | G2: 差 | H2: 夫婦＋子2人 総務省 | I2: この表 | J2: 差
A3: 5000000 | B3: 61000 | C3: =計算!X5297 | D3: =C3-B3 | E3: 40000 | F3: =計算!X5298 | G3: =F3-E3 | H3: 28000 | I3: =計算!X5299 | J3: =I3-H3
A4: 7500000 | B4: 118000 | C4: =計算!X5300 | D4: =C4-B4 | E4: 87000 | F4: =計算!X5301 | G4: =F4-E4 | H4: 76000 | I4: =計算!X5302 | J4: =I4-H4
A5: 10000000 | B5: 180000 | C5: =計算!X5303 | D5: =C5-B5 | E5: 157000 | F5: =計算!X5304 | G5: =F5-E5 | H5: 144000 | I5: =計算!X5305 | J5: =I5-H5
A6: 20000000 | B6: 569000 | C6: =計算!X5306 | D6: =C6-B6 | E6: 552000 | F6: =計算!X5307 | G6: =F6-E6 | H6: 536000 | I6: =計算!X5308 | J6: =I6-H6
A8: 総務省の目安は千円未満を切り捨てた形なので、差が0〜999円なら一致とみなす。総務省の資料には社会保険料の前提が書かれていない。

Sheet 5_使い方
A1: 使い方
A3: 1_上限 の黄色いセルを埋める。B3に給与の年収、B4に社会保険料（源泉徴収票の額）を入れる。B4が空欄なら年収から見積もる。
A4: G18に2026年に寄附したときの上限、F18に2025年の上限が出る。G20は2つの差。
A5: B12に寄附する額を入れると、下の表に確定申告をしたときの実質負担が出る。2,000円を超えたら上限を超えている。
A7: 上限は住民税で決まる。住民税の特例分は所得割の20%までで、特例分の割合は90%−所得税率×1.021。
A8: 上限 = 所得割×20% ÷ 特例分の割合 ＋ 2,000円。所得税率は、住民税の課税所得から人的控除差調整額を引いた額で決める（地方税法第37条の2第11項）。
A9: 人的控除差調整額には、所得税の基礎控除から48万円を引いた額が入る。2026年は基礎控除が104万円なので56万円が入り、
A10: 税率を決める額は所得税の課税所得とほぼ同じになる。所得税の基礎控除が上がると税率が下がり、特例分の割合が上がって、上限は下がる。
A12: 2_早見表 は、年収と家族7通りの上限。右半分は2025年の寄附との差。社会保険料は年収から見積もった。
A13: 3_1万円刻み は、独身と夫婦（配偶者控除あり）で年収を1万円ずつ動かしたもの。差がマイナスの行が赤くなる。
A14: 4_総務省の目安と比べる は、総務省の資料の目安と、この表の2025年の計算を並べたもの。
A16: 社会保険料の見積もり: 40歳未満、協会けんぽ東京支部、賞与なしで毎月同じ給与。
... A35: この表は目安を出すもの。実際の控除額は、寄附した翌年度の住民税の決定通知書で確かめる。

Sheet 計算
A1: 1行で1人分を計算する。2_早見表、3_1万円刻み、4_総務省の目安と比べる はここを参照している
A2: 用途 | B2: 年収 | C2: 寄附の年 | D2: 配偶者控除 | E2: 高校生など | F2: 大学生など | G2: 社会保険料 | H2: 他の控除（所得税） | I2: 他の控除（住民税） | J2: 給与所得 | K2: 基礎控除（所得税） | L2: 配偶者控除（所得税） | M2: 配偶者控除（住民税） | N2: 配偶者の人的控除差 | O2: 所得税の課税所得 | P2: 住民税の課税所得 | Q2: 人的控除の差の合計 | R2: 調整控除 | S2: 住民税の所得割 | T2: 人的控除差調整額 | U2: 税率を決める額 | V2: その額に当たる所得税率 | W2: 特例分の割合 | X2: 上限（2,000円の負担で済む寄附額） | Y2: 所得税の実際の税率
A3: 早見表 独身または共働き | B3: ='2_早見表'!$A$3 | C3: 2025 | D3: 0 | E3: 0 | F3: 0 | G3: =ROUND(MIN(B3/12,650000)*12*0.0915+MIN(B3/12,1390000)*12*(0.0504+0)+B3*0.005,0) | H3: 0 | I3: 0 | J3: =IF(C3=2026,IF(B3<741000,0,IF(B3<2191000,B3-740000,IF(B3<2193000,1451000,IF(B3<2196000,1453000,IF(B3<2200000,1456000,IF(B3<3600000,ROUNDDOWN(B3/4,-3)*2.8-80000,IF(B3<6600000,ROUNDDOWN(B3/4,-3)*3.2-440000,IF(B3<8500000,ROUNDDOWN(B3*0.9,0)-1100000,B3-1950000)))))))),IF(B3<651000,0,IF(B3<1900000,B3-650000,IF(B3<3600000,ROUNDDOWN(B3/4,-3)*2.8-80000,IF(B3<6600000,ROUNDDOWN(B3/4,-3)*3.2-440000,IF(B3<8500000,ROUNDDOWN(B3*0.9,0)-1100000,B3-1950000)))))) | K3: =IF(J3>23500000,NA(),IF(C3=2026,IF(J3<=4890000,1040000,IF(J3<=6550000,670000,620000)),IF(J3<=1320000,950000,IF(J3<=3360000,880000,IF(J3<=4890000,680000,IF(J3<=6550000,630000,580000)))))) | L3: =IF(D3=1,IF(J3<=9000000,380000,IF(J3<=9500000,260000,IF(J3<=10000000,130000,0))),0) | M3: =IF(D3=1,IF(J3<=9000000,330000,IF(J3<=9500000,220000,IF(J3<=10000000,110000,0))),0) | N3: =IF(D3=1,IF(J3<=9000000,50000,IF(J3<=9500000,40000,IF(J3<=10000000,20000,0))),0) | O3: =MAX(0,ROUNDDOWN(J3-G3-K3-L3-E3*380000-F3*630000-H3,-3)) | P3: =MAX(0,ROUNDDOWN(J3-G3-430000-M3-E3*330000-F3*450000-I3,-3)) | Q3: =50000+N3+E3*50000+F3*180000 | R3: =IF(P3<=2000000,MIN(Q3,P3),MAX(Q3-(P3-2000000),50000))*0.05 | S3: =MAX(0,P3*0.1-R3) | T3: =Q3+MAX(0,K3-480000) | U3: =P3-T3 | V3: =IF(U3<0,0,LOOKUP(U3,{0,1950001,3300001,6950001,9000001,18000001,40000001},{0.05,0.1,0.2,0.23,0.33,0.4,0.45})) | W3: =IF(U3<0,0.9,0.9-V3*1.021) | X3: =ROUNDDOWN(S3*0.2/W3+2000,0) | Y3: =IF(O3<=0,0,LOOKUP(O3,{0,1950001,3300001,6950001,9000001,18000001,40000001},{0.05,0.1,0.2,0.23,0.33,0.4,0.45}))
A4: 早見表 独身または共働き | B4: ='2_早見表'!$A$3 | C4: 2026 | D4: 0 | E4: 0 | F4: 0 | G4: =ROUND(MIN(B4/12,650000)*12*0.0915+MIN(B4/12,1390000)*12*(0.0504+0)+B4*0.005,0) | H4: 0 | I4: 0 | J4: =IF(C4=2026,IF(B4<741000,0,IF(B4<2191000,B4-740000,IF(B4<2193000,1451000,IF(B4<2196000,1453000,IF(B4<2200000,1456000,IF(B4<3600000,ROUNDDOWN(B4/4,-3)*2.8-80000,IF(B4<6600000,ROUNDDOWN(B4/4,-3)*3.2-440000,IF(B4<8500000,ROUNDDOWN(B4*0.9,0)-1100000,B4-1950000)))))))),IF(B4<651000,0,IF(B4<1900000,B4-650000,IF(B4<3600000,ROUNDDOWN(B4/4,-3)*2.8-80000,IF(B4<6600000,ROUNDDOWN(B4/4,-3)*3.2-440000,IF(B4<8500000,ROUNDDOWN(B4*0.9,0)-1100000,B4-1950000)))))) | K4: =IF(J4>23500000,NA(),IF(C4=2026,IF(J4<=4890000,1040000,IF(J4<=6550000,670000,620000)),IF(J4<=1320000,950000,IF(J4<=3360000,880000,IF(J4<=4890000,680000,IF(J4<=6550000,630000,580000)))))) | L4: =IF(D4=1,IF(J4<=9000000,380000,IF(J4<=9500000,260000,IF(J4<=10000000,130000,0))),0) | M4: =IF(D4=1,IF(J4<=9000000,330000,IF(J4<=9500000,220000,IF(J4<=10000000,110000,0))),0) | N4: =IF(D4=1,IF(J4<=9000000,50000,IF(J4<=9500000,40000,IF(J4<=10000000,20000,0))),0) | O4: =MAX(0,ROUNDDOWN(J4-G4-K4-L4-E4*380000-F4*630000-H4,-3)) | P4: =MAX(0,ROUNDDOWN(J4-G4-430000-M4-E4*330000-F4*450000-I4,-3)) | Q4: =50000+N4+E4*50000+F4*180000 | R4: =IF(P4<=2000000,MIN(Q4,P4),MAX(Q4-(P4-2000000),50000))*0.05 | S4: =MAX(0,P4*0.1-R4) | T4: =Q4+MAX(0,K4-480000) | U4: =P4-T4 | V4: =IF(U4<0,0,LOOKUP(U4,{0,1950001,3300001,6950001,9000001,18000001,40000001},{0.05,0.1,0.2,0.23,0.33,0.4,0.45})) | W4: =IF(U4<0,0.9,0.9-V4*1.021) | X4: =ROUNDDOWN(S4*0.2/W4+2000,0) | Y4: =IF(O4<=0,0,LOOKUP(O4,{0,1950001,3300001,6950001,9000001,18000001,40000001},{0.05,0.1,0.2,0.23,0.33,0.4,0.45}))
A5: 早見表 夫婦（配偶者控除あり） | B5: ='2_早見表'!$A$3 | C5: 2025 | D5: 1 | E5: 0 | F5: 0 | G5: =ROUND(MIN(B5/12,650000)*12*0.0915+MIN(B5/12,1390000)*12*(0.0504+0)+B5*0.005,0) | H5: 0 | I5: 0 | J5: =IF(C5=2026,IF(B5<741000,0,IF(B5<2191000,B5-740000,IF(B5<2193000,1451000,IF(B5<2196000,1453000,IF(B5<2200000,1456000,IF(B5<3600000,ROUNDDOWN(B5/4,-3)*2.8-80000,IF(B5<6600000,ROUNDDOWN(B5/4,-3)*3.2-440000,IF(B5<8500000,ROUNDDOWN(B5*0.9,0)-1100000,B5-1950000)))))))),IF(B5<651000,0,IF(B5<1900000,B5-650000,IF(B5<3600000,ROUNDDOWN(B5/4,-3)*2.8-80000,IF(B5<6600000,ROUNDDOWN(B5/4,-3)*3.2-440000,IF(B5<8500000,ROUNDDOWN(B5*0.9,0)-1100000,B5-1950000)))))) | K5: =IF(J5>23500000,NA(),IF(C5=2026,IF(J5<=4890000,1040000,IF(J5<=6550000,670000,620000)),IF(J5<=1320000,950000,IF(J5<=3360000,880000,IF(J5<=4890000,680000,IF(J5<=6550000,630000,580000)))))) | L5: =IF(D5=1,IF(J5<=9000000,380000,IF(J5<=9500000,260000,IF(J5<=10000000,130000,0))),0) | M5: =IF(D5=1,IF(J5<=9000000,330000,IF(J5<=9500000,220000,IF(J5<=10000000,110000,0))),0) | N5: =IF(D5=1,IF(J5<=9000000,50000,IF(J5<=9500000,40000,IF(J5<=10000000,20000,0))),0) | O5: =MAX(0,ROUNDDOWN(J5-G5-K5-L5-E5*380000-F5*630000-H5,-3)) | P5: =MAX(0,ROUNDDOWN(J5-G5-430000-M5-E5*330000-F5*450000-I5,-3)) | Q5: =50000+N5+E5*50000+F5*180000 | R5: =IF(P5<=2000000,MIN(Q5,P5),MAX(Q5-(P5-2000000),50000))*0.05 | S5: =MAX(0,P5*0.1-R5) | T5: =Q5+MAX(0,K5-480000) | U5: =P5-T5 | V5: =IF(U5<0,0,LOOKUP(U5,{0,1950001,3300001,6950001,9000001,18000001,40000001},{0.05,0.1,0.2,0.23,0.33,0.4,0.45})) | W5: =IF(U5<0,0.9,0.9-V5*1.021) | X5: =ROUNDDOWN(S5*0.2/W5+2000,0) | Y5: =IF(O5<=0,0,LOOKUP(O5,{0,1950001,3300001,6950001,9000001,18000001,40000001},{0.05,0.1,0.2,0.23,0.33,0.4,0.45}))
A6: 早見表 夫婦（配偶者控除あり） | B6: ='2_早見表'!$A$3 | C6: 2026 | D6: 1 | E6: 0 | F6: 0 | G6: =ROUND(MIN(B6/12,650000)*12*0.0915+MIN(B6/12,1390000)*12*(0.0504+0)+B6*0.005,0) | H6: 0 | I6: 0 | J6: =IF(C6=2026,IF(B6<741000,0,IF(B6<2191000,B6-740000,IF(B6<2193000,1451000,IF(B6<2196000,1453000,IF(B6<2200000,1456000,IF(B6<3600000,ROUNDDOWN(B6/4,-3)*2.8-80000,IF(B6<6600000,ROUNDDOWN(B6/4,-3)*3.2-440000,IF(B6<8500000,ROUNDDOWN(B6*0.9,0)-1100000,B6-1950000)))))))),IF(B6<651000,0,IF(B6<1900000,B6-650000,IF(B6<3600000,ROUNDDOWN(B6/4,-3)*2.8-80000,IF(B6<6600000,ROUNDDOWN(B6/4,-3)*3.2-440000,IF(B6<8500000,ROUNDDOWN(B6*0.9,0)-1100000,B6-1950000)))))) | K6: =IF(J6>23500000,NA(),IF(C6=2026,IF(J6<=4890000,1040000,IF(J6<=6550000,670000,620000)),IF(J6<=1320000,950000,IF(J6<=3360000,880000,IF(J6<=4890000,680000,IF(J6<=6550000,630000,580000)))))) | L6: =IF(D6=1,IF(J6<=9000000,380000,IF(J6<=9500000,260000,IF(J6<=10000000,130000,0))),0) | M6: =IF(D6=1,IF(J6<=9000000,330000,IF(J6<=9500000,220000,IF(J6<=10000000,110000,0))),0) | N6: =IF(D6=1,IF(J6<=9000000,50000,IF(J6<=9500000,40000,IF(J6<=10000000,20000,0))),0) | O6: =MAX(0,ROUNDDOWN(J6-G6-K6-L6-E6*380000-F6*630000-H6,-3)) | P6: =MAX(0,ROUNDDOWN(J6-G6-430000-M6-E6*330000-F6*450000-I6,-3)) | Q6: =50000+N6+E6*50000+F6*180000 | R6: =IF(P6<=2000000,MIN(Q6,P6),MAX(Q6-(P6-2000000),50000))*0.05 | S6: =MAX(0,P6*0.1-R6) | T6: =Q6+MAX(0,K6-480000) | U6: =P6-T6 | V6: =IF(U6<0,0,LOOKUP(U6,{0,1950001,3300001,6950001,9000001,18000001,40000001},{0.05,0.1,0.2,0.23,0.33,0.4,0.45})) | W6: =IF(U6<0,0.9,0.9-V6*1.021) | X6: =ROUNDDOWN(S6*0.2/W6+2000,0) | Y6: =IF(O6<=0,0,LOOKUP(O6,{0,1950001,3300001,6950001,9000001,18000001,40000001},{0.05,0.1,0.2,0.23,0.33,0.4,0.45}))
A7: 早見表 共働き＋高校生1人 | B7: ='2_早見表'!$A$3 | C7: 2025 | D7: 0 | E7: 1 | F7: 0 | G7: =ROUND(MIN(B7/12,650000)*12*0.0915+MIN(B7/12,1390000)*12*(0.0504+0)+B7*0.005,0) | H7: 0 | I7: 0 | J7: =IF(C7=2026,IF(B7<741000,0,IF(B7<2191000,B7-740000,IF(B7<2193000,1451000,IF(B7<2196000,1453000,IF(B7<2200000,1456000,IF(B7<3600000,ROUNDDOWN(B7/4,-3)*2.8-80000,IF(B7<6600000,ROUNDDOWN(B7/4,-3)*3.2-440000,IF(B7<8500000,ROUNDDOWN(B7*0.9,0)-1100000,B7-1950000)))))))),IF(B7<651000,0,IF(B7<1900000,B7-650000,IF(B7<3600000,ROUNDDOWN(B7/4,-3)*2.8-80000,IF(B7<6600000,ROUNDDOWN(B7/4,-3)*3.2-440000,IF(B7<8500000,ROUNDDOWN(B7*0.9,0)-1100000,B7-1950000)))))) | K7: =IF(J7>23500000,NA(),IF(C7=2026,IF(J7<=4890000,1040000,IF(J7<=6550000,670000,620000)),IF(J7<=1320000,950000,IF(J7<=3360000,880000,IF(J7<=4890000,680000,IF(J7<=6550000,630000,580000)))))) | L7: =IF(D7=1,IF(J7<=9000000,380000,IF(J7<=9500000,260000,IF(J7<=10000000,130000,0))),0) | M7: =IF(D7=1,IF(J7<=9000000,330000,IF(J7<=9500000,220000,IF(J7<=10000000,110000,0))),0) | N7: =IF(D7=1,IF(J7<=9000000,50000,IF(J7<=9500000,40000,IF(J7<=10000000,20000,0))),0) | O7: =MAX(0,ROUNDDOWN(J7-G7-K7-L7-E7*380000-F7*630000-H7,-3)) | P7: =MAX(0,ROUNDDOWN(J7-G7-430000-M7-E7*330000-F7*450000-I7,-3)) | Q7: =50000+N7+E7*50000+F7*180000 | R7: =IF(P7<=2000000,MIN(Q7,P7),MAX(Q7-(P7-2000000),50000))*0.05 | S7: =MAX(0,P7*0.1-R7) | T7: =Q7+MAX(0,K7-480000) | U7: =P7-T7 | V7: =IF(U7<0,0,LOOKUP(U7,{0,1950001,3300001,6950001,9000001,18000001,40000001},{0.05,0.1,0.2,0.23,0.33,0.4,0.45})) | W7: =IF(U7<0,0.9,0.9-V7*1.021) | X7: =ROUNDDOWN(S7*0.2/W7+2000,0) | Y7: =IF(O7<=0,0,LOOKUP(O7,{0,1950001,3300001,6950001,9000001,18000001,40000001},{0.05,0.1,0.2,0.23,0.33,0.4,0.45}))
A8: 早見表 共働き＋高校生1人 | B8: ='2_早見表'!$A$3 | C8: 2026 | D8: 0 | E8: 1 | F8: 0 | G8: =ROUND(MIN(B8/12,650000)*12*0.0915+MIN(B8/12,1390000)*12*(0.0504+0)+B8*0.005,0) | H8: 0 | I8: 0 | J8: =IF(C8=2026,IF(B8<741000,0,IF(B8<2191000,B8-740000,IF(B8<2193000,1451000,IF(B8<2196000,1453000,IF(B8<2200000,1456000,IF(B8<3600000,ROUNDDOWN(B8/4,-3)*2.8-80000,IF(B8<6600000,ROUNDDOWN(B8/4,-3)*3.2-440000,IF(B8<8500000,ROUNDDOWN(B8*0.9,0)-1100000,B8-1950000)))))))),IF(B8<651000,0,IF(B8<1900000,B8-650000,IF(B8<3600000,ROUNDDOWN(B8/4,-3)*2.8-80000,IF(B8<6600000,ROUNDDOWN(B8/4,-3)*3.2-440000,IF(B8<8500000,ROUNDDOWN(B8*0.9,0)-1100000,B8-1950000)))))) | K8: =IF(J8>23500000,NA(),IF(C8=2026,IF(J8<=4890000,1040000,IF(J8<=6550000,670000,620000)),IF(J8<=1320000,950000,IF(J8<=3360000,880000,IF(J8<=4890000,680000,IF(J8<=6550000,630000,580000)))))) | L8: =IF(D8=1,IF(J8<=9000000,380000,IF(J8<=9500000,260000,IF(J8<=10000000,130000,0))),0) | M8: =IF(D8=1,IF(J8<=9000000,330000,IF(J8<=9500000,220000,IF(J8<=10000000,110000,0))),0) | N8: =IF(D8=1,IF(J8<=9000000,50000,IF(J8<=9500000,40000,IF(J8<=10000000,20000,0))),0) | O8: =MAX(0,ROUNDDOWN(J8-G8-K8-L8-E8*380000-F8*630000-H8,-3)) | P8: =MAX(0,ROUNDDOWN(J8-G8-430000-M8-E8*330000-F8*450000-I8,-3)) | Q8: =50000+N8+E8*50000+F8*180000 | R8: =IF(P8<=2000000,MIN(Q8,P8),MAX(Q8-(P8-2000000),50000))*0.05 | S8: =MAX(0,P8*0.1-R8) | T8: =Q8+MAX(0,K8-480000) | U8: =P8-T8 | V8: =IF(U8<0,0,LOOKUP(U8,{0,1950001,3300001,6950001,9000001,18000001,40000001},{0.05,0.1,0.2,0.23,0.33,0.4,0.45})) | W8: =IF(U8<0,0.9,0.9-V8*1.021) | X8: =ROUNDDOWN(S8*0.2/W8+2000,0) | Y8: =IF(O8<=0,0,LOOKUP(O8,{0,1950001,3300001,6950001,9000001,18000001,40000001},{0.05,0.1,0.2,0.23,0.33,0.4,0.45}))
A9: 早見表 共働き＋大学生1人 | B9: ='2_早見表'!$A$3 | C9: 2025 | D9: 0 | E9: 0 | F9: 1 | G9: =ROUND(MIN(B9/12,650000)*12*0.0915+MIN(B9/12,1390000)*12*(0.0504+0)+B9*0.005,0) | H9: 0 | I9: 0 | J9: =IF(C9=2026,IF(B9<741000,0,IF(B9<2191000,B9-740000,IF(B9<2193000,1451000,IF(B9<2196000,1453000,IF(B9<2200000,1456000,IF(B9<3600000,ROUNDDOWN(B9/4,-3)*2.8-80000,IF(B9<6600000,ROUNDDOWN(B9/4,-3)*3.2-440000,IF(B9<8500000,ROUNDDOWN(B9*0.9,0)-1100000,B9-1950000)))))))),IF(B9<651000,0,IF(B9<1900000,B9-650000,IF(B9<3600000,ROUNDDOWN(B9/4,-3)*2.8-80000,IF(B9<6600000,ROUNDDOWN(B9/4,-3)*3.2-440000,IF(B9<8500000,ROUNDDOWN(B9*0.9,0)-1100000,B9-1950000)))))) | K9: =IF(J9>23500000,NA(),IF(C9=2026,IF(J9<=4890000,1040000,IF(J9<=6550000,670000,620000)),IF(J9<=1320000,950000,IF(J9<=3360000,880000,IF(J9<=4890000,680000,IF(J9<=6550000,630000,580000)))))) | L9: =IF(D9=1,IF(J9<=9000000,380000,IF(J9<=9500000,260000,IF(J9<=10000000,130000,0))),0) | M9: =IF(D9=1,IF(J9<=9000000,330000,IF(J9<=9500000,220000,IF(J9<=10000000,110000,0))),0) | N9: =IF(D9=1,IF(J9<=9000000,50000,IF(J9<=9500000,40000,IF(J9<=10000000,20000,0))),0) | O9: =MAX(0,ROUNDDOWN(J9-G9-K9-L9-E9*380000-F9*630000-H9,-3)) | P9: =MAX(0,ROUNDDOWN(J9-G9-430000-M9-E9*330000-F9*450000-I9,-3)) | Q9: =50000+N9+E9*50000+F9*180000 | R9: =IF(P9<=2000000,MIN(Q9,P9),MAX(Q9-(P9-2000000),50000))*0.05 | S9: =MAX(0,P9*0.1-R9) | T9: =Q9+MAX(0,K9-480000) | U9: =P9-T9 | V9: =IF(U9<0,0,LOOKUP(U9,{0,1950001,3300001,6950001,9000001,18000001,40000001},{0.05,0.1,0.2,0.23,0.33,0.4,0.45})) | W9: =IF(U9<0,0.9,0.9-V9*1.021) | X9: =ROUNDDOWN(S9*0.2/W9+2000,0) | Y9: =IF(O9<=0,0,LOOKUP(O9,{0,1950001,3300001,6950001,9000001,18000001,40000001},{0.05,0.1,0.2,0.23,0.33,0.4,0.45}))
A10: 早見表 共働き＋大学生1人 | B10: ='2_早見表'!$A$3 | C10: 2026 | D10: 0 | E10: 0 | F10: 1 | G10: =ROUND(MIN(B10/12,650000)*12*0.0915+MIN(B10/12,1390000)*12*(0.0504+0)+B10*0.005,0) | H10: 0 | I10: 0 | J10: =IF(C10=2026,IF(B10<741000,0,IF(B10<2191000,B10-740000,IF(B10<2193000,1451000,IF(B10<2196000,1453000,IF(B10<2200000,1456000,IF(B10<3600000,ROUNDDOWN(B10/4,-3)*2.8-80000,IF(B10<6600000,ROUNDDOWN(B10/4,-3)*3.2-440000,IF(B10<8500000,ROUNDDOWN(B10*0.9,0)-1100000,B10-1950000)))))))),IF(B10<651000,0,IF(B10<1900000,B10-650000,IF(B10<3600000,ROUNDDOWN(B10/4,-3)*2.8-80000,IF(B10<6600000,ROUNDDOWN(B10/4,-3)*3.2-440000,IF(B10<8500000,ROUNDDOWN(B10*0.9,0)-1100000,B10-1950000)))))) | K10: =IF(J10>23500000,NA(),IF(C10=2026,IF(J10<=4890000,1040000,IF(J10<=6550000,670000,620000)),IF(J10<=1320000,950000,IF(J10<=3360000,880000,IF(J10<=4890000,680000,IF(J10<=6550000,630000,580000)))))) | L10: =IF(D10=1,IF(J10<=9000000,380000,IF(J10<=9500000,260000,IF(J10<=10000000,130000,0))),0) | M10: =IF(D10=1,IF(J10<=9000000,330000,IF(J10<=9500000,220000,IF(J10<=10000000,110000,0))),0) | N10: =IF(D10=1,IF(J10<=9000000,50000,IF(J10<=9500000,40000,IF(J10<=10000000,20000,0))),0) | O10: =MAX(0,ROUNDDOWN(J10-G10-K10-L10-E10*380000-F10*630000-H10,-3)) | P10: =MAX(0,ROUNDDOWN(J10-G10-430000-M10-E10*330000-F10*450000-I10,-3)) | Q10: =50000+N10+E10*50000+F10*180000 | R10: =IF(P10<=2000000,MIN(Q10,P10),MAX(Q10-(P10-2000000),50000))*0.05 | S10: =MAX(0,P10*0.1-R10) | T10: =Q10+MAX(0,K10-480000) | U10: =P10-T10 | V10: =IF(U10<0,0,LOOKUP(U10,{0,1950001,3300001,6950001,9000001,18000001,40000001},{0.05,0.1,0.2,0.23,0.33,0.4,0.45})) | W10: =IF(U10<0,0.9,0.9-V10*1.021) | X10: =ROUNDDOWN(S10*0.2/W10+2000,0) | Y10: =IF(O10<=0,0,LOOKUP(O10,{0,1950001,3300001,6950001,9000001,18000001,40000001},{0.05,0.1,0.2,0.23,0.33,0.4,0.45}))
A11: 早見表 夫婦＋高校生1人 | B11: ='2_早見表'!$A$3 | C11: 2025 | D11: 1 | E11: 1 | F11: 0 | G11: =ROUND(MIN(B11/12,650000)*12*0.0915+MIN(B11/12,1390000)*12*(0.0504+0)+B11*0.005,0) | H11: 0 | I11: 0 | J11: =IF(C11=2026,IF(B11<741000,0,IF(B11<2191000,B11-740000,IF(B11<2193000,1451000,IF(B11<2196000,1453000,IF(B11<2200000,1456000,IF(B11<3600000,ROUNDDOWN(B11/4,-3)*2.8-80000,IF(B11<6600000,ROUNDDOWN(B11/4,-3)*3.2-440000,IF(B11<8500000,ROUNDDOWN(B11*0.9,0)-1100000,B11-1950000)))))))),IF(B11<651000,0,IF(B11<1900000,B11-650000,IF(B11<3600000,ROUNDDOWN(B11/4,-3)*2.8-80000,IF(B11<6600000,ROUNDDOWN(B11/4,-3)*3.2-440000,IF(B11<8500000,ROUNDDOWN(B11*0.9,0)-1100000,B11-1950000)))))) | K11: =IF(J11>23500000,NA(),IF(C11=2026,IF(J11<=4890000,1040000,IF(J11<=6550000,670000,620000)),IF(J11<=1320000,950000,IF(J11<=3360000,880000,IF(J11<=4890000,680000,IF(J11<=6550000,630000,580000)))))) | L11: =IF(D11=1,IF(J11<=9000000,380000,IF(J11<=9500000,260000,IF(J11<=10000000,130000,0))),0) | M11: =IF(D11=1,IF(J11<=9000000,330000,IF(J11<=9500000,220000,IF(J11<=10000000,110000,0))),0) | N11: =IF(D11=1,IF(J11<=9000000,50000,IF(J11<=9500000,40000,IF(J11<=10000000,20000,0))),0) | O11: =MAX(0,ROUNDDOWN(J11-G11-K11-L11-E11*380000-F11*630000-H11,-3)) | P11: =MAX(0,ROUNDDOWN(J11-G11-430000-M11-E11*330000-F11*450000-I11,-3)) | Q11: =50000+N11+E11*50000+F11*180000 | R11: =IF(P11<=2000000,MIN(Q11,P11),MAX(Q11-(P11-2000000),50000))*0.05 | S11: =MAX(0,P11*0.1-R11) | T11: =Q11+MAX(0,K11-480000) | U11: =P11-T11 | V11: =IF(U11<0,0,LOOKUP(U11,{0,1950001,3300001,6950001,9000001,18000001,40000001},{0.05,0.1,0.2,0.23,0.33,0.4,0.45})) | W11: =IF(U11<0,0.9,0.9-V11*1.021) | X11: =ROUNDDOWN(S11*0.2/W11+2000,0) | Y11: =IF(O11<=0,0,LOOKUP(O11,{0,1950001,3300001,6950001,9000001,18000001,40000001},{0.05,0.1,0.2,0.23,0.33,0.4,0.45}))
A12: 早見表 夫婦＋高校生1人 | B12: ='2_早見表'!$A$3 | C12: 2026 | D12: 1 | E12: 1 | F12: 0 | G12: =ROUND(MIN(B12/12,650000)*12*0.0915+MIN(B12/12,1390000)*12*(0.0504+0)+B12*0.005,0) | H12: 0 | I12: 0 | J12: =IF(C12=2026,IF(B12<741000,0,IF(B12<2191000,B12-740000,IF(B12<2193000,1451000,IF(B12<2196000,1453000,IF(B12<2200000,1456000,IF(B12<3600000,ROUNDDOWN(B12/4,-3)*2.8-80000,IF(B12<6600000,ROUNDDOWN(B12/4,-3)*3.2-440000,IF(B12<8500000,ROUNDDOWN(B12*0.9,0)-1100000,B12-1950000)))))))),IF(B12<651000,0,IF(B12<1900000,B12-650000,IF(B12<3600000,ROUNDDOWN(B12/4,-3)*2.8-80000,IF(B12<6600000,ROUNDDOWN(B12/4,-3)*3.2-440000,IF(B12<8500000,ROUNDDOWN(B12*0.9,0)-1100000,B12-1950000)))))) | K12: =IF(J12>23500000,NA(),IF(C12=2026,IF(J12<=4890000,1040000,IF(J12<=6550000,670000,620000)),IF(J12<=1320000,950000,IF(J12<=3360000,880000,IF(J12<=4890000,680000,IF(J12<=6550000,630000,580000)))))) | L12: =IF(D12=1,IF(J12<=9000000,380000,IF(J12<=9500000,260000,IF(J12<=10000000,130000,0))),0) | M12: =IF(D12=1,IF(J12<=9000000,330000,IF(J12<=9500000,220000,IF(J12<=10000000,110000,0))),0) | N12: =IF(D12=1,IF(J12<=9000000,50000,IF(J12<=9500000,40000,IF(J12<=10000000,20000,0))),0) | O12: =MAX(0,ROUNDDOWN(J12-G12-K12-L12-E12*380000-F12*630000-H12,-3)) | P12: =MAX(0,ROUNDDOWN(J12-G12-430000-M12-E12*330000-F12*450000-I12,-3)) | Q12: =50000+N12+E12*50000+F12*180000 | R12: =IF(P12<=2000000,MIN(Q12,P12),MAX(Q12-(P12-2000000),50000))*0.05 | S12: =MAX(0,P12*0.1-R12) | T12: =Q12+MAX(0,K12-480000) | U12: =P12-T12 | V12: =IF(U12<0,0,LOOKUP(U12,{0,1950001,3300001,6950001,9000001,18000001,40000001},{0.05,0.1,0.2,0.23,0.33,0.4,0.45})) | W12: =IF(U12<0,0.9,0.9-V12*1.021) | X12: =ROUNDDOWN(S12*0.2/W12+2000,0) | Y12: =IF(O12<=0,0,LOOKUP(O12,{0,1950001,3300001,6950001,9000001,18000001,40000001},{0.05,0.1,0.2,0.23,0.33,0.4,0.45}))
A13: 早見表 共働き＋大学生と高校生 | B13: ='2_早見表'!$A$3 | C13: 2025 | D13: 0 | E13: 1 | F13: 1 | G13: =ROUND(MIN(B13/12,650000)*12*0.0915+MIN(B13/12,1390000)*12*(0.0504+0)+B13*0.005,0) | H13: 0 | I13: 0 | J13: =IF(C13=2026,IF(B13<741000,0,IF(B13<2191000,B13-740000,IF(B13<2193000,1451000,IF(B13<2196000,1453000,IF(B13<2200000,1456000,IF(B13<3600000,ROUNDDOWN(B13/4,-3)*2.8-80000,IF(B13<6600000,ROUNDDOWN(B13/4,-3)*3.2-440000,IF(B13<8500000,ROUNDDOWN(B13*0.9,0)-1100000,B13-1950000)))))))),IF(B13<651000,0,IF(B13<1900000,B13-650000,IF(B13<3600000,ROUNDDOWN(B13/4,-3)*2.8-80000,IF(B13<6600000,ROUNDDOWN(B13/4,-3)*3.2-440000,IF(B13<8500000,ROUNDDOWN(B13*0.9,0)-1100000,B13-1950000)))))) | K13: =IF(J13>23500000,NA(),IF(C13=2026,IF(J13<=4890000,1040000,IF(J13<=6550000,670000,620000)),IF(J13<=1320000,950000,IF(J13<=3360000,880000,IF(J13<=4890000,680000,IF(J13<=6550000,630000,580000)))))) | L13: =IF(D13=1,IF(J13<=9000000,380000,IF(J13<=9500000,260000,IF(J13<=10000000,130000,0))),0) | M13: =IF(D13=1,IF(J13<=9000000,330000,IF(J13<=9500000,220000,IF(J13<=10000000,110000,0))),0) | N13: =IF(D13=1,IF(J13<=9000000,50000,IF(J13<=9500000,40000,IF(J13<=10000000,20000,0))),0) | O13: =MAX(0,ROUNDDOWN(J13-G13-K13-L13-E13*380000-F13*630000-H13,-3)) | P13: =MAX(0,ROUNDDOWN(J13-G13-430000-M13-E13*330000-F13*450000-I13,-3)) | Q13: =50000+N13+E13*50000+F13*180000 | R13: =IF(P13<=2000000,MIN(Q13,P13),MAX(Q13-(P13-2000000),50000))*0.05 | S13: =MAX(0,P13*0.1-R13) | T13: =Q13+MAX(0,K13-480000) | U13: =P13-T13 | V13: =IF(U13<0,0,LOOKUP(U13,{0,1950001,3300001,6950001,9000001,18000001,40000001},{0.05,0.1,0.2,0.23,0.33,0.4,0.45})) | W13: =IF(U13<0,0.9,0.9-V13*1.021) | X13: =ROUNDDOWN(S13*0.2/W13+2000,0) | Y13: =IF(O13<=0,0,LOOKUP(O13,{0,1950001,3300001,6950001,9000001,18000001,40000001},{0.05,0.1,0.2,0.23,0.33,0.4,0.45}))
A14: 早見表 共働き＋大学生と高校生 | B14: ='2_早見表'!$A$3 | C14: 2026 | D14: 0 | E14: 1 | F14: 1 | G14: =ROUND(MIN(B14/12,650000)*12*0.0915+MIN(B14/12,1390000)*12*(0.0504+0)+B14*0.005,0) | H14: 0 | I14: 0 | J14: =IF(C14=2026,IF(B14<741000,0,IF(B14<2191000,B14-740000,IF(B14<2193000,1451000,IF(B14<2196000,1453000,IF(B14<2200000,1456000,IF(B14<3600000,ROUNDDOWN(B14/4,-3)*2.8-80000,IF(B14<6600000,ROUNDDOWN(B14/4,-3)*3.2-440000,IF(B14<8500000,ROUNDDOWN(B14*0.9,0)-1100000,B14-1950000)))))))),IF(B14<651000,0,IF(B14<1900000,B14-650000,IF(B14<3600000,ROUNDDOWN(B14/4,-3)*2.8-80000,IF(B14<6600000,ROUNDDOWN(B14/4,-3)*3.2-440000,IF(B14<8500000,ROUNDDOWN(B14*0.9,0)-1100000,B14-1950000)))))) | K14: =IF(J14>23500000,NA(),IF(C14=2026,IF(J14<=4890000,1040000,IF(J14<=6550000,670000,620000)),IF(J14<=1320000,950000,IF(J14<=3360000,880000,IF(J14<=4890000,680000,IF(J14<=6550000,630000,580000)))))) | L14: =IF(D14=1,IF(J14<=9000000,380000,IF(J14<=9500000,260000,IF(J14<=10000000,130000,0))),0) | M14: =IF(D14=1,IF(J14<=9000000,330000,IF(J14<=9500000,220000,IF(J14<=10000000,110000,0))),0) | N14: =IF(D14=1,IF(J14<=9000000,50000,IF(J14<=9500000,40000,IF(J14<=10000000,20000,0))),0) | O14: =MAX(0,ROUNDDOWN(J14-G14-K14-L14-E14*380000-F14*630000-H14,-3)) | P14: =MAX(0,ROUNDDOWN(J14-G14-430000-M14-E14*330000-F14*450000-I14,-3)) | Q14: =50000+N14+E14*50000+F14*180000 | R14: =IF(P14<=2000000,MIN(Q14,P14),MAX(Q14-(P14-2000000),50000))*0.05 | S14: =MAX(0,P14*0.1-R14) | T14: =Q14+MAX(0,K14-480000) | U14: =P14-T14 | V14: =IF(U14<0,0,LOOKUP(U14,{0,1950001,3300001,6950001,9000001,18000001,40000001},{0.05,0.1,0.2,0.23,0.33,0.4,0.45})) | W14: =IF(U14<0,0.9,0.9-V14*1.021) | X14: =ROUNDDOWN(S14*0.2/W14+2000,0) | Y14: =IF(O14<=0,0,LOOKUP(O14,{0,1950001,3300001,6950001,9000001,18000001,40000001},{0.05,0.1,0.2,0.23,0.33,0.4,0.45}))
... A16: 早見表 夫婦＋大学生と高校生 | B16: ='2_早見表'!$A$3 | C16: 2026 | D16: 1 | E16: 1 | F16: 1 | G16: =ROUND(MIN(B16/12,650000)*12*0.0915+MIN(B16/12,1390000)*12*(0.0504+0)+B16*0.005,0) | H16: 0 | I16: 0 | J16: =IF(C16=2026,IF(B16<741000,0,IF(B16<2191000,B16-740000,IF(B16<2193000,1451000,IF(B16<2196000,1453000,IF(B16<2200000,1456000,IF(B16<3600000,ROUNDDOWN(B16/4,-3)*2.8-80000,IF(B16<6600000,ROUNDDOWN(B16/4,-3)*3.2-440000,IF(B16<8500000,ROUNDDOWN(B16*0.9,0)-1100000,B16-1950000)))))))),IF(B16<651000,0,IF(B16<1900000,B16-650000,IF(B16<3600000,ROUNDDOWN(B16/4,-3)*2.8-80000,IF(B16<6600000,ROUNDDOWN(B16/4,-3)*3.2-440000,IF(B16<8500000,ROUNDDOWN(B16*0.9,0)-1100000,B16-1950000)))))) | K16: =IF(J16>23500000,NA(),IF(C16=2026,IF(J16<=4890000,1040000,IF(J16<=6550000,670000,620000)),IF(J16<=1320000,950000,IF(J16<=3360000,880000,IF(J16<=4890000,680000,IF(J16<=6550000,630000,580000)))))) | L16: =IF(D16=1,IF(J16<=9000000,380000,IF(J16<=9500000,260000,IF(J16<=10000000,130000,0))),0) | M16: =IF(D16=1,IF(J16<=9000000,330000,IF(J16<=9500000,220000,IF(J16<=10000000,110000,0))),0) | N16: =IF(D16=1,IF(J16<=9000000,50000,IF(J16<=9500000,40000,IF(J16<=10000000,20000,0))),0) | O16: =MAX(0,ROUNDDOWN(J16-G16-K16-L16-E16*380000-F16*630000-H16,-3)) | P16: =MAX(0,ROUNDDOWN(J16-G16-430000-M16-E16*330000-F16*450000-I16,-3)) | Q16: =50000+N16+E16*50000+F16*180000 | R16: =IF(P16<=2000000,MIN(Q16,P16),MAX(Q16-(P16-2000000),50000))*0.05 | S16: =MAX(0,P16*0.1-R16) | T16: =Q16+MAX(0,K16-480000) | U16: =P16-T16 | V16: =IF(U16<0,0,LOOKUP(U16,{0,1950001,3300001,6950001,9000001,18000001,40000001},{0.05,0.1,0.2,0.23,0.33,0.4,0.45})) | W16: =IF(U16<0,0.9,0.9-V16*1.021) | X16: =ROUNDDOWN(S16*0.2/W16+2000,0) | Y16: =IF(O16<=0,0,LOOKUP(O16,{0,1950001,3300001,6950001,9000001,18000001,40000001},{0.05,0.1,0.2,0.23,0.33,0.4,0.45}))
A17: 早見表 独身または共働き | B17: ='2_早見表'!$A$4 | C17: 2025 | D17: 0 | E17: 0 | F17: 0 | G17: =ROUND(MIN(B17/12,650000)*12*0.0915+MIN(B17/12,1390000)*12*(0.0504+0)+B17*0.005,0) | H17: 0 | I17: 0 | J17: =IF(C17=2026,IF(B17<741000,0,IF(B17<2191000,B17-740000,IF(B17<2193000,1451000,IF(B17<2196000,1453000,IF(B17<2200000,1456000,IF(B17<3600000,ROUNDDOWN(B17/4,-3)*2.8-80000,IF(B17<6600000,ROUNDDOWN(B17/4,-3)*3.2-440000,IF(B17<8500000,ROUNDDOWN(B17*0.9,0)-1100000,B17-1950000)))))))),IF(B17<651000,0,IF(B17<1900000,B17-650000,IF(B17<3600000,ROUNDDOWN(B17/4,-3)*2.8-80000,IF(B17<6600000,ROUNDDOWN(B17/4,-3)*3.2-440000,IF(B17<8500000,ROUNDDOWN(B17*0.9,0)-1100000,B17-1950000)))))) | K17: =IF(J17>23500000,NA(),IF(C17=2026,IF(J17<=4890000,1040000,IF(J17<=6550000,670000,620000)),IF(J17<=1320000,950000,IF(J17<=3360000,880000,IF(J17<=4890000,680000,IF(J17<=6550000,630000,580000)))))) | L17: =IF(D17=1,IF(J17<=9000000,380000,IF(J17<=9500000,260000,IF(J17<=10000000,130000,0))),0) | M17: =IF(D17=1,IF(J17<=9000000,330000,IF(J17<=9500000,220000,IF(J17<=10000000,110000,0))),0) | N17: =IF(D17=1,IF(J17<=9000000,50000,IF(J17<=9500000,40000,IF(J17<=10000000,20000,0))),0) | O17: =MAX(0,ROUNDDOWN(J17-G17-K17-L17-E17*380000-F17*630000-H17,-3)) | P17: =MAX(0,ROUNDDOWN(J17-G17-430000-M17-E17*330000-F17*450000-I17,-3)) | Q17: =50000+N17+E17*50000+F17*180000 | R17: =IF(P17<=2000000,MIN(Q17,P17),MAX(Q17-(P17-2000000),50000))*0.05 | S17: =MAX(0,P17*0.1-R17) | T17: =Q17+MAX(0,K17-480000) | U17: =P17-T17 | V17: =IF(U17<0,0,LOOKUP(U17,{0,1950001,3300001,6950001,9000001,18000001,40000001},{0.05,0.1,0.2,0.23,0.33,0.4,0.45})) | W17: =IF(U17<0,0.9,0.9-V17*1.021) | X17: =ROUNDDOWN(S17*0.2/W17+2000,0) | Y17: =IF(O17<=0,0,LOOKUP(O17,{0,1950001,3300001,6950001,9000001,18000001,40000001},{0.05,0.1,0.2,0.23,0.33,0.4,0.45}))
A18: 早見表 独身または共働き | B18: ='2_早見表'!$A$4 | C18: 2026 | D18: 0 | E18: 0 | F18: 0 | G18: =ROUND(MIN(B18/12,650000)*12*0.0915+MIN(B18/12,1390000)*12*(0.0504+0)+B18*0.005,0) | H18: 0 | I18: 0 | J18: =IF(C18=2026,IF(B18<741000,0,IF(B18<2191000,B18-740000,IF(B18<2193000,1451000,IF(B18<2196000,1453000,IF(B18<2200000,1456000,IF(B18<3600000,ROUNDDOWN(B18/4,-3)*2.8-80000,IF(B18<6600000,ROUNDDOWN(B18/4,-3)*3.2-440000,IF(B18<8500000,ROUNDDOWN(B18*0.9,0)-1100000,B18-1950000)))))))),IF(B18<651000,0,IF(B18<1900000,B18-650000,IF(B18<3600000,ROUNDDOWN(B18/4,-3)*2.8-80000,IF(B18<6600000,ROUNDDOWN(B18/4,-3)*3.2-440000,IF(B18<8500000,ROUNDDOWN(B18*0.9,0)-1100000,B18-1950000)))))) | K18: =IF(J18>23500000,NA(),IF(C18=2026,IF(J18<=4890000,1040000,IF(J18<=6550000,670000,620000)),IF(J18<=1320000,950000,IF(J18<=3360000,880000,IF(J18<=4890000,680000,IF(J18<=6550000,630000,580000)))))) | L18: =IF(D18=1,IF(J18<=9000000,380000,IF(J18<=9500000,260000,IF(J18<=10000000,130000,0))),0) | M18: =IF(D18=1,IF(J18<=9000000,330000,IF(J18<=9500000,220000,IF(J18<=10000000,110000,0))),0) | N18: =IF(D18=1,IF(J18<=9000000,50000,IF(J18<=9500000,40000,IF(J18<=10000000,20000,0))),0) | O18: =MAX(0,ROUNDDOWN(J18-G18-K18-L18-E18*380000-F18*630000-H18,-3)) | P18: =MAX(0,ROUNDDOWN(J18-G18-430000-M18-E18*330000-F18*450000-I18,-3)) | Q18: =50000+N18+E18*50000+F18*180000 | R18: =IF(P18<=2000000,MIN(Q18,P18),MAX(Q18-(P18-2000000),50000))*0.05 | S18: =MAX(0,P18*0.1-R18) | T18: =Q18+MAX(0,K18-480000) | U18: =P18-T18 | V18: =IF(U18<0,0,LOOKUP(U18,{0,1950001,3300001,6950001,9000001,18000001,40000001},{0.05,0.1,0.2,0.23,0.33,0.4,0.45})) | W18: =IF(U18<0,0.9,0.9-V18*1.021) | X18: =ROUNDDOWN(S18*0.2/W18+2000,0) | Y18: =IF(O18<=0,0,LOOKUP(O18,{0,1950001,3300001,6950001,9000001,18000001,40000001},{0.05,0.1,0.2,0.23,0.33,0.4,0.45}))
A19: 早見表 夫婦（配偶者控除あり） | B19: ='2_早見表'!$A$4 | C19: 2025 | D19: 1 | E19: 0 | F19: 0 | G19: =ROUND(MIN(B19/12,650000)*12*0.0915+MIN(B19/12,1390000)*12*(0.0504+0)+B19*0.005,0) | H19: 0 | I19: 0 | J19: =IF(C19=2026,IF(B19<741000,0,IF(B19<2191000,B19-740000,IF(B19<2193000,1451000,IF(B19<2196000,1453000,IF(B19<2200000,1456000,IF(B19<3600000,ROUNDDOWN(B19/4,-3)*2.8-80000,IF(B19<6600000,ROUNDDOWN(B19/4,-3)*3.2-440000,IF(B19<8500000,ROUNDDOWN(B19*0.9,0)-1100000,B19-1950000)))))))),IF(B19<651000,0,IF(B19<1900000,B19-650000,IF(B19<3600000,ROUNDDOWN(B19/4,-3)*2.8-80000,IF(B19<6600000,ROUNDDOWN(B19/4,-3)*3.2-440000,IF(B19<8500000,ROUNDDOWN(B19*0.9,0)-1100000,B19-1950000)))))) | K19: =IF(J19>23500000,NA(),IF(C19=2026,IF(J19<=4890000,1040000,IF(J19<=6550000,670000,620000)),IF(J19<=1320000,950000,IF(J19<=3360000,880000,IF(J19<=4890000,680000,IF(J19<=6550000,630000,580000)))))) | L19: =IF(D19=1,IF(J19<=9000000,380000,IF(J19<=9500000,260000,IF(J19<=10000000,130000,0))),0) | M19: =IF(D19=1,IF(J19<=9000000,330000,IF(J19<=9500000,220000,IF(J19<=10000000,110000,0))),0) | N19: =IF(D19=1,IF(J19<=9000000,50000,IF(J19<=9500000,40000,IF(J19<=10000000,20000,0))),0) | O19: =MAX(0,ROUNDDOWN(J19-G19-K19-L19-E19*380000-F19*630000-H19,-3)) | P19: =MAX(0,ROUNDDOWN(J19-G19-430000-M19-E19*330000-F19*450000-I19,-3)) | Q19: =50000+N19+E19*50000+F19*180000 | R19: =IF(P19<=2000000,MIN(Q19,P19),MAX(Q19-(P19-2000000),50000))*0.05 | S19: =MAX(0,P19*0.1-R19) | T19: =Q19+MAX(0,K19-480000) | U19: =P19-T19 | V19: =IF(U19<0,0,LOOKUP(U19,{0,1950001,3300001,6950001,9000001,18000001,40000001},{0.05,0.1,0.2,0.23,0.33,0.4,0.45})) | W19: =IF(U19<0,0.9,0.9-V19*1.021) | X19: =ROUNDDOWN(S19*0.2/W19+2000,0) | Y19: =IF(O19<=0,0,LOOKUP(O19,{0,1950001,3300001,6950001,9000001,18000001,40000001},{0.05,0.1,0.2,0.23,0.33,0.4,0.45}))
A20: 早見表 夫婦（配偶者控除あり） | B20: ='2_早見表'!$A$4 | C20: 2026 | D20: 1 | E20: 0 | F20: 0 | G20: =ROUND(MIN(B20/12,650000)*12*0.0915+MIN(B20/12,1390000)*12*(0.0504+0)+B20*0.005,0) | H20: 0 | I20: 0 | J20: =IF(C20=2026,IF(B20<741000,0,IF(B20<2191000,B20-740000,IF(B20<2193000,1451000,IF(B20<2196000,1453000,IF(B20<2200000,1456000,IF(B20<3600000,ROUNDDOWN(B20/4,-3)*2.8-80000,IF(B20<6600000,ROUNDDOWN(B20/4,-3)*3.2-440000,IF(B20<8500000,ROUNDDOWN(B20*0.9,0)-1100000,B20-1950000)))))))),IF(B20<651000,0,IF(B20<1900000,B20-650000,IF(B20<3600000,ROUNDDOWN(B20/4,-3)*2.8-80000,IF(B20<6600000,ROUNDDOWN(B20/4,-3)*3.2-440000,IF(B20<8500000,ROUNDDOWN(B20*0.9,0)-1100000,B20-1950000)))))) | K20: =IF(J20>23500000,NA(),IF(C20=2026,IF(J20<=4890000,1040000,IF(J20<=6550000,670000,620000)),IF(J20<=1320000,950000,IF(J20<=3360000,880000,IF(J20<=4890000,680000,IF(J20<=6550000,630000,580000)))))) | L20: =IF(D20=1,IF(J20<=9000000,380000,IF(J20<=9500000,260000,IF(J20<=10000000,130000,0))),0) | M20: =IF(D20=1,IF(J20<=9000000,330000,IF(J20<=9500000,220000,IF(J20<=10000000,110000,0))),0) | N20: =IF(D20=1,IF(J20<=9000000,50000,IF(J20<=9500000,40000,IF(J20<=10000000,20000,0))),0) | O20: =MAX(0,ROUNDDOWN(J20-G20-K20-L20-E20*380000-F20*630000-H20,-3)) | P20: =MAX(0,ROUNDDOWN(J20-G20-430000-M20-E20*330000-F20*450000-I20,-3)) | Q20: =50000+N20+E20*50000+F20*180000 | R20: =IF(P20<=2000000,MIN(Q20,P20),MAX(Q20-(P20-2000000),50000))*0.05 | S20: =MAX(0,P20*0.1-R20) | T20: =Q20+MAX(0,K20-480000) | U20: =P20-T20 | V20: =IF(U20<0,0,LOOKUP(U20,{0,1950001,3300001,6950001,9000001,18000001,40000001},{0.05,0.1,0.2,0.23,0.33,0.4,0.45})) | W20: =IF(U20<0,0.9,0.9-V20*1.021) | X20: =ROUNDDOWN(S20*0.2/W20+2000,0) | Y20: =IF(O20<=0,0,LOOKUP(O20,{0,1950001,3300001,6950001,9000001,18000001,40000001},{0.05,0.1,0.2,0.23,0.33,0.4,0.45}))
A21: 早見表 共働き＋高校生1人 | B21: ='2_早見表'!$A$4 | C21: 2025 | D21: 0 | E21: 1 | F21: 0 | G21: =ROUND(MIN(B21/12,650000)*12*0.0915+MIN(B21/12,1390000)*12*(0.0504+0)+B21*0.005,0) | H21: 0 | I21: 0 | J21: =IF(C21=2026,IF(B21<741000,0,IF(B21<2191000,B21-740000,IF(B21<2193000,1451000,IF(B21<2196000,1453000,IF(B21<2200000,1456000,IF(B21<3600000,ROUNDDOWN(B21/4,-3)*2.8-80000,IF(B21<6600000,ROUNDDOWN(B21/4,-3)*3.2-440000,IF(B21<8500000,ROUNDDOWN(B21*0.9,0)-1100000,B21-1950000)))))))),IF(B21<651000,0,IF(B21<1900000,B21-650000,IF(B21<3600000,ROUNDDOWN(B21/4,-3)*2.8-80000,IF(B21<6600000,ROUNDDOWN(B21/4,-3)*3.2-440000,IF(B21<8500000,ROUNDDOWN(B21*0.9,0)-1100000,B21-1950000)))))) | K21: =IF(J21>23500000,NA(),IF(C21=2026,IF(J21<=4890000,1040000,IF(J21<=6550000,670000,620000)),IF(J21<=1320000,950000,IF(J21<=3360000,880000,IF(J21<=4890000,680000,IF(J21<=6550000,630000,580000)))))) | L21: =IF(D21=1,IF(J21<=9000000,380000,IF(J21<=9500000,260000,IF(J21<=10000000,130000,0))),0) | M21: =IF(D21=1,IF(J21<=9000000,330000,IF(J21<=9500000,220000,IF(J21<=10000000,110000,0))),0) | N21: =IF(D21=1,IF(J21<=9000000,50000,IF(J21<=9500000,40000,IF(J21<=10000000,20000,0))),0) | O21: =MAX(0,ROUNDDOWN(J21-G21-K21-L21-E21*380000-F21*630000-H21,-3)) | P21: =MAX(0,ROUNDDOWN(J21-G21-430000-M21-E21*330000-F21*450000-I21,-3)) | Q21: =50000+N21+E21*50000+F21*180000 | R21: =IF(P21<=2000000,MIN(Q21,P21),MAX(Q21-(P21-2000000),50000))*0.05 | S21: =MAX(0,P21*0.1-R21) | T21: =Q21+MAX(0,K21-480000) | U21: =P21-T21 | V21: =IF(U21<0,0,LOOKUP(U21,{0,1950001,3300001,6950001,9000001,18000001,40000001},{0.05,0.1,0.2,0.23,0.33,0.4,0.45})) | W21: =IF(U21<0,0.9,0.9-V21*1.021) | X21: =ROUNDDOWN(S21*0.2/W21+2000,0) | Y21: =IF(O21<=0,0,LOOKUP(O21,{0,1950001,3300001,6950001,9000001,18000001,40000001},{0.05,0.1,0.2,0.23,0.33,0.4,0.45}))
A22: 早見表 共働き＋高校生1人 | B22: ='2_早見表'!$A$4 | C22: 2026 | D22: 0 | E22: 1 | F22: 0 | G22: =ROUND(MIN(B22/12,650000)*12*0.0915+MIN(B22/12,1390000)*12*(0.0504+0)+B22*0.005,0) | H22: 0 | I22: 0 | J22: =IF(C22=2026,IF(B22<741000,0,IF(B22<2191000,B22-740000,IF(B22<2193000,1451000,IF(B22<2196000,1453000,IF(B22<2200000,1456000,IF(B22<3600000,ROUNDDOWN(B22/4,-3)*2.8-80000,IF(B22<6600000,ROUNDDOWN(B22/4,-3)*3.2-440000,IF(B22<8500000,ROUNDDOWN(B22*0.9,0)-1100000,B22-1950000)))))))),IF(B22<651000,0,IF(B22<1900000,B22-650000,IF(B22<3600000,ROUNDDOWN(B22/4,-3)*2.8-80000,IF(B22<6600000,ROUNDDOWN(B22/4,-3)*3.2-440000,IF(B22<8500000,ROUNDDOWN(B22*0.9,0)-1100000,B22-1950000)))))) | K22: =IF(J22>23500000,NA(),IF(C22=2026,IF(J22<=4890000,1040000,IF(J22<=6550000,670000,620000)),IF(J22<=1320000,950000,IF(J22<=3360000,880000,IF(J22<=4890000,680000,IF(J22<=6550000,630000,580000)))))) | L22: =IF(D22=1,IF(J22<=9000000,380000,IF(J22<=9500000,260000,IF(J22<=10000000,130000,0))),0) | M22: =IF(D22=1,IF(J22<=9000000,330000,IF(J22<=9500000,220000,IF(J22<=10000000,110000,0))),0) | N22: =IF(D22=1,IF(J22<=9000000,50000,IF(J22<=9500000,40000,IF(J22<=10000000,20000,0))),0) | O22: =MAX(0,ROUNDDOWN(J22-G22-K22-L22-E22*380000-F22*630000-H22,-3)) | P22: =MAX(0,ROUNDDOWN(J22-G22-430000-M22-E22*330000-F22*450000-I22,-3)) | Q22: =50000+N22+E22*50000+F22*180000 | R22: =IF(P22<=2000000,MIN(Q22,P22),MAX(Q22-(P22-2000000),50000))*0.05 | S22: =MAX(0,P22*0.1-R22) | T22: =Q22+MAX(0,K22-480000) | U22: =P22-T22 | V22: =IF(U22<0,0,LOOKUP(U22,{0,1950001,3300001,6950001,9000001,18000001,40000001},{0.05,0.1,0.2,0.23,0.33,0.4,0.45})) | W22: =IF(U22<0,0.9,0.9-V22*1.021) | X22: =ROUNDDOWN(S22*0.2/W22+2000,0) | Y22: =IF(O22<=0,0,LOOKUP(O22,{0,1950001,3300001,6950001,9000001,18000001,40000001},{0.05,0.1,0.2,0.23,0.33,0.4,0.45}))
A23: 早見表 共働き＋大学生1人 | B23: ='2_早見表'!$A$4 | C23: 2025 | D23: 0 | E23: 0 | F23: 1 | G23: =ROUND(MIN(B23/12,650000)*12*0.0915+MIN(B23/12,1390000)*12*(0.0504+0)+B23*0.005,0) | H23: 0 | I23: 0 | J23: =IF(C23=2026,IF(B23<741000,0,IF(B23<2191000,B23-740000,IF(B23<2193000,1451000,IF(B23<2196000,1453000,IF(B23<2200000,1456000,IF(B23<3600000,ROUNDDOWN(B23/4,-3)*2.8-80000,IF(B23<6600000,ROUNDDOWN(B23/4,-3)*3.2-440000,IF(B23<8500000,ROUNDDOWN(B23*0.9,0)-1100000,B23-1950000)))))))),IF(B23<651000,0,IF(B23<1900000,B23-650000,IF(B23<3600000,ROUNDDOWN(B23/4,-3)*2.8-80000,IF(B23<6600000,ROUNDDOWN(B23/4,-3)*3.2-440000,IF(B23<8500000,ROUNDDOWN(B23*0.9,0)-1100000,B23-1950000)))))) | K23: =IF(J23>23500000,NA(),IF(C23=2026,IF(J23<=4890000,1040000,IF(J23<=6550000,670000,620000)),IF(J23<=1320000,950000,IF(J23<=3360000,880000,IF(J23<=4890000,680000,IF(J23<=6550000,630000,580000)))))) | L23: =IF(D23=1,IF(J23<=9000000,380000,IF(J23<=9500000,260000,IF(J23<=10000000,130000,0))),0) | M23: =IF(D23=1,IF(J23<=9000000,330000,IF(J23<=9500000,220000,IF(J23<=10000000,110000,0))),0) | N23: =IF(D23=1,IF(J23<=9000000,50000,IF(J23<=9500000,40000,IF(J23<=10000000,20000,0))),0) | O23: =MAX(0,ROUNDDOWN(J23-G23-K23-L23-E23*380000-F23*630000-H23,-3)) | P23: =MAX(0,ROUNDDOWN(J23-G23-430000-M23-E23*330000-F23*450000-I23,-3)) | Q23: =50000+N23+E23*50000+F23*180000 | R23: =IF(P23<=2000000,MIN(Q23,P23),MAX(Q23-(P23-2000000),50000))*0.05 | S23: =MAX(0,P23*0.1-R23) | T23: =Q23+MAX(0,K23-480000) | U23: =P23-T23 | V23: =IF(U23<0,0,LOOKUP(U23,{0,1950001,3300001,6950001,9000001,18000001,40000001},{0.05,0.1,0.2,0.23,0.33,0.4,0.45})) | W23: =IF(U23<0,0.9,0.9-V23*1.021) | X23: =ROUNDDOWN(S23*0.2/W23+2000,0) | Y23: =IF(O23<=0,0,LOOKUP(O23,{0,1950001,3300001,6950001,9000001,18000001,40000001},{0.05,0.1,0.2,0.23,0.33,0.4,0.45}))
