Workbook

Sheet 判定
A1: 健康保険の被扶養者の判定 | G1: 黄色の列だけ入力。赤は認定されない行
A2: 氏名 | B2: 続柄 | C2: 年齢 | D2: 同居しているか | E2: 労働契約から見込む年収 | F2: 被保険者の年収 | G2: 仕送りの年額 | H2: 同居が要るか | I2: 基準額 | J2: 収入の判定 | K2: 生計の判定 | L2: 結果
A3: 配偶者 パート | B3: 配偶者 | C3: 48 | D3: している | E3: 1280000 | F3: 5200000 | G3: 0 | H3: =IF($B3="","",VLOOKUP($B3,基準!$A$3:$B$16,2,FALSE)) | I3: =IF($C3="","",IF($C3>=60,基準!$E$5,IF(AND($C3>=19,$C3<23,$B3<>"配偶者"),基準!$E$6,基準!$E$7))) | J3: =IF(OR($E3="",$I3=""),"",IF($E3<$I3,"基準内","基準を超える")) | K3: =IF($D3="","",IF($D3="している",IF($E3<$F3/2,"被保険者の半分未満","半分以上"),IF($E3<$G3,"仕送りより少ない","仕送り以上"))) | L3: =IF(OR($B3="",$C3="",$D3=""),"",IF(AND($H3="要る",$D3="していない"),"同居が要る続柄",IF($J3="基準を超える","収入が基準を超える",IF(OR($K3="半分以上",$K3="仕送り以上"),"生計の維持を個別に見る","認定される"))))
A4: 配偶者 年収超え | B4: 配偶者 | C4: 48 | D4: している | E4: 1360000 | F4: 5200000 | G4: 0 | H4: =IF($B4="","",VLOOKUP($B4,基準!$A$3:$B$16,2,FALSE)) | I4: =IF($C4="","",IF($C4>=60,基準!$E$5,IF(AND($C4>=19,$C4<23,$B4<>"配偶者"),基準!$E$6,基準!$E$7))) | J4: =IF(OR($E4="",$I4=""),"",IF($E4<$I4,"基準内","基準を超える")) | K4: =IF($D4="","",IF($D4="している",IF($E4<$F4/2,"被保険者の半分未満","半分以上"),IF($E4<$G4,"仕送りより少ない","仕送り以上"))) | L4: =IF(OR($B4="",$C4="",$D4=""),"",IF(AND($H4="要る",$D4="していない"),"同居が要る続柄",IF($J4="基準を超える","収入が基準を超える",IF(OR($K4="半分以上",$K4="仕送り以上"),"生計の維持を個別に見る","認定される"))))
A5: 長男 大学生 | B5: 子 | C5: 20 | D5: している | E5: 1450000 | F5: 5200000 | G5: 0 | H5: =IF($B5="","",VLOOKUP($B5,基準!$A$3:$B$16,2,FALSE)) | I5: =IF($C5="","",IF($C5>=60,基準!$E$5,IF(AND($C5>=19,$C5<23,$B5<>"配偶者"),基準!$E$6,基準!$E$7))) | J5: =IF(OR($E5="",$I5=""),"",IF($E5<$I5,"基準内","基準を超える")) | K5: =IF($D5="","",IF($D5="している",IF($E5<$F5/2,"被保険者の半分未満","半分以上"),IF($E5<$G5,"仕送りより少ない","仕送り以上"))) | L5: =IF(OR($B5="",$C5="",$D5=""),"",IF(AND($H5="要る",$D5="していない"),"同居が要る続柄",IF($J5="基準を超える","収入が基準を超える",IF(OR($K5="半分以上",$K5="仕送り以上"),"生計の維持を個別に見る","認定される"))))
A6: 長女 高校生のとき | B6: 子 | C6: 18 | D6: している | E6: 1450000 | F6: 5200000 | G6: 0 | H6: =IF($B6="","",VLOOKUP($B6,基準!$A$3:$B$16,2,FALSE)) | I6: =IF($C6="","",IF($C6>=60,基準!$E$5,IF(AND($C6>=19,$C6<23,$B6<>"配偶者"),基準!$E$6,基準!$E$7))) | J6: =IF(OR($E6="",$I6=""),"",IF($E6<$I6,"基準内","基準を超える")) | K6: =IF($D6="","",IF($D6="している",IF($E6<$F6/2,"被保険者の半分未満","半分以上"),IF($E6<$G6,"仕送りより少ない","仕送り以上"))) | L6: =IF(OR($B6="",$C6="",$D6=""),"",IF(AND($H6="要る",$D6="していない"),"同居が要る続柄",IF($J6="基準を超える","収入が基準を超える",IF(OR($K6="半分以上",$K6="仕送り以上"),"生計の維持を個別に見る","認定される"))))
A7: 母 別居 年金 | B7: 父母・祖父母（直系尊属） | C7: 67 | D7: していない | E7: 1500000 | F7: 5200000 | G7: 1800000 | H7: =IF($B7="","",VLOOKUP($B7,基準!$A$3:$B$16,2,FALSE)) | I7: =IF($C7="","",IF($C7>=60,基準!$E$5,IF(AND($C7>=19,$C7<23,$B7<>"配偶者"),基準!$E$6,基準!$E$7))) | J7: =IF(OR($E7="",$I7=""),"",IF($E7<$I7,"基準内","基準を超える")) | K7: =IF($D7="","",IF($D7="している",IF($E7<$F7/2,"被保険者の半分未満","半分以上"),IF($E7<$G7,"仕送りより少ない","仕送り以上"))) | L7: =IF(OR($B7="",$C7="",$D7=""),"",IF(AND($H7="要る",$D7="していない"),"同居が要る続柄",IF($J7="基準を超える","収入が基準を超える",IF(OR($K7="半分以上",$K7="仕送り以上"),"生計の維持を個別に見る","認定される"))))
A8: 母 別居 仕送り少ない | B8: 父母・祖父母（直系尊属） | C8: 67 | D8: していない | E8: 1500000 | F8: 5200000 | G8: 1200000 | H8: =IF($B8="","",VLOOKUP($B8,基準!$A$3:$B$16,2,FALSE)) | I8: =IF($C8="","",IF($C8>=60,基準!$E$5,IF(AND($C8>=19,$C8<23,$B8<>"配偶者"),基準!$E$6,基準!$E$7))) | J8: =IF(OR($E8="",$I8=""),"",IF($E8<$I8,"基準内","基準を超える")) | K8: =IF($D8="","",IF($D8="している",IF($E8<$F8/2,"被保険者の半分未満","半分以上"),IF($E8<$G8,"仕送りより少ない","仕送り以上"))) | L8: =IF(OR($B8="",$C8="",$D8=""),"",IF(AND($H8="要る",$D8="していない"),"同居が要る続柄",IF($J8="基準を超える","収入が基準を超える",IF(OR($K8="半分以上",$K8="仕送り以上"),"生計の維持を個別に見る","認定される"))))
A9: 配偶者の母 別居 | B9: 配偶者の父母 | C9: 70 | D9: していない | E9: 900000 | F9: 5200000 | G9: 1200000 | H9: =IF($B9="","",VLOOKUP($B9,基準!$A$3:$B$16,2,FALSE)) | I9: =IF($C9="","",IF($C9>=60,基準!$E$5,IF(AND($C9>=19,$C9<23,$B9<>"配偶者"),基準!$E$6,基準!$E$7))) | J9: =IF(OR($E9="",$I9=""),"",IF($E9<$I9,"基準内","基準を超える")) | K9: =IF($D9="","",IF($D9="している",IF($E9<$F9/2,"被保険者の半分未満","半分以上"),IF($E9<$G9,"仕送りより少ない","仕送り以上"))) | L9: =IF(OR($B9="",$C9="",$D9=""),"",IF(AND($H9="要る",$D9="していない"),"同居が要る続柄",IF($J9="基準を超える","収入が基準を超える",IF(OR($K9="半分以上",$K9="仕送り以上"),"生計の維持を個別に見る","認定される"))))
H10: =IF($B10="","",VLOOKUP($B10,基準!$A$3:$B$16,2,FALSE)) | I10: =IF($C10="","",IF($C10>=60,基準!$E$5,IF(AND($C10>=19,$C10<23,$B10<>"配偶者"),基準!$E$6,基準!$E$7))) | J10: =IF(OR($E10="",$I10=""),"",IF($E10<$I10,"基準内","基準を超える")) | K10: =IF($D10="","",IF($D10="している",IF($E10<$F10/2,"被保険者の半分未満","半分以上"),IF($E10<$G10,"仕送りより少ない","仕送り以上"))) | L10: =IF(OR($B10="",$C10="",$D10=""),"",IF(AND($H10="要る",$D10="していない"),"同居が要る続柄",IF($J10="基準を超える","収入が基準を超える",IF(OR($K10="半分以上",$K10="仕送り以上"),"生計の維持を個別に見る","認定される"))))
H11: =IF($B11="","",VLOOKUP($B11,基準!$A$3:$B$16,2,FALSE)) | I11: =IF($C11="","",IF($C11>=60,基準!$E$5,IF(AND($C11>=19,$C11<23,$B11<>"配偶者"),基準!$E$6,基準!$E$7))) | J11: =IF(OR($E11="",$I11=""),"",IF($E11<$I11,"基準内","基準を超える")) | K11: =IF($D11="","",IF($D11="している",IF($E11<$F11/2,"被保険者の半分未満","半分以上"),IF($E11<$G11,"仕送りより少ない","仕送り以上"))) | L11: =IF(OR($B11="",$C11="",$D11=""),"",IF(AND($H11="要る",$D11="していない"),"同居が要る続柄",IF($J11="基準を超える","収入が基準を超える",IF(OR($K11="半分以上",$K11="仕送り以上"),"生計の維持を個別に見る","認定される"))))
H12: =IF($B12="","",VLOOKUP($B12,基準!$A$3:$B$16,2,FALSE)) | I12: =IF($C12="","",IF($C12>=60,基準!$E$5,IF(AND($C12>=19,$C12<23,$B12<>"配偶者"),基準!$E$6,基準!$E$7))) | J12: =IF(OR($E12="",$I12=""),"",IF($E12<$I12,"基準内","基準を超える")) | K12: =IF($D12="","",IF($D12="している",IF($E12<$F12/2,"被保険者の半分未満","半分以上"),IF($E12<$G12,"仕送りより少ない","仕送り以上"))) | L12: =IF(OR($B12="",$C12="",$D12=""),"",IF(AND($H12="要る",$D12="していない"),"同居が要る続柄",IF($J12="基準を超える","収入が基準を超える",IF(OR($K12="半分以上",$K12="仕送り以上"),"生計の維持を個別に見る","認定される"))))
H13: =IF($B13="","",VLOOKUP($B13,基準!$A$3:$B$16,2,FALSE)) | I13: =IF($C13="","",IF($C13>=60,基準!$E$5,IF(AND($C13>=19,$C13<23,$B13<>"配偶者"),基準!$E$6,基準!$E$7))) | J13: =IF(OR($E13="",$I13=""),"",IF($E13<$I13,"基準内","基準を超える")) | K13: =IF($D13="","",IF($D13="している",IF($E13<$F13/2,"被保険者の半分未満","半分以上"),IF($E13<$G13,"仕送りより少ない","仕送り以上"))) | L13: =IF(OR($B13="",$C13="",$D13=""),"",IF(AND($H13="要る",$D13="していない"),"同居が要る続柄",IF($J13="基準を超える","収入が基準を超える",IF(OR($K13="半分以上",$K13="仕送り以上"),"生計の維持を個別に見る","認定される"))))
H14: =IF($B14="","",VLOOKUP($B14,基準!$A$3:$B$16,2,FALSE)) | I14: =IF($C14="","",IF($C14>=60,基準!$E$5,IF(AND($C14>=19,$C14<23,$B14<>"配偶者"),基準!$E$6,基準!$E$7))) | J14: =IF(OR($E14="",$I14=""),"",IF($E14<$I14,"基準内","基準を超える")) | K14: =IF($D14="","",IF($D14="している",IF($E14<$F14/2,"被保険者の半分未満","半分以上"),IF($E14<$G14,"仕送りより少ない","仕送り以上"))) | L14: =IF(OR($B14="",$C14="",$D14=""),"",IF(AND($H14="要る",$D14="していない"),"同居が要る続柄",IF($J14="基準を超える","収入が基準を超える",IF(OR($K14="半分以上",$K14="仕送り以上"),"生計の維持を個別に見る","認定される"))))
H15: =IF($B15="","",VLOOKUP($B15,基準!$A$3:$B$16,2,FALSE)) | I15: =IF($C15="","",IF($C15>=60,基準!$E$5,IF(AND($C15>=19,$C15<23,$B15<>"配偶者"),基準!$E$6,基準!$E$7))) | J15: =IF(OR($E15="",$I15=""),"",IF($E15<$I15,"基準内","基準を超える")) | K15: =IF($D15="","",IF($D15="している",IF($E15<$F15/2,"被保険者の半分未満","半分以上"),IF($E15<$G15,"仕送りより少ない","仕送り以上"))) | L15: =IF(OR($B15="",$C15="",$D15=""),"",IF(AND($H15="要る",$D15="していない"),"同居が要る続柄",IF($J15="基準を超える","収入が基準を超える",IF(OR($K15="半分以上",$K15="仕送り以上"),"生計の維持を個別に見る","認定される"))))
H16: =IF($B16="","",VLOOKUP($B16,基準!$A$3:$B$16,2,FALSE)) | I16: =IF($C16="","",IF($C16>=60,基準!$E$5,IF(AND($C16>=19,$C16<23,$B16<>"配偶者"),基準!$E$6,基準!$E$7))) | J16: =IF(OR($E16="",$I16=""),"",IF($E16<$I16,"基準内","基準を超える")) | K16: =IF($D16="","",IF($D16="している",IF($E16<$F16/2,"被保険者の半分未満","半分以上"),IF($E16<$G16,"仕送りより少ない","仕送り以上"))) | L16: =IF(OR($B16="",$C16="",$D16=""),"",IF(AND($H16="要る",$D16="していない"),"同居が要る続柄",IF($J16="基準を超える","収入が基準を超える",IF(OR($K16="半分以上",$K16="仕送り以上"),"生計の維持を個別に見る","認定される"))))
H17: =IF($B17="","",VLOOKUP($B17,基準!$A$3:$B$16,2,FALSE)) | I17: =IF($C17="","",IF($C17>=60,基準!$E$5,IF(AND($C17>=19,$C17<23,$B17<>"配偶者"),基準!$E$6,基準!$E$7))) | J17: =IF(OR($E17="",$I17=""),"",IF($E17<$I17,"基準内","基準を超える")) | K17: =IF($D17="","",IF($D17="している",IF($E17<$F17/2,"被保険者の半分未満","半分以上"),IF($E17<$G17,"仕送りより少ない","仕送り以上"))) | L17: =IF(OR($B17="",$C17="",$D17=""),"",IF(AND($H17="要る",$D17="していない"),"同居が要る続柄",IF($J17="基準を超える","収入が基準を超える",IF(OR($K17="半分以上",$K17="仕送り以上"),"生計の維持を個別に見る","認定される"))))
H18: =IF($B18="","",VLOOKUP($B18,基準!$A$3:$B$16,2,FALSE)) | I18: =IF($C18="","",IF($C18>=60,基準!$E$5,IF(AND($C18>=19,$C18<23,$B18<>"配偶者"),基準!$E$6,基準!$E$7))) | J18: =IF(OR($E18="",$I18=""),"",IF($E18<$I18,"基準内","基準を超える")) | K18: =IF($D18="","",IF($D18="している",IF($E18<$F18/2,"被保険者の半分未満","半分以上"),IF($E18<$G18,"仕送りより少ない","仕送り以上"))) | L18: =IF(OR($B18="",$C18="",$D18=""),"",IF(AND($H18="要る",$D18="していない"),"同居が要る続柄",IF($J18="基準を超える","収入が基準を超える",IF(OR($K18="半分以上",$K18="仕送り以上"),"生計の維持を個別に見る","認定される"))))
H19: =IF($B19="","",VLOOKUP($B19,基準!$A$3:$B$16,2,FALSE)) | I19: =IF($C19="","",IF($C19>=60,基準!$E$5,IF(AND($C19>=19,$C19<23,$B19<>"配偶者"),基準!$E$6,基準!$E$7))) | J19: =IF(OR($E19="",$I19=""),"",IF($E19<$I19,"基準内","基準を超える")) | K19: =IF($D19="","",IF($D19="している",IF($E19<$F19/2,"被保険者の半分未満","半分以上"),IF($E19<$G19,"仕送りより少ない","仕送り以上"))) | L19: =IF(OR($B19="",$C19="",$D19=""),"",IF(AND($H19="要る",$D19="していない"),"同居が要る続柄",IF($J19="基準を超える","収入が基準を超える",IF(OR($K19="半分以上",$K19="仕送り以上"),"生計の維持を個別に見る","認定される"))))
H20: =IF($B20="","",VLOOKUP($B20,基準!$A$3:$B$16,2,FALSE)) | I20: =IF($C20="","",IF($C20>=60,基準!$E$5,IF(AND($C20>=19,$C20<23,$B20<>"配偶者"),基準!$E$6,基準!$E$7))) | J20: =IF(OR($E20="",$I20=""),"",IF($E20<$I20,"基準内","基準を超える")) | K20: =IF($D20="","",IF($D20="している",IF($E20<$F20/2,"被保険者の半分未満","半分以上"),IF($E20<$G20,"仕送りより少ない","仕送り以上"))) | L20: =IF(OR($B20="",$C20="",$D20=""),"",IF(AND($H20="要る",$D20="していない"),"同居が要る続柄",IF($J20="基準を超える","収入が基準を超える",IF(OR($K20="半分以上",$K20="仕送り以上"),"生計の維持を個別に見る","認定される"))))
H21: =IF($B21="","",VLOOKUP($B21,基準!$A$3:$B$16,2,FALSE)) | I21: =IF($C21="","",IF($C21>=60,基準!$E$5,IF(AND($C21>=19,$C21<23,$B21<>"配偶者"),基準!$E$6,基準!$E$7))) | J21: =IF(OR($E21="",$I21=""),"",IF($E21<$I21,"基準内","基準を超える")) | K21: =IF($D21="","",IF($D21="している",IF($E21<$F21/2,"被保険者の半分未満","半分以上"),IF($E21<$G21,"仕送りより少ない","仕送り以上"))) | L21: =IF(OR($B21="",$C21="",$D21=""),"",IF(AND($H21="要る",$D21="していない"),"同居が要る続柄",IF($J21="基準を超える","収入が基準を超える",IF(OR($K21="半分以上",$K21="仕送り以上"),"生計の維持を個別に見る","認定される"))))
... H202: =IF($B202="","",VLOOKUP($B202,基準!$A$3:$B$16,2,FALSE)) | I202: =IF($C202="","",IF($C202>=60,基準!$E$5,IF(AND($C202>=19,$C202<23,$B202<>"配偶者"),基準!$E$6,基準!$E$7))) | J202: =IF(OR($E202="",$I202=""),"",IF($E202<$I202,"基準内","基準を超える")) | K202: =IF($D202="","",IF($D202="している",IF($E202<$F202/2,"被保険者の半分未満","半分以上"),IF($E202<$G202,"仕送りより少ない","仕送り以上"))) | L202: =IF(OR($B202="",$C202="",$D202=""),"",IF(AND($H202="要る",$D202="していない"),"同居が要る続柄",IF($J202="基準を超える","収入が基準を超える",IF(OR($K202="半分以上",$K202="仕送り以上"),"生計の維持を個別に見る","認定される"))))

Sheet 基準
A1: 続柄と、同居が要るかどうか | D1: 日本年金機構・協会けんぽ・厚生労働省で2026年9月21日に確認
A2: 続柄 | B2: 同居
A3: 配偶者 | B3: いらない | D3: 年間収入の基準
A4: 子 | B4: いらない | D4: 区分 | E4: 年額 | F4: 月額 | G4: 日額
A5: 孫 | B5: いらない | D5: 60歳以上、または障害者 | E5: 1800000 | F5: =ROUNDDOWN($E$5/12,0) | G5: =ROUNDDOWN($E$5/360,0)
A6: 兄弟姉妹 | B6: いらない | D6: 19歳以上23歳未満（配偶者を除く） | E6: 1500000 | F6: =ROUNDDOWN($E$6/12,0) | G6: =ROUNDDOWN($E$6/360,0)
A7: 父母・祖父母（直系尊属） | B7: いらない | D7: それ以外 | E7: 1300000 | F7: =ROUNDDOWN($E$7/12,0) | G7: =ROUNDDOWN($E$7/360,0)
A8: 曽祖父母 | B8: いらない
A9: 伯叔父母 | B9: 要る | D9: 150万円は、扶養認定日が2025年10月1日以後の場合に使う。
A10: 甥・姪 | B10: 要る | D10: 日額は雇用保険の基本手当のように日で出る収入を見るときに使う。
A11: 子の配偶者 | B11: 要る
A12: 兄弟姉妹の配偶者 | B12: 要る
A13: 配偶者の父母 | B13: 要る
A14: 配偶者の子 | B14: 要る
A15: 内縁の配偶者の父母 | B15: 要る
A16: 内縁の配偶者の子 | B16: 要る

Sheet 使い方
A1: 被扶養者の認定で決まっていること
A3: 2026年4月1日から、年間収入は労働契約で定められた賃金から見込む。去年いくら稼いだかではない。
A4: 労働条件通知書など、労働契約の内容が分かる書類を添える。給与収入だけである旨の申立ても要る。
A6: 基準額は3つある。60歳以上または障害者は180万円未満、19歳以上23歳未満（配偶者を除く）は150万円未満、
A7: それ以外は130万円未満。150万円は扶養認定日が2025年10月1日以後の場合に使う。
A9: 収入の基準を満たしても、生計の維持を見る。同居なら被保険者の年間収入の2分の1未満、
A10: 別居なら被保険者からの仕送りより少ないこと。ここを超えたら、個別に見てもらうことになる。
A12: 配偶者・子・孫・兄弟姉妹・直系尊属は同居していなくてもよい。それ以外の3親等内の親族は同居が要る。
A14: 人手不足で一時的に130万円以上になった場合は、過去の課税証明書や給与明細書、雇用契約書に加えて、
A15: 一時的な収入である旨の事業主の証明を添えることで、原則として連続2回までは扶養に入り続けられる。
A17: 届出は事実が発生してから5日以内。戸籍謄本か住民票の写しで続柄を、課税証明書などで収入を確かめる。
A18: 別居なら仕送りの振込の記録も要る。
