Workbook

Sheet 品目
A1: 発注点の計算表 | F1: 黄色の列だけ入力。右側は式が入っている
A2: 品番 | B2: 品名 | C2: 調達期間(日) | D2: 発注ロット | E2: 仕入単価 | F2: 平均出庫 | G2: 標準偏差 | H2: 安全在庫 | I2: 発注点 | J2: 発注量 | K2: 発注点の在庫金額
A3: A1001 | B3: 部品ケース | C3: 5 | D3: 10 | E3: 980 | F3: =IF($A3="","",IFERROR(ROUND(AVERAGE(出庫実績!$B3:$BI3),2),"")) | G3: =IF($A3="","",IFERROR(ROUND(STDEV(出庫実績!$B3:$BI3),2),"")) | H3: =IF($F3="","",ROUNDUP(設定!$B$3*$G3*SQRT($C3),0)) | I3: =IF($F3="","",ROUNDUP($F3*$C3+$H3,0)) | J3: =IF($F3="","",CEILING($F3*設定!$B$4,MAX($D3,1))) | K3: =IF($I3="","",$I3*$E3)
A4: A1002 | B4: ラベル | C4: 3 | D4: 50 | E4: 180 | F4: =IF($A4="","",IFERROR(ROUND(AVERAGE(出庫実績!$B4:$BI4),2),"")) | G4: =IF($A4="","",IFERROR(ROUND(STDEV(出庫実績!$B4:$BI4),2),"")) | H4: =IF($F4="","",ROUNDUP(設定!$B$3*$G4*SQRT($C4),0)) | I4: =IF($F4="","",ROUNDUP($F4*$C4+$H4,0)) | J4: =IF($F4="","",CEILING($F4*設定!$B$4,MAX($D4,1))) | K4: =IF($I4="","",$I4*$E4)
A5: A1003 | B5: 梱包箱 | C5: 7 | D5: 20 | E5: 450 | F5: =IF($A5="","",IFERROR(ROUND(AVERAGE(出庫実績!$B5:$BI5),2),"")) | G5: =IF($A5="","",IFERROR(ROUND(STDEV(出庫実績!$B5:$BI5),2),"")) | H5: =IF($F5="","",ROUNDUP(設定!$B$3*$G5*SQRT($C5),0)) | I5: =IF($F5="","",ROUNDUP($F5*$C5+$H5,0)) | J5: =IF($F5="","",CEILING($F5*設定!$B$4,MAX($D5,1))) | K5: =IF($I5="","",$I5*$E5)
A6: A1004 | B6: 工具替刃 | C6: 10 | D6: 1 | E6: 5600 | F6: =IF($A6="","",IFERROR(ROUND(AVERAGE(出庫実績!$B6:$BI6),2),"")) | G6: =IF($A6="","",IFERROR(ROUND(STDEV(出庫実績!$B6:$BI6),2),"")) | H6: =IF($F6="","",ROUNDUP(設定!$B$3*$G6*SQRT($C6),0)) | I6: =IF($F6="","",ROUNDUP($F6*$C6+$H6,0)) | J6: =IF($F6="","",CEILING($F6*設定!$B$4,MAX($D6,1))) | K6: =IF($I6="","",$I6*$E6)
A7: A1005 | B7: 作業手袋 | C7: 5 | D7: 10 | E7: 2400 | F7: =IF($A7="","",IFERROR(ROUND(AVERAGE(出庫実績!$B7:$BI7),2),"")) | G7: =IF($A7="","",IFERROR(ROUND(STDEV(出庫実績!$B7:$BI7),2),"")) | H7: =IF($F7="","",ROUNDUP(設定!$B$3*$G7*SQRT($C7),0)) | I7: =IF($F7="","",ROUNDUP($F7*$C7+$H7,0)) | J7: =IF($F7="","",CEILING($F7*設定!$B$4,MAX($D7,1))) | K7: =IF($I7="","",$I7*$E7)
F8: =IF($A8="","",IFERROR(ROUND(AVERAGE(出庫実績!$B8:$BI8),2),"")) | G8: =IF($A8="","",IFERROR(ROUND(STDEV(出庫実績!$B8:$BI8),2),"")) | H8: =IF($F8="","",ROUNDUP(設定!$B$3*$G8*SQRT($C8),0)) | I8: =IF($F8="","",ROUNDUP($F8*$C8+$H8,0)) | J8: =IF($F8="","",CEILING($F8*設定!$B$4,MAX($D8,1))) | K8: =IF($I8="","",$I8*$E8)
F9: =IF($A9="","",IFERROR(ROUND(AVERAGE(出庫実績!$B9:$BI9),2),"")) | G9: =IF($A9="","",IFERROR(ROUND(STDEV(出庫実績!$B9:$BI9),2),"")) | H9: =IF($F9="","",ROUNDUP(設定!$B$3*$G9*SQRT($C9),0)) | I9: =IF($F9="","",ROUNDUP($F9*$C9+$H9,0)) | J9: =IF($F9="","",CEILING($F9*設定!$B$4,MAX($D9,1))) | K9: =IF($I9="","",$I9*$E9)
F10: =IF($A10="","",IFERROR(ROUND(AVERAGE(出庫実績!$B10:$BI10),2),"")) | G10: =IF($A10="","",IFERROR(ROUND(STDEV(出庫実績!$B10:$BI10),2),"")) | H10: =IF($F10="","",ROUNDUP(設定!$B$3*$G10*SQRT($C10),0)) | I10: =IF($F10="","",ROUNDUP($F10*$C10+$H10,0)) | J10: =IF($F10="","",CEILING($F10*設定!$B$4,MAX($D10,1))) | K10: =IF($I10="","",$I10*$E10)
F11: =IF($A11="","",IFERROR(ROUND(AVERAGE(出庫実績!$B11:$BI11),2),"")) | G11: =IF($A11="","",IFERROR(ROUND(STDEV(出庫実績!$B11:$BI11),2),"")) | H11: =IF($F11="","",ROUNDUP(設定!$B$3*$G11*SQRT($C11),0)) | I11: =IF($F11="","",ROUNDUP($F11*$C11+$H11,0)) | J11: =IF($F11="","",CEILING($F11*設定!$B$4,MAX($D11,1))) | K11: =IF($I11="","",$I11*$E11)
F12: =IF($A12="","",IFERROR(ROUND(AVERAGE(出庫実績!$B12:$BI12),2),"")) | G12: =IF($A12="","",IFERROR(ROUND(STDEV(出庫実績!$B12:$BI12),2),"")) | H12: =IF($F12="","",ROUNDUP(設定!$B$3*$G12*SQRT($C12),0)) | I12: =IF($F12="","",ROUNDUP($F12*$C12+$H12,0)) | J12: =IF($F12="","",CEILING($F12*設定!$B$4,MAX($D12,1))) | K12: =IF($I12="","",$I12*$E12)
F13: =IF($A13="","",IFERROR(ROUND(AVERAGE(出庫実績!$B13:$BI13),2),"")) | G13: =IF($A13="","",IFERROR(ROUND(STDEV(出庫実績!$B13:$BI13),2),"")) | H13: =IF($F13="","",ROUNDUP(設定!$B$3*$G13*SQRT($C13),0)) | I13: =IF($F13="","",ROUNDUP($F13*$C13+$H13,0)) | J13: =IF($F13="","",CEILING($F13*設定!$B$4,MAX($D13,1))) | K13: =IF($I13="","",$I13*$E13)
F14: =IF($A14="","",IFERROR(ROUND(AVERAGE(出庫実績!$B14:$BI14),2),"")) | G14: =IF($A14="","",IFERROR(ROUND(STDEV(出庫実績!$B14:$BI14),2),"")) | H14: =IF($F14="","",ROUNDUP(設定!$B$3*$G14*SQRT($C14),0)) | I14: =IF($F14="","",ROUNDUP($F14*$C14+$H14,0)) | J14: =IF($F14="","",CEILING($F14*設定!$B$4,MAX($D14,1))) | K14: =IF($I14="","",$I14*$E14)
F15: =IF($A15="","",IFERROR(ROUND(AVERAGE(出庫実績!$B15:$BI15),2),"")) | G15: =IF($A15="","",IFERROR(ROUND(STDEV(出庫実績!$B15:$BI15),2),"")) | H15: =IF($F15="","",ROUNDUP(設定!$B$3*$G15*SQRT($C15),0)) | I15: =IF($F15="","",ROUNDUP($F15*$C15+$H15,0)) | J15: =IF($F15="","",CEILING($F15*設定!$B$4,MAX($D15,1))) | K15: =IF($I15="","",$I15*$E15)
F16: =IF($A16="","",IFERROR(ROUND(AVERAGE(出庫実績!$B16:$BI16),2),"")) | G16: =IF($A16="","",IFERROR(ROUND(STDEV(出庫実績!$B16:$BI16),2),"")) | H16: =IF($F16="","",ROUNDUP(設定!$B$3*$G16*SQRT($C16),0)) | I16: =IF($F16="","",ROUNDUP($F16*$C16+$H16,0)) | J16: =IF($F16="","",CEILING($F16*設定!$B$4,MAX($D16,1))) | K16: =IF($I16="","",$I16*$E16)
F17: =IF($A17="","",IFERROR(ROUND(AVERAGE(出庫実績!$B17:$BI17),2),"")) | G17: =IF($A17="","",IFERROR(ROUND(STDEV(出庫実績!$B17:$BI17),2),"")) | H17: =IF($F17="","",ROUNDUP(設定!$B$3*$G17*SQRT($C17),0)) | I17: =IF($F17="","",ROUNDUP($F17*$C17+$H17,0)) | J17: =IF($F17="","",CEILING($F17*設定!$B$4,MAX($D17,1))) | K17: =IF($I17="","",$I17*$E17)
F18: =IF($A18="","",IFERROR(ROUND(AVERAGE(出庫実績!$B18:$BI18),2),"")) | G18: =IF($A18="","",IFERROR(ROUND(STDEV(出庫実績!$B18:$BI18),2),"")) | H18: =IF($F18="","",ROUNDUP(設定!$B$3*$G18*SQRT($C18),0)) | I18: =IF($F18="","",ROUNDUP($F18*$C18+$H18,0)) | J18: =IF($F18="","",CEILING($F18*設定!$B$4,MAX($D18,1))) | K18: =IF($I18="","",$I18*$E18)
F19: =IF($A19="","",IFERROR(ROUND(AVERAGE(出庫実績!$B19:$BI19),2),"")) | G19: =IF($A19="","",IFERROR(ROUND(STDEV(出庫実績!$B19:$BI19),2),"")) | H19: =IF($F19="","",ROUNDUP(設定!$B$3*$G19*SQRT($C19),0)) | I19: =IF($F19="","",ROUNDUP($F19*$C19+$H19,0)) | J19: =IF($F19="","",CEILING($F19*設定!$B$4,MAX($D19,1))) | K19: =IF($I19="","",$I19*$E19)
... F102: =IF($A102="","",IFERROR(ROUND(AVERAGE(出庫実績!$B102:$BI102),2),"")) | G102: =IF($A102="","",IFERROR(ROUND(STDEV(出庫実績!$B102:$BI102),2),"")) | H102: =IF($F102="","",ROUNDUP(設定!$B$3*$G102*SQRT($C102),0)) | I102: =IF($F102="","",ROUNDUP($F102*$C102+$H102,0)) | J102: =IF($F102="","",CEILING($F102*設定!$B$4,MAX($D102,1))) | K102: =IF($I102="","",$I102*$E102)
A104: 合計 | K104: =SUM(K3:K102)
A106: 赤い行は、出庫のばらつきが平均より大きい品目。安全在庫が大きく出るので、実績を見直す。

Sheet 出庫実績
A1: 1行が1品目。右へ1日ずつ出庫数を入れる（入れた日数だけで計算する）
A2: 品番 | B2: 1日目 | C2: 2日目 | D2: 3日目 | E2: 4日目 | F2: 5日目 | G2: 6日目 | H2: 7日目 | I2: 8日目 | J2: 9日目 | K2: 10日目 | L2: 11日目 | M2: 12日目 | N2: 13日目 | O2: 14日目 | P2: 15日目 | Q2: 16日目 | R2: 17日目 | S2: 18日目 | T2: 19日目 | U2: 20日目 | V2: 21日目 | W2: 22日目 | X2: 23日目 | Y2: 24日目 | Z2: 25日目 | AA2: 26日目 | AB2: 27日目 | AC2: 28日目 | AD2: 29日目 | AE2: 30日目 | AF2: 31日目 | AG2: 32日目 | AH2: 33日目 | AI2: 34日目 | AJ2: 35日目 | AK2: 36日目 | AL2: 37日目 | AM2: 38日目 | AN2: 39日目 | AO2: 40日目 | AP2: 41日目 | AQ2: 42日目 | AR2: 43日目 | AS2: 44日目 | AT2: 45日目 | AU2: 46日目 | AV2: 47日目 | AW2: 48日目 | AX2: 49日目 | AY2: 50日目 | AZ2: 51日目 | BA2: 52日目 | BB2: 53日目 | BC2: 54日目 | BD2: 55日目 | BE2: 56日目 | BF2: 57日目 | BG2: 58日目 | BH2: 59日目 | BI2: 60日目
A3: A1001 | B3: 11 | C3: 11 | D3: 12 | E3: 15 | F3: 12 | G3: 7 | H3: 13 | I3: 11 | J3: 11 | K3: 12 | L3: 13 | M3: 16 | N3: 14 | O3: 12 | P3: 9 | Q3: 8 | R3: 13 | S3: 17 | T3: 12 | U3: 12 | V3: 14 | W3: 7 | X3: 11 | Y3: 14 | Z3: 15 | AA3: 11 | AB3: 13 | AC3: 13 | AD3: 15 | AE3: 8 | AF3: 14 | AG3: 7 | AH3: 3 | AI3: 10 | AJ3: 9 | AK3: 15 | AL3: 14 | AM3: 8 | AN3: 15 | AO3: 8 | AP3: 12 | AQ3: 11 | AR3: 12 | AS3: 15 | AT3: 14 | AU3: 13 | AV3: 14 | AW3: 14 | AX3: 10 | AY3: 9 | AZ3: 10 | BA3: 14 | BB3: 11 | BC3: 20 | BD3: 9 | BE3: 8 | BF3: 15 | BG3: 17 | BH3: 14 | BI3: 15
A4: A1002 | B4: 9 | C4: 5 | D4: 1 | E4: 4 | F4: 7 | G4: 1 | H4: 5 | I4: 6 | J4: 4 | K4: 7 | L4: 6 | M4: 11 | N4: 7 | O4: 3 | P4: 4 | Q4: 3 | R4: 7 | S4: 4 | T4: 5 | U4: 7 | V4: 3 | W4: 4 | X4: 0 | Y4: 2 | Z4: 4 | AA4: 6 | AB4: 8 | AC4: 5 | AD4: 6 | AE4: 5 | AF4: 8 | AG4: 7 | AH4: 6 | AI4: 2 | AJ4: 7 | AK4: 6 | AL4: 8 | AM4: 5 | AN4: 10 | AO4: 4 | AP4: 9 | AQ4: 5 | AR4: 4 | AS4: 2 | AT4: 5 | AU4: 9 | AV4: 7 | AW4: 7 | AX4: 0 | AY4: 7 | AZ4: 6 | BA4: 4 | BB4: 3 | BC4: 5 | BD4: 9 | BE4: 2 | BF4: 4 | BG4: 8 | BH4: 4 | BI4: 4
A5: A1003 | B5: 38 | C5: 0 | D5: 41 | E5: 1 | F5: 60 | G5: 35 | H5: 99 | I5: 43 | J5: 73 | K5: 0 | L5: 32 | M5: 44 | N5: 84 | O5: 0 | P5: 63 | Q5: 52 | R5: 78 | S5: 55 | T5: 36 | U5: 20 | V5: 0 | W5: 40 | X5: 30 | Y5: 92 | Z5: 18 | AA5: 44 | AB5: 0 | AC5: 24 | AD5: 42 | AE5: 58 | AF5: 76 | AG5: 34 | AH5: 4 | AI5: 48 | AJ5: 49 | AK5: 49 | AL5: 15 | AM5: 67 | AN5: 37 | AO5: 55 | AP5: 71 | AQ5: 52 | AR5: 43 | AS5: 95 | AT5: 42 | AU5: 27 | AV5: 38 | AW5: 77 | AX5: 38 | AY5: 50 | AZ5: 68 | BA5: 21 | BB5: 0 | BC5: 43 | BD5: 41 | BE5: 18 | BF5: 59 | BG5: 52 | BH5: 7 | BI5: 50
A6: A1004 | B6: 2 | C6: 1 | D6: 2 | E6: 2 | F6: 2 | G6: 2 | H6: 2 | I6: 2 | J6: 2 | K6: 3 | L6: 2 | M6: 2 | N6: 2 | O6: 3 | P6: 1 | Q6: 2 | R6: 2 | S6: 2 | T6: 3 | U6: 2 | V6: 3 | W6: 2 | X6: 2 | Y6: 2 | Z6: 2 | AA6: 2 | AB6: 2 | AC6: 2 | AD6: 1 | AE6: 3 | AF6: 2 | AG6: 3 | AH6: 1 | AI6: 2 | AJ6: 4 | AK6: 1 | AL6: 1 | AM6: 2 | AN6: 2 | AO6: 2 | AP6: 3 | AQ6: 2 | AR6: 1 | AS6: 2 | AT6: 3 | AU6: 2 | AV6: 1 | AW6: 2 | AX6: 3 | AY6: 3 | AZ6: 2 | BA6: 2 | BB6: 1 | BC6: 1 | BD6: 2 | BE6: 2 | BF6: 2 | BG6: 2 | BH6: 1 | BI6: 2
A7: A1005 | B7: 8 | C7: 26 | D7: 0 | E7: 17 | F7: 24 | G7: 35 | H7: 21 | I7: 30 | J7: 16 | K7: 13 | L7: 13 | M7: 35 | N7: 30 | O7: 25 | P7: 53 | Q7: 20 | R7: 26 | S7: 23 | T7: 18 | U7: 43 | V7: 35 | W7: 6 | X7: 16 | Y7: 24 | Z7: 28 | AA7: 7 | AB7: 0 | AC7: 1 | AD7: 19 | AE7: 19 | AF7: 23 | AG7: 12 | AH7: 8 | AI7: 0 | AJ7: 23 | AK7: 24 | AL7: 30 | AM7: 28 | AN7: 18 | AO7: 33 | AP7: 19 | AQ7: 13 | AR7: 15 | AS7: 14 | AT7: 0 | AU7: 22 | AV7: 22 | AW7: 16 | AX7: 13 | AY7: 24 | AZ7: 37 | BA7: 20 | BB7: 15 | BC7: 14 | BD7: 19 | BE7: 7 | BF7: 19 | BG7: 21 | BH7: 38 | BI7: 29

Sheet 設定
A1: 発注点の計算で使う値
A3: 安全係数 | B3: 1.65 | C3: ← ここを変える。下の表から選ぶ
A4: 発注の間隔（日） | B4: 14 | C4: ← 1回の発注で何日分を持つか
A6: 欠品を許す割合 | B6: 安全係数
A7: 30%（ほぼ切らす） | B7: 0.52
A8: 10% | B8: 1.29
A9: 5% | B9: 1.65
A10: 2% | B10: 2.05
A11: 1% | B11: 2.33
A12: 0.1% | B12: 3.09
A14: 係数を上げると欠品は減るが、在庫金額は増える。両方を見て決める。
A15: 出庫の実績が30日分もないうちは、係数を上げても当たらない。まず実績を溜める。
