Workbook

Sheet 1_上位何%
A1: 自分の年収が上位何%かを、国税庁の給与階級別の表から出す（令和7年分）
A2: 黄色の2つを入れる。年収は額面（税や社会保険料を引く前、通勤手当を除く、賞与を含む）。Microsoft 365のExcel（バージョン16）で確認、2026年10月6日
A4: 年収（万円、額面） | B4: 500 | D4: 区分の平均 | F4: =G27 -> 486.64355 | K4: 中央値の逆算（計算用）
A5: 区分 | B5: 全体 | D5: 区分の中央値（傾けた） | F5: =L12 -> 418.90353 | L5: 傾けた | M5: 均等
A6: 表の列の位置 | B6: =MATCH(B5,'3_国税庁の表'!$E$4:$AH$4,0) -> 1 | D6: 区分の中央値（均等） | F6: =M12 -> 419.63937 | K6: 割合 p | L6: 0.5 | M6: 0.5
D7: 平均より下の人の割合 | F7: =SUMPRODUCT($D$13:$D$25,(($F$4>=$C$13:$C$25)+($F$4>$B$13:$B$25)*($F$4<$C$13:$C$25)*($F$4-$B$13:$B$25)/($C$13:$C$25-$B$13:$B$25))+$H$13:$H$25*((($F$4>=$C$13:$C$25)+($F$4>$B$13:$B$25)*($F$4<$C$13:$C$25)*($F$4-$B$13:$B$25)/($C$13:$C$25-$B$13:$B$25))^2-(($F$4>=$C$13:$C$25)+($F$4>$B$13:$B$25)*($F$4<$C$13:$C$25)*($F$4-$B$13:$B$25)/($C$13:$C$25-$B$13:$B$25))))/$D$27 -> 0.60360545 | K7: 入る区間の番号 | L7: =COUNTIF($F$13:$F$26,"<"&L6)+1 -> 5 | M7: =COUNTIF($F$13:$F$26,"<"&M6)+1 -> 5
A8: 年収が入る区間 | B8: =INDEX(A13:A26,COUNTIF(C13:C25,"<"&B4)+1) -> 400万円超 500万円以下 | D8: 年収と区分の平均の差 | F8: =B4-F4 -> 13.356451 | K8: 区間の中の割合 q | L8: =(L6-IF(L7=1,0,INDEX($F$13:$F$26,L7-1)))/INDEX($E$13:$E$26,L7) -> 0.1963937 | M8: =(M6-IF(M7=1,0,INDEX($F$13:$F$26,M7-1)))/INDEX($E$13:$E$26,M7) -> 0.1963937
A9: 下から何%（この年収以下の人） | B9: =SUMPRODUCT($D$13:$D$25,(($B$4>=$C$13:$C$25)+($B$4>$B$13:$B$25)*($B$4<$C$13:$C$25)*($B$4-$B$13:$B$25)/($C$13:$C$25-$B$13:$B$25))+$H$13:$H$25*((($B$4>=$C$13:$C$25)+($B$4>$B$13:$B$25)*($B$4<$C$13:$C$25)*($B$4-$B$13:$B$25)/($C$13:$C$25-$B$13:$B$25))^2-(($B$4>=$C$13:$C$25)+($B$4>$B$13:$B$25)*($B$4<$C$13:$C$25)*($B$4-$B$13:$B$25)/($C$13:$C$25-$B$13:$B$25))))/$D$27 -> 0.62323625 | K9: 傾き k | L9: =INDEX($H$13:$H$26,L7) -> -0.048 | M9: 0
A10: 上位何% | B10: =IF(B4>2500,"上位"&TEXT(E26,"0.0%")&"以内",1-B9) -> 0.37676375 | K10: 区間の中の位置 t | L10: =IF(ABS(L9)<0.000000001,L8,(-(1-L9)+SQRT((1-L9)^2+4*L9*L8))/(2*L9)) -> 0.18903526 | M10: =IF(ABS(M9)<0.000000001,M8,(-(1-M9)+SQRT((1-M9)^2+4*M9*M8))/(2*M9)) -> 0.1963937
A11: 均等に置いたときの上位何% | B11: =IF(B4>2500,"",1-(SUMPRODUCT($D$13:$D$25,(($B$4>=$C$13:$C$25)+($B$4>$B$13:$B$25)*($B$4<$C$13:$C$25)*($B$4-$B$13:$B$25)/($C$13:$C$25-$B$13:$B$25)))/$D$27)) -> 0.37676375 | K11: その年収（万円） | L11: =INDEX($B$13:$B$26,L7)+L10*(INDEX($C$13:$C$26,L7)-INDEX($B$13:$B$26,L7)) -> 418.90353 | M11: =INDEX($B$13:$B$26,M7)+M10*(INDEX($C$13:$C$26,M7)-INDEX($B$13:$B$26,M7)) -> 419.63937
A12: 給与階級 | B12: 下限 | C12: 上限 | D12: 人数 | E12: 構成比 | F12: 累積（下から） | G12: 区間の平均（万円） | H12: 傾き | I12: 区間の中で年収以下の割合 | K12: 中央値（万円） | L12: =L11 -> 418.90353 | M12: =M11 -> 419.63937
A13: ='3_国税庁の表'!A6 -> 100万円以下 | B13: ='3_国税庁の表'!B6 -> 0 | C13: =IF('3_国税庁の表'!C6="","",'3_国税庁の表'!C6) -> 100 | D13: =INDEX('3_国税庁の表'!$E6:$AH6,$B$6) -> 3703056 | E13: =D13/$D$27 -> 0.071722127 | F13: =SUM($D$13:D13)/$D$27 -> 0.071722127 | G13: =INDEX('3_国税庁の表'!$E6:$AH6,$B$6+2)/10 -> 80.2 | H13: =IF(C13="","",INDEX('3_国税庁の表'!$E6:$AH6,$B$6+4)) -> 1 | I13: =(($B$4>=C13)+($B$4>B13)*($B$4<C13)*($B$4-B13)/(C13-B13))+H13*((($B$4>=C13)+($B$4>B13)*($B$4<C13)*($B$4-B13)/(C13-B13))^2-(($B$4>=C13)+($B$4>B13)*($B$4<C13)*($B$4-B13)/(C13-B13))) -> 1 | K13: p を0.9にすると上位10%の境目、0.75で上位25%の境目が出る
A14: ='3_国税庁の表'!A7 -> 100万円超 200万円以下 | B14: ='3_国税庁の表'!B7 -> 100 | C14: =IF('3_国税庁の表'!C7="","",'3_国税庁の表'!C7) -> 200 | D14: =INDEX('3_国税庁の表'!$E7:$AH7,$B$6) -> 5824931 | E14: =D14/$D$27 -> 0.11281937 | F14: =SUM($D$13:D14)/$D$27 -> 0.18454149 | G14: =INDEX('3_国税庁の表'!$E7:$AH7,$B$6+2)/10 -> 141.5 | H14: =IF(C14="","",INDEX('3_国税庁の表'!$E7:$AH7,$B$6+4)) -> -0.51 | I14: =(($B$4>=C14)+($B$4>B14)*($B$4<C14)*($B$4-B14)/(C14-B14))+H14*((($B$4>=C14)+($B$4>B14)*($B$4<C14)*($B$4-B14)/(C14-B14))^2-(($B$4>=C14)+($B$4>B14)*($B$4<C14)*($B$4-B14)/(C14-B14))) -> 1
A15: ='3_国税庁の表'!A8 -> 200万円超 300万円以下 | B15: ='3_国税庁の表'!B8 -> 200 | C15: =IF('3_国税庁の表'!C8="","",'3_国税庁の表'!C8) -> 300 | D15: =INDEX('3_国税庁の表'!$E8:$AH8,$B$6) -> 6745640 | E15: =D15/$D$27 -> 0.13065199 | F15: =SUM($D$13:D15)/$D$27 -> 0.31519349 | G15: =INDEX('3_国税庁の表'!$E8:$AH8,$B$6+2)/10 -> 252.6 | H15: =IF(C15="","",INDEX('3_国税庁の表'!$E8:$AH8,$B$6+4)) -> 0.156 | I15: =(($B$4>=C15)+($B$4>B15)*($B$4<C15)*($B$4-B15)/(C15-B15))+H15*((($B$4>=C15)+($B$4>B15)*($B$4<C15)*($B$4-B15)/(C15-B15))^2-(($B$4>=C15)+($B$4>B15)*($B$4<C15)*($B$4-B15)/(C15-B15))) -> 1
A16: ='3_国税庁の表'!A9 -> 300万円超 400万円以下 | B16: ='3_国税庁の表'!B9 -> 300 | C16: =IF('3_国税庁の表'!C9="","",'3_国税庁の表'!C9) -> 400 | D16: =INDEX('3_国税庁の表'!$E9:$AH9,$B$6) -> 7986672 | E16: =D16/$D$27 -> 0.15468875 | F16: =SUM($D$13:D16)/$D$27 -> 0.46988224 | G16: =INDEX('3_国税庁の表'!$E9:$AH9,$B$6+2)/10 -> 351.6 | H16: =IF(C16="","",INDEX('3_国税庁の表'!$E9:$AH9,$B$6+4)) -> 0.096 | I16: =(($B$4>=C16)+($B$4>B16)*($B$4<C16)*($B$4-B16)/(C16-B16))+H16*((($B$4>=C16)+($B$4>B16)*($B$4<C16)*($B$4-B16)/(C16-B16))^2-(($B$4>=C16)+($B$4>B16)*($B$4<C16)*($B$4-B16)/(C16-B16))) -> 1
A17: ='3_国税庁の表'!A10 -> 400万円超 500万円以下 | B17: ='3_国税庁の表'!B10 -> 400 | C17: =IF('3_国税庁の表'!C10="","",'3_国税庁の表'!C10) -> 500 | D17: =INDEX('3_国税庁の表'!$E10:$AH10,$B$6) -> 7917759 | E17: =D17/$D$27 -> 0.15335402 | F17: =SUM($D$13:D17)/$D$27 -> 0.62323625 | G17: =INDEX('3_国税庁の表'!$E10:$AH10,$B$6+2)/10 -> 449.2 | H17: =IF(C17="","",INDEX('3_国税庁の表'!$E10:$AH10,$B$6+4)) -> -0.048 | I17: =(($B$4>=C17)+($B$4>B17)*($B$4<C17)*($B$4-B17)/(C17-B17))+H17*((($B$4>=C17)+($B$4>B17)*($B$4<C17)*($B$4-B17)/(C17-B17))^2-(($B$4>=C17)+($B$4>B17)*($B$4<C17)*($B$4-B17)/(C17-B17))) -> 1
A18: ='3_国税庁の表'!A11 -> 500万円超 600万円以下 | B18: ='3_国税庁の表'!B11 -> 500 | C18: =IF('3_国税庁の表'!C11="","",'3_国税庁の表'!C11) -> 600 | D18: =INDEX('3_国税庁の表'!$E11:$AH11,$B$6) -> 6144924 | E18: =D18/$D$27 -> 0.11901711 | F18: =SUM($D$13:D18)/$D$27 -> 0.74225336 | G18: =INDEX('3_国税庁の表'!$E11:$AH11,$B$6+2)/10 -> 547.5 | H18: =IF(C18="","",INDEX('3_国税庁の表'!$E11:$AH11,$B$6+4)) -> -0.15 | I18: =(($B$4>=C18)+($B$4>B18)*($B$4<C18)*($B$4-B18)/(C18-B18))+H18*((($B$4>=C18)+($B$4>B18)*($B$4<C18)*($B$4-B18)/(C18-B18))^2-(($B$4>=C18)+($B$4>B18)*($B$4<C18)*($B$4-B18)/(C18-B18))) -> 0
A19: ='3_国税庁の表'!A12 -> 600万円超 700万円以下 | B19: ='3_国税庁の表'!B12 -> 600 | C19: =IF('3_国税庁の表'!C12="","",'3_国税庁の表'!C12) -> 700 | D19: =INDEX('3_国税庁の表'!$E12:$AH12,$B$6) -> 4035252 | E19: =D19/$D$27 -> 0.078156219 | F19: =SUM($D$13:D19)/$D$27 -> 0.82040958 | G19: =INDEX('3_国税庁の表'!$E12:$AH12,$B$6+2)/10 -> 647.1 | H19: =IF(C19="","",INDEX('3_国税庁の表'!$E12:$AH12,$B$6+4)) -> -0.174 | I19: =(($B$4>=C19)+($B$4>B19)*($B$4<C19)*($B$4-B19)/(C19-B19))+H19*((($B$4>=C19)+($B$4>B19)*($B$4<C19)*($B$4-B19)/(C19-B19))^2-(($B$4>=C19)+($B$4>B19)*($B$4<C19)*($B$4-B19)/(C19-B19))) -> 0
A20: ='3_国税庁の表'!A13 -> 700万円超 800万円以下 | B20: ='3_国税庁の表'!B13 -> 700 | C20: =IF('3_国税庁の表'!C13="","",'3_国税庁の表'!C13) -> 800 | D20: =INDEX('3_国税庁の表'!$E13:$AH13,$B$6) -> 2776867 | E20: =D20/$D$27 -> 0.053783363 | F20: =SUM($D$13:D20)/$D$27 -> 0.87419294 | G20: =INDEX('3_国税庁の表'!$E13:$AH13,$B$6+2)/10 -> 746.8 | H20: =IF(C20="","",INDEX('3_国税庁の表'!$E13:$AH13,$B$6+4)) -> -0.192 | I20: =(($B$4>=C20)+($B$4>B20)*($B$4<C20)*($B$4-B20)/(C20-B20))+H20*((($B$4>=C20)+($B$4>B20)*($B$4<C20)*($B$4-B20)/(C20-B20))^2-(($B$4>=C20)+($B$4>B20)*($B$4<C20)*($B$4-B20)/(C20-B20))) -> 0
A21: ='3_国税庁の表'!A14 -> 800万円超 900万円以下 | B21: ='3_国税庁の表'!B14 -> 800 | C21: =IF('3_国税庁の表'!C14="","",'3_国税庁の表'!C14) -> 900 | D21: =INDEX('3_国税庁の表'!$E14:$AH14,$B$6) -> 1833950 | E21: =D21/$D$27 -> 0.035520606 | F21: =SUM($D$13:D21)/$D$27 -> 0.90971355 | G21: =INDEX('3_国税庁の表'!$E14:$AH14,$B$6+2)/10 -> 848.2 | H21: =IF(C21="","",INDEX('3_国税庁の表'!$E14:$AH14,$B$6+4)) -> -0.108 | I21: =(($B$4>=C21)+($B$4>B21)*($B$4<C21)*($B$4-B21)/(C21-B21))+H21*((($B$4>=C21)+($B$4>B21)*($B$4<C21)*($B$4-B21)/(C21-B21))^2-(($B$4>=C21)+($B$4>B21)*($B$4<C21)*($B$4-B21)/(C21-B21))) -> 0
A22: ='3_国税庁の表'!A15 -> 900万円超 1,000万円以下 | B22: ='3_国税庁の表'!B15 -> 900 | C22: =IF('3_国税庁の表'!C15="","",'3_国税庁の表'!C15) -> 1000 | D22: =INDEX('3_国税庁の表'!$E15:$AH15,$B$6) -> 1266070 | E22: =D22/$D$27 -> 0.024521701 | F22: =SUM($D$13:D22)/$D$27 -> 0.93423525 | G22: =INDEX('3_国税庁の表'!$E15:$AH15,$B$6+2)/10 -> 947.3 | H22: =IF(C22="","",INDEX('3_国税庁の表'!$E15:$AH15,$B$6+4)) -> -0.162 | I22: =(($B$4>=C22)+($B$4>B22)*($B$4<C22)*($B$4-B22)/(C22-B22))+H22*((($B$4>=C22)+($B$4>B22)*($B$4<C22)*($B$4-B22)/(C22-B22))^2-(($B$4>=C22)+($B$4>B22)*($B$4<C22)*($B$4-B22)/(C22-B22))) -> 0
A23: ='3_国税庁の表'!A16 -> 1,000万円超 1,500万円以下 | B23: ='3_国税庁の表'!B16 -> 1000 | C23: =IF('3_国税庁の表'!C16="","",'3_国税庁の表'!C16) -> 1500 | D23: =INDEX('3_国税庁の表'!$E16:$AH16,$B$6) -> 2422426 | E23: =D23/$D$27 -> 0.046918422 | F23: =SUM($D$13:D23)/$D$27 -> 0.98115367 | G23: =INDEX('3_国税庁の表'!$E16:$AH16,$B$6+2)/10 -> 1187.6 | H23: =IF(C23="","",INDEX('3_国税庁の表'!$E16:$AH16,$B$6+4)) -> -0.7488 | I23: =(($B$4>=C23)+($B$4>B23)*($B$4<C23)*($B$4-B23)/(C23-B23))+H23*((($B$4>=C23)+($B$4>B23)*($B$4<C23)*($B$4-B23)/(C23-B23))^2-(($B$4>=C23)+($B$4>B23)*($B$4<C23)*($B$4-B23)/(C23-B23))) -> 0
A24: ='3_国税庁の表'!A17 -> 1,500万円超 2,000万円以下 | B24: ='3_国税庁の表'!B17 -> 1500 | C24: =IF('3_国税庁の表'!C17="","",'3_国税庁の表'!C17) -> 2000 | D24: =INDEX('3_国税庁の表'!$E17:$AH17,$B$6) -> 609530 | E24: =D24/$D$27 -> 0.011805597 | F24: =SUM($D$13:D24)/$D$27 -> 0.99295927 | G24: =INDEX('3_国税庁の表'!$E17:$AH17,$B$6+2)/10 -> 1718.7 | H24: =IF(C24="","",INDEX('3_国税庁の表'!$E17:$AH17,$B$6+4)) -> -0.3756 | I24: =(($B$4>=C24)+($B$4>B24)*($B$4<C24)*($B$4-B24)/(C24-B24))+H24*((($B$4>=C24)+($B$4>B24)*($B$4<C24)*($B$4-B24)/(C24-B24))^2-(($B$4>=C24)+($B$4>B24)*($B$4<C24)*($B$4-B24)/(C24-B24))) -> 0
A25: ='3_国税庁の表'!A18 -> 2,000万円超 2,500万円以下 | B25: ='3_国税庁の表'!B18 -> 2000 | C25: =IF('3_国税庁の表'!C18="","",'3_国税庁の表'!C18) -> 2500 | D25: =INDEX('3_国税庁の表'!$E18:$AH18,$B$6) -> 167273 | E25: =D25/$D$27 -> 0.0032398039 | F25: =SUM($D$13:D25)/$D$27 -> 0.99619908 | G25: =INDEX('3_国税庁の表'!$E18:$AH18,$B$6+2)/10 -> 2221.9 | H25: =IF(C25="","",INDEX('3_国税庁の表'!$E18:$AH18,$B$6+4)) -> -0.3372 | I25: =(($B$4>=C25)+($B$4>B25)*($B$4<C25)*($B$4-B25)/(C25-B25))+H25*((($B$4>=C25)+($B$4>B25)*($B$4<C25)*($B$4-B25)/(C25-B25))^2-(($B$4>=C25)+($B$4>B25)*($B$4<C25)*($B$4-B25)/(C25-B25))) -> 0
A26: ='3_国税庁の表'!A19 -> 2,500万円超 | B26: ='3_国税庁の表'!B19 -> 2500 | C26: =IF('3_国税庁の表'!C19="","",'3_国税庁の表'!C19) | D26: =INDEX('3_国税庁の表'!$E19:$AH19,$B$6) -> 196243 | E26: =D26/$D$27 -> 0.0038009053 | F26: =SUM($D$13:D26)/$D$27 -> 0.99999998 | G26: =INDEX('3_国税庁の表'!$E19:$AH19,$B$6+2)/10 -> 4259.4 | H26: =IF(C26="","",INDEX('3_国税庁の表'!$E19:$AH19,$B$6+4)) | I26: =IF($B$4>2500,"区間の中は不明",0) -> 0
A27: 計 | D27: =INDEX('3_国税庁の表'!$E20:$AH20,$B$6) -> 51630594 | G27: =INDEX('3_国税庁の表'!$E20:$AH20,$B$6+1)/D27*100 -> 486.64355
A29: よくある取り違え
A30: 下限で区間を引く（MATCHの近似一致） | B30: =INDEX(A13:A26,MATCH(B4,B13:B26,1)) -> 500万円超 600万円以下 | E30: =IF(B30=B8,"同じ","区間が1つずれる") -> 区間が1つずれる
A31: 手取りの年収（万円）を入れてしまう | B31: 390 | C31: 上位 | D31: =1-SUMPRODUCT($D$13:$D$25,(($B$31>=$C$13:$C$25)+($B$31>$B$13:$B$25)*($B$31<$C$13:$C$25)*($B$31-$B$13:$B$25)/($C$13:$C$25-$B$13:$B$25))+$H$13:$H$25*((($B$31>=$C$13:$C$25)+($B$31>$B$13:$B$25)*($B$31<$C$13:$C$25)*($B$31-$B$13:$B$25)/($C$13:$C$25-$B$13:$B$25))^2-(($B$31>=$C$13:$C$25)+($B$31>$B$13:$B$25)*($B$31<$C$13:$C$25)*($B$31-$B$13:$B$25)/($C$13:$C$25-$B$13:$B$25))))/$D$27 -> 0.54692315 | E31: 額面との差 | F31: =IF(ISNUMBER(B10),D31-B10,"") -> 0.1701594
A32: 国税庁の表の給与階級は「500万円以下」のように上限で区切ってある。下限で引くと、ちょうど500万円が1つ上の区間に入る。
A33: 国税庁の給与は額面（給与所得控除前の収入金額）。手取りで比べると、上位の割合が実際より大きく（順位が下に）出る。

Sheet 2_区分別
A1: 区分ごとの平均と中央値。中央値は国税庁の表にないので、区間の中の置き方を2通り試した
A2: 1年を通じて勤務した給与所得者。1,000万円超は「1,000万円超 1,500万円以下」から上の4区間
A4: 区分 | B4: 人数 | C4: 平均（万円） | D4: 中央値・傾けた | E4: 中央値・均等 | F4: 平均と中央値の差 | G4: 平均より下の人 | H4: 400万円の上位 | I4: 500万円の上位 | J4: 1,000万円超の人数 | K4: 1,000万円超が受け取る給与 | M4: 区間（傾） | N4: q（傾） | O4: k（傾） | P4: t（傾） | Q4: 区間（均） | R4: q（均）
A5: 全体 | B5: ='3_国税庁の表'!$E$20 -> 51630594 | C5: ='3_国税庁の表'!$F$20/'3_国税庁の表'!$E$20*100 -> 486.64355 | D5: =INDEX('3_国税庁の表'!$B$6:$B$19,M5)+P5*(INDEX('3_国税庁の表'!$C$6:$C$19,M5)-INDEX('3_国税庁の表'!$B$6:$B$19,M5)) -> 418.90353 | E5: =INDEX('3_国税庁の表'!$B$6:$B$19,Q5)+R5*(INDEX('3_国税庁の表'!$C$6:$C$19,Q5)-INDEX('3_国税庁の表'!$B$6:$B$19,Q5)) -> 419.63937 | F5: =C5-D5 -> 67.740023 | G5: =SUMPRODUCT('3_国税庁の表'!$E$6:$E$18,(($C5>='3_国税庁の表'!$C$6:$C$18)+($C5>'3_国税庁の表'!$B$6:$B$18)*($C5<'3_国税庁の表'!$C$6:$C$18)*($C5-'3_国税庁の表'!$B$6:$B$18)/('3_国税庁の表'!$C$6:$C$18-'3_国税庁の表'!$B$6:$B$18))+'3_国税庁の表'!$I$6:$I$18*((($C5>='3_国税庁の表'!$C$6:$C$18)+($C5>'3_国税庁の表'!$B$6:$B$18)*($C5<'3_国税庁の表'!$C$6:$C$18)*($C5-'3_国税庁の表'!$B$6:$B$18)/('3_国税庁の表'!$C$6:$C$18-'3_国税庁の表'!$B$6:$B$18))^2-(($C5>='3_国税庁の表'!$C$6:$C$18)+($C5>'3_国税庁の表'!$B$6:$B$18)*($C5<'3_国税庁の表'!$C$6:$C$18)*($C5-'3_国税庁の表'!$B$6:$B$18)/('3_国税庁の表'!$C$6:$C$18-'3_国税庁の表'!$B$6:$B$18))))/'3_国税庁の表'!$E$20 -> 0.60360545 | H5: =1-SUMPRODUCT('3_国税庁の表'!$E$6:$E$18,((400>='3_国税庁の表'!$C$6:$C$18)+(400>'3_国税庁の表'!$B$6:$B$18)*(400<'3_国税庁の表'!$C$6:$C$18)*(400-'3_国税庁の表'!$B$6:$B$18)/('3_国税庁の表'!$C$6:$C$18-'3_国税庁の表'!$B$6:$B$18))+'3_国税庁の表'!$I$6:$I$18*(((400>='3_国税庁の表'!$C$6:$C$18)+(400>'3_国税庁の表'!$B$6:$B$18)*(400<'3_国税庁の表'!$C$6:$C$18)*(400-'3_国税庁の表'!$B$6:$B$18)/('3_国税庁の表'!$C$6:$C$18-'3_国税庁の表'!$B$6:$B$18))^2-((400>='3_国税庁の表'!$C$6:$C$18)+(400>'3_国税庁の表'!$B$6:$B$18)*(400<'3_国税庁の表'!$C$6:$C$18)*(400-'3_国税庁の表'!$B$6:$B$18)/('3_国税庁の表'!$C$6:$C$18-'3_国税庁の表'!$B$6:$B$18))))/'3_国税庁の表'!$E$20 -> 0.53011776 | I5: =1-SUMPRODUCT('3_国税庁の表'!$E$6:$E$18,((500>='3_国税庁の表'!$C$6:$C$18)+(500>'3_国税庁の表'!$B$6:$B$18)*(500<'3_国税庁の表'!$C$6:$C$18)*(500-'3_国税庁の表'!$B$6:$B$18)/('3_国税庁の表'!$C$6:$C$18-'3_国税庁の表'!$B$6:$B$18))+'3_国税庁の表'!$I$6:$I$18*(((500>='3_国税庁の表'!$C$6:$C$18)+(500>'3_国税庁の表'!$B$6:$B$18)*(500<'3_国税庁の表'!$C$6:$C$18)*(500-'3_国税庁の表'!$B$6:$B$18)/('3_国税庁の表'!$C$6:$C$18-'3_国税庁の表'!$B$6:$B$18))^2-((500>='3_国税庁の表'!$C$6:$C$18)+(500>'3_国税庁の表'!$B$6:$B$18)*(500<'3_国税庁の表'!$C$6:$C$18)*(500-'3_国税庁の表'!$B$6:$B$18)/('3_国税庁の表'!$C$6:$C$18-'3_国税庁の表'!$B$6:$B$18))))/'3_国税庁の表'!$E$20 -> 0.37676375 | J5: =SUM('3_国税庁の表'!E16:E19)/'3_国税庁の表'!$E$20 -> 0.065764729 | K5: =SUM('3_国税庁の表'!F16:F19)/'3_国税庁の表'!F20 -> 0.20425362 | M5: =COUNTIF('3_国税庁の表'!$H$6:$H$19,"<"&0.5)+1 -> 5 | N5: =(0.5-IF(M5=1,0,INDEX('3_国税庁の表'!$H$6:$H$19,M5-1)))*'3_国税庁の表'!$E$20/INDEX('3_国税庁の表'!$E$6:$E$19,M5) -> 0.1963937 | O5: =INDEX('3_国税庁の表'!$I$6:$I$19,M5) -> -0.048 | P5: =IF(ABS(O5)<0.000000001,N5,(-(1-O5)+SQRT((1-O5)^2+4*O5*N5))/(2*O5)) -> 0.18903526 | Q5: =M5 -> 5 | R5: =N5 -> 0.1963937
A6: 男性 | B6: ='3_国税庁の表'!$J$20 -> 29336943 | C6: ='3_国税庁の表'!$K$20/'3_国税庁の表'!$J$20*100 -> 596.68234 | D6: =INDEX('3_国税庁の表'!$B$6:$B$19,M6)+P6*(INDEX('3_国税庁の表'!$C$6:$C$19,M6)-INDEX('3_国税庁の表'!$B$6:$B$19,M6)) -> 512.40633 | E6: =INDEX('3_国税庁の表'!$B$6:$B$19,Q6)+R6*(INDEX('3_国税庁の表'!$C$6:$C$19,Q6)-INDEX('3_国税庁の表'!$B$6:$B$19,Q6)) -> 513.44958 | F6: =C6-D6 -> 84.276009 | G6: =SUMPRODUCT('3_国税庁の表'!$J$6:$J$18,(($C6>='3_国税庁の表'!$C$6:$C$18)+($C6>'3_国税庁の表'!$B$6:$B$18)*($C6<'3_国税庁の表'!$C$6:$C$18)*($C6-'3_国税庁の表'!$B$6:$B$18)/('3_国税庁の表'!$C$6:$C$18-'3_国税庁の表'!$B$6:$B$18))+'3_国税庁の表'!$N$6:$N$18*((($C6>='3_国税庁の表'!$C$6:$C$18)+($C6>'3_国税庁の表'!$B$6:$B$18)*($C6<'3_国税庁の表'!$C$6:$C$18)*($C6-'3_国税庁の表'!$B$6:$B$18)/('3_国税庁の表'!$C$6:$C$18-'3_国税庁の表'!$B$6:$B$18))^2-(($C6>='3_国税庁の表'!$C$6:$C$18)+($C6>'3_国税庁の表'!$B$6:$B$18)*($C6<'3_国税庁の表'!$C$6:$C$18)*($C6-'3_国税庁の表'!$B$6:$B$18)/('3_国税庁の表'!$C$6:$C$18-'3_国税庁の表'!$B$6:$B$18))))/'3_国税庁の表'!$J$20 -> 0.62171216 | H6: =1-SUMPRODUCT('3_国税庁の表'!$J$6:$J$18,((400>='3_国税庁の表'!$C$6:$C$18)+(400>'3_国税庁の表'!$B$6:$B$18)*(400<'3_国税庁の表'!$C$6:$C$18)*(400-'3_国税庁の表'!$B$6:$B$18)/('3_国税庁の表'!$C$6:$C$18-'3_国税庁の表'!$B$6:$B$18))+'3_国税庁の表'!$N$6:$N$18*(((400>='3_国税庁の表'!$C$6:$C$18)+(400>'3_国税庁の表'!$B$6:$B$18)*(400<'3_国税庁の表'!$C$6:$C$18)*(400-'3_国税庁の表'!$B$6:$B$18)/('3_国税庁の表'!$C$6:$C$18-'3_国税庁の表'!$B$6:$B$18))^2-((400>='3_国税庁の表'!$C$6:$C$18)+(400>'3_国税庁の表'!$B$6:$B$18)*(400<'3_国税庁の表'!$C$6:$C$18)*(400-'3_国税庁の表'!$B$6:$B$18)/('3_国税庁の表'!$C$6:$C$18-'3_国税庁の表'!$B$6:$B$18))))/'3_国税庁の表'!$J$20 -> 0.68548526 | I6: =1-SUMPRODUCT('3_国税庁の表'!$J$6:$J$18,((500>='3_国税庁の表'!$C$6:$C$18)+(500>'3_国税庁の表'!$B$6:$B$18)*(500<'3_国税庁の表'!$C$6:$C$18)*(500-'3_国税庁の表'!$B$6:$B$18)/('3_国税庁の表'!$C$6:$C$18-'3_国税庁の表'!$B$6:$B$18))+'3_国税庁の表'!$N$6:$N$18*(((500>='3_国税庁の表'!$C$6:$C$18)+(500>'3_国税庁の表'!$B$6:$B$18)*(500<'3_国税庁の表'!$C$6:$C$18)*(500-'3_国税庁の表'!$B$6:$B$18)/('3_国税庁の表'!$C$6:$C$18-'3_国税庁の表'!$B$6:$B$18))^2-((500>='3_国税庁の表'!$C$6:$C$18)+(500>'3_国税庁の表'!$B$6:$B$18)*(500<'3_国税庁の表'!$C$6:$C$18)*(500-'3_国税庁の表'!$B$6:$B$18)/('3_国税庁の表'!$C$6:$C$18-'3_国税庁の表'!$B$6:$B$18))))/'3_国税庁の表'!$J$20 -> 0.51959497 | J6: =SUM('3_国税庁の表'!J16:J19)/'3_国税庁の表'!$J$20 -> 0.10220741 | K6: =SUM('3_国税庁の表'!K16:K19)/'3_国税庁の表'!K20 -> 0.26063048 | M6: =COUNTIF('3_国税庁の表'!$M$6:$M$19,"<"&0.5)+1 -> 6 | N6: =(0.5-IF(M6=1,0,INDEX('3_国税庁の表'!$M$6:$M$19,M6-1)))*'3_国税庁の表'!$J$20/INDEX('3_国税庁の表'!$J$6:$J$19,M6) -> 0.13449578 | O6: =INDEX('3_国税庁の表'!$N$6:$N$19,M6) -> -0.096 | P6: =IF(ABS(O6)<0.000000001,N6,(-(1-O6)+SQRT((1-O6)^2+4*O6*N6))/(2*O6)) -> 0.12406331 | Q6: =M6 -> 6 | R6: =N6 -> 0.13449578
A7: 女性 | B7: ='3_国税庁の表'!$O$20 -> 22293651 | C7: ='3_国税庁の表'!$P$20/'3_国税庁の表'!$O$20*100 -> 341.83992 | D7: =INDEX('3_国税庁の表'!$B$6:$B$19,M7)+P7*(INDEX('3_国税庁の表'!$C$6:$C$19,M7)-INDEX('3_国税庁の表'!$B$6:$B$19,M7)) -> 303.43195 | E7: =INDEX('3_国税庁の表'!$B$6:$B$19,Q7)+R7*(INDEX('3_国税庁の表'!$C$6:$C$19,Q7)-INDEX('3_国税庁の表'!$B$6:$B$19,Q7)) -> 303.71034 | F7: =C7-D7 -> 38.407971 | G7: =SUMPRODUCT('3_国税庁の表'!$O$6:$O$18,(($C7>='3_国税庁の表'!$C$6:$C$18)+($C7>'3_国税庁の表'!$B$6:$B$18)*($C7<'3_国税庁の表'!$C$6:$C$18)*($C7-'3_国税庁の表'!$B$6:$B$18)/('3_国税庁の表'!$C$6:$C$18-'3_国税庁の表'!$B$6:$B$18))+'3_国税庁の表'!$S$6:$S$18*((($C7>='3_国税庁の表'!$C$6:$C$18)+($C7>'3_国税庁の表'!$B$6:$B$18)*($C7<'3_国税庁の表'!$C$6:$C$18)*($C7-'3_国税庁の表'!$B$6:$B$18)/('3_国税庁の表'!$C$6:$C$18-'3_国税庁の表'!$B$6:$B$18))^2-(($C7>='3_国税庁の表'!$C$6:$C$18)+($C7>'3_国税庁の表'!$B$6:$B$18)*($C7<'3_国税庁の表'!$C$6:$C$18)*($C7-'3_国税庁の表'!$B$6:$B$18)/('3_国税庁の表'!$C$6:$C$18-'3_国税庁の表'!$B$6:$B$18))))/'3_国税庁の表'!$O$20 -> 0.57273561 | H7: =1-SUMPRODUCT('3_国税庁の表'!$O$6:$O$18,((400>='3_国税庁の表'!$C$6:$C$18)+(400>'3_国税庁の表'!$B$6:$B$18)*(400<'3_国税庁の表'!$C$6:$C$18)*(400-'3_国税庁の表'!$B$6:$B$18)/('3_国税庁の表'!$C$6:$C$18-'3_国税庁の表'!$B$6:$B$18))+'3_国税庁の表'!$S$6:$S$18*(((400>='3_国税庁の表'!$C$6:$C$18)+(400>'3_国税庁の表'!$B$6:$B$18)*(400<'3_国税庁の表'!$C$6:$C$18)*(400-'3_国税庁の表'!$B$6:$B$18)/('3_国税庁の表'!$C$6:$C$18-'3_国税庁の表'!$B$6:$B$18))^2-((400>='3_国税庁の表'!$C$6:$C$18)+(400>'3_国税庁の表'!$B$6:$B$18)*(400<'3_国税庁の表'!$C$6:$C$18)*(400-'3_国税庁の表'!$B$6:$B$18)/('3_国税庁の表'!$C$6:$C$18-'3_国税庁の表'!$B$6:$B$18))))/'3_国税庁の表'!$O$20 -> 0.32566465 | I7: =1-SUMPRODUCT('3_国税庁の表'!$O$6:$O$18,((500>='3_国税庁の表'!$C$6:$C$18)+(500>'3_国税庁の表'!$B$6:$B$18)*(500<'3_国税庁の表'!$C$6:$C$18)*(500-'3_国税庁の表'!$B$6:$B$18)/('3_国税庁の表'!$C$6:$C$18-'3_国税庁の表'!$B$6:$B$18))+'3_国税庁の表'!$S$6:$S$18*(((500>='3_国税庁の表'!$C$6:$C$18)+(500>'3_国税庁の表'!$B$6:$B$18)*(500<'3_国税庁の表'!$C$6:$C$18)*(500-'3_国税庁の表'!$B$6:$B$18)/('3_国税庁の表'!$C$6:$C$18-'3_国税庁の表'!$B$6:$B$18))^2-((500>='3_国税庁の表'!$C$6:$C$18)+(500>'3_国税庁の表'!$B$6:$B$18)*(500<'3_国税庁の表'!$C$6:$C$18)*(500-'3_国税庁の表'!$B$6:$B$18)/('3_国税庁の表'!$C$6:$C$18-'3_国税庁の表'!$B$6:$B$18))))/'3_国税庁の表'!$O$20 -> 0.18880757 | J7: =SUM('3_国税庁の表'!O16:O19)/'3_国税庁の表'!$O$20 -> 0.017808703 | K7: =SUM('3_国税庁の表'!P16:P19)/'3_国税庁の表'!P20 -> 0.074758021 | M7: =COUNTIF('3_国税庁の表'!$R$6:$R$19,"<"&0.5)+1 -> 4 | N7: =(0.5-IF(M7=1,0,INDEX('3_国税庁の表'!$R$6:$R$19,M7-1)))*'3_国税庁の表'!$O$20/INDEX('3_国税庁の表'!$O$6:$O$19,M7) -> 0.037103356 | O7: =INDEX('3_国税庁の表'!$S$6:$S$19,M7) -> -0.084 | P7: =IF(ABS(O7)<0.000000001,N7,(-(1-O7)+SQRT((1-O7)^2+4*O7*N7))/(2*O7)) -> 0.034319459 | Q7: =M7 -> 4 | R7: =N7 -> 0.037103356
A8: 正社員 | B8: ='3_国税庁の表'!$T$20 -> 34224958 | C8: ='3_国税庁の表'!$U$20/'3_国税庁の表'!$T$20*100 -> 559.29163 | D8: =INDEX('3_国税庁の表'!$B$6:$B$19,M8)+P8*(INDEX('3_国税庁の表'!$C$6:$C$19,M8)-INDEX('3_国税庁の表'!$B$6:$B$19,M8)) -> 495.21163 | E8: =INDEX('3_国税庁の表'!$B$6:$B$19,Q8)+R8*(INDEX('3_国税庁の表'!$C$6:$C$19,Q8)-INDEX('3_国税庁の表'!$B$6:$B$19,Q8)) -> 495.3484 | F8: =C8-D8 -> 64.080002 | G8: =SUMPRODUCT('3_国税庁の表'!$T$6:$T$18,(($C8>='3_国税庁の表'!$C$6:$C$18)+($C8>'3_国税庁の表'!$B$6:$B$18)*($C8<'3_国税庁の表'!$C$6:$C$18)*($C8-'3_国税庁の表'!$B$6:$B$18)/('3_国税庁の表'!$C$6:$C$18-'3_国税庁の表'!$B$6:$B$18))+'3_国税庁の表'!$X$6:$X$18*((($C8>='3_国税庁の表'!$C$6:$C$18)+($C8>'3_国税庁の表'!$B$6:$B$18)*($C8<'3_国税庁の表'!$C$6:$C$18)*($C8-'3_国税庁の表'!$B$6:$B$18)/('3_国税庁の表'!$C$6:$C$18-'3_国税庁の表'!$B$6:$B$18))^2-(($C8>='3_国税庁の表'!$C$6:$C$18)+($C8>'3_国税庁の表'!$B$6:$B$18)*($C8<'3_国税庁の表'!$C$6:$C$18)*($C8-'3_国税庁の表'!$B$6:$B$18)/('3_国税庁の表'!$C$6:$C$18-'3_国税庁の表'!$B$6:$B$18))))/'3_国税庁の表'!$T$20 -> 0.61306677 | H8: =1-SUMPRODUCT('3_国税庁の表'!$T$6:$T$18,((400>='3_国税庁の表'!$C$6:$C$18)+(400>'3_国税庁の表'!$B$6:$B$18)*(400<'3_国税庁の表'!$C$6:$C$18)*(400-'3_国税庁の表'!$B$6:$B$18)/('3_国税庁の表'!$C$6:$C$18-'3_国税庁の表'!$B$6:$B$18))+'3_国税庁の表'!$X$6:$X$18*(((400>='3_国税庁の表'!$C$6:$C$18)+(400>'3_国税庁の表'!$B$6:$B$18)*(400<'3_国税庁の表'!$C$6:$C$18)*(400-'3_国税庁の表'!$B$6:$B$18)/('3_国税庁の表'!$C$6:$C$18-'3_国税庁の表'!$B$6:$B$18))^2-((400>='3_国税庁の表'!$C$6:$C$18)+(400>'3_国税庁の表'!$B$6:$B$18)*(400<'3_国税庁の表'!$C$6:$C$18)*(400-'3_国税庁の表'!$B$6:$B$18)/('3_国税庁の表'!$C$6:$C$18-'3_国税庁の表'!$B$6:$B$18))))/'3_国税庁の表'!$T$20 -> 0.6934017 | I8: =1-SUMPRODUCT('3_国税庁の表'!$T$6:$T$18,((500>='3_国税庁の表'!$C$6:$C$18)+(500>'3_国税庁の表'!$B$6:$B$18)*(500<'3_国税庁の表'!$C$6:$C$18)*(500-'3_国税庁の表'!$B$6:$B$18)/('3_国税庁の表'!$C$6:$C$18-'3_国税庁の表'!$B$6:$B$18))+'3_国税庁の表'!$X$6:$X$18*(((500>='3_国税庁の表'!$C$6:$C$18)+(500>'3_国税庁の表'!$B$6:$B$18)*(500<'3_国税庁の表'!$C$6:$C$18)*(500-'3_国税庁の表'!$B$6:$B$18)/('3_国税庁の表'!$C$6:$C$18-'3_国税庁の表'!$B$6:$B$18))^2-((500>='3_国税庁の表'!$C$6:$C$18)+(500>'3_国税庁の表'!$B$6:$B$18)*(500<'3_国税庁の表'!$C$6:$C$18)*(500-'3_国税庁の表'!$B$6:$B$18)/('3_国税庁の表'!$C$6:$C$18-'3_国税庁の表'!$B$6:$B$18))))/'3_国税庁の表'!$T$20 -> 0.49056484 | J8: =SUM('3_国税庁の表'!T16:T19)/'3_国税庁の表'!$T$20 -> 0.070401664 | K8: =SUM('3_国税庁の表'!U16:U19)/'3_国税庁の表'!U20 -> 0.16965216 | M8: =COUNTIF('3_国税庁の表'!$W$6:$W$19,"<"&0.5)+1 -> 5 | N8: =(0.5-IF(M8=1,0,INDEX('3_国税庁の表'!$W$6:$W$19,M8-1)))*'3_国税庁の表'!$T$20/INDEX('3_国税庁の表'!$T$6:$T$19,M8) -> 0.95348399 | O8: =INDEX('3_国税庁の表'!$X$6:$X$19,M8) -> -0.03 | P8: =IF(ABS(O8)<0.000000001,N8,(-(1-O8)+SQRT((1-O8)^2+4*O8*N8))/(2*O8)) -> 0.95211626 | Q8: =M8 -> 5 | R8: =N8 -> 0.95348399
A9: 正社員以外 | B9: ='3_国税庁の表'!$Y$20 -> 13047003 | C9: ='3_国税庁の表'!$Z$20/'3_国税庁の表'!$Y$20*100 -> 209.46114 | D9: =INDEX('3_国税庁の表'!$B$6:$B$19,M9)+P9*(INDEX('3_国税庁の表'!$C$6:$C$19,M9)-INDEX('3_国税庁の表'!$B$6:$B$19,M9)) -> 163.93364 | E9: =INDEX('3_国税庁の表'!$B$6:$B$19,Q9)+R9*(INDEX('3_国税庁の表'!$C$6:$C$19,Q9)-INDEX('3_国税庁の表'!$B$6:$B$19,Q9)) -> 179.42897 | F9: =C9-D9 -> 45.527502 | G9: =SUMPRODUCT('3_国税庁の表'!$Y$6:$Y$18,(($C9>='3_国税庁の表'!$C$6:$C$18)+($C9>'3_国税庁の表'!$B$6:$B$18)*($C9<'3_国税庁の表'!$C$6:$C$18)*($C9-'3_国税庁の表'!$B$6:$B$18)/('3_国税庁の表'!$C$6:$C$18-'3_国税庁の表'!$B$6:$B$18))+'3_国税庁の表'!$AC$6:$AC$18*((($C9>='3_国税庁の表'!$C$6:$C$18)+($C9>'3_国税庁の表'!$B$6:$B$18)*($C9<'3_国税庁の表'!$C$6:$C$18)*($C9-'3_国税庁の表'!$B$6:$B$18)/('3_国税庁の表'!$C$6:$C$18-'3_国税庁の表'!$B$6:$B$18))^2-(($C9>='3_国税庁の表'!$C$6:$C$18)+($C9>'3_国税庁の表'!$B$6:$B$18)*($C9<'3_国税庁の表'!$C$6:$C$18)*($C9-'3_国税庁の表'!$B$6:$B$18)/('3_国税庁の表'!$C$6:$C$18-'3_国税庁の表'!$B$6:$B$18))))/'3_国税庁の表'!$Y$20 -> 0.59703542 | H9: =1-SUMPRODUCT('3_国税庁の表'!$Y$6:$Y$18,((400>='3_国税庁の表'!$C$6:$C$18)+(400>'3_国税庁の表'!$B$6:$B$18)*(400<'3_国税庁の表'!$C$6:$C$18)*(400-'3_国税庁の表'!$B$6:$B$18)/('3_国税庁の表'!$C$6:$C$18-'3_国税庁の表'!$B$6:$B$18))+'3_国税庁の表'!$AC$6:$AC$18*(((400>='3_国税庁の表'!$C$6:$C$18)+(400>'3_国税庁の表'!$B$6:$B$18)*(400<'3_国税庁の表'!$C$6:$C$18)*(400-'3_国税庁の表'!$B$6:$B$18)/('3_国税庁の表'!$C$6:$C$18-'3_国税庁の表'!$B$6:$B$18))^2-((400>='3_国税庁の表'!$C$6:$C$18)+(400>'3_国税庁の表'!$B$6:$B$18)*(400<'3_国税庁の表'!$C$6:$C$18)*(400-'3_国税庁の表'!$B$6:$B$18)/('3_国税庁の表'!$C$6:$C$18-'3_国税庁の表'!$B$6:$B$18))))/'3_国税庁の表'!$Y$20 -> 0.07946208 | I9: =1-SUMPRODUCT('3_国税庁の表'!$Y$6:$Y$18,((500>='3_国税庁の表'!$C$6:$C$18)+(500>'3_国税庁の表'!$B$6:$B$18)*(500<'3_国税庁の表'!$C$6:$C$18)*(500-'3_国税庁の表'!$B$6:$B$18)/('3_国税庁の表'!$C$6:$C$18-'3_国税庁の表'!$B$6:$B$18))+'3_国税庁の表'!$AC$6:$AC$18*(((500>='3_国税庁の表'!$C$6:$C$18)+(500>'3_国税庁の表'!$B$6:$B$18)*(500<'3_国税庁の表'!$C$6:$C$18)*(500-'3_国税庁の表'!$B$6:$B$18)/('3_国税庁の表'!$C$6:$C$18-'3_国税庁の表'!$B$6:$B$18))^2-((500>='3_国税庁の表'!$C$6:$C$18)+(500>'3_国税庁の表'!$B$6:$B$18)*(500<'3_国税庁の表'!$C$6:$C$18)*(500-'3_国税庁の表'!$B$6:$B$18)/('3_国税庁の表'!$C$6:$C$18-'3_国税庁の表'!$B$6:$B$18))))/'3_国税庁の表'!$Y$20 -> 0.039848385 | J9: =SUM('3_国税庁の表'!Y16:Y19)/'3_国税庁の表'!$Y$20 -> 0.0052871912 | K9: =SUM('3_国税庁の表'!Z16:Z19)/'3_国税庁の表'!Z20 -> 0.037641134 | M9: =COUNTIF('3_国税庁の表'!$AB$6:$AB$19,"<"&0.5)+1 -> 2 | N9: =(0.5-IF(M9=1,0,INDEX('3_国税庁の表'!$AB$6:$AB$19,M9-1)))*'3_国税庁の表'!$Y$20/INDEX('3_国税庁の表'!$Y$6:$Y$19,M9) -> 0.79428974 | O9: =INDEX('3_国税庁の表'!$AC$6:$AC$19,M9) -> -0.672 | P9: =IF(ABS(O9)<0.000000001,N9,(-(1-O9)+SQRT((1-O9)^2+4*O9*N9))/(2*O9)) -> 0.63933637 | Q9: =M9 -> 2 | R9: =N9 -> 0.79428974
A10: 役員 | B10: ='3_国税庁の表'!$AD$20 -> 3971439 | C10: ='3_国税庁の表'!$AE$20/'3_国税庁の表'!$AD$20*100 -> 786.26672 | D10: =INDEX('3_国税庁の表'!$B$6:$B$19,M10)+P10*(INDEX('3_国税庁の表'!$C$6:$C$19,M10)-INDEX('3_国税庁の表'!$B$6:$B$19,M10)) -> 540.48258 | E10: =INDEX('3_国税庁の表'!$B$6:$B$19,Q10)+R10*(INDEX('3_国税庁の表'!$C$6:$C$19,Q10)-INDEX('3_国税庁の表'!$B$6:$B$19,Q10)) -> 525.30324 | F10: =C10-D10 -> 245.78414 | G10: =SUMPRODUCT('3_国税庁の表'!$AD$6:$AD$18,(($C10>='3_国税庁の表'!$C$6:$C$18)+($C10>'3_国税庁の表'!$B$6:$B$18)*($C10<'3_国税庁の表'!$C$6:$C$18)*($C10-'3_国税庁の表'!$B$6:$B$18)/('3_国税庁の表'!$C$6:$C$18-'3_国税庁の表'!$B$6:$B$18))+'3_国税庁の表'!$AH$6:$AH$18*((($C10>='3_国税庁の表'!$C$6:$C$18)+($C10>'3_国税庁の表'!$B$6:$B$18)*($C10<'3_国税庁の表'!$C$6:$C$18)*($C10-'3_国税庁の表'!$B$6:$B$18)/('3_国税庁の表'!$C$6:$C$18-'3_国税庁の表'!$B$6:$B$18))^2-(($C10>='3_国税庁の表'!$C$6:$C$18)+($C10>'3_国税庁の表'!$B$6:$B$18)*($C10<'3_国税庁の表'!$C$6:$C$18)*($C10-'3_国税庁の表'!$B$6:$B$18)/('3_国税庁の表'!$C$6:$C$18-'3_国税庁の表'!$B$6:$B$18))))/'3_国税庁の表'!$AD$20 -> 0.67726318 | H10: =1-SUMPRODUCT('3_国税庁の表'!$AD$6:$AD$18,((400>='3_国税庁の表'!$C$6:$C$18)+(400>'3_国税庁の表'!$B$6:$B$18)*(400<'3_国税庁の表'!$C$6:$C$18)*(400-'3_国税庁の表'!$B$6:$B$18)/('3_国税庁の表'!$C$6:$C$18-'3_国税庁の表'!$B$6:$B$18))+'3_国税庁の表'!$AH$6:$AH$18*(((400>='3_国税庁の表'!$C$6:$C$18)+(400>'3_国税庁の表'!$B$6:$B$18)*(400<'3_国税庁の表'!$C$6:$C$18)*(400-'3_国税庁の表'!$B$6:$B$18)/('3_国税庁の表'!$C$6:$C$18-'3_国税庁の表'!$B$6:$B$18))^2-((400>='3_国税庁の表'!$C$6:$C$18)+(400>'3_国税庁の表'!$B$6:$B$18)*(400<'3_国税庁の表'!$C$6:$C$18)*(400-'3_国税庁の表'!$B$6:$B$18)/('3_国税庁の表'!$C$6:$C$18-'3_国税庁の表'!$B$6:$B$18))))/'3_国税庁の表'!$AD$20 -> 0.63001748 | I10: =1-SUMPRODUCT('3_国税庁の表'!$AD$6:$AD$18,((500>='3_国税庁の表'!$C$6:$C$18)+(500>'3_国税庁の表'!$B$6:$B$18)*(500<'3_国税庁の表'!$C$6:$C$18)*(500-'3_国税庁の表'!$B$6:$B$18)/('3_国税庁の表'!$C$6:$C$18-'3_国税庁の表'!$B$6:$B$18))+'3_国税庁の表'!$AH$6:$AH$18*(((500>='3_国税庁の表'!$C$6:$C$18)+(500>'3_国税庁の表'!$B$6:$B$18)*(500<'3_国税庁の表'!$C$6:$C$18)*(500-'3_国税庁の表'!$B$6:$B$18)/('3_国税庁の表'!$C$6:$C$18-'3_国税庁の表'!$B$6:$B$18))^2-((500>='3_国税庁の表'!$C$6:$C$18)+(500>'3_国税庁の表'!$B$6:$B$18)*(500<'3_国税庁の表'!$C$6:$C$18)*(500-'3_国税庁の表'!$B$6:$B$18)/('3_国税庁の表'!$C$6:$C$18-'3_国税庁の表'!$B$6:$B$18))))/'3_国税庁の表'!$AD$20 -> 0.5240574 | J10: =SUM('3_国税庁の表'!AD16:AD19)/'3_国税庁の表'!$AD$20 -> 0.22948433 | K10: =SUM('3_国税庁の表'!AE16:AE19)/'3_国税庁の表'!AE20 -> 0.56812965 | M10: =COUNTIF('3_国税庁の表'!$AG$6:$AG$19,"<"&0.5)+1 -> 6 | N10: =(0.5-IF(M10=1,0,INDEX('3_国税庁の表'!$AG$6:$AG$19,M10-1)))*'3_国税庁の表'!$AD$20/INDEX('3_国税庁の表'!$AD$6:$AD$19,M10) -> 0.25303239 | O10: =INDEX('3_国税庁の表'!$AH$6:$AH$19,M10) -> 0.63 | P10: =IF(ABS(O10)<0.000000001,N10,(-(1-O10)+SQRT((1-O10)^2+4*O10*N10))/(2*O10)) -> 0.40482576 | Q10: =M10 -> 6 | R10: =N10 -> 0.25303239
A12: 役員を除いた平均
A13: 全体から役員を引く | C13: =('3_国税庁の表'!F20-'3_国税庁の表'!AE20)/('3_国税庁の表'!E20-'3_国税庁の表'!AD20)*100 -> 461.67594 | D13: 全体との差 | E13: =C13-C5 -> -24.967609
A14: 正社員と正社員以外だけ | C14: =('3_国税庁の表'!U20+'3_国税庁の表'!Z20)/('3_国税庁の表'!T20+'3_国税庁の表'!Y20)*100 -> 462.73884 | D14: 全体との差 | E14: =C14-C5 -> -23.904705
A15: どの区分にも入らない人数 | C15: ='3_国税庁の表'!E20-'3_国税庁の表'!T20-'3_国税庁の表'!Y20-'3_国税庁の表'!AD20 -> 387194
A16: 正社員・正社員以外・役員の定義は国税庁の用語の説明による。3つを足しても全体に38万7,194人足りない。青色事業専従者などが入っていると思うが、内訳は確認していない

Sheet 3_国税庁の表
A1: 国税庁「令和7年分 民間給与実態統計調査」の数字。1年を通じて勤務した給与所得者
A2: 出典: https://www.nta.go.jp/publication/statistics/kokuzeicho/minkan2025/minkan.htm（2026年10月6日に取得）。人数は人、給与総額は百万円、平均給与は千円。表のとおりに写した
A3: 累積構成比と傾きは、この表で足した計算の列。灰色の列は手で直さない
E4: 全体 | J4: 男性 | O4: 女性 | T4: 正社員 | Y4: 正社員以外 | AD4: 役員
A5: 給与階級 | B5: 下限（万円） | C5: 上限（万円） | D5: 幅 | E5: 人数 | F5: 給与総額 | G5: 平均給与 | H5: 累積構成比 | I5: 傾き | J5: 人数 | K5: 給与総額 | L5: 平均給与 | M5: 累積構成比 | N5: 傾き | O5: 人数 | P5: 給与総額 | Q5: 平均給与 | R5: 累積構成比 | S5: 傾き | T5: 人数 | U5: 給与総額 | V5: 平均給与 | W5: 累積構成比 | X5: 傾き | Y5: 人数 | Z5: 給与総額 | AA5: 平均給与 | AB5: 累積構成比 | AC5: 傾き | AD5: 人数 | AE5: 給与総額 | AF5: 平均給与 | AG5: 累積構成比 | AH5: 傾き
A6: 100万円以下 | B6: 0 | C6: 100 | D6: =IF(C6="","",C6-B6) -> 100 | E6: 3703056 | F6: 2969144 | G6: 802 | H6: =SUM(E$6:E6)/E$20 -> 0.071722127 | I6: =IF($C6="","",MAX(-1,MIN(1,6*(G6/10-($B6+$C6)/2)/$D6))) -> 1 | J6: 1007183 | K6: 774261 | L6: 769 | M6: =SUM(J$6:J6)/J$20 -> 0.034331559 | N6: =IF($C6="","",MAX(-1,MIN(1,6*(L6/10-($B6+$C6)/2)/$D6))) -> 1 | O6: 2695873 | P6: 2194883 | Q6: 814 | R6: =SUM(O$6:O6)/O$20 -> 0.12092559 | S6: =IF($C6="","",MAX(-1,MIN(1,6*(Q6/10-($B6+$C6)/2)/$D6))) -> 1 | T6: 346958 | U6: 283246 | V6: 816 | W6: =SUM(T$6:T6)/T$20 -> 0.010137573 | X6: =IF($C6="","",MAX(-1,MIN(1,6*(V6/10-($B6+$C6)/2)/$D6))) -> 1 | Y6: 3062600 | Z6: 2450547 | AA6: 800 | AB6: =SUM(Y$6:Y6)/Y$20 -> 0.2347359 | AC6: =IF($C6="","",MAX(-1,MIN(1,6*(AA6/10-($B6+$C6)/2)/$D6))) -> 1 | AD6: 256426 | AE6: 202841 | AF6: 791 | AG6: =SUM(AD$6:AD6)/AD$20 -> 0.064567528 | AH6: =IF($C6="","",MAX(-1,MIN(1,6*(AF6/10-($B6+$C6)/2)/$D6))) -> 1
A7: 100万円超 200万円以下 | B7: 100 | C7: 200 | D7: =IF(C7="","",C7-B7) -> 100 | E7: 5824931 | F7: 8240083 | G7: 1415 | H7: =SUM(E$6:E7)/E$20 -> 0.18454149 | I7: =IF($C7="","",MAX(-1,MIN(1,6*(G7/10-($B7+$C7)/2)/$D7))) -> -0.51 | J7: 1694040 | K7: 2486080 | L7: 1468 | M7: =SUM(J$6:J7)/J$20 -> 0.092075817 | N7: =IF($C7="","",MAX(-1,MIN(1,6*(L7/10-($B7+$C7)/2)/$D7))) -> -0.192 | O7: 4130890 | P7: 5754003 | Q7: 1393 | R7: =SUM(O$6:O7)/O$20 -> 0.30622005 | S7: =IF($C7="","",MAX(-1,MIN(1,6*(Q7/10-($B7+$C7)/2)/$D7))) -> -0.642 | T7: 977792 | U7: 1478888 | V7: 1512 | W7: =SUM(T$6:T7)/T$20 -> 0.038707133 | X7: =IF($C7="","",MAX(-1,MIN(1,6*(V7/10-($B7+$C7)/2)/$D7))) -> 0.072 | Y7: 4357228 | Z7: 6049099 | AA7: 1388 | AB7: =SUM(Y$6:Y7)/Y$20 -> 0.5686998 | AC7: =IF($C7="","",MAX(-1,MIN(1,6*(AA7/10-($B7+$C7)/2)/$D7))) -> -0.672 | AD7: 408823 | AE7: 585696 | AF7: 1433 | AG7: =SUM(AD$6:AD7)/AD$20 -> 0.1675083 | AH7: =IF($C7="","",MAX(-1,MIN(1,6*(AF7/10-($B7+$C7)/2)/$D7))) -> -0.402
A8: 200万円超 300万円以下 | B8: 200 | C8: 300 | D8: =IF(C8="","",C8-B8) -> 100 | E8: 6745640 | F8: 17041652 | G8: 2526 | H8: =SUM(E$6:E8)/E$20 -> 0.31519349 | I8: =IF($C8="","",MAX(-1,MIN(1,6*(G8/10-($B8+$C8)/2)/$D8))) -> 0.156 | J8: 2575339 | K8: 6565275 | L8: 2549 | M8: =SUM(J$6:J8)/J$20 -> 0.17986066 | N8: =IF($C8="","",MAX(-1,MIN(1,6*(L8/10-($B8+$C8)/2)/$D8))) -> 0.294 | O8: 4170301 | P8: 10476377 | Q8: 2512 | R8: =SUM(O$6:O8)/O$20 -> 0.49328233 | S8: =IF($C8="","",MAX(-1,MIN(1,6*(Q8/10-($B8+$C8)/2)/$D8))) -> 0.072 | T8: 2967752 | U8: 7689213 | V8: 2591 | W8: =SUM(T$6:T8)/T$20 -> 0.12542023 | X8: =IF($C8="","",MAX(-1,MIN(1,6*(V8/10-($B8+$C8)/2)/$D8))) -> 0.546 | Y8: 3268340 | Z8: 8054778 | AA8: 2464 | AB8: =SUM(Y$6:Y8)/Y$20 -> 0.81920484 | AC8: =IF($C8="","",MAX(-1,MIN(1,6*(AA8/10-($B8+$C8)/2)/$D8))) -> -0.216 | AD8: 408514 | AE8: 1040334 | AF8: 2547 | AG8: =SUM(AD$6:AD8)/AD$20 -> 0.27037127 | AH8: =IF($C8="","",MAX(-1,MIN(1,6*(AF8/10-($B8+$C8)/2)/$D8))) -> 0.282
A9: 300万円超 400万円以下 | B9: 300 | C9: 400 | D9: =IF(C9="","",C9-B9) -> 100 | E9: 7986672 | F9: 28077388 | G9: 3516 | H9: =SUM(E$6:E9)/E$20 -> 0.46988224 | I9: =IF($C9="","",MAX(-1,MIN(1,6*(G9/10-($B9+$C9)/2)/$D9))) -> 0.096 | J9: 3950339 | K9: 14005696 | L9: 3545 | M9: =SUM(J$6:J9)/J$20 -> 0.31451474 | N9: =IF($C9="","",MAX(-1,MIN(1,6*(L9/10-($B9+$C9)/2)/$D9))) -> 0.27 | O9: 4036333 | P9: 14071692 | Q9: 3486 | R9: =SUM(O$6:O9)/O$20 -> 0.67433535 | S9: =IF($C9="","",MAX(-1,MIN(1,6*(Q9/10-($B9+$C9)/2)/$D9))) -> -0.084 | T9: 6200812 | U9: 21913568 | V9: 3534 | W9: =SUM(T$6:T9)/T$20 -> 0.3065983 | X9: =IF($C9="","",MAX(-1,MIN(1,6*(V9/10-($B9+$C9)/2)/$D9))) -> 0.204 | Y9: 1322093 | Z9: 4517254 | AA9: 3417 | AB9: =SUM(Y$6:Y9)/Y$20 -> 0.92053792 | AC9: =IF($C9="","",MAX(-1,MIN(1,6*(AA9/10-($B9+$C9)/2)/$D9))) -> -0.498 | AD9: 395600 | AE9: 1404393 | AF9: 3550 | AG9: =SUM(AD$6:AD9)/AD$20 -> 0.36998252 | AH9: =IF($C9="","",MAX(-1,MIN(1,6*(AF9/10-($B9+$C9)/2)/$D9))) -> 0.3
A10: 400万円超 500万円以下 | B10: 400 | C10: 500 | D10: =IF(C10="","",C10-B10) -> 100 | E10: 7917759 | F10: 35566924 | G10: 4492 | H10: =SUM(E$6:E10)/E$20 -> 0.62323625 | I10: =IF($C10="","",MAX(-1,MIN(1,6*(G10/10-($B10+$C10)/2)/$D10))) -> -0.048 | J10: 4866714 | K10: 21939973 | L10: 4508 | M10: =SUM(J$6:J10)/J$20 -> 0.48040503 | N10: =IF($C10="","",MAX(-1,MIN(1,6*(L10/10-($B10+$C10)/2)/$D10))) -> 0.048 | O10: 3051044 | P10: 13626950 | Q10: 4466 | R10: =SUM(O$6:O10)/O$20 -> 0.81119243 | S10: =IF($C10="","",MAX(-1,MIN(1,6*(Q10/10-($B10+$C10)/2)/$D10))) -> -0.204 | T10: 6942083 | U10: 31201766 | V10: 4495 | W10: =SUM(T$6:T10)/T$20 -> 0.50943516 | X10: =IF($C10="","",MAX(-1,MIN(1,6*(V10/10-($B10+$C10)/2)/$D10))) -> -0.03 | Y10: 516840 | Z10: 2288670 | AA10: 4428 | AB10: =SUM(Y$6:Y10)/Y$20 -> 0.96015161 | AC10: =IF($C10="","",MAX(-1,MIN(1,6*(AA10/10-($B10+$C10)/2)/$D10))) -> -0.432 | AD10: 420814 | AE10: 1903656 | AF10: 4524 | AG10: =SUM(AD$6:AD10)/AD$20 -> 0.4759426 | AH10: =IF($C10="","",MAX(-1,MIN(1,6*(AF10/10-($B10+$C10)/2)/$D10))) -> 0.144
A11: 500万円超 600万円以下 | B11: 500 | C11: 600 | D11: =IF(C11="","",C11-B11) -> 100 | E11: 6144924 | F11: 33643822 | G11: 5475 | H11: =SUM(E$6:E11)/E$20 -> 0.74225336 | I11: =IF($C11="","",MAX(-1,MIN(1,6*(G11/10-($B11+$C11)/2)/$D11))) -> -0.15 | J11: 4274160 | K11: 23437693 | L11: 5484 | M11: =SUM(J$6:J11)/J$20 -> 0.6260971 | N11: =IF($C11="","",MAX(-1,MIN(1,6*(L11/10-($B11+$C11)/2)/$D11))) -> -0.096 | O11: 1870764 | P11: 10206129 | Q11: 5456 | R11: =SUM(O$6:O11)/O$20 -> 0.89510709 | S11: =IF($C11="","",MAX(-1,MIN(1,6*(Q11/10-($B11+$C11)/2)/$D11))) -> -0.264 | T11: 5523257 | U11: 30192289 | V11: 5466 | W11: =SUM(T$6:T11)/T$20 -> 0.67081613 | X11: =IF($C11="","",MAX(-1,MIN(1,6*(V11/10-($B11+$C11)/2)/$D11))) -> -0.204 | Y11: 217751 | Z11: 1188512 | AA11: 5458 | AB11: =SUM(Y$6:Y11)/Y$20 -> 0.97684135 | AC11: =IF($C11="","",MAX(-1,MIN(1,6*(AA11/10-($B11+$C11)/2)/$D11))) -> -0.252 | AD11: 377590 | AE11: 2116455 | AF11: 5605 | AG11: =SUM(AD$6:AD11)/AD$20 -> 0.57101897 | AH11: =IF($C11="","",MAX(-1,MIN(1,6*(AF11/10-($B11+$C11)/2)/$D11))) -> 0.63
A12: 600万円超 700万円以下 | B12: 600 | C12: 700 | D12: =IF(C12="","",C12-B12) -> 100 | E12: 4035252 | F12: 26111048 | G12: 6471 | H12: =SUM(E$6:E12)/E$20 -> 0.82040958 | I12: =IF($C12="","",MAX(-1,MIN(1,6*(G12/10-($B12+$C12)/2)/$D12))) -> -0.174 | J12: 3099632 | K12: 20075097 | L12: 6477 | M12: =SUM(J$6:J12)/J$20 -> 0.73175337 | N12: =IF($C12="","",MAX(-1,MIN(1,6*(L12/10-($B12+$C12)/2)/$D12))) -> -0.138 | O12: 935621 | P12: 6035951 | Q12: 6451 | R12: =SUM(O$6:O12)/O$20 -> 0.93707513 | S12: =IF($C12="","",MAX(-1,MIN(1,6*(Q12/10-($B12+$C12)/2)/$D12))) -> -0.294 | T12: 3728163 | U12: 24113355 | V12: 6468 | W12: =SUM(T$6:T12)/T$20 -> 0.77974725 | X12: =IF($C12="","",MAX(-1,MIN(1,6*(V12/10-($B12+$C12)/2)/$D12))) -> -0.192 | Y12: 95098 | Z12: 614438 | AA12: 6461 | AB12: =SUM(Y$6:Y12)/Y$20 -> 0.98413023 | AC12: =IF($C12="","",MAX(-1,MIN(1,6*(AA12/10-($B12+$C12)/2)/$D12))) -> -0.234 | AD12: 202112 | AE12: 1317614 | AF12: 6519 | AG12: =SUM(AD$6:AD12)/AD$20 -> 0.62191035 | AH12: =IF($C12="","",MAX(-1,MIN(1,6*(AF12/10-($B12+$C12)/2)/$D12))) -> 0.114
A13: 700万円超 800万円以下 | B13: 700 | C13: 800 | D13: =IF(C13="","",C13-B13) -> 100 | E13: 2776867 | F13: 20737256 | G13: 7468 | H13: =SUM(E$6:E13)/E$20 -> 0.87419294 | I13: =IF($C13="","",MAX(-1,MIN(1,6*(G13/10-($B13+$C13)/2)/$D13))) -> -0.192 | J13: 2239493 | K13: 16729056 | L13: 7470 | M13: =SUM(J$6:J13)/J$20 -> 0.80809033 | N13: =IF($C13="","",MAX(-1,MIN(1,6*(L13/10-($B13+$C13)/2)/$D13))) -> -0.18 | O13: 537374 | P13: 4008200 | Q13: 7459 | R13: =SUM(O$6:O13)/O$20 -> 0.96117949 | S13: =IF($C13="","",MAX(-1,MIN(1,6*(Q13/10-($B13+$C13)/2)/$D13))) -> -0.246 | T13: 2455270 | U13: 18333174 | V13: 7467 | W13: =SUM(T$6:T13)/T$20 -> 0.85148642 | X13: =IF($C13="","",MAX(-1,MIN(1,6*(V13/10-($B13+$C13)/2)/$D13))) -> -0.198 | Y13: 61297 | Z13: 456522 | AA13: 7448 | AB13: =SUM(Y$6:Y13)/Y$20 -> 0.98882839 | AC13: =IF($C13="","",MAX(-1,MIN(1,6*(AA13/10-($B13+$C13)/2)/$D13))) -> -0.312 | AD13: 250695 | AE13: 1875217 | AF13: 7480 | AG13: =SUM(AD$6:AD13)/AD$20 -> 0.68503482 | AH13: =IF($C13="","",MAX(-1,MIN(1,6*(AF13/10-($B13+$C13)/2)/$D13))) -> -0.12
A14: 800万円超 900万円以下 | B14: 800 | C14: 900 | D14: =IF(C14="","",C14-B14) -> 100 | E14: 1833950 | F14: 15555718 | G14: 8482 | H14: =SUM(E$6:E14)/E$20 -> 0.90971355 | I14: =IF($C14="","",MAX(-1,MIN(1,6*(G14/10-($B14+$C14)/2)/$D14))) -> -0.108 | J14: 1535547 | K14: 13029774 | L14: 8485 | M14: =SUM(J$6:J14)/J$20 -> 0.86043208 | N14: =IF($C14="","",MAX(-1,MIN(1,6*(L14/10-($B14+$C14)/2)/$D14))) -> -0.09 | O14: 298403 | P14: 2525943 | Q14: 8465 | R14: =SUM(O$6:O14)/O$20 -> 0.9745646 | S14: =IF($C14="","",MAX(-1,MIN(1,6*(Q14/10-($B14+$C14)/2)/$D14))) -> -0.21 | T14: 1584925 | U14: 13432122 | V14: 8475 | W14: =SUM(T$6:T14)/T$20 -> 0.89779546 | X14: =IF($C14="","",MAX(-1,MIN(1,6*(V14/10-($B14+$C14)/2)/$D14))) -> -0.15 | Y14: 47483 | Z14: 403392 | AA14: 8496 | AB14: =SUM(Y$6:Y14)/Y$20 -> 0.99246777 | AC14: =IF($C14="","",MAX(-1,MIN(1,6*(AA14/10-($B14+$C14)/2)/$D14))) -> -0.024 | AD14: 194523 | AE14: 1659525 | AF14: 8531 | AG14: =SUM(AD$6:AD14)/AD$20 -> 0.7340153 | AH14: =IF($C14="","",MAX(-1,MIN(1,6*(AF14/10-($B14+$C14)/2)/$D14))) -> 0.186
A15: 900万円超 1,000万円以下 | B15: 900 | C15: 1000 | D15: =IF(C15="","",C15-B15) -> 100 | E15: 1266070 | F15: 11993780 | G15: 9473 | H15: =SUM(E$6:E15)/E$20 -> 0.93423525 | I15: =IF($C15="","",MAX(-1,MIN(1,6*(G15/10-($B15+$C15)/2)/$D15))) -> -0.162 | J15: 1096042 | K15: 10382516 | L15: 9473 | M15: =SUM(J$6:J15)/J$20 -> 0.89779255 | N15: =IF($C15="","",MAX(-1,MIN(1,6*(L15/10-($B15+$C15)/2)/$D15))) -> -0.162 | O15: 170028 | P15: 1611264 | Q15: 9476 | R15: =SUM(O$6:O15)/O$20 -> 0.98219134 | S15: =IF($C15="","",MAX(-1,MIN(1,6*(Q15/10-($B15+$C15)/2)/$D15))) -> -0.144 | T15: 1088454 | U15: 10305342 | V15: 9468 | W15: =SUM(T$6:T15)/T$20 -> 0.92959839 | X15: =IF($C15="","",MAX(-1,MIN(1,6*(V15/10-($B15+$C15)/2)/$D15))) -> -0.192 | Y15: 29293 | Z15: 276518 | AA15: 9440 | AB15: =SUM(Y$6:Y15)/Y$20 -> 0.99471296 | AC15: =IF($C15="","",MAX(-1,MIN(1,6*(AA15/10-($B15+$C15)/2)/$D15))) -> -0.36 | AD15: 144960 | AE15: 1379899 | AF15: 9519 | AG15: =SUM(AD$6:AD15)/AD$20 -> 0.77051593 | AH15: =IF($C15="","",MAX(-1,MIN(1,6*(AF15/10-($B15+$C15)/2)/$D15))) -> 0.114
A16: 1,000万円超 1,500万円以下 | B16: 1000 | C16: 1500 | D16: =IF(C16="","",C16-B16) -> 500 | E16: 2422426 | F16: 28769114 | G16: 11876 | H16: =SUM(E$6:E16)/E$20 -> 0.98115367 | I16: =IF($C16="","",MAX(-1,MIN(1,6*(G16/10-($B16+$C16)/2)/$D16))) -> -0.7488 | J16: 2134629 | K16: 25378211 | L16: 11889 | M16: =SUM(J$6:J16)/J$20 -> 0.97055504 | N16: =IF($C16="","",MAX(-1,MIN(1,6*(L16/10-($B16+$C16)/2)/$D16))) -> -0.7332 | O16: 287798 | P16: 3390903 | Q16: 11782 | R16: =SUM(O$6:O16)/O$20 -> 0.99510076 | S16: =IF($C16="","",MAX(-1,MIN(1,6*(Q16/10-($B16+$C16)/2)/$D16))) -> -0.8616 | T16: 1917986 | U16: 22624454 | V16: 11796 | W16: =SUM(T$6:T16)/T$20 -> 0.98563896 | X16: =IF($C16="","",MAX(-1,MIN(1,6*(V16/10-($B16+$C16)/2)/$D16))) -> -0.8448 | Y16: 47963 | Z16: 585559 | AA16: 12209 | AB16: =SUM(Y$6:Y16)/Y$20 -> 0.99838913 | AC16: =IF($C16="","",MAX(-1,MIN(1,6*(AA16/10-($B16+$C16)/2)/$D16))) -> -0.3492 | AD16: 451519 | AE16: 5498526 | AF16: 12178 | AG16: =SUM(AD$6:AD16)/AD$20 -> 0.88420746 | AH16: =IF($C16="","",MAX(-1,MIN(1,6*(AF16/10-($B16+$C16)/2)/$D16))) -> -0.3864
A17: 1,500万円超 2,000万円以下 | B17: 1500 | C17: 2000 | D17: =IF(C17="","",C17-B17) -> 500 | E17: 609530 | F17: 10475758 | G17: 17187 | H17: =SUM(E$6:E17)/E$20 -> 0.99295927 | I17: =IF($C17="","",MAX(-1,MIN(1,6*(G17/10-($B17+$C17)/2)/$D17))) -> -0.3756 | J17: 538899 | K17: 9258431 | L17: 17180 | M17: =SUM(J$6:J17)/J$20 -> 0.98892434 | N17: =IF($C17="","",MAX(-1,MIN(1,6*(L17/10-($B17+$C17)/2)/$D17))) -> -0.384 | O17: 70631 | P17: 1217327 | Q17: 17235 | R17: =SUM(O$6:O17)/O$20 -> 0.99826897 | S17: =IF($C17="","",MAX(-1,MIN(1,6*(Q17/10-($B17+$C17)/2)/$D17))) -> -0.318 | T17: 366172 | U17: 6229226 | V17: 17012 | W17: =SUM(T$6:T17)/T$20 -> 0.99633794 | X17: =IF($C17="","",MAX(-1,MIN(1,6*(V17/10-($B17+$C17)/2)/$D17))) -> -0.5856 | Y17: 14866 | Z17: 258391 | AA17: 17382 | AB17: =SUM(Y$6:Y17)/Y$20 -> 0.99952855 | AC17: =IF($C17="","",MAX(-1,MIN(1,6*(AA17/10-($B17+$C17)/2)/$D17))) -> -0.1416 | AD17: 228106 | AE17: 3980788 | AF17: 17452 | AG17: =SUM(AD$6:AD17)/AD$20 -> 0.94164407 | AH17: =IF($C17="","",MAX(-1,MIN(1,6*(AF17/10-($B17+$C17)/2)/$D17))) -> -0.0576
A18: 2,000万円超 2,500万円以下 | B18: 2000 | C18: 2500 | D18: =IF(C18="","",C18-B18) -> 500 | E18: 167273 | F18: 3716561 | G18: 22219 | H18: =SUM(E$6:E18)/E$20 -> 0.99619908 | I18: =IF($C18="","",MAX(-1,MIN(1,6*(G18/10-($B18+$C18)/2)/$D18))) -> -0.3372 | J18: 146516 | K18: 3253682 | L18: 22207 | M18: =SUM(J$6:J18)/J$20 -> 0.99391859 | N18: =IF($C18="","",MAX(-1,MIN(1,6*(L18/10-($B18+$C18)/2)/$D18))) -> -0.3516 | O18: 20757 | P18: 462878 | Q18: 22299 | R18: =SUM(O$6:O18)/O$20 -> 0.99920004 | S18: =IF($C18="","",MAX(-1,MIN(1,6*(Q18/10-($B18+$C18)/2)/$D18))) -> -0.2412 | T18: 73362 | U18: 1611272 | V18: 21963 | W18: =SUM(T$6:T18)/T$20 -> 0.99848146 | X18: =IF($C18="","",MAX(-1,MIN(1,6*(V18/10-($B18+$C18)/2)/$D18))) -> -0.6444 | Y18: 3017 | Z18: 66778 | AA18: 22137 | AB18: =SUM(Y$6:Y18)/Y$20 -> 0.99975979 | AC18: =IF($C18="","",MAX(-1,MIN(1,6*(AA18/10-($B18+$C18)/2)/$D18))) -> -0.4356 | AD18: 90895 | AE18: 2038511 | AF18: 22427 | AG18: =SUM(AD$6:AD18)/AD$20 -> 0.96453124 | AH18: =IF($C18="","",MAX(-1,MIN(1,6*(AF18/10-($B18+$C18)/2)/$D18))) -> -0.0876
A19: 2,500万円超 | B19: 2500 | D19: =IF(C19="","",C19-B19) | E19: 196243 | F19: 8358709 | G19: 42594 | H19: =SUM(E$6:E19)/E$20 -> 0.99999998 | I19: =IF($C19="","",MAX(-1,MIN(1,6*(G19/10-($B19+$C19)/2)/$D19))) | J19: 178409 | K19: 7732613 | L19: 43342 | M19: =SUM(J$6:J19)/J$20 -> 0.99999997 | N19: =IF($C19="","",MAX(-1,MIN(1,6*(L19/10-($B19+$C19)/2)/$D19))) | O19: 17835 | P19: 626096 | Q19: 35105 | R19: =SUM(O$6:O19)/O$20 -> 1 | S19: =IF($C19="","",MAX(-1,MIN(1,6*(Q19/10-($B19+$C19)/2)/$D19))) | T19: 51974 | U19: 2009410 | V19: 38662 | W19: =SUM(T$6:T19)/T$20 -> 1.0000001 | X19: =IF($C19="","",MAX(-1,MIN(1,6*(V19/10-($B19+$C19)/2)/$D19))) | Y19: 3136 | Z19: 117944 | AA19: 37609 | AB19: =SUM(Y$6:Y19)/Y$20 -> 1.0000002 | AC19: =IF($C19="","",MAX(-1,MIN(1,6*(AA19/10-($B19+$C19)/2)/$D19))) | AD19: 140863 | AE19: 6222650 | AF19: 44175 | AG19: =SUM(AD$6:AD19)/AD$20 -> 1.0000003 | AH19: =IF($C19="","",MAX(-1,MIN(1,6*(AF19/10-($B19+$C19)/2)/$D19)))
A20: 計 | E20: 51630594 | F20: 251256955 | G20: 4866 | J20: 29336943 | K20: 175048358 | L20: 5967 | O20: 22293651 | P20: 76208598 | Q20: 3418 | T20: 34224958 | U20: 191417325 | V20: 5593 | Y20: 13047003 | Z20: 27328401 | AA20: 2095 | AD20: 3971439 | AE20: 31226103 | AF20: 7863
A22: 計の行と14区間の足し算の差（0なら写し間違いなし） | E22: =SUM(E6:E19)-E20 -> -1 | F22: =SUM(F6:F19)-F20 -> 2 | J22: =SUM(J6:J19)-J20 -> -1 | K22: =SUM(K6:K19)-K20 -> 0 | O22: =SUM(O6:O19)-O20 -> 1 | P22: =SUM(P6:P19)-P20 -> -2 | T22: =SUM(T6:T19)-T20 -> 2 | U22: =SUM(U6:U19)-U20 -> 0 | Y22: =SUM(Y6:Y19)-Y20 -> 2 | Z22: =SUM(Z6:Z19)-Z20 -> 1 | AD22: =SUM(AD6:AD19)-AD20 -> 1 | AE22: =SUM(AE6:AE19)-AE20 -> 2
A23: 表の出どころ: 全体は第3表その1、男性は第3表その1、女性は第3表その1、正社員は第6表その9、正社員以外は第6表その13、役員は第6表その5（第6表は企業規模の合計の行）

Sheet 4_使い方
A1: 使い方
A3: 1 1_上位何% のB4に年収（万円、額面）を入れ、B5で区分を選ぶ。B10が上位何%。
A4: 2 右上に、その区分の平均、中央値、平均より下の人の割合が出る。
A5: 3 2_区分別 には6つの区分を並べてある。数字は 3_国税庁の表 から計算している。
A7: 年収は源泉徴収票の「支払金額」の欄と同じ考え方の額面で入れる。通勤手当などの非課税分は入れない。
A8: 国税庁の表は1年を通じて勤務した人の数字。年の途中で入社した人や転職した人は、1年分に直してから比べる。
A10: 区間の中の置き方について。国税庁の表は100万円刻みの人数と、区間ごとの平均給与しか出していない。
A11: 均等に置くと、区間の平均は真ん中（たとえば450万円）になるはずだが、実際の区間の平均とずれる。
A12: そこで区間の中の人数を一次式で傾け、区間の平均が国税庁の数字と合うようにした。傾きは 3_国税庁の表 の灰色の列。
A13: 傾きは-1から1までに抑えている。100万円以下の区間は、平均が真ん中より高く、1で頭打ちになる。
A14: どちらの置き方でも、区間の境目（300万円、400万円、500万円…）の割合は国税庁の表そのままで、仮定は入らない。
A16: 2,500万円超は上限がないので、区間の中の位置は出さない。2,500万円を超える年収は「上位○%以内」とだけ出る。
... A19: 概要: https://www.nta.go.jp/publication/statistics/kokuzeicho/minkan/gaiyou/2025.htm（どちらも2026年10月6日に確認）
