Workbook

Sheet 月割額
A1: 住民税の月割額 | D1: 年税額を入れる。100円未満の端数は6月分に寄る
A2: 氏名 | B2: 年税額 | C2: 6月分 | D2: 7月から翌5月 | E2: 12か月の合計 | F2: 差 | H2: 均等割額 | I2: 5000 | J2: ← これ以下なら6月に全額を引く
A3: 山田 | B3: 186500 | C3: =IF($B3="","",$B3-$D3*11) | D3: =IF($B3="","",IF($B3<=$I$2,0,ROUNDDOWN($B3/12,-2))) | E3: =IF($B3="","",$C3+$D3*11) | F3: =IF($B3="","",$C3-$D3)
A4: 佐藤 | B4: 124800 | C4: =IF($B4="","",$B4-$D4*11) | D4: =IF($B4="","",IF($B4<=$I$2,0,ROUNDDOWN($B4/12,-2))) | E4: =IF($B4="","",$C4+$D4*11) | F4: =IF($B4="","",$C4-$D4)
A5: 鈴木 | B5: 97300 | C5: =IF($B5="","",$B5-$D5*11) | D5: =IF($B5="","",IF($B5<=$I$2,0,ROUNDDOWN($B5/12,-2))) | E5: =IF($B5="","",$C5+$D5*11) | F5: =IF($B5="","",$C5-$D5)
A6: 高橋 | B6: 60000 | C6: =IF($B6="","",$B6-$D6*11) | D6: =IF($B6="","",IF($B6<=$I$2,0,ROUNDDOWN($B6/12,-2))) | E6: =IF($B6="","",$C6+$D6*11) | F6: =IF($B6="","",$C6-$D6)
A7: 田中 | B7: 5000 | C7: =IF($B7="","",$B7-$D7*11) | D7: =IF($B7="","",IF($B7<=$I$2,0,ROUNDDOWN($B7/12,-2))) | E7: =IF($B7="","",$C7+$D7*11) | F7: =IF($B7="","",$C7-$D7)
C8: =IF($B8="","",$B8-$D8*11) | D8: =IF($B8="","",IF($B8<=$I$2,0,ROUNDDOWN($B8/12,-2))) | E8: =IF($B8="","",$C8+$D8*11) | F8: =IF($B8="","",$C8-$D8)
C9: =IF($B9="","",$B9-$D9*11) | D9: =IF($B9="","",IF($B9<=$I$2,0,ROUNDDOWN($B9/12,-2))) | E9: =IF($B9="","",$C9+$D9*11) | F9: =IF($B9="","",$C9-$D9)
C10: =IF($B10="","",$B10-$D10*11) | D10: =IF($B10="","",IF($B10<=$I$2,0,ROUNDDOWN($B10/12,-2))) | E10: =IF($B10="","",$C10+$D10*11) | F10: =IF($B10="","",$C10-$D10)
C11: =IF($B11="","",$B11-$D11*11) | D11: =IF($B11="","",IF($B11<=$I$2,0,ROUNDDOWN($B11/12,-2))) | E11: =IF($B11="","",$C11+$D11*11) | F11: =IF($B11="","",$C11-$D11)
C12: =IF($B12="","",$B12-$D12*11) | D12: =IF($B12="","",IF($B12<=$I$2,0,ROUNDDOWN($B12/12,-2))) | E12: =IF($B12="","",$C12+$D12*11) | F12: =IF($B12="","",$C12-$D12)
C13: =IF($B13="","",$B13-$D13*11) | D13: =IF($B13="","",IF($B13<=$I$2,0,ROUNDDOWN($B13/12,-2))) | E13: =IF($B13="","",$C13+$D13*11) | F13: =IF($B13="","",$C13-$D13)
C14: =IF($B14="","",$B14-$D14*11) | D14: =IF($B14="","",IF($B14<=$I$2,0,ROUNDDOWN($B14/12,-2))) | E14: =IF($B14="","",$C14+$D14*11) | F14: =IF($B14="","",$C14-$D14)
C15: =IF($B15="","",$B15-$D15*11) | D15: =IF($B15="","",IF($B15<=$I$2,0,ROUNDDOWN($B15/12,-2))) | E15: =IF($B15="","",$C15+$D15*11) | F15: =IF($B15="","",$C15-$D15)
C16: =IF($B16="","",$B16-$D16*11) | D16: =IF($B16="","",IF($B16<=$I$2,0,ROUNDDOWN($B16/12,-2))) | E16: =IF($B16="","",$C16+$D16*11) | F16: =IF($B16="","",$C16-$D16)
C17: =IF($B17="","",$B17-$D17*11) | D17: =IF($B17="","",IF($B17<=$I$2,0,ROUNDDOWN($B17/12,-2))) | E17: =IF($B17="","",$C17+$D17*11) | F17: =IF($B17="","",$C17-$D17)
C18: =IF($B18="","",$B18-$D18*11) | D18: =IF($B18="","",IF($B18<=$I$2,0,ROUNDDOWN($B18/12,-2))) | E18: =IF($B18="","",$C18+$D18*11) | F18: =IF($B18="","",$C18-$D18)
C19: =IF($B19="","",$B19-$D19*11) | D19: =IF($B19="","",IF($B19<=$I$2,0,ROUNDDOWN($B19/12,-2))) | E19: =IF($B19="","",$C19+$D19*11) | F19: =IF($B19="","",$C19-$D19)
... C302: =IF($B302="","",$B302-$D302*11) | D302: =IF($B302="","",IF($B302<=$I$2,0,ROUNDDOWN($B302/12,-2))) | E302: =IF($B302="","",$C302+$D302*11) | F302: =IF($B302="","",$C302-$D302)
A304: 年税額は100円未満が切り捨てられた額。12で割った100円未満の端数は、全部6月分に足す。
A305: 年税額が均等割額以下のときは、6月に全額を引く。月割にはしない。

Sheet 退職
A1: 退職したときの一括徴収 | F1: 黄色の列だけ入力。赤は一括徴収が要る行
A2: 氏名 | B2: 年税額 | C2: 退職日 | D2: 最後に払う給与と退職金 | E2: 徴収済みの月数 | F2: 徴収済みの額 | G2: 残りの額 | H2: 扱い | I2: 異動届の期限
A3: 2月末に退職 | B3: 186500 | C3: 46444 | D3: 280000 | E3: =IF($C3="","",IF(MONTH($C3)>=6,MONTH($C3)-5,MONTH($C3)+7)) | F3: =IF($C3="","",($B3-ROUNDDOWN($B3/12,-2)*11)+ROUNDDOWN($B3/12,-2)*($E3-1)) | G3: =IF($C3="","",$B3-$F3) | H3: =IF($C3="","",IF($G3<=0,"残りなし",IF(MONTH($C3)=5,"5月で終わり",IF(AND(MONTH($C3)>=1,MONTH($C3)<=4),IF($D3>$G3,"一括徴収（申出は要らない）","足りない分は普通徴収"),IF($D3>$G3,"申出があれば一括徴収","普通徴収"))))) | I3: =IF($C3="","",WORKDAY(DATE(YEAR($C3),MONTH($C3)+1,10)-1,1,休日!$A$3:$A$200))
A4: 9月末に退職 | B4: 186500 | C4: 46295 | D4: 280000 | E4: =IF($C4="","",IF(MONTH($C4)>=6,MONTH($C4)-5,MONTH($C4)+7)) | F4: =IF($C4="","",($B4-ROUNDDOWN($B4/12,-2)*11)+ROUNDDOWN($B4/12,-2)*($E4-1)) | G4: =IF($C4="","",$B4-$F4) | H4: =IF($C4="","",IF($G4<=0,"残りなし",IF(MONTH($C4)=5,"5月で終わり",IF(AND(MONTH($C4)>=1,MONTH($C4)<=4),IF($D4>$G4,"一括徴収（申出は要らない）","足りない分は普通徴収"),IF($D4>$G4,"申出があれば一括徴収","普通徴収"))))) | I4: =IF($C4="","",WORKDAY(DATE(YEAR($C4),MONTH($C4)+1,10)-1,1,休日!$A$3:$A$200))
A5: 3月末に退職 給与が少ない | B5: 186500 | C5: 46477 | D5: 20000 | E5: =IF($C5="","",IF(MONTH($C5)>=6,MONTH($C5)-5,MONTH($C5)+7)) | F5: =IF($C5="","",($B5-ROUNDDOWN($B5/12,-2)*11)+ROUNDDOWN($B5/12,-2)*($E5-1)) | G5: =IF($C5="","",$B5-$F5) | H5: =IF($C5="","",IF($G5<=0,"残りなし",IF(MONTH($C5)=5,"5月で終わり",IF(AND(MONTH($C5)>=1,MONTH($C5)<=4),IF($D5>$G5,"一括徴収（申出は要らない）","足りない分は普通徴収"),IF($D5>$G5,"申出があれば一括徴収","普通徴収"))))) | I5: =IF($C5="","",WORKDAY(DATE(YEAR($C5),MONTH($C5)+1,10)-1,1,休日!$A$3:$A$200))
A6: 5月末に退職 | B6: 186500 | C6: 46536 | D6: 280000 | E6: =IF($C6="","",IF(MONTH($C6)>=6,MONTH($C6)-5,MONTH($C6)+7)) | F6: =IF($C6="","",($B6-ROUNDDOWN($B6/12,-2)*11)+ROUNDDOWN($B6/12,-2)*($E6-1)) | G6: =IF($C6="","",$B6-$F6) | H6: =IF($C6="","",IF($G6<=0,"残りなし",IF(MONTH($C6)=5,"5月で終わり",IF(AND(MONTH($C6)>=1,MONTH($C6)<=4),IF($D6>$G6,"一括徴収（申出は要らない）","足りない分は普通徴収"),IF($D6>$G6,"申出があれば一括徴収","普通徴収"))))) | I6: =IF($C6="","",WORKDAY(DATE(YEAR($C6),MONTH($C6)+1,10)-1,1,休日!$A$3:$A$200))
A7: 12月末に退職 | B7: 124800 | C7: 46381 | D7: 420000 | E7: =IF($C7="","",IF(MONTH($C7)>=6,MONTH($C7)-5,MONTH($C7)+7)) | F7: =IF($C7="","",($B7-ROUNDDOWN($B7/12,-2)*11)+ROUNDDOWN($B7/12,-2)*($E7-1)) | G7: =IF($C7="","",$B7-$F7) | H7: =IF($C7="","",IF($G7<=0,"残りなし",IF(MONTH($C7)=5,"5月で終わり",IF(AND(MONTH($C7)>=1,MONTH($C7)<=4),IF($D7>$G7,"一括徴収（申出は要らない）","足りない分は普通徴収"),IF($D7>$G7,"申出があれば一括徴収","普通徴収"))))) | I7: =IF($C7="","",WORKDAY(DATE(YEAR($C7),MONTH($C7)+1,10)-1,1,休日!$A$3:$A$200))
E8: =IF($C8="","",IF(MONTH($C8)>=6,MONTH($C8)-5,MONTH($C8)+7)) | F8: =IF($C8="","",($B8-ROUNDDOWN($B8/12,-2)*11)+ROUNDDOWN($B8/12,-2)*($E8-1)) | G8: =IF($C8="","",$B8-$F8) | H8: =IF($C8="","",IF($G8<=0,"残りなし",IF(MONTH($C8)=5,"5月で終わり",IF(AND(MONTH($C8)>=1,MONTH($C8)<=4),IF($D8>$G8,"一括徴収（申出は要らない）","足りない分は普通徴収"),IF($D8>$G8,"申出があれば一括徴収","普通徴収"))))) | I8: =IF($C8="","",WORKDAY(DATE(YEAR($C8),MONTH($C8)+1,10)-1,1,休日!$A$3:$A$200))
E9: =IF($C9="","",IF(MONTH($C9)>=6,MONTH($C9)-5,MONTH($C9)+7)) | F9: =IF($C9="","",($B9-ROUNDDOWN($B9/12,-2)*11)+ROUNDDOWN($B9/12,-2)*($E9-1)) | G9: =IF($C9="","",$B9-$F9) | H9: =IF($C9="","",IF($G9<=0,"残りなし",IF(MONTH($C9)=5,"5月で終わり",IF(AND(MONTH($C9)>=1,MONTH($C9)<=4),IF($D9>$G9,"一括徴収（申出は要らない）","足りない分は普通徴収"),IF($D9>$G9,"申出があれば一括徴収","普通徴収"))))) | I9: =IF($C9="","",WORKDAY(DATE(YEAR($C9),MONTH($C9)+1,10)-1,1,休日!$A$3:$A$200))
E10: =IF($C10="","",IF(MONTH($C10)>=6,MONTH($C10)-5,MONTH($C10)+7)) | F10: =IF($C10="","",($B10-ROUNDDOWN($B10/12,-2)*11)+ROUNDDOWN($B10/12,-2)*($E10-1)) | G10: =IF($C10="","",$B10-$F10) | H10: =IF($C10="","",IF($G10<=0,"残りなし",IF(MONTH($C10)=5,"5月で終わり",IF(AND(MONTH($C10)>=1,MONTH($C10)<=4),IF($D10>$G10,"一括徴収（申出は要らない）","足りない分は普通徴収"),IF($D10>$G10,"申出があれば一括徴収","普通徴収"))))) | I10: =IF($C10="","",WORKDAY(DATE(YEAR($C10),MONTH($C10)+1,10)-1,1,休日!$A$3:$A$200))
E11: =IF($C11="","",IF(MONTH($C11)>=6,MONTH($C11)-5,MONTH($C11)+7)) | F11: =IF($C11="","",($B11-ROUNDDOWN($B11/12,-2)*11)+ROUNDDOWN($B11/12,-2)*($E11-1)) | G11: =IF($C11="","",$B11-$F11) | H11: =IF($C11="","",IF($G11<=0,"残りなし",IF(MONTH($C11)=5,"5月で終わり",IF(AND(MONTH($C11)>=1,MONTH($C11)<=4),IF($D11>$G11,"一括徴収（申出は要らない）","足りない分は普通徴収"),IF($D11>$G11,"申出があれば一括徴収","普通徴収"))))) | I11: =IF($C11="","",WORKDAY(DATE(YEAR($C11),MONTH($C11)+1,10)-1,1,休日!$A$3:$A$200))
E12: =IF($C12="","",IF(MONTH($C12)>=6,MONTH($C12)-5,MONTH($C12)+7)) | F12: =IF($C12="","",($B12-ROUNDDOWN($B12/12,-2)*11)+ROUNDDOWN($B12/12,-2)*($E12-1)) | G12: =IF($C12="","",$B12-$F12) | H12: =IF($C12="","",IF($G12<=0,"残りなし",IF(MONTH($C12)=5,"5月で終わり",IF(AND(MONTH($C12)>=1,MONTH($C12)<=4),IF($D12>$G12,"一括徴収（申出は要らない）","足りない分は普通徴収"),IF($D12>$G12,"申出があれば一括徴収","普通徴収"))))) | I12: =IF($C12="","",WORKDAY(DATE(YEAR($C12),MONTH($C12)+1,10)-1,1,休日!$A$3:$A$200))
E13: =IF($C13="","",IF(MONTH($C13)>=6,MONTH($C13)-5,MONTH($C13)+7)) | F13: =IF($C13="","",($B13-ROUNDDOWN($B13/12,-2)*11)+ROUNDDOWN($B13/12,-2)*($E13-1)) | G13: =IF($C13="","",$B13-$F13) | H13: =IF($C13="","",IF($G13<=0,"残りなし",IF(MONTH($C13)=5,"5月で終わり",IF(AND(MONTH($C13)>=1,MONTH($C13)<=4),IF($D13>$G13,"一括徴収（申出は要らない）","足りない分は普通徴収"),IF($D13>$G13,"申出があれば一括徴収","普通徴収"))))) | I13: =IF($C13="","",WORKDAY(DATE(YEAR($C13),MONTH($C13)+1,10)-1,1,休日!$A$3:$A$200))
E14: =IF($C14="","",IF(MONTH($C14)>=6,MONTH($C14)-5,MONTH($C14)+7)) | F14: =IF($C14="","",($B14-ROUNDDOWN($B14/12,-2)*11)+ROUNDDOWN($B14/12,-2)*($E14-1)) | G14: =IF($C14="","",$B14-$F14) | H14: =IF($C14="","",IF($G14<=0,"残りなし",IF(MONTH($C14)=5,"5月で終わり",IF(AND(MONTH($C14)>=1,MONTH($C14)<=4),IF($D14>$G14,"一括徴収（申出は要らない）","足りない分は普通徴収"),IF($D14>$G14,"申出があれば一括徴収","普通徴収"))))) | I14: =IF($C14="","",WORKDAY(DATE(YEAR($C14),MONTH($C14)+1,10)-1,1,休日!$A$3:$A$200))
E15: =IF($C15="","",IF(MONTH($C15)>=6,MONTH($C15)-5,MONTH($C15)+7)) | F15: =IF($C15="","",($B15-ROUNDDOWN($B15/12,-2)*11)+ROUNDDOWN($B15/12,-2)*($E15-1)) | G15: =IF($C15="","",$B15-$F15) | H15: =IF($C15="","",IF($G15<=0,"残りなし",IF(MONTH($C15)=5,"5月で終わり",IF(AND(MONTH($C15)>=1,MONTH($C15)<=4),IF($D15>$G15,"一括徴収（申出は要らない）","足りない分は普通徴収"),IF($D15>$G15,"申出があれば一括徴収","普通徴収"))))) | I15: =IF($C15="","",WORKDAY(DATE(YEAR($C15),MONTH($C15)+1,10)-1,1,休日!$A$3:$A$200))
E16: =IF($C16="","",IF(MONTH($C16)>=6,MONTH($C16)-5,MONTH($C16)+7)) | F16: =IF($C16="","",($B16-ROUNDDOWN($B16/12,-2)*11)+ROUNDDOWN($B16/12,-2)*($E16-1)) | G16: =IF($C16="","",$B16-$F16) | H16: =IF($C16="","",IF($G16<=0,"残りなし",IF(MONTH($C16)=5,"5月で終わり",IF(AND(MONTH($C16)>=1,MONTH($C16)<=4),IF($D16>$G16,"一括徴収（申出は要らない）","足りない分は普通徴収"),IF($D16>$G16,"申出があれば一括徴収","普通徴収"))))) | I16: =IF($C16="","",WORKDAY(DATE(YEAR($C16),MONTH($C16)+1,10)-1,1,休日!$A$3:$A$200))
E17: =IF($C17="","",IF(MONTH($C17)>=6,MONTH($C17)-5,MONTH($C17)+7)) | F17: =IF($C17="","",($B17-ROUNDDOWN($B17/12,-2)*11)+ROUNDDOWN($B17/12,-2)*($E17-1)) | G17: =IF($C17="","",$B17-$F17) | H17: =IF($C17="","",IF($G17<=0,"残りなし",IF(MONTH($C17)=5,"5月で終わり",IF(AND(MONTH($C17)>=1,MONTH($C17)<=4),IF($D17>$G17,"一括徴収（申出は要らない）","足りない分は普通徴収"),IF($D17>$G17,"申出があれば一括徴収","普通徴収"))))) | I17: =IF($C17="","",WORKDAY(DATE(YEAR($C17),MONTH($C17)+1,10)-1,1,休日!$A$3:$A$200))
E18: =IF($C18="","",IF(MONTH($C18)>=6,MONTH($C18)-5,MONTH($C18)+7)) | F18: =IF($C18="","",($B18-ROUNDDOWN($B18/12,-2)*11)+ROUNDDOWN($B18/12,-2)*($E18-1)) | G18: =IF($C18="","",$B18-$F18) | H18: =IF($C18="","",IF($G18<=0,"残りなし",IF(MONTH($C18)=5,"5月で終わり",IF(AND(MONTH($C18)>=1,MONTH($C18)<=4),IF($D18>$G18,"一括徴収（申出は要らない）","足りない分は普通徴収"),IF($D18>$G18,"申出があれば一括徴収","普通徴収"))))) | I18: =IF($C18="","",WORKDAY(DATE(YEAR($C18),MONTH($C18)+1,10)-1,1,休日!$A$3:$A$200))
E19: =IF($C19="","",IF(MONTH($C19)>=6,MONTH($C19)-5,MONTH($C19)+7)) | F19: =IF($C19="","",($B19-ROUNDDOWN($B19/12,-2)*11)+ROUNDDOWN($B19/12,-2)*($E19-1)) | G19: =IF($C19="","",$B19-$F19) | H19: =IF($C19="","",IF($G19<=0,"残りなし",IF(MONTH($C19)=5,"5月で終わり",IF(AND(MONTH($C19)>=1,MONTH($C19)<=4),IF($D19>$G19,"一括徴収（申出は要らない）","足りない分は普通徴収"),IF($D19>$G19,"申出があれば一括徴収","普通徴収"))))) | I19: =IF($C19="","",WORKDAY(DATE(YEAR($C19),MONTH($C19)+1,10)-1,1,休日!$A$3:$A$200))
... E302: =IF($C302="","",IF(MONTH($C302)>=6,MONTH($C302)-5,MONTH($C302)+7)) | F302: =IF($C302="","",($B302-ROUNDDOWN($B302/12,-2)*11)+ROUNDDOWN($B302/12,-2)*($E302-1)) | G302: =IF($C302="","",$B302-$F302) | H302: =IF($C302="","",IF($G302<=0,"残りなし",IF(MONTH($C302)=5,"5月で終わり",IF(AND(MONTH($C302)>=1,MONTH($C302)<=4),IF($D302>$G302,"一括徴収（申出は要らない）","足りない分は普通徴収"),IF($D302>$G302,"申出があれば一括徴収","普通徴収"))))) | I302: =IF($C302="","",WORKDAY(DATE(YEAR($C302),MONTH($C302)+1,10)-1,1,休日!$A$3:$A$200))

Sheet 休日
A1: 地方税の期限で休みになる日 | C1: 祝日は内閣府の公表データ。12月29日から31日は施行令第6条の18第2項
A2: 日付 | B2: 内容
A3: 45658 | B3: 元日
A4: 45670 | B4: 成人の日 | D4: 土曜と日曜は式で見ている。1月2日と3日は条文に入っていないので、ここにも入れない。
A5: 45699 | B5: 建国記念の日 | D5: 国の手続き（雇用保険など）は1月3日まで休みなので、そこだけ扱いが違う。
A6: 45711 | B6: 天皇誕生日
A7: 45712 | B7: 休日
A8: 45736 | B8: 春分の日
A9: 45776 | B9: 昭和の日
A10: 45780 | B10: 憲法記念日
A11: 45781 | B11: みどりの日
A12: 45782 | B12: こどもの日
A13: 45783 | B13: 休日
A14: 45859 | B14: 海の日
A15: 45880 | B15: 山の日
A16: 45915 | B16: 敬老の日
A17: 45923 | B17: 秋分の日
... A65: 46752 | B65: 年末

Sheet 使い方
A1: 住民税の特別徴収で決まっていること
A3: 給与支払報告書は1月31日まで。市区町村が税額を決めて、5月31日までに通知が届く。6月から翌年5月まで引く。
A4: 年税額を12で割った100円未満の端数は、全部6月分に足す。だから6月だけ金額が大きい。
A5: 年税額が均等割額以下のときは、月割にせず最初の月に全額を引く。
A7: 退職したときの扱いは、退職日がいつかで変わる。
A8: 1月1日から4月30日までに退職したなら、5月31日までに払う給与や退職金が残りの額を超えるかぎり、
A9: 本人の申出がなくても一括して引く。地方税法第321条の5第2項のただし書きにそう書いてある。
A10: 6月1日から12月31日までに退職したなら、本人が申し出たときだけ一括徴収。なければ普通徴収に回る。
A11: 5月中の退職は、もともと5月分が最後の月割額なので、いつもどおり引いて終わる。
A13: どちらの場合も、給与所得者異動届出書を翌月10日までに、その人の住所地の市区町村へ出す。
A14: 期限が休みに当たったら翌日になる。地方税の休みは、日曜・祝日・土曜と12月29日から31日まで。
A15: 1月2日と3日は条文に入っていない。国の手続きとはここが違う。
... A18: 4月中に受けなくなったときだけ期限が4月30日で、この日は休みでも延びない（施行令第6条の18第1項）。
