Workbook

Sheet 仕訳
A1: 摘要から勘定科目を振り分ける | E1: 黄色の列だけ入力。赤い行は人が見る
A2: 日付 | B2: 摘要 | C2: 金額 | D2: 勘定科目 | E2: 当たった語 | F2: 印 | G2: 直した科目 | H2: 確定科目 | J2: 集計
A3: 46266 | B3: タクシー代 東京駅まで | C3: 2180 | D3: =IF($B3="","",IFERROR(LOOKUP(1,0/(ISNUMBER(SEARCH(辞書!$C$3:$C$202,ASC($B3)))*(辞書!$A$3:$A$202<>"")),辞書!$B$3:$B$202),"未判定")) | E3: =IF($B3="","",IFERROR(LOOKUP(1,0/(ISNUMBER(SEARCH(辞書!$C$3:$C$202,ASC($B3)))*(辞書!$A$3:$A$202<>"")),辞書!$A$3:$A$202),"")) | F3: =IF($B3="","",IF($D3="未判定","未判定",IF(SUMPRODUCT(ISNUMBER(SEARCH(辞書!$C$3:$C$202,ASC($B3)))*(辞書!$A$3:$A$202<>"")*(辞書!$B$3:$B$202<>$D3))>0,"要確認",""))) | H3: =IF($B3="","",IF($G3<>"",$G3,IF($F3="",$D3,""))) | J3: 件数 | K3: =COUNTA($B$3:$B$502)
A4: 46267 | B4: ｺﾋﾟｰ用紙 A4 5束 | C4: 3400 | D4: =IF($B4="","",IFERROR(LOOKUP(1,0/(ISNUMBER(SEARCH(辞書!$C$3:$C$202,ASC($B4)))*(辞書!$A$3:$A$202<>"")),辞書!$B$3:$B$202),"未判定")) | E4: =IF($B4="","",IFERROR(LOOKUP(1,0/(ISNUMBER(SEARCH(辞書!$C$3:$C$202,ASC($B4)))*(辞書!$A$3:$A$202<>"")),辞書!$A$3:$A$202),"")) | F4: =IF($B4="","",IF($D4="未判定","未判定",IF(SUMPRODUCT(ISNUMBER(SEARCH(辞書!$C$3:$C$202,ASC($B4)))*(辞書!$A$3:$A$202<>"")*(辞書!$B$3:$B$202<>$D4))>0,"要確認",""))) | H4: =IF($B4="","",IF($G4<>"",$G4,IF($F4="",$D4,""))) | J4: そのまま通せる | K4: =K3-K5-K6
A5: 46269 | B5: 打合せ弁当 6人分 | C5: 5400 | D5: =IF($B5="","",IFERROR(LOOKUP(1,0/(ISNUMBER(SEARCH(辞書!$C$3:$C$202,ASC($B5)))*(辞書!$A$3:$A$202<>"")),辞書!$B$3:$B$202),"未判定")) | E5: =IF($B5="","",IFERROR(LOOKUP(1,0/(ISNUMBER(SEARCH(辞書!$C$3:$C$202,ASC($B5)))*(辞書!$A$3:$A$202<>"")),辞書!$A$3:$A$202),"")) | F5: =IF($B5="","",IF($D5="未判定","未判定",IF(SUMPRODUCT(ISNUMBER(SEARCH(辞書!$C$3:$C$202,ASC($B5)))*(辞書!$A$3:$A$202<>"")*(辞書!$B$3:$B$202<>$D5))>0,"要確認",""))) | H5: =IF($B5="","",IF($G5<>"",$G5,IF($F5="",$D5,""))) | J5: 要確認 | K5: =COUNTIF($F$3:$F$502,"要確認")
A6: 46270 | B6: 会議室までタクシー | C6: 1620 | D6: =IF($B6="","",IFERROR(LOOKUP(1,0/(ISNUMBER(SEARCH(辞書!$C$3:$C$202,ASC($B6)))*(辞書!$A$3:$A$202<>"")),辞書!$B$3:$B$202),"未判定")) | E6: =IF($B6="","",IFERROR(LOOKUP(1,0/(ISNUMBER(SEARCH(辞書!$C$3:$C$202,ASC($B6)))*(辞書!$A$3:$A$202<>"")),辞書!$A$3:$A$202),"")) | F6: =IF($B6="","",IF($D6="未判定","未判定",IF(SUMPRODUCT(ISNUMBER(SEARCH(辞書!$C$3:$C$202,ASC($B6)))*(辞書!$A$3:$A$202<>"")*(辞書!$B$3:$B$202<>$D6))>0,"要確認",""))) | H6: =IF($B6="","",IF($G6<>"",$G6,IF($F6="",$D6,""))) | J6: 未判定 | K6: =COUNTIF($F$3:$F$502,"未判定")
A7: 46273 | B7: セブンイレブン | C7: 880 | D7: =IF($B7="","",IFERROR(LOOKUP(1,0/(ISNUMBER(SEARCH(辞書!$C$3:$C$202,ASC($B7)))*(辞書!$A$3:$A$202<>"")),辞書!$B$3:$B$202),"未判定")) | E7: =IF($B7="","",IFERROR(LOOKUP(1,0/(ISNUMBER(SEARCH(辞書!$C$3:$C$202,ASC($B7)))*(辞書!$A$3:$A$202<>"")),辞書!$A$3:$A$202),"")) | F7: =IF($B7="","",IF($D7="未判定","未判定",IF(SUMPRODUCT(ISNUMBER(SEARCH(辞書!$C$3:$C$202,ASC($B7)))*(辞書!$A$3:$A$202<>"")*(辞書!$B$3:$B$202<>$D7))>0,"要確認",""))) | H7: =IF($B7="","",IF($G7<>"",$G7,IF($F7="",$D7,""))) | J7: 人が見る件数 | K7: =K5+K6
A8: 46275 | B8: ｶﾞｿﾘﾝ代 ﾚｷﾞｭﾗｰ32L | C8: 5120 | D8: =IF($B8="","",IFERROR(LOOKUP(1,0/(ISNUMBER(SEARCH(辞書!$C$3:$C$202,ASC($B8)))*(辞書!$A$3:$A$202<>"")),辞書!$B$3:$B$202),"未判定")) | E8: =IF($B8="","",IFERROR(LOOKUP(1,0/(ISNUMBER(SEARCH(辞書!$C$3:$C$202,ASC($B8)))*(辞書!$A$3:$A$202<>"")),辞書!$A$3:$A$202),"")) | F8: =IF($B8="","",IF($D8="未判定","未判定",IF(SUMPRODUCT(ISNUMBER(SEARCH(辞書!$C$3:$C$202,ASC($B8)))*(辞書!$A$3:$A$202<>"")*(辞書!$B$3:$B$202<>$D8))>0,"要確認",""))) | H8: =IF($B8="","",IF($G8<>"",$G8,IF($F8="",$D8,""))) | J8: 確定していない件数 | K8: =SUMPRODUCT(($B$3:$B$502<>"")*($H$3:$H$502=""))
D9: =IF($B9="","",IFERROR(LOOKUP(1,0/(ISNUMBER(SEARCH(辞書!$C$3:$C$202,ASC($B9)))*(辞書!$A$3:$A$202<>"")),辞書!$B$3:$B$202),"未判定")) | E9: =IF($B9="","",IFERROR(LOOKUP(1,0/(ISNUMBER(SEARCH(辞書!$C$3:$C$202,ASC($B9)))*(辞書!$A$3:$A$202<>"")),辞書!$A$3:$A$202),"")) | F9: =IF($B9="","",IF($D9="未判定","未判定",IF(SUMPRODUCT(ISNUMBER(SEARCH(辞書!$C$3:$C$202,ASC($B9)))*(辞書!$A$3:$A$202<>"")*(辞書!$B$3:$B$202<>$D9))>0,"要確認",""))) | H9: =IF($B9="","",IF($G9<>"",$G9,IF($F9="",$D9,"")))
D10: =IF($B10="","",IFERROR(LOOKUP(1,0/(ISNUMBER(SEARCH(辞書!$C$3:$C$202,ASC($B10)))*(辞書!$A$3:$A$202<>"")),辞書!$B$3:$B$202),"未判定")) | E10: =IF($B10="","",IFERROR(LOOKUP(1,0/(ISNUMBER(SEARCH(辞書!$C$3:$C$202,ASC($B10)))*(辞書!$A$3:$A$202<>"")),辞書!$A$3:$A$202),"")) | F10: =IF($B10="","",IF($D10="未判定","未判定",IF(SUMPRODUCT(ISNUMBER(SEARCH(辞書!$C$3:$C$202,ASC($B10)))*(辞書!$A$3:$A$202<>"")*(辞書!$B$3:$B$202<>$D10))>0,"要確認",""))) | H10: =IF($B10="","",IF($G10<>"",$G10,IF($F10="",$D10,"")))
D11: =IF($B11="","",IFERROR(LOOKUP(1,0/(ISNUMBER(SEARCH(辞書!$C$3:$C$202,ASC($B11)))*(辞書!$A$3:$A$202<>"")),辞書!$B$3:$B$202),"未判定")) | E11: =IF($B11="","",IFERROR(LOOKUP(1,0/(ISNUMBER(SEARCH(辞書!$C$3:$C$202,ASC($B11)))*(辞書!$A$3:$A$202<>"")),辞書!$A$3:$A$202),"")) | F11: =IF($B11="","",IF($D11="未判定","未判定",IF(SUMPRODUCT(ISNUMBER(SEARCH(辞書!$C$3:$C$202,ASC($B11)))*(辞書!$A$3:$A$202<>"")*(辞書!$B$3:$B$202<>$D11))>0,"要確認",""))) | H11: =IF($B11="","",IF($G11<>"",$G11,IF($F11="",$D11,"")))
D12: =IF($B12="","",IFERROR(LOOKUP(1,0/(ISNUMBER(SEARCH(辞書!$C$3:$C$202,ASC($B12)))*(辞書!$A$3:$A$202<>"")),辞書!$B$3:$B$202),"未判定")) | E12: =IF($B12="","",IFERROR(LOOKUP(1,0/(ISNUMBER(SEARCH(辞書!$C$3:$C$202,ASC($B12)))*(辞書!$A$3:$A$202<>"")),辞書!$A$3:$A$202),"")) | F12: =IF($B12="","",IF($D12="未判定","未判定",IF(SUMPRODUCT(ISNUMBER(SEARCH(辞書!$C$3:$C$202,ASC($B12)))*(辞書!$A$3:$A$202<>"")*(辞書!$B$3:$B$202<>$D12))>0,"要確認",""))) | H12: =IF($B12="","",IF($G12<>"",$G12,IF($F12="",$D12,"")))
D13: =IF($B13="","",IFERROR(LOOKUP(1,0/(ISNUMBER(SEARCH(辞書!$C$3:$C$202,ASC($B13)))*(辞書!$A$3:$A$202<>"")),辞書!$B$3:$B$202),"未判定")) | E13: =IF($B13="","",IFERROR(LOOKUP(1,0/(ISNUMBER(SEARCH(辞書!$C$3:$C$202,ASC($B13)))*(辞書!$A$3:$A$202<>"")),辞書!$A$3:$A$202),"")) | F13: =IF($B13="","",IF($D13="未判定","未判定",IF(SUMPRODUCT(ISNUMBER(SEARCH(辞書!$C$3:$C$202,ASC($B13)))*(辞書!$A$3:$A$202<>"")*(辞書!$B$3:$B$202<>$D13))>0,"要確認",""))) | H13: =IF($B13="","",IF($G13<>"",$G13,IF($F13="",$D13,"")))
D14: =IF($B14="","",IFERROR(LOOKUP(1,0/(ISNUMBER(SEARCH(辞書!$C$3:$C$202,ASC($B14)))*(辞書!$A$3:$A$202<>"")),辞書!$B$3:$B$202),"未判定")) | E14: =IF($B14="","",IFERROR(LOOKUP(1,0/(ISNUMBER(SEARCH(辞書!$C$3:$C$202,ASC($B14)))*(辞書!$A$3:$A$202<>"")),辞書!$A$3:$A$202),"")) | F14: =IF($B14="","",IF($D14="未判定","未判定",IF(SUMPRODUCT(ISNUMBER(SEARCH(辞書!$C$3:$C$202,ASC($B14)))*(辞書!$A$3:$A$202<>"")*(辞書!$B$3:$B$202<>$D14))>0,"要確認",""))) | H14: =IF($B14="","",IF($G14<>"",$G14,IF($F14="",$D14,"")))
D15: =IF($B15="","",IFERROR(LOOKUP(1,0/(ISNUMBER(SEARCH(辞書!$C$3:$C$202,ASC($B15)))*(辞書!$A$3:$A$202<>"")),辞書!$B$3:$B$202),"未判定")) | E15: =IF($B15="","",IFERROR(LOOKUP(1,0/(ISNUMBER(SEARCH(辞書!$C$3:$C$202,ASC($B15)))*(辞書!$A$3:$A$202<>"")),辞書!$A$3:$A$202),"")) | F15: =IF($B15="","",IF($D15="未判定","未判定",IF(SUMPRODUCT(ISNUMBER(SEARCH(辞書!$C$3:$C$202,ASC($B15)))*(辞書!$A$3:$A$202<>"")*(辞書!$B$3:$B$202<>$D15))>0,"要確認",""))) | H15: =IF($B15="","",IF($G15<>"",$G15,IF($F15="",$D15,"")))
D16: =IF($B16="","",IFERROR(LOOKUP(1,0/(ISNUMBER(SEARCH(辞書!$C$3:$C$202,ASC($B16)))*(辞書!$A$3:$A$202<>"")),辞書!$B$3:$B$202),"未判定")) | E16: =IF($B16="","",IFERROR(LOOKUP(1,0/(ISNUMBER(SEARCH(辞書!$C$3:$C$202,ASC($B16)))*(辞書!$A$3:$A$202<>"")),辞書!$A$3:$A$202),"")) | F16: =IF($B16="","",IF($D16="未判定","未判定",IF(SUMPRODUCT(ISNUMBER(SEARCH(辞書!$C$3:$C$202,ASC($B16)))*(辞書!$A$3:$A$202<>"")*(辞書!$B$3:$B$202<>$D16))>0,"要確認",""))) | H16: =IF($B16="","",IF($G16<>"",$G16,IF($F16="",$D16,"")))
D17: =IF($B17="","",IFERROR(LOOKUP(1,0/(ISNUMBER(SEARCH(辞書!$C$3:$C$202,ASC($B17)))*(辞書!$A$3:$A$202<>"")),辞書!$B$3:$B$202),"未判定")) | E17: =IF($B17="","",IFERROR(LOOKUP(1,0/(ISNUMBER(SEARCH(辞書!$C$3:$C$202,ASC($B17)))*(辞書!$A$3:$A$202<>"")),辞書!$A$3:$A$202),"")) | F17: =IF($B17="","",IF($D17="未判定","未判定",IF(SUMPRODUCT(ISNUMBER(SEARCH(辞書!$C$3:$C$202,ASC($B17)))*(辞書!$A$3:$A$202<>"")*(辞書!$B$3:$B$202<>$D17))>0,"要確認",""))) | H17: =IF($B17="","",IF($G17<>"",$G17,IF($F17="",$D17,"")))
D18: =IF($B18="","",IFERROR(LOOKUP(1,0/(ISNUMBER(SEARCH(辞書!$C$3:$C$202,ASC($B18)))*(辞書!$A$3:$A$202<>"")),辞書!$B$3:$B$202),"未判定")) | E18: =IF($B18="","",IFERROR(LOOKUP(1,0/(ISNUMBER(SEARCH(辞書!$C$3:$C$202,ASC($B18)))*(辞書!$A$3:$A$202<>"")),辞書!$A$3:$A$202),"")) | F18: =IF($B18="","",IF($D18="未判定","未判定",IF(SUMPRODUCT(ISNUMBER(SEARCH(辞書!$C$3:$C$202,ASC($B18)))*(辞書!$A$3:$A$202<>"")*(辞書!$B$3:$B$202<>$D18))>0,"要確認",""))) | H18: =IF($B18="","",IF($G18<>"",$G18,IF($F18="",$D18,"")))
D19: =IF($B19="","",IFERROR(LOOKUP(1,0/(ISNUMBER(SEARCH(辞書!$C$3:$C$202,ASC($B19)))*(辞書!$A$3:$A$202<>"")),辞書!$B$3:$B$202),"未判定")) | E19: =IF($B19="","",IFERROR(LOOKUP(1,0/(ISNUMBER(SEARCH(辞書!$C$3:$C$202,ASC($B19)))*(辞書!$A$3:$A$202<>"")),辞書!$A$3:$A$202),"")) | F19: =IF($B19="","",IF($D19="未判定","未判定",IF(SUMPRODUCT(ISNUMBER(SEARCH(辞書!$C$3:$C$202,ASC($B19)))*(辞書!$A$3:$A$202<>"")*(辞書!$B$3:$B$202<>$D19))>0,"要確認",""))) | H19: =IF($B19="","",IF($G19<>"",$G19,IF($F19="",$D19,"")))
D20: =IF($B20="","",IFERROR(LOOKUP(1,0/(ISNUMBER(SEARCH(辞書!$C$3:$C$202,ASC($B20)))*(辞書!$A$3:$A$202<>"")),辞書!$B$3:$B$202),"未判定")) | E20: =IF($B20="","",IFERROR(LOOKUP(1,0/(ISNUMBER(SEARCH(辞書!$C$3:$C$202,ASC($B20)))*(辞書!$A$3:$A$202<>"")),辞書!$A$3:$A$202),"")) | F20: =IF($B20="","",IF($D20="未判定","未判定",IF(SUMPRODUCT(ISNUMBER(SEARCH(辞書!$C$3:$C$202,ASC($B20)))*(辞書!$A$3:$A$202<>"")*(辞書!$B$3:$B$202<>$D20))>0,"要確認",""))) | H20: =IF($B20="","",IF($G20<>"",$G20,IF($F20="",$D20,"")))
... D502: =IF($B502="","",IFERROR(LOOKUP(1,0/(ISNUMBER(SEARCH(辞書!$C$3:$C$202,ASC($B502)))*(辞書!$A$3:$A$202<>"")),辞書!$B$3:$B$202),"未判定")) | E502: =IF($B502="","",IFERROR(LOOKUP(1,0/(ISNUMBER(SEARCH(辞書!$C$3:$C$202,ASC($B502)))*(辞書!$A$3:$A$202<>"")),辞書!$A$3:$A$202),"")) | F502: =IF($B502="","",IF($D502="未判定","未判定",IF(SUMPRODUCT(ISNUMBER(SEARCH(辞書!$C$3:$C$202,ASC($B502)))*(辞書!$A$3:$A$202<>"")*(辞書!$B$3:$B$202<>$D502))>0,"要確認",""))) | H502: =IF($B502="","",IF($G502<>"",$G502,IF($F502="",$D502,"")))

Sheet 辞書
A1: キーワードと勘定科目の対応 | D1: 下にあるものが勝つ。直したい行は下に足す
A2: キーワード | B2: 勘定科目 | C2: 照合用（式） | D2: メモ
A3: タクシー | B3: 旅費交通費 | C3: =IF($A3="","",ASC($A3))
A4: 電車 | B4: 旅費交通費 | C4: =IF($A4="","",ASC($A4))
A5: 新幹線 | B5: 旅費交通費 | C5: =IF($A5="","",ASC($A5))
A6: 高速 | B6: 旅費交通費 | C6: =IF($A6="","",ASC($A6))
A7: ETC | B7: 旅費交通費 | C7: =IF($A7="","",ASC($A7))
A8: 駐車 | B8: 旅費交通費 | C8: =IF($A8="","",ASC($A8))
A9: 宿泊 | B9: 旅費交通費 | C9: =IF($A9="","",ASC($A9))
A10: ホテル | B10: 旅費交通費 | C10: =IF($A10="","",ASC($A10))
A11: 回数券 | B11: 旅費交通費 | C11: =IF($A11="","",ASC($A11))
A12: 切手 | B12: 通信費 | C12: =IF($A12="","",ASC($A12))
A13: レターパック | B13: 通信費 | C13: =IF($A13="","",ASC($A13))
A14: 郵便 | B14: 通信費 | C14: =IF($A14="","",ASC($A14))
... A55: 修繕 | B55: 修繕費 | C55: =IF($A55="","",ASC($A55))
C56: =IF($A56="","",ASC($A56))
C57: =IF($A57="","",ASC($A57))
C58: =IF($A58="","",ASC($A58))
C59: =IF($A59="","",ASC($A59))
C60: =IF($A60="","",ASC($A60))
C61: =IF($A61="","",ASC($A61))
C62: =IF($A62="","",ASC($A62))
C63: =IF($A63="","",ASC($A63))
C64: =IF($A64="","",ASC($A64))
C65: =IF($A65="","",ASC($A65))
C66: =IF($A66="","",ASC($A66))
C67: =IF($A67="","",ASC($A67))
... C202: =IF($A202="","",ASC($A202))
A204: C列は触らない。半角と全角の差を消すための作業列。
A205: キーワードに * と ? は入れない。SEARCH がワイルドカードとして読む。

Sheet 使い方
A1: この表の決まり
A3: 1. 「辞書」にキーワードと勘定科目を入れる。同じ摘要が2つのキーワードに当たったら、下にある行が勝つ。
A4: 2. 「仕訳」のB列に摘要を貼る。D列に勘定科目、E列に当たったキーワードが出る。
A5: 3. F列が「要確認」の行は、別の科目のキーワードにも当たっている。どちらか人が決める。
A6: 4. F列が「未判定」の行は、辞書のどれにも当たっていない。科目を決めて、辞書に語を足す。
A7: 5. 人が決めた科目はG列に書く。H列の確定科目がG列を優先する。
A9: 半角カナで書かれた摘要は、ASCで半角にそろえてから照合している。
A10: ひらがなとカタカナの差は関数では消せない。「たくしー」と書かれたら辞書に足す。
A11: キーワードに * と ? は使えない。SEARCH がワイルドカードとして読むので、何にでも当たる。
