Workbook

Sheet 1_金種表
A1: 金種表。1人ずつ札と硬貨に分けて、金種ごとの枚数を足す
A2: 黄色を入れる。Microsoft 365のExcel（バージョン16）、Windows 11で確認、2026年10月6日
A4: 2,000円札を使う | B4: いいえ
A6: 名前 | B6: 金額 | C6: 10000 | D6: 5000 | E6: 2000 | F6: 1000 | G6: 500 | H6: 100 | I6: 50 | J6: 10 | K6: 5 | L6: 1 | M6: 枚数 | N6: 検算の差 | O6: 人数 | P6: =COUNT(B7:B36)
A7: A | B7: 8580 | C7: =IF($B7="","",INT($B7/C$6)) | D7: =IF($B7="","",IF(AND(D$6=2000,$B$4<>"はい"),0,INT(($B7-SUMPRODUCT($C$6:C$6,$C7:C7))/D$6))) | E7: =IF($B7="","",IF(AND(E$6=2000,$B$4<>"はい"),0,INT(($B7-SUMPRODUCT($C$6:D$6,$C7:D7))/E$6))) | F7: =IF($B7="","",IF(AND(F$6=2000,$B$4<>"はい"),0,INT(($B7-SUMPRODUCT($C$6:E$6,$C7:E7))/F$6))) | G7: =IF($B7="","",IF(AND(G$6=2000,$B$4<>"はい"),0,INT(($B7-SUMPRODUCT($C$6:F$6,$C7:F7))/G$6))) | H7: =IF($B7="","",IF(AND(H$6=2000,$B$4<>"はい"),0,INT(($B7-SUMPRODUCT($C$6:G$6,$C7:G7))/H$6))) | I7: =IF($B7="","",IF(AND(I$6=2000,$B$4<>"はい"),0,INT(($B7-SUMPRODUCT($C$6:H$6,$C7:H7))/I$6))) | J7: =IF($B7="","",IF(AND(J$6=2000,$B$4<>"はい"),0,INT(($B7-SUMPRODUCT($C$6:I$6,$C7:I7))/J$6))) | K7: =IF($B7="","",IF(AND(K$6=2000,$B$4<>"はい"),0,INT(($B7-SUMPRODUCT($C$6:J$6,$C7:J7))/K$6))) | L7: =IF($B7="","",IF(AND(L$6=2000,$B$4<>"はい"),0,INT(($B7-SUMPRODUCT($C$6:K$6,$C7:K7))/L$6))) | M7: =IF($B7="","",SUM(C7:L7)) | N7: =IF($B7="","",SUMPRODUCT($C$6:$L$6,C7:L7)-$B7) | O7: 紙幣の枚数 | P7: =SUM(C38:F38)
A8: B | B8: 9240 | C8: =IF($B8="","",INT($B8/C$6)) | D8: =IF($B8="","",IF(AND(D$6=2000,$B$4<>"はい"),0,INT(($B8-SUMPRODUCT($C$6:C$6,$C8:C8))/D$6))) | E8: =IF($B8="","",IF(AND(E$6=2000,$B$4<>"はい"),0,INT(($B8-SUMPRODUCT($C$6:D$6,$C8:D8))/E$6))) | F8: =IF($B8="","",IF(AND(F$6=2000,$B$4<>"はい"),0,INT(($B8-SUMPRODUCT($C$6:E$6,$C8:E8))/F$6))) | G8: =IF($B8="","",IF(AND(G$6=2000,$B$4<>"はい"),0,INT(($B8-SUMPRODUCT($C$6:F$6,$C8:F8))/G$6))) | H8: =IF($B8="","",IF(AND(H$6=2000,$B$4<>"はい"),0,INT(($B8-SUMPRODUCT($C$6:G$6,$C8:G8))/H$6))) | I8: =IF($B8="","",IF(AND(I$6=2000,$B$4<>"はい"),0,INT(($B8-SUMPRODUCT($C$6:H$6,$C8:H8))/I$6))) | J8: =IF($B8="","",IF(AND(J$6=2000,$B$4<>"はい"),0,INT(($B8-SUMPRODUCT($C$6:I$6,$C8:I8))/J$6))) | K8: =IF($B8="","",IF(AND(K$6=2000,$B$4<>"はい"),0,INT(($B8-SUMPRODUCT($C$6:J$6,$C8:J8))/K$6))) | L8: =IF($B8="","",IF(AND(L$6=2000,$B$4<>"はい"),0,INT(($B8-SUMPRODUCT($C$6:K$6,$C8:K8))/L$6))) | M8: =IF($B8="","",SUM(C8:L8)) | N8: =IF($B8="","",SUMPRODUCT($C$6:$L$6,C8:L8)-$B8) | O8: 硬貨の枚数 | P8: =SUM(G38:L38)
A9: C | B9: 7735 | C9: =IF($B9="","",INT($B9/C$6)) | D9: =IF($B9="","",IF(AND(D$6=2000,$B$4<>"はい"),0,INT(($B9-SUMPRODUCT($C$6:C$6,$C9:C9))/D$6))) | E9: =IF($B9="","",IF(AND(E$6=2000,$B$4<>"はい"),0,INT(($B9-SUMPRODUCT($C$6:D$6,$C9:D9))/E$6))) | F9: =IF($B9="","",IF(AND(F$6=2000,$B$4<>"はい"),0,INT(($B9-SUMPRODUCT($C$6:E$6,$C9:E9))/F$6))) | G9: =IF($B9="","",IF(AND(G$6=2000,$B$4<>"はい"),0,INT(($B9-SUMPRODUCT($C$6:F$6,$C9:F9))/G$6))) | H9: =IF($B9="","",IF(AND(H$6=2000,$B$4<>"はい"),0,INT(($B9-SUMPRODUCT($C$6:G$6,$C9:G9))/H$6))) | I9: =IF($B9="","",IF(AND(I$6=2000,$B$4<>"はい"),0,INT(($B9-SUMPRODUCT($C$6:H$6,$C9:H9))/I$6))) | J9: =IF($B9="","",IF(AND(J$6=2000,$B$4<>"はい"),0,INT(($B9-SUMPRODUCT($C$6:I$6,$C9:I9))/J$6))) | K9: =IF($B9="","",IF(AND(K$6=2000,$B$4<>"はい"),0,INT(($B9-SUMPRODUCT($C$6:J$6,$C9:J9))/K$6))) | L9: =IF($B9="","",IF(AND(L$6=2000,$B$4<>"はい"),0,INT(($B9-SUMPRODUCT($C$6:K$6,$C9:K9))/L$6))) | M9: =IF($B9="","",SUM(C9:L9)) | N9: =IF($B9="","",SUMPRODUCT($C$6:$L$6,C9:L9)-$B9) | O9: 全部の枚数 | P9: =M38
A10: D | B10: 6600 | C10: =IF($B10="","",INT($B10/C$6)) | D10: =IF($B10="","",IF(AND(D$6=2000,$B$4<>"はい"),0,INT(($B10-SUMPRODUCT($C$6:C$6,$C10:C10))/D$6))) | E10: =IF($B10="","",IF(AND(E$6=2000,$B$4<>"はい"),0,INT(($B10-SUMPRODUCT($C$6:D$6,$C10:D10))/E$6))) | F10: =IF($B10="","",IF(AND(F$6=2000,$B$4<>"はい"),0,INT(($B10-SUMPRODUCT($C$6:E$6,$C10:E10))/F$6))) | G10: =IF($B10="","",IF(AND(G$6=2000,$B$4<>"はい"),0,INT(($B10-SUMPRODUCT($C$6:F$6,$C10:F10))/G$6))) | H10: =IF($B10="","",IF(AND(H$6=2000,$B$4<>"はい"),0,INT(($B10-SUMPRODUCT($C$6:G$6,$C10:G10))/H$6))) | I10: =IF($B10="","",IF(AND(I$6=2000,$B$4<>"はい"),0,INT(($B10-SUMPRODUCT($C$6:H$6,$C10:H10))/I$6))) | J10: =IF($B10="","",IF(AND(J$6=2000,$B$4<>"はい"),0,INT(($B10-SUMPRODUCT($C$6:I$6,$C10:I10))/J$6))) | K10: =IF($B10="","",IF(AND(K$6=2000,$B$4<>"はい"),0,INT(($B10-SUMPRODUCT($C$6:J$6,$C10:J10))/K$6))) | L10: =IF($B10="","",IF(AND(L$6=2000,$B$4<>"はい"),0,INT(($B10-SUMPRODUCT($C$6:K$6,$C10:K10))/L$6))) | M10: =IF($B10="","",SUM(C10:L10)) | N10: =IF($B10="","",SUMPRODUCT($C$6:$L$6,C10:L10)-$B10) | O10: 1人あたりの枚数 | P10: =IF(P6=0,"",P9/P6)
A11: E | B11: 9075 | C11: =IF($B11="","",INT($B11/C$6)) | D11: =IF($B11="","",IF(AND(D$6=2000,$B$4<>"はい"),0,INT(($B11-SUMPRODUCT($C$6:C$6,$C11:C11))/D$6))) | E11: =IF($B11="","",IF(AND(E$6=2000,$B$4<>"はい"),0,INT(($B11-SUMPRODUCT($C$6:D$6,$C11:D11))/E$6))) | F11: =IF($B11="","",IF(AND(F$6=2000,$B$4<>"はい"),0,INT(($B11-SUMPRODUCT($C$6:E$6,$C11:E11))/F$6))) | G11: =IF($B11="","",IF(AND(G$6=2000,$B$4<>"はい"),0,INT(($B11-SUMPRODUCT($C$6:F$6,$C11:F11))/G$6))) | H11: =IF($B11="","",IF(AND(H$6=2000,$B$4<>"はい"),0,INT(($B11-SUMPRODUCT($C$6:G$6,$C11:G11))/H$6))) | I11: =IF($B11="","",IF(AND(I$6=2000,$B$4<>"はい"),0,INT(($B11-SUMPRODUCT($C$6:H$6,$C11:H11))/I$6))) | J11: =IF($B11="","",IF(AND(J$6=2000,$B$4<>"はい"),0,INT(($B11-SUMPRODUCT($C$6:I$6,$C11:I11))/J$6))) | K11: =IF($B11="","",IF(AND(K$6=2000,$B$4<>"はい"),0,INT(($B11-SUMPRODUCT($C$6:J$6,$C11:J11))/K$6))) | L11: =IF($B11="","",IF(AND(L$6=2000,$B$4<>"はい"),0,INT(($B11-SUMPRODUCT($C$6:K$6,$C11:K11))/L$6))) | M11: =IF($B11="","",SUM(C11:L11)) | N11: =IF($B11="","",SUMPRODUCT($C$6:$L$6,C11:L11)-$B11) | O11: 一度に崩した枚数 | P11: =M39
A12: F | B12: 8910 | C12: =IF($B12="","",INT($B12/C$6)) | D12: =IF($B12="","",IF(AND(D$6=2000,$B$4<>"はい"),0,INT(($B12-SUMPRODUCT($C$6:C$6,$C12:C12))/D$6))) | E12: =IF($B12="","",IF(AND(E$6=2000,$B$4<>"はい"),0,INT(($B12-SUMPRODUCT($C$6:D$6,$C12:D12))/E$6))) | F12: =IF($B12="","",IF(AND(F$6=2000,$B$4<>"はい"),0,INT(($B12-SUMPRODUCT($C$6:E$6,$C12:E12))/F$6))) | G12: =IF($B12="","",IF(AND(G$6=2000,$B$4<>"はい"),0,INT(($B12-SUMPRODUCT($C$6:F$6,$C12:F12))/G$6))) | H12: =IF($B12="","",IF(AND(H$6=2000,$B$4<>"はい"),0,INT(($B12-SUMPRODUCT($C$6:G$6,$C12:G12))/H$6))) | I12: =IF($B12="","",IF(AND(I$6=2000,$B$4<>"はい"),0,INT(($B12-SUMPRODUCT($C$6:H$6,$C12:H12))/I$6))) | J12: =IF($B12="","",IF(AND(J$6=2000,$B$4<>"はい"),0,INT(($B12-SUMPRODUCT($C$6:I$6,$C12:I12))/J$6))) | K12: =IF($B12="","",IF(AND(K$6=2000,$B$4<>"はい"),0,INT(($B12-SUMPRODUCT($C$6:J$6,$C12:J12))/K$6))) | L12: =IF($B12="","",IF(AND(L$6=2000,$B$4<>"はい"),0,INT(($B12-SUMPRODUCT($C$6:K$6,$C12:K12))/L$6))) | M12: =IF($B12="","",SUM(C12:L12)) | N12: =IF($B12="","",SUMPRODUCT($C$6:$L$6,C12:L12)-$B12) | O12: 窓口で金種を指定して払い戻す手数料（三菱UFJ銀行、口座あり） | P12: =IF(P9<=10,0,770*CEILING(P9/500,1))
A13: G | B13: 5445 | C13: =IF($B13="","",INT($B13/C$6)) | D13: =IF($B13="","",IF(AND(D$6=2000,$B$4<>"はい"),0,INT(($B13-SUMPRODUCT($C$6:C$6,$C13:C13))/D$6))) | E13: =IF($B13="","",IF(AND(E$6=2000,$B$4<>"はい"),0,INT(($B13-SUMPRODUCT($C$6:D$6,$C13:D13))/E$6))) | F13: =IF($B13="","",IF(AND(F$6=2000,$B$4<>"はい"),0,INT(($B13-SUMPRODUCT($C$6:E$6,$C13:E13))/F$6))) | G13: =IF($B13="","",IF(AND(G$6=2000,$B$4<>"はい"),0,INT(($B13-SUMPRODUCT($C$6:F$6,$C13:F13))/G$6))) | H13: =IF($B13="","",IF(AND(H$6=2000,$B$4<>"はい"),0,INT(($B13-SUMPRODUCT($C$6:G$6,$C13:G13))/H$6))) | I13: =IF($B13="","",IF(AND(I$6=2000,$B$4<>"はい"),0,INT(($B13-SUMPRODUCT($C$6:H$6,$C13:H13))/I$6))) | J13: =IF($B13="","",IF(AND(J$6=2000,$B$4<>"はい"),0,INT(($B13-SUMPRODUCT($C$6:I$6,$C13:I13))/J$6))) | K13: =IF($B13="","",IF(AND(K$6=2000,$B$4<>"はい"),0,INT(($B13-SUMPRODUCT($C$6:J$6,$C13:J13))/K$6))) | L13: =IF($B13="","",IF(AND(L$6=2000,$B$4<>"はい"),0,INT(($B13-SUMPRODUCT($C$6:K$6,$C13:K13))/L$6))) | M13: =IF($B13="","",SUM(C13:L13)) | N13: =IF($B13="","",SUMPRODUCT($C$6:$L$6,C13:L13)-$B13) | O13: 検算の差が0でない行 | P13: =COUNTIFS(N7:N36,"<>0",B7:B36,"<>")
A14: H | B14: 7920 | C14: =IF($B14="","",INT($B14/C$6)) | D14: =IF($B14="","",IF(AND(D$6=2000,$B$4<>"はい"),0,INT(($B14-SUMPRODUCT($C$6:C$6,$C14:C14))/D$6))) | E14: =IF($B14="","",IF(AND(E$6=2000,$B$4<>"はい"),0,INT(($B14-SUMPRODUCT($C$6:D$6,$C14:D14))/E$6))) | F14: =IF($B14="","",IF(AND(F$6=2000,$B$4<>"はい"),0,INT(($B14-SUMPRODUCT($C$6:E$6,$C14:E14))/F$6))) | G14: =IF($B14="","",IF(AND(G$6=2000,$B$4<>"はい"),0,INT(($B14-SUMPRODUCT($C$6:F$6,$C14:F14))/G$6))) | H14: =IF($B14="","",IF(AND(H$6=2000,$B$4<>"はい"),0,INT(($B14-SUMPRODUCT($C$6:G$6,$C14:G14))/H$6))) | I14: =IF($B14="","",IF(AND(I$6=2000,$B$4<>"はい"),0,INT(($B14-SUMPRODUCT($C$6:H$6,$C14:H14))/I$6))) | J14: =IF($B14="","",IF(AND(J$6=2000,$B$4<>"はい"),0,INT(($B14-SUMPRODUCT($C$6:I$6,$C14:I14))/J$6))) | K14: =IF($B14="","",IF(AND(K$6=2000,$B$4<>"はい"),0,INT(($B14-SUMPRODUCT($C$6:J$6,$C14:J14))/K$6))) | L14: =IF($B14="","",IF(AND(L$6=2000,$B$4<>"はい"),0,INT(($B14-SUMPRODUCT($C$6:K$6,$C14:K14))/L$6))) | M14: =IF($B14="","",SUM(C14:L14)) | N14: =IF($B14="","",SUMPRODUCT($C$6:$L$6,C14:L14)-$B14)
A15: I | B15: 9570 | C15: =IF($B15="","",INT($B15/C$6)) | D15: =IF($B15="","",IF(AND(D$6=2000,$B$4<>"はい"),0,INT(($B15-SUMPRODUCT($C$6:C$6,$C15:C15))/D$6))) | E15: =IF($B15="","",IF(AND(E$6=2000,$B$4<>"はい"),0,INT(($B15-SUMPRODUCT($C$6:D$6,$C15:D15))/E$6))) | F15: =IF($B15="","",IF(AND(F$6=2000,$B$4<>"はい"),0,INT(($B15-SUMPRODUCT($C$6:E$6,$C15:E15))/F$6))) | G15: =IF($B15="","",IF(AND(G$6=2000,$B$4<>"はい"),0,INT(($B15-SUMPRODUCT($C$6:F$6,$C15:F15))/G$6))) | H15: =IF($B15="","",IF(AND(H$6=2000,$B$4<>"はい"),0,INT(($B15-SUMPRODUCT($C$6:G$6,$C15:G15))/H$6))) | I15: =IF($B15="","",IF(AND(I$6=2000,$B$4<>"はい"),0,INT(($B15-SUMPRODUCT($C$6:H$6,$C15:H15))/I$6))) | J15: =IF($B15="","",IF(AND(J$6=2000,$B$4<>"はい"),0,INT(($B15-SUMPRODUCT($C$6:I$6,$C15:I15))/J$6))) | K15: =IF($B15="","",IF(AND(K$6=2000,$B$4<>"はい"),0,INT(($B15-SUMPRODUCT($C$6:J$6,$C15:J15))/K$6))) | L15: =IF($B15="","",IF(AND(L$6=2000,$B$4<>"はい"),0,INT(($B15-SUMPRODUCT($C$6:K$6,$C15:K15))/L$6))) | M15: =IF($B15="","",SUM(C15:L15)) | N15: =IF($B15="","",SUMPRODUCT($C$6:$L$6,C15:L15)-$B15)
A16: J | B16: 6930 | C16: =IF($B16="","",INT($B16/C$6)) | D16: =IF($B16="","",IF(AND(D$6=2000,$B$4<>"はい"),0,INT(($B16-SUMPRODUCT($C$6:C$6,$C16:C16))/D$6))) | E16: =IF($B16="","",IF(AND(E$6=2000,$B$4<>"はい"),0,INT(($B16-SUMPRODUCT($C$6:D$6,$C16:D16))/E$6))) | F16: =IF($B16="","",IF(AND(F$6=2000,$B$4<>"はい"),0,INT(($B16-SUMPRODUCT($C$6:E$6,$C16:E16))/F$6))) | G16: =IF($B16="","",IF(AND(G$6=2000,$B$4<>"はい"),0,INT(($B16-SUMPRODUCT($C$6:F$6,$C16:F16))/G$6))) | H16: =IF($B16="","",IF(AND(H$6=2000,$B$4<>"はい"),0,INT(($B16-SUMPRODUCT($C$6:G$6,$C16:G16))/H$6))) | I16: =IF($B16="","",IF(AND(I$6=2000,$B$4<>"はい"),0,INT(($B16-SUMPRODUCT($C$6:H$6,$C16:H16))/I$6))) | J16: =IF($B16="","",IF(AND(J$6=2000,$B$4<>"はい"),0,INT(($B16-SUMPRODUCT($C$6:I$6,$C16:I16))/J$6))) | K16: =IF($B16="","",IF(AND(K$6=2000,$B$4<>"はい"),0,INT(($B16-SUMPRODUCT($C$6:J$6,$C16:J16))/K$6))) | L16: =IF($B16="","",IF(AND(L$6=2000,$B$4<>"はい"),0,INT(($B16-SUMPRODUCT($C$6:K$6,$C16:K16))/L$6))) | M16: =IF($B16="","",SUM(C16:L16)) | N16: =IF($B16="","",SUMPRODUCT($C$6:$L$6,C16:L16)-$B16)
C17: =IF($B17="","",INT($B17/C$6)) | D17: =IF($B17="","",IF(AND(D$6=2000,$B$4<>"はい"),0,INT(($B17-SUMPRODUCT($C$6:C$6,$C17:C17))/D$6))) | E17: =IF($B17="","",IF(AND(E$6=2000,$B$4<>"はい"),0,INT(($B17-SUMPRODUCT($C$6:D$6,$C17:D17))/E$6))) | F17: =IF($B17="","",IF(AND(F$6=2000,$B$4<>"はい"),0,INT(($B17-SUMPRODUCT($C$6:E$6,$C17:E17))/F$6))) | G17: =IF($B17="","",IF(AND(G$6=2000,$B$4<>"はい"),0,INT(($B17-SUMPRODUCT($C$6:F$6,$C17:F17))/G$6))) | H17: =IF($B17="","",IF(AND(H$6=2000,$B$4<>"はい"),0,INT(($B17-SUMPRODUCT($C$6:G$6,$C17:G17))/H$6))) | I17: =IF($B17="","",IF(AND(I$6=2000,$B$4<>"はい"),0,INT(($B17-SUMPRODUCT($C$6:H$6,$C17:H17))/I$6))) | J17: =IF($B17="","",IF(AND(J$6=2000,$B$4<>"はい"),0,INT(($B17-SUMPRODUCT($C$6:I$6,$C17:I17))/J$6))) | K17: =IF($B17="","",IF(AND(K$6=2000,$B$4<>"はい"),0,INT(($B17-SUMPRODUCT($C$6:J$6,$C17:J17))/K$6))) | L17: =IF($B17="","",IF(AND(L$6=2000,$B$4<>"はい"),0,INT(($B17-SUMPRODUCT($C$6:K$6,$C17:K17))/L$6))) | M17: =IF($B17="","",SUM(C17:L17)) | N17: =IF($B17="","",SUMPRODUCT($C$6:$L$6,C17:L17)-$B17)
C18: =IF($B18="","",INT($B18/C$6)) | D18: =IF($B18="","",IF(AND(D$6=2000,$B$4<>"はい"),0,INT(($B18-SUMPRODUCT($C$6:C$6,$C18:C18))/D$6))) | E18: =IF($B18="","",IF(AND(E$6=2000,$B$4<>"はい"),0,INT(($B18-SUMPRODUCT($C$6:D$6,$C18:D18))/E$6))) | F18: =IF($B18="","",IF(AND(F$6=2000,$B$4<>"はい"),0,INT(($B18-SUMPRODUCT($C$6:E$6,$C18:E18))/F$6))) | G18: =IF($B18="","",IF(AND(G$6=2000,$B$4<>"はい"),0,INT(($B18-SUMPRODUCT($C$6:F$6,$C18:F18))/G$6))) | H18: =IF($B18="","",IF(AND(H$6=2000,$B$4<>"はい"),0,INT(($B18-SUMPRODUCT($C$6:G$6,$C18:G18))/H$6))) | I18: =IF($B18="","",IF(AND(I$6=2000,$B$4<>"はい"),0,INT(($B18-SUMPRODUCT($C$6:H$6,$C18:H18))/I$6))) | J18: =IF($B18="","",IF(AND(J$6=2000,$B$4<>"はい"),0,INT(($B18-SUMPRODUCT($C$6:I$6,$C18:I18))/J$6))) | K18: =IF($B18="","",IF(AND(K$6=2000,$B$4<>"はい"),0,INT(($B18-SUMPRODUCT($C$6:J$6,$C18:J18))/K$6))) | L18: =IF($B18="","",IF(AND(L$6=2000,$B$4<>"はい"),0,INT(($B18-SUMPRODUCT($C$6:K$6,$C18:K18))/L$6))) | M18: =IF($B18="","",SUM(C18:L18)) | N18: =IF($B18="","",SUMPRODUCT($C$6:$L$6,C18:L18)-$B18)
C19: =IF($B19="","",INT($B19/C$6)) | D19: =IF($B19="","",IF(AND(D$6=2000,$B$4<>"はい"),0,INT(($B19-SUMPRODUCT($C$6:C$6,$C19:C19))/D$6))) | E19: =IF($B19="","",IF(AND(E$6=2000,$B$4<>"はい"),0,INT(($B19-SUMPRODUCT($C$6:D$6,$C19:D19))/E$6))) | F19: =IF($B19="","",IF(AND(F$6=2000,$B$4<>"はい"),0,INT(($B19-SUMPRODUCT($C$6:E$6,$C19:E19))/F$6))) | G19: =IF($B19="","",IF(AND(G$6=2000,$B$4<>"はい"),0,INT(($B19-SUMPRODUCT($C$6:F$6,$C19:F19))/G$6))) | H19: =IF($B19="","",IF(AND(H$6=2000,$B$4<>"はい"),0,INT(($B19-SUMPRODUCT($C$6:G$6,$C19:G19))/H$6))) | I19: =IF($B19="","",IF(AND(I$6=2000,$B$4<>"はい"),0,INT(($B19-SUMPRODUCT($C$6:H$6,$C19:H19))/I$6))) | J19: =IF($B19="","",IF(AND(J$6=2000,$B$4<>"はい"),0,INT(($B19-SUMPRODUCT($C$6:I$6,$C19:I19))/J$6))) | K19: =IF($B19="","",IF(AND(K$6=2000,$B$4<>"はい"),0,INT(($B19-SUMPRODUCT($C$6:J$6,$C19:J19))/K$6))) | L19: =IF($B19="","",IF(AND(L$6=2000,$B$4<>"はい"),0,INT(($B19-SUMPRODUCT($C$6:K$6,$C19:K19))/L$6))) | M19: =IF($B19="","",SUM(C19:L19)) | N19: =IF($B19="","",SUMPRODUCT($C$6:$L$6,C19:L19)-$B19)
C20: =IF($B20="","",INT($B20/C$6)) | D20: =IF($B20="","",IF(AND(D$6=2000,$B$4<>"はい"),0,INT(($B20-SUMPRODUCT($C$6:C$6,$C20:C20))/D$6))) | E20: =IF($B20="","",IF(AND(E$6=2000,$B$4<>"はい"),0,INT(($B20-SUMPRODUCT($C$6:D$6,$C20:D20))/E$6))) | F20: =IF($B20="","",IF(AND(F$6=2000,$B$4<>"はい"),0,INT(($B20-SUMPRODUCT($C$6:E$6,$C20:E20))/F$6))) | G20: =IF($B20="","",IF(AND(G$6=2000,$B$4<>"はい"),0,INT(($B20-SUMPRODUCT($C$6:F$6,$C20:F20))/G$6))) | H20: =IF($B20="","",IF(AND(H$6=2000,$B$4<>"はい"),0,INT(($B20-SUMPRODUCT($C$6:G$6,$C20:G20))/H$6))) | I20: =IF($B20="","",IF(AND(I$6=2000,$B$4<>"はい"),0,INT(($B20-SUMPRODUCT($C$6:H$6,$C20:H20))/I$6))) | J20: =IF($B20="","",IF(AND(J$6=2000,$B$4<>"はい"),0,INT(($B20-SUMPRODUCT($C$6:I$6,$C20:I20))/J$6))) | K20: =IF($B20="","",IF(AND(K$6=2000,$B$4<>"はい"),0,INT(($B20-SUMPRODUCT($C$6:J$6,$C20:J20))/K$6))) | L20: =IF($B20="","",IF(AND(L$6=2000,$B$4<>"はい"),0,INT(($B20-SUMPRODUCT($C$6:K$6,$C20:K20))/L$6))) | M20: =IF($B20="","",SUM(C20:L20)) | N20: =IF($B20="","",SUMPRODUCT($C$6:$L$6,C20:L20)-$B20)
C21: =IF($B21="","",INT($B21/C$6)) | D21: =IF($B21="","",IF(AND(D$6=2000,$B$4<>"はい"),0,INT(($B21-SUMPRODUCT($C$6:C$6,$C21:C21))/D$6))) | E21: =IF($B21="","",IF(AND(E$6=2000,$B$4<>"はい"),0,INT(($B21-SUMPRODUCT($C$6:D$6,$C21:D21))/E$6))) | F21: =IF($B21="","",IF(AND(F$6=2000,$B$4<>"はい"),0,INT(($B21-SUMPRODUCT($C$6:E$6,$C21:E21))/F$6))) | G21: =IF($B21="","",IF(AND(G$6=2000,$B$4<>"はい"),0,INT(($B21-SUMPRODUCT($C$6:F$6,$C21:F21))/G$6))) | H21: =IF($B21="","",IF(AND(H$6=2000,$B$4<>"はい"),0,INT(($B21-SUMPRODUCT($C$6:G$6,$C21:G21))/H$6))) | I21: =IF($B21="","",IF(AND(I$6=2000,$B$4<>"はい"),0,INT(($B21-SUMPRODUCT($C$6:H$6,$C21:H21))/I$6))) | J21: =IF($B21="","",IF(AND(J$6=2000,$B$4<>"はい"),0,INT(($B21-SUMPRODUCT($C$6:I$6,$C21:I21))/J$6))) | K21: =IF($B21="","",IF(AND(K$6=2000,$B$4<>"はい"),0,INT(($B21-SUMPRODUCT($C$6:J$6,$C21:J21))/K$6))) | L21: =IF($B21="","",IF(AND(L$6=2000,$B$4<>"はい"),0,INT(($B21-SUMPRODUCT($C$6:K$6,$C21:K21))/L$6))) | M21: =IF($B21="","",SUM(C21:L21)) | N21: =IF($B21="","",SUMPRODUCT($C$6:$L$6,C21:L21)-$B21)
C22: =IF($B22="","",INT($B22/C$6)) | D22: =IF($B22="","",IF(AND(D$6=2000,$B$4<>"はい"),0,INT(($B22-SUMPRODUCT($C$6:C$6,$C22:C22))/D$6))) | E22: =IF($B22="","",IF(AND(E$6=2000,$B$4<>"はい"),0,INT(($B22-SUMPRODUCT($C$6:D$6,$C22:D22))/E$6))) | F22: =IF($B22="","",IF(AND(F$6=2000,$B$4<>"はい"),0,INT(($B22-SUMPRODUCT($C$6:E$6,$C22:E22))/F$6))) | G22: =IF($B22="","",IF(AND(G$6=2000,$B$4<>"はい"),0,INT(($B22-SUMPRODUCT($C$6:F$6,$C22:F22))/G$6))) | H22: =IF($B22="","",IF(AND(H$6=2000,$B$4<>"はい"),0,INT(($B22-SUMPRODUCT($C$6:G$6,$C22:G22))/H$6))) | I22: =IF($B22="","",IF(AND(I$6=2000,$B$4<>"はい"),0,INT(($B22-SUMPRODUCT($C$6:H$6,$C22:H22))/I$6))) | J22: =IF($B22="","",IF(AND(J$6=2000,$B$4<>"はい"),0,INT(($B22-SUMPRODUCT($C$6:I$6,$C22:I22))/J$6))) | K22: =IF($B22="","",IF(AND(K$6=2000,$B$4<>"はい"),0,INT(($B22-SUMPRODUCT($C$6:J$6,$C22:J22))/K$6))) | L22: =IF($B22="","",IF(AND(L$6=2000,$B$4<>"はい"),0,INT(($B22-SUMPRODUCT($C$6:K$6,$C22:K22))/L$6))) | M22: =IF($B22="","",SUM(C22:L22)) | N22: =IF($B22="","",SUMPRODUCT($C$6:$L$6,C22:L22)-$B22)
C23: =IF($B23="","",INT($B23/C$6)) | D23: =IF($B23="","",IF(AND(D$6=2000,$B$4<>"はい"),0,INT(($B23-SUMPRODUCT($C$6:C$6,$C23:C23))/D$6))) | E23: =IF($B23="","",IF(AND(E$6=2000,$B$4<>"はい"),0,INT(($B23-SUMPRODUCT($C$6:D$6,$C23:D23))/E$6))) | F23: =IF($B23="","",IF(AND(F$6=2000,$B$4<>"はい"),0,INT(($B23-SUMPRODUCT($C$6:E$6,$C23:E23))/F$6))) | G23: =IF($B23="","",IF(AND(G$6=2000,$B$4<>"はい"),0,INT(($B23-SUMPRODUCT($C$6:F$6,$C23:F23))/G$6))) | H23: =IF($B23="","",IF(AND(H$6=2000,$B$4<>"はい"),0,INT(($B23-SUMPRODUCT($C$6:G$6,$C23:G23))/H$6))) | I23: =IF($B23="","",IF(AND(I$6=2000,$B$4<>"はい"),0,INT(($B23-SUMPRODUCT($C$6:H$6,$C23:H23))/I$6))) | J23: =IF($B23="","",IF(AND(J$6=2000,$B$4<>"はい"),0,INT(($B23-SUMPRODUCT($C$6:I$6,$C23:I23))/J$6))) | K23: =IF($B23="","",IF(AND(K$6=2000,$B$4<>"はい"),0,INT(($B23-SUMPRODUCT($C$6:J$6,$C23:J23))/K$6))) | L23: =IF($B23="","",IF(AND(L$6=2000,$B$4<>"はい"),0,INT(($B23-SUMPRODUCT($C$6:K$6,$C23:K23))/L$6))) | M23: =IF($B23="","",SUM(C23:L23)) | N23: =IF($B23="","",SUMPRODUCT($C$6:$L$6,C23:L23)-$B23)
C24: =IF($B24="","",INT($B24/C$6)) | D24: =IF($B24="","",IF(AND(D$6=2000,$B$4<>"はい"),0,INT(($B24-SUMPRODUCT($C$6:C$6,$C24:C24))/D$6))) | E24: =IF($B24="","",IF(AND(E$6=2000,$B$4<>"はい"),0,INT(($B24-SUMPRODUCT($C$6:D$6,$C24:D24))/E$6))) | F24: =IF($B24="","",IF(AND(F$6=2000,$B$4<>"はい"),0,INT(($B24-SUMPRODUCT($C$6:E$6,$C24:E24))/F$6))) | G24: =IF($B24="","",IF(AND(G$6=2000,$B$4<>"はい"),0,INT(($B24-SUMPRODUCT($C$6:F$6,$C24:F24))/G$6))) | H24: =IF($B24="","",IF(AND(H$6=2000,$B$4<>"はい"),0,INT(($B24-SUMPRODUCT($C$6:G$6,$C24:G24))/H$6))) | I24: =IF($B24="","",IF(AND(I$6=2000,$B$4<>"はい"),0,INT(($B24-SUMPRODUCT($C$6:H$6,$C24:H24))/I$6))) | J24: =IF($B24="","",IF(AND(J$6=2000,$B$4<>"はい"),0,INT(($B24-SUMPRODUCT($C$6:I$6,$C24:I24))/J$6))) | K24: =IF($B24="","",IF(AND(K$6=2000,$B$4<>"はい"),0,INT(($B24-SUMPRODUCT($C$6:J$6,$C24:J24))/K$6))) | L24: =IF($B24="","",IF(AND(L$6=2000,$B$4<>"はい"),0,INT(($B24-SUMPRODUCT($C$6:K$6,$C24:K24))/L$6))) | M24: =IF($B24="","",SUM(C24:L24)) | N24: =IF($B24="","",SUMPRODUCT($C$6:$L$6,C24:L24)-$B24)
C25: =IF($B25="","",INT($B25/C$6)) | D25: =IF($B25="","",IF(AND(D$6=2000,$B$4<>"はい"),0,INT(($B25-SUMPRODUCT($C$6:C$6,$C25:C25))/D$6))) | E25: =IF($B25="","",IF(AND(E$6=2000,$B$4<>"はい"),0,INT(($B25-SUMPRODUCT($C$6:D$6,$C25:D25))/E$6))) | F25: =IF($B25="","",IF(AND(F$6=2000,$B$4<>"はい"),0,INT(($B25-SUMPRODUCT($C$6:E$6,$C25:E25))/F$6))) | G25: =IF($B25="","",IF(AND(G$6=2000,$B$4<>"はい"),0,INT(($B25-SUMPRODUCT($C$6:F$6,$C25:F25))/G$6))) | H25: =IF($B25="","",IF(AND(H$6=2000,$B$4<>"はい"),0,INT(($B25-SUMPRODUCT($C$6:G$6,$C25:G25))/H$6))) | I25: =IF($B25="","",IF(AND(I$6=2000,$B$4<>"はい"),0,INT(($B25-SUMPRODUCT($C$6:H$6,$C25:H25))/I$6))) | J25: =IF($B25="","",IF(AND(J$6=2000,$B$4<>"はい"),0,INT(($B25-SUMPRODUCT($C$6:I$6,$C25:I25))/J$6))) | K25: =IF($B25="","",IF(AND(K$6=2000,$B$4<>"はい"),0,INT(($B25-SUMPRODUCT($C$6:J$6,$C25:J25))/K$6))) | L25: =IF($B25="","",IF(AND(L$6=2000,$B$4<>"はい"),0,INT(($B25-SUMPRODUCT($C$6:K$6,$C25:K25))/L$6))) | M25: =IF($B25="","",SUM(C25:L25)) | N25: =IF($B25="","",SUMPRODUCT($C$6:$L$6,C25:L25)-$B25)
C26: =IF($B26="","",INT($B26/C$6)) | D26: =IF($B26="","",IF(AND(D$6=2000,$B$4<>"はい"),0,INT(($B26-SUMPRODUCT($C$6:C$6,$C26:C26))/D$6))) | E26: =IF($B26="","",IF(AND(E$6=2000,$B$4<>"はい"),0,INT(($B26-SUMPRODUCT($C$6:D$6,$C26:D26))/E$6))) | F26: =IF($B26="","",IF(AND(F$6=2000,$B$4<>"はい"),0,INT(($B26-SUMPRODUCT($C$6:E$6,$C26:E26))/F$6))) | G26: =IF($B26="","",IF(AND(G$6=2000,$B$4<>"はい"),0,INT(($B26-SUMPRODUCT($C$6:F$6,$C26:F26))/G$6))) | H26: =IF($B26="","",IF(AND(H$6=2000,$B$4<>"はい"),0,INT(($B26-SUMPRODUCT($C$6:G$6,$C26:G26))/H$6))) | I26: =IF($B26="","",IF(AND(I$6=2000,$B$4<>"はい"),0,INT(($B26-SUMPRODUCT($C$6:H$6,$C26:H26))/I$6))) | J26: =IF($B26="","",IF(AND(J$6=2000,$B$4<>"はい"),0,INT(($B26-SUMPRODUCT($C$6:I$6,$C26:I26))/J$6))) | K26: =IF($B26="","",IF(AND(K$6=2000,$B$4<>"はい"),0,INT(($B26-SUMPRODUCT($C$6:J$6,$C26:J26))/K$6))) | L26: =IF($B26="","",IF(AND(L$6=2000,$B$4<>"はい"),0,INT(($B26-SUMPRODUCT($C$6:K$6,$C26:K26))/L$6))) | M26: =IF($B26="","",SUM(C26:L26)) | N26: =IF($B26="","",SUMPRODUCT($C$6:$L$6,C26:L26)-$B26)
C27: =IF($B27="","",INT($B27/C$6)) | D27: =IF($B27="","",IF(AND(D$6=2000,$B$4<>"はい"),0,INT(($B27-SUMPRODUCT($C$6:C$6,$C27:C27))/D$6))) | E27: =IF($B27="","",IF(AND(E$6=2000,$B$4<>"はい"),0,INT(($B27-SUMPRODUCT($C$6:D$6,$C27:D27))/E$6))) | F27: =IF($B27="","",IF(AND(F$6=2000,$B$4<>"はい"),0,INT(($B27-SUMPRODUCT($C$6:E$6,$C27:E27))/F$6))) | G27: =IF($B27="","",IF(AND(G$6=2000,$B$4<>"はい"),0,INT(($B27-SUMPRODUCT($C$6:F$6,$C27:F27))/G$6))) | H27: =IF($B27="","",IF(AND(H$6=2000,$B$4<>"はい"),0,INT(($B27-SUMPRODUCT($C$6:G$6,$C27:G27))/H$6))) | I27: =IF($B27="","",IF(AND(I$6=2000,$B$4<>"はい"),0,INT(($B27-SUMPRODUCT($C$6:H$6,$C27:H27))/I$6))) | J27: =IF($B27="","",IF(AND(J$6=2000,$B$4<>"はい"),0,INT(($B27-SUMPRODUCT($C$6:I$6,$C27:I27))/J$6))) | K27: =IF($B27="","",IF(AND(K$6=2000,$B$4<>"はい"),0,INT(($B27-SUMPRODUCT($C$6:J$6,$C27:J27))/K$6))) | L27: =IF($B27="","",IF(AND(L$6=2000,$B$4<>"はい"),0,INT(($B27-SUMPRODUCT($C$6:K$6,$C27:K27))/L$6))) | M27: =IF($B27="","",SUM(C27:L27)) | N27: =IF($B27="","",SUMPRODUCT($C$6:$L$6,C27:L27)-$B27)
C28: =IF($B28="","",INT($B28/C$6)) | D28: =IF($B28="","",IF(AND(D$6=2000,$B$4<>"はい"),0,INT(($B28-SUMPRODUCT($C$6:C$6,$C28:C28))/D$6))) | E28: =IF($B28="","",IF(AND(E$6=2000,$B$4<>"はい"),0,INT(($B28-SUMPRODUCT($C$6:D$6,$C28:D28))/E$6))) | F28: =IF($B28="","",IF(AND(F$6=2000,$B$4<>"はい"),0,INT(($B28-SUMPRODUCT($C$6:E$6,$C28:E28))/F$6))) | G28: =IF($B28="","",IF(AND(G$6=2000,$B$4<>"はい"),0,INT(($B28-SUMPRODUCT($C$6:F$6,$C28:F28))/G$6))) | H28: =IF($B28="","",IF(AND(H$6=2000,$B$4<>"はい"),0,INT(($B28-SUMPRODUCT($C$6:G$6,$C28:G28))/H$6))) | I28: =IF($B28="","",IF(AND(I$6=2000,$B$4<>"はい"),0,INT(($B28-SUMPRODUCT($C$6:H$6,$C28:H28))/I$6))) | J28: =IF($B28="","",IF(AND(J$6=2000,$B$4<>"はい"),0,INT(($B28-SUMPRODUCT($C$6:I$6,$C28:I28))/J$6))) | K28: =IF($B28="","",IF(AND(K$6=2000,$B$4<>"はい"),0,INT(($B28-SUMPRODUCT($C$6:J$6,$C28:J28))/K$6))) | L28: =IF($B28="","",IF(AND(L$6=2000,$B$4<>"はい"),0,INT(($B28-SUMPRODUCT($C$6:K$6,$C28:K28))/L$6))) | M28: =IF($B28="","",SUM(C28:L28)) | N28: =IF($B28="","",SUMPRODUCT($C$6:$L$6,C28:L28)-$B28)
... C36: =IF($B36="","",INT($B36/C$6)) | D36: =IF($B36="","",IF(AND(D$6=2000,$B$4<>"はい"),0,INT(($B36-SUMPRODUCT($C$6:C$6,$C36:C36))/D$6))) | E36: =IF($B36="","",IF(AND(E$6=2000,$B$4<>"はい"),0,INT(($B36-SUMPRODUCT($C$6:D$6,$C36:D36))/E$6))) | F36: =IF($B36="","",IF(AND(F$6=2000,$B$4<>"はい"),0,INT(($B36-SUMPRODUCT($C$6:E$6,$C36:E36))/F$6))) | G36: =IF($B36="","",IF(AND(G$6=2000,$B$4<>"はい"),0,INT(($B36-SUMPRODUCT($C$6:F$6,$C36:F36))/G$6))) | H36: =IF($B36="","",IF(AND(H$6=2000,$B$4<>"はい"),0,INT(($B36-SUMPRODUCT($C$6:G$6,$C36:G36))/H$6))) | I36: =IF($B36="","",IF(AND(I$6=2000,$B$4<>"はい"),0,INT(($B36-SUMPRODUCT($C$6:H$6,$C36:H36))/I$6))) | J36: =IF($B36="","",IF(AND(J$6=2000,$B$4<>"はい"),0,INT(($B36-SUMPRODUCT($C$6:I$6,$C36:I36))/J$6))) | K36: =IF($B36="","",IF(AND(K$6=2000,$B$4<>"はい"),0,INT(($B36-SUMPRODUCT($C$6:J$6,$C36:J36))/K$6))) | L36: =IF($B36="","",IF(AND(L$6=2000,$B$4<>"はい"),0,INT(($B36-SUMPRODUCT($C$6:K$6,$C36:K36))/L$6))) | M36: =IF($B36="","",SUM(C36:L36)) | N36: =IF($B36="","",SUMPRODUCT($C$6:$L$6,C36:L36)-$B36)
A38: 1人ずつの合計 | B38: =SUM(B7:B36) | C38: =SUM(C7:C36) | D38: =SUM(D7:D36) | E38: =SUM(E7:E36) | F38: =SUM(F7:F36) | G38: =SUM(G7:G36) | H38: =SUM(H7:H36) | I38: =SUM(I7:I36) | ... N38: =SUM(N7:N36)
A39: 合計を一度に崩す | B39: =B38 | C39: =INT($B39/C$6) | D39: =IF(AND(D$6=2000,$B$4<>"はい"),0,INT(($B39-SUMPRODUCT($C$6:C$6,$C39:C39))/D$6)) | E39: =IF(AND(E$6=2000,$B$4<>"はい"),0,INT(($B39-SUMPRODUCT($C$6:D$6,$C39:D39))/E$6)) | F39: =IF(AND(F$6=2000,$B$4<>"はい"),0,INT(($B39-SUMPRODUCT($C$6:E$6,$C39:E39))/F$6)) | G39: =IF(AND(G$6=2000,$B$4<>"はい"),0,INT(($B39-SUMPRODUCT($C$6:F$6,$C39:F39))/G$6)) | H39: =IF(AND(H$6=2000,$B$4<>"はい"),0,INT(($B39-SUMPRODUCT($C$6:G$6,$C39:G39))/H$6)) | I39: =IF(AND(I$6=2000,$B$4<>"はい"),0,INT(($B39-SUMPRODUCT($C$6:H$6,$C39:H39))/I$6)) | J39: =IF(AND(J$6=2000,$B$4<>"はい"),0,INT(($B39-SUMPRODUCT($C$6:I$6,$C39:I39))/J$6)) | K39: =IF(AND(K$6=2000,$B$4<>"はい"),0,INT(($B39-SUMPRODUCT($C$6:J$6,$C39:J39))/K$6)) | L39: =IF(AND(L$6=2000,$B$4<>"はい"),0,INT(($B39-SUMPRODUCT($C$6:K$6,$C39:K39))/L$6)) | M39: =SUM(C39:L39)
A40: 一度に崩すと足りない枚数 | C40: =MAX(0,C38-C39) | D40: =MAX(0,D38-D39) | E40: =MAX(0,E38-E39) | F40: =MAX(0,F38-F39) | G40: =MAX(0,G38-G39) | H40: =MAX(0,H38-H39) | I40: =MAX(0,I38-I39) | J40: =MAX(0,J38-J39) | ... L40: =MAX(0,L38-L39) | M40: =SUM(C40:L40)

Sheet 2_お釣りの備え
A1: 1円から9,999円のどの額のお釣りでも出せる、いちばん少ない組み
A2: Pythonで全部の組み合わせを数えて、これより少ない枚数の組みがないことを確かめた（2,000円札なしは1通り、ありは2通り）
A4: 金種 | B4: 2,000円札なし | C4: 金額 | D4: 2,000円札あり | E4: 金額
A5: 5000 | B5: 1 | C5: =A5*B5 | D5: 1 | E5: =A5*D5
A6: 2000 | B6: 0 | C6: =A6*B6 | D6: 1 | E6: =A6*D6
A7: 1000 | B7: 4 | C7: =A7*B7 | D7: 2 | E7: =A7*D7
A8: 500 | B8: 1 | C8: =A8*B8 | D8: 1 | E8: =A8*D8
A9: 100 | B9: 4 | C9: =A9*B9 | D9: 4 | E9: =A9*D9
A10: 50 | B10: 1 | C10: =A10*B10 | D10: 1 | E10: =A10*D10
A11: 10 | B11: 4 | C11: =A11*B11 | D11: 4 | E11: =A11*D11
A12: 5 | B12: 1 | C12: =A12*B12 | D12: 1 | E12: =A12*D12
A13: 1 | B13: 4 | C13: =A13*B13 | D13: 4 | E13: =A13*D13
A14: 合計 | B14: =SUM(B5:B13) | C14: =SUM(C5:C13) | D14: =SUM(D5:D13) | E14: =SUM(E5:E13)
A16: 1円から9,999円のうち、この組みで出せる額の数（大きい金種から順に出す） | D16: =SUMPRODUCT((MOD(MOD(INT(ROW('_n'!$A$1:$A$9999)/1),10),5)<=B13)*(INT(MOD(INT(ROW('_n'!$A$1:$A$9999)/1),10)/5)<=B12)*(MOD(MOD(INT(ROW('_n'!$A$1:$A$9999)/10),10),5)<=B11)*(INT(MOD(INT(ROW('_n'!$A$1:$A$9999)/10),10)/5)<=B10)*(MOD(MOD(INT(ROW('_n'!$A$1:$A$9999)/100),10),5)<=B9)*(INT(MOD(INT(ROW('_n'!$A$1:$A$9999)/100),10)/5)<=B8)*(MOD(MOD(INT(ROW('_n'!$A$1:$A$9999)/1000),10),5)<=B7)*(INT(MOD(INT(ROW('_n'!$A$1:$A$9999)/1000),10)/5)<=B5)) | E16: =SUMPRODUCT((MOD(MOD(INT(ROW('_n'!$A$1:$A$9999)/1),10),5)<=D13)*(INT(MOD(INT(ROW('_n'!$A$1:$A$9999)/1),10)/5)<=D12)*(MOD(MOD(INT(ROW('_n'!$A$1:$A$9999)/10),10),5)<=D11)*(INT(MOD(INT(ROW('_n'!$A$1:$A$9999)/10),10)/5)<=D10)*(MOD(MOD(INT(ROW('_n'!$A$1:$A$9999)/100),10),5)<=D9)*(INT(MOD(INT(ROW('_n'!$A$1:$A$9999)/100),10)/5)<=D8)*(INT(MOD(INT(ROW('_n'!$A$1:$A$9999)/1000),10)/5)<=D5)*((MOD(MOD(INT(ROW('_n'!$A$1:$A$9999)/1000),10),5)-2*((INT(MOD(MOD(INT(ROW('_n'!$A$1:$A$9999)/1000),10),5)/2)<=D6)*INT(MOD(MOD(INT(ROW('_n'!$A$1:$A$9999)/1000),10),5)/2)+(INT(MOD(MOD(INT(ROW('_n'!$A$1:$A$9999)/1000),10),5)/2)>D6)*D6))<=D7))
A17: 左がB列（2,000円札なし）、右がD列（2,000円札あり）の組み。9,999なら全部出せる
A19: 出すお釣り（円） | B19: 7386
A20: 金種 | B20: なしの組みから | C20: 残り | D20: ありの組みから | E20: 残り
A21: 5000 | B21: =MIN(B5,INT($B$19/A21)) | C21: =$B$19-A21*B21 | D21: =MIN(D5,INT($B$19/A21)) | E21: =$B$19-A21*D21
A22: 2000 | B22: =MIN(B6,INT(C21/A22)) | C22: =C21-A22*B22 | D22: =MIN(D6,INT(E21/A22)) | E22: =E21-A22*D22
A23: 1000 | B23: =MIN(B7,INT(C22/A23)) | C23: =C22-A23*B23 | D23: =MIN(D7,INT(E22/A23)) | E23: =E22-A23*D23
A24: 500 | B24: =MIN(B8,INT(C23/A24)) | C24: =C23-A24*B24 | D24: =MIN(D8,INT(E23/A24)) | E24: =E23-A24*D24
A25: 100 | B25: =MIN(B9,INT(C24/A25)) | C25: =C24-A25*B25 | D25: =MIN(D9,INT(E24/A25)) | E25: =E24-A25*D25
A26: 50 | B26: =MIN(B10,INT(C25/A26)) | C26: =C25-A26*B26 | D26: =MIN(D10,INT(E25/A26)) | E26: =E25-A26*D26
A27: 10 | B27: =MIN(B11,INT(C26/A27)) | C27: =C26-A27*B27 | D27: =MIN(D11,INT(E26/A27)) | E27: =E26-A27*D27
A28: 5 | B28: =MIN(B12,INT(C27/A28)) | C28: =C27-A28*B28 | D28: =MIN(D12,INT(E27/A28)) | E28: =E27-A28*D28
A29: 1 | B29: =MIN(B13,INT(C28/A29)) | C29: =C28-A29*B29 | D29: =MIN(D13,INT(E28/A29)) | E29: =E28-A29*D29
A30: 判定 | B30: =IF(C29=0,"出せる","出せない") | D30: =IF(E29=0,"出せる","出せない")
A32: B列とD列の枚数を変えて使ってよい。2,000円札を2枚以上入れた組みでは、大きい金種から順に出すと出せる額を「出せない」と出すことがある（6,000円を5,000円札1枚と2,000円札3枚から出すとき）。

Sheet 3_MODの式
A1: 「1つ上の金種で割った余り」の式に2,000円札の列を足すと、千円の位が5から9の額で合計がずれる
A2: 2,000円札の列は =INT(MOD(金額,5000)/2000)、千円札の列は =INT(MOD(金額,2000)/1000)。5,000は2,000で割り切れないので、ここで狂う
A4: 金額 | B4: 10000 | C4: 5000 | D4: 2000 | E4: 1000 | F4: 500 | G4: 100 | H4: 50 | I4: 10 | J4: 5 | K4: 1 | L4: 式で出した合計 | M4: 金額との差
A5: 4000 | B5: =INT($A5/10000) | C5: =INT(MOD($A5,10000)/5000) | D5: =INT(MOD($A5,5000)/2000) | E5: =INT(MOD($A5,2000)/1000) | F5: =INT(MOD($A5,1000)/500) | G5: =INT(MOD($A5,500)/100) | H5: =INT(MOD($A5,100)/50) | I5: =INT(MOD($A5,50)/10) | J5: =INT(MOD($A5,10)/5) | K5: =INT(MOD($A5,5)/1) | L5: =SUMPRODUCT($B$4:$K$4,B5:K5) | M5: =L5-A5
A6: 5000 | B6: =INT($A6/10000) | C6: =INT(MOD($A6,10000)/5000) | D6: =INT(MOD($A6,5000)/2000) | E6: =INT(MOD($A6,2000)/1000) | F6: =INT(MOD($A6,1000)/500) | G6: =INT(MOD($A6,500)/100) | H6: =INT(MOD($A6,100)/50) | I6: =INT(MOD($A6,50)/10) | J6: =INT(MOD($A6,10)/5) | K6: =INT(MOD($A6,5)/1) | L6: =SUMPRODUCT($B$4:$K$4,B6:K6) | M6: =L6-A6
A7: 6000 | B7: =INT($A7/10000) | C7: =INT(MOD($A7,10000)/5000) | D7: =INT(MOD($A7,5000)/2000) | E7: =INT(MOD($A7,2000)/1000) | F7: =INT(MOD($A7,1000)/500) | G7: =INT(MOD($A7,500)/100) | H7: =INT(MOD($A7,100)/50) | I7: =INT(MOD($A7,50)/10) | J7: =INT(MOD($A7,10)/5) | K7: =INT(MOD($A7,5)/1) | L7: =SUMPRODUCT($B$4:$K$4,B7:K7) | M7: =L7-A7
A8: 7000 | B8: =INT($A8/10000) | C8: =INT(MOD($A8,10000)/5000) | D8: =INT(MOD($A8,5000)/2000) | E8: =INT(MOD($A8,2000)/1000) | F8: =INT(MOD($A8,1000)/500) | G8: =INT(MOD($A8,500)/100) | H8: =INT(MOD($A8,100)/50) | I8: =INT(MOD($A8,50)/10) | J8: =INT(MOD($A8,10)/5) | K8: =INT(MOD($A8,5)/1) | L8: =SUMPRODUCT($B$4:$K$4,B8:K8) | M8: =L8-A8
A9: 8000 | B9: =INT($A9/10000) | C9: =INT(MOD($A9,10000)/5000) | D9: =INT(MOD($A9,5000)/2000) | E9: =INT(MOD($A9,2000)/1000) | F9: =INT(MOD($A9,1000)/500) | G9: =INT(MOD($A9,500)/100) | H9: =INT(MOD($A9,100)/50) | I9: =INT(MOD($A9,50)/10) | J9: =INT(MOD($A9,10)/5) | K9: =INT(MOD($A9,5)/1) | L9: =SUMPRODUCT($B$4:$K$4,B9:K9) | M9: =L9-A9
A10: 9000 | B10: =INT($A10/10000) | C10: =INT(MOD($A10,10000)/5000) | D10: =INT(MOD($A10,5000)/2000) | E10: =INT(MOD($A10,2000)/1000) | F10: =INT(MOD($A10,1000)/500) | G10: =INT(MOD($A10,500)/100) | H10: =INT(MOD($A10,100)/50) | I10: =INT(MOD($A10,50)/10) | J10: =INT(MOD($A10,10)/5) | K10: =INT(MOD($A10,5)/1) | L10: =SUMPRODUCT($B$4:$K$4,B10:K10) | M10: =L10-A10
A11: 9999 | B11: =INT($A11/10000) | C11: =INT(MOD($A11,10000)/5000) | D11: =INT(MOD($A11,5000)/2000) | E11: =INT(MOD($A11,2000)/1000) | F11: =INT(MOD($A11,1000)/500) | G11: =INT(MOD($A11,500)/100) | H11: =INT(MOD($A11,100)/50) | I11: =INT(MOD($A11,50)/10) | J11: =INT(MOD($A11,10)/5) | K11: =INT(MOD($A11,5)/1) | L11: =SUMPRODUCT($B$4:$K$4,B11:K11) | M11: =L11-A11
A12: 12345 | B12: =INT($A12/10000) | C12: =INT(MOD($A12,10000)/5000) | D12: =INT(MOD($A12,5000)/2000) | E12: =INT(MOD($A12,2000)/1000) | F12: =INT(MOD($A12,1000)/500) | G12: =INT(MOD($A12,500)/100) | H12: =INT(MOD($A12,100)/50) | I12: =INT(MOD($A12,50)/10) | J12: =INT(MOD($A12,10)/5) | K12: =INT(MOD($A12,5)/1) | L12: =SUMPRODUCT($B$4:$K$4,B12:K12) | M12: =L12-A12
A13: 56789 | B13: =INT($A13/10000) | C13: =INT(MOD($A13,10000)/5000) | D13: =INT(MOD($A13,5000)/2000) | E13: =INT(MOD($A13,2000)/1000) | F13: =INT(MOD($A13,1000)/500) | G13: =INT(MOD($A13,500)/100) | H13: =INT(MOD($A13,100)/50) | I13: =INT(MOD($A13,50)/10) | J13: =INT(MOD($A13,10)/5) | K13: =INT(MOD($A13,5)/1) | L13: =SUMPRODUCT($B$4:$K$4,B13:K13) | M13: =L13-A13
A15: 数えたこと | G15: 2,000円札なし | I15: 2,000円札あり
A16: 1円から9,999円のうち、MODの式で合計がずれる額の数 | G16: =SUMPRODUCT(--((INT(ROW('_n'!$A$1:$A$9999)/10000)*10000+INT(MOD(ROW('_n'!$A$1:$A$9999),10000)/5000)*5000+INT(MOD(ROW('_n'!$A$1:$A$9999),5000)/1000)*1000+INT(MOD(ROW('_n'!$A$1:$A$9999),1000)/500)*500+INT(MOD(ROW('_n'!$A$1:$A$9999),500)/100)*100+INT(MOD(ROW('_n'!$A$1:$A$9999),100)/50)*50+INT(MOD(ROW('_n'!$A$1:$A$9999),50)/10)*10+INT(MOD(ROW('_n'!$A$1:$A$9999),10)/5)*5+MOD(ROW('_n'!$A$1:$A$9999),5))<>ROW('_n'!$A$1:$A$9999))) | I16: =SUMPRODUCT(--((INT(ROW('_n'!$A$1:$A$9999)/10000)*10000+INT(MOD(ROW('_n'!$A$1:$A$9999),10000)/5000)*5000+INT(MOD(ROW('_n'!$A$1:$A$9999),5000)/2000)*2000+INT(MOD(ROW('_n'!$A$1:$A$9999),2000)/1000)*1000+INT(MOD(ROW('_n'!$A$1:$A$9999),1000)/500)*500+INT(MOD(ROW('_n'!$A$1:$A$9999),500)/100)*100+INT(MOD(ROW('_n'!$A$1:$A$9999),100)/50)*50+INT(MOD(ROW('_n'!$A$1:$A$9999),50)/10)*10+INT(MOD(ROW('_n'!$A$1:$A$9999),10)/5)*5+MOD(ROW('_n'!$A$1:$A$9999),5))<>ROW('_n'!$A$1:$A$9999)))
A17: 1円から99,999円のうち、MODの式で合計がずれる額の数 | G17: =SUMPRODUCT(--((INT(ROW('_n'!$A$1:$A$99999)/10000)*10000+INT(MOD(ROW('_n'!$A$1:$A$99999),10000)/5000)*5000+INT(MOD(ROW('_n'!$A$1:$A$99999),5000)/1000)*1000+INT(MOD(ROW('_n'!$A$1:$A$99999),1000)/500)*500+INT(MOD(ROW('_n'!$A$1:$A$99999),500)/100)*100+INT(MOD(ROW('_n'!$A$1:$A$99999),100)/50)*50+INT(MOD(ROW('_n'!$A$1:$A$99999),50)/10)*10+INT(MOD(ROW('_n'!$A$1:$A$99999),10)/5)*5+MOD(ROW('_n'!$A$1:$A$99999),5))<>ROW('_n'!$A$1:$A$99999))) | I17: =SUMPRODUCT(--((INT(ROW('_n'!$A$1:$A$99999)/10000)*10000+INT(MOD(ROW('_n'!$A$1:$A$99999),10000)/5000)*5000+INT(MOD(ROW('_n'!$A$1:$A$99999),5000)/2000)*2000+INT(MOD(ROW('_n'!$A$1:$A$99999),2000)/1000)*1000+INT(MOD(ROW('_n'!$A$1:$A$99999),1000)/500)*500+INT(MOD(ROW('_n'!$A$1:$A$99999),500)/100)*100+INT(MOD(ROW('_n'!$A$1:$A$99999),100)/50)*50+INT(MOD(ROW('_n'!$A$1:$A$99999),50)/10)*10+INT(MOD(ROW('_n'!$A$1:$A$99999),10)/5)*5+MOD(ROW('_n'!$A$1:$A$99999),5))<>ROW('_n'!$A$1:$A$99999)))
A18: 1円から9,999円を1つの額として出すときの、いちばん多い枚数 | G18: =_xlfn.AGGREGATE(14,6,(INT(ROW('_n'!$A$1:$A$9999)/10000)+INT(MOD(INT(ROW('_n'!$A$1:$A$9999)/1),10)/5)+MOD(MOD(INT(ROW('_n'!$A$1:$A$9999)/1),10),5)+INT(MOD(INT(ROW('_n'!$A$1:$A$9999)/10),10)/5)+MOD(MOD(INT(ROW('_n'!$A$1:$A$9999)/10),10),5)+INT(MOD(INT(ROW('_n'!$A$1:$A$9999)/100),10)/5)+MOD(MOD(INT(ROW('_n'!$A$1:$A$9999)/100),10),5)+INT(MOD(INT(ROW('_n'!$A$1:$A$9999)/1000),10)/5)+MOD(MOD(INT(ROW('_n'!$A$1:$A$9999)/1000),10),5)),1) | I18: =_xlfn.AGGREGATE(14,6,(INT(ROW('_n'!$A$1:$A$9999)/10000)+INT(MOD(INT(ROW('_n'!$A$1:$A$9999)/1),10)/5)+MOD(MOD(INT(ROW('_n'!$A$1:$A$9999)/1),10),5)+INT(MOD(INT(ROW('_n'!$A$1:$A$9999)/10),10)/5)+MOD(MOD(INT(ROW('_n'!$A$1:$A$9999)/10),10),5)+INT(MOD(INT(ROW('_n'!$A$1:$A$9999)/100),10)/5)+MOD(MOD(INT(ROW('_n'!$A$1:$A$9999)/100),10),5)+INT(MOD(INT(ROW('_n'!$A$1:$A$9999)/1000),10)/5)+INT(MOD(MOD(INT(ROW('_n'!$A$1:$A$9999)/1000),10),5)/2)+MOD(MOD(MOD(INT(ROW('_n'!$A$1:$A$9999)/1000),10),5),2)),1)
A19: その枚数になる額の数 | G19: =SUMPRODUCT(--((INT(ROW('_n'!$A$1:$A$9999)/10000)+INT(MOD(INT(ROW('_n'!$A$1:$A$9999)/1),10)/5)+MOD(MOD(INT(ROW('_n'!$A$1:$A$9999)/1),10),5)+INT(MOD(INT(ROW('_n'!$A$1:$A$9999)/10),10)/5)+MOD(MOD(INT(ROW('_n'!$A$1:$A$9999)/10),10),5)+INT(MOD(INT(ROW('_n'!$A$1:$A$9999)/100),10)/5)+MOD(MOD(INT(ROW('_n'!$A$1:$A$9999)/100),10),5)+INT(MOD(INT(ROW('_n'!$A$1:$A$9999)/1000),10)/5)+MOD(MOD(INT(ROW('_n'!$A$1:$A$9999)/1000),10),5))=G18)) | I19: =SUMPRODUCT(--((INT(ROW('_n'!$A$1:$A$9999)/10000)+INT(MOD(INT(ROW('_n'!$A$1:$A$9999)/1),10)/5)+MOD(MOD(INT(ROW('_n'!$A$1:$A$9999)/1),10),5)+INT(MOD(INT(ROW('_n'!$A$1:$A$9999)/10),10)/5)+MOD(MOD(INT(ROW('_n'!$A$1:$A$9999)/10),10),5)+INT(MOD(INT(ROW('_n'!$A$1:$A$9999)/100),10)/5)+MOD(MOD(INT(ROW('_n'!$A$1:$A$9999)/100),10),5)+INT(MOD(INT(ROW('_n'!$A$1:$A$9999)/1000),10)/5)+INT(MOD(MOD(INT(ROW('_n'!$A$1:$A$9999)/1000),10),5)/2)+MOD(MOD(MOD(INT(ROW('_n'!$A$1:$A$9999)/1000),10),5),2))=I18))
A20: 1円から9,999円の平均の枚数 | G20: =SUMPRODUCT((INT(ROW('_n'!$A$1:$A$9999)/10000)+INT(MOD(INT(ROW('_n'!$A$1:$A$9999)/1),10)/5)+MOD(MOD(INT(ROW('_n'!$A$1:$A$9999)/1),10),5)+INT(MOD(INT(ROW('_n'!$A$1:$A$9999)/10),10)/5)+MOD(MOD(INT(ROW('_n'!$A$1:$A$9999)/10),10),5)+INT(MOD(INT(ROW('_n'!$A$1:$A$9999)/100),10)/5)+MOD(MOD(INT(ROW('_n'!$A$1:$A$9999)/100),10),5)+INT(MOD(INT(ROW('_n'!$A$1:$A$9999)/1000),10)/5)+MOD(MOD(INT(ROW('_n'!$A$1:$A$9999)/1000),10),5)))/9999 | I20: =SUMPRODUCT((INT(ROW('_n'!$A$1:$A$9999)/10000)+INT(MOD(INT(ROW('_n'!$A$1:$A$9999)/1),10)/5)+MOD(MOD(INT(ROW('_n'!$A$1:$A$9999)/1),10),5)+INT(MOD(INT(ROW('_n'!$A$1:$A$9999)/10),10)/5)+MOD(MOD(INT(ROW('_n'!$A$1:$A$9999)/10),10),5)+INT(MOD(INT(ROW('_n'!$A$1:$A$9999)/100),10)/5)+MOD(MOD(INT(ROW('_n'!$A$1:$A$9999)/100),10),5)+INT(MOD(INT(ROW('_n'!$A$1:$A$9999)/1000),10)/5)+INT(MOD(MOD(INT(ROW('_n'!$A$1:$A$9999)/1000),10),5)/2)+MOD(MOD(MOD(INT(ROW('_n'!$A$1:$A$9999)/1000),10),5),2)))/9999
A22: 正しい式は1_金種表の形。残りの額 = 金額 - SUMPRODUCT(ここまでの金種, ここまでの枚数) を金種で割る
A23: 2,000円札がないときは、1つ上の金種がいつも今の金種で割り切れるので、MODの式でもずれない

Sheet 4_使い方
A1: 使い方
A3: 1 1_金種表のA列に名前、B列に払う額を入れる。30人まで。B4で2,000円札を使うかを選ぶ。
A4: 2 C列からL列に、1人ずつの札と硬貨の枚数が出る。38行目が金種ごとの合計で、銀行で用意する枚数になる。
A5: 3 39行目は合計額を一度に崩した枚数、40行目はそれで用意すると足りなくなる枚数。
A6: 4 N列は検算。枚数×金種を足して金額を引いた差で、0でなければ赤くなる。円未満の端数があると0にならない。
A8: 2_お釣りの備え は、レジや会費の箱に最初に入れておく釣り銭の、いちばん少ない組み。B19に出したいお釣りを入れると、どの札と硬貨を出すかが分かる。
A9: 3_MODの式 は、よく見かける式に2,000円札の列を足したときにずれる額を数える。入力は要らない。
A11: 手数料は三菱UFJ銀行の窓口の円貨両替・金種指定の現金払い戻し（消費税込、口座ありで1〜10枚無料、11〜500枚770円、以降500枚ごとに770円）。
A12: 枚数は持ち帰る枚数で数えている。ほかの銀行の手数料は入れていない。
A14: 出典
A15: 日本銀行 現在発行されている銀行券・貨幣 https://www.boj.or.jp/note_tfjgs/note/valid/issue.htm （2026年10月6日確認）
A16: 日本銀行 銀行券発注高（令和8年度） https://www.boj.or.jp/note_tfjgs/note/order/index.htm （2026年10月6日確認）
... A20: Microsoft 365のExcel（バージョン16）で確認、2026年10月6日。

Sheet _n
A1: ROWで1から99,999の連番を作るための空のシート。行を足したり消したりしない
