Workbook
Name 部署リスト: 部署表[部署]

Sheet 入力
A1: 入力とその検算 | F1: 黄色の列だけ入力。右の2列が空なら一覧どおり
A2: 番号 | B2: 部署 | C2: リストにない | D2: 前後に空白 | E2: 見るところ | G2: 集計
A3: 1001 | B3: 総務 | C3: =IF($B3="","",IF(COUNTIF(一覧!$A$3:$A$200,$B3)=0,"リストにない","")) | D3: =IF($B3="","",IF(EXACT($B3,TRIM($B3)),"","前後に空白")) | E3: =IF($B3="","",IF($C3<>"","一覧に足すか、打ち直す",IF($D3<>"","空白を取る",""))) | G3: 入っている件数 | H3: =COUNTA($B$3:$B$302) -> 6
A4: 1002 | B4: 経理 | C4: =IF($B4="","",IF(COUNTIF(一覧!$A$3:$A$200,$B4)=0,"リストにない","")) | D4: =IF($B4="","",IF(EXACT($B4,TRIM($B4)),"","前後に空白")) | E4: =IF($B4="","",IF($C4<>"","一覧に足すか、打ち直す",IF($D4<>"","空白を取る",""))) | G4: リストにない | H4: =COUNTIF($C$3:$C$302,"リストにない") -> 3
A5: 1003 | B5: 総務部 | C5: =IF($B5="","",IF(COUNTIF(一覧!$A$3:$A$200,$B5)=0,"リストにない","")) -> リストにない | D5: =IF($B5="","",IF(EXACT($B5,TRIM($B5)),"","前後に空白")) | E5: =IF($B5="","",IF($C5<>"","一覧に足すか、打ち直す",IF($D5<>"","空白を取る",""))) -> 一覧に足すか、打ち直す | G5: 前後に空白 | H5: =COUNTIF($D$3:$D$302,"前後に空白") -> 1
A6: 1004 | B6: 営業 | C6: =IF($B6="","",IF(COUNTIF(一覧!$A$3:$A$200,$B6)=0,"リストにない","")) -> リストにない | D6: =IF($B6="","",IF(EXACT($B6,TRIM($B6)),"","前後に空白")) -> 前後に空白 | E6: =IF($B6="","",IF($C6<>"","一覧に足すか、打ち直す",IF($D6<>"","空白を取る",""))) -> 一覧に足すか、打ち直す | G6: 人が見る件数 | H6: =$H$4 -> 3
A7: 1005 | B7: 製造 | C7: =IF($B7="","",IF(COUNTIF(一覧!$A$3:$A$200,$B7)=0,"リストにない","")) | D7: =IF($B7="","",IF(EXACT($B7,TRIM($B7)),"","前後に空白")) | E7: =IF($B7="","",IF($C7<>"","一覧に足すか、打ち直す",IF($D7<>"","空白を取る","")))
A8: 1006 | B8: そうむ | C8: =IF($B8="","",IF(COUNTIF(一覧!$A$3:$A$200,$B8)=0,"リストにない","")) -> リストにない | D8: =IF($B8="","",IF(EXACT($B8,TRIM($B8)),"","前後に空白")) | E8: =IF($B8="","",IF($C8<>"","一覧に足すか、打ち直す",IF($D8<>"","空白を取る",""))) -> 一覧に足すか、打ち直す
C9: =IF($B9="","",IF(COUNTIF(一覧!$A$3:$A$200,$B9)=0,"リストにない","")) | D9: =IF($B9="","",IF(EXACT($B9,TRIM($B9)),"","前後に空白")) | E9: =IF($B9="","",IF($C9<>"","一覧に足すか、打ち直す",IF($D9<>"","空白を取る","")))
C10: =IF($B10="","",IF(COUNTIF(一覧!$A$3:$A$200,$B10)=0,"リストにない","")) | D10: =IF($B10="","",IF(EXACT($B10,TRIM($B10)),"","前後に空白")) | E10: =IF($B10="","",IF($C10<>"","一覧に足すか、打ち直す",IF($D10<>"","空白を取る","")))
C11: =IF($B11="","",IF(COUNTIF(一覧!$A$3:$A$200,$B11)=0,"リストにない","")) | D11: =IF($B11="","",IF(EXACT($B11,TRIM($B11)),"","前後に空白")) | E11: =IF($B11="","",IF($C11<>"","一覧に足すか、打ち直す",IF($D11<>"","空白を取る","")))
C12: =IF($B12="","",IF(COUNTIF(一覧!$A$3:$A$200,$B12)=0,"リストにない","")) | D12: =IF($B12="","",IF(EXACT($B12,TRIM($B12)),"","前後に空白")) | E12: =IF($B12="","",IF($C12<>"","一覧に足すか、打ち直す",IF($D12<>"","空白を取る","")))
C13: =IF($B13="","",IF(COUNTIF(一覧!$A$3:$A$200,$B13)=0,"リストにない","")) | D13: =IF($B13="","",IF(EXACT($B13,TRIM($B13)),"","前後に空白")) | E13: =IF($B13="","",IF($C13<>"","一覧に足すか、打ち直す",IF($D13<>"","空白を取る","")))
C14: =IF($B14="","",IF(COUNTIF(一覧!$A$3:$A$200,$B14)=0,"リストにない","")) | D14: =IF($B14="","",IF(EXACT($B14,TRIM($B14)),"","前後に空白")) | E14: =IF($B14="","",IF($C14<>"","一覧に足すか、打ち直す",IF($D14<>"","空白を取る","")))
C15: =IF($B15="","",IF(COUNTIF(一覧!$A$3:$A$200,$B15)=0,"リストにない","")) | D15: =IF($B15="","",IF(EXACT($B15,TRIM($B15)),"","前後に空白")) | E15: =IF($B15="","",IF($C15<>"","一覧に足すか、打ち直す",IF($D15<>"","空白を取る","")))
C16: =IF($B16="","",IF(COUNTIF(一覧!$A$3:$A$200,$B16)=0,"リストにない","")) | D16: =IF($B16="","",IF(EXACT($B16,TRIM($B16)),"","前後に空白")) | E16: =IF($B16="","",IF($C16<>"","一覧に足すか、打ち直す",IF($D16<>"","空白を取る","")))
C17: =IF($B17="","",IF(COUNTIF(一覧!$A$3:$A$200,$B17)=0,"リストにない","")) | D17: =IF($B17="","",IF(EXACT($B17,TRIM($B17)),"","前後に空白")) | E17: =IF($B17="","",IF($C17<>"","一覧に足すか、打ち直す",IF($D17<>"","空白を取る","")))
C18: =IF($B18="","",IF(COUNTIF(一覧!$A$3:$A$200,$B18)=0,"リストにない","")) | D18: =IF($B18="","",IF(EXACT($B18,TRIM($B18)),"","前後に空白")) | E18: =IF($B18="","",IF($C18<>"","一覧に足すか、打ち直す",IF($D18<>"","空白を取る","")))
C19: =IF($B19="","",IF(COUNTIF(一覧!$A$3:$A$200,$B19)=0,"リストにない","")) | D19: =IF($B19="","",IF(EXACT($B19,TRIM($B19)),"","前後に空白")) | E19: =IF($B19="","",IF($C19<>"","一覧に足すか、打ち直す",IF($D19<>"","空白を取る","")))
C20: =IF($B20="","",IF(COUNTIF(一覧!$A$3:$A$200,$B20)=0,"リストにない","")) | D20: =IF($B20="","",IF(EXACT($B20,TRIM($B20)),"","前後に空白")) | E20: =IF($B20="","",IF($C20<>"","一覧に足すか、打ち直す",IF($D20<>"","空白を取る","")))
... C302: =IF($B302="","",IF(COUNTIF(一覧!$A$3:$A$200,$B302)=0,"リストにない","")) | D302: =IF($B302="","",IF(EXACT($B302,TRIM($B302)),"","前後に空白")) | E302: =IF($B302="","",IF($C302<>"","一覧に足すか、打ち直す",IF($D302<>"","空白を取る","")))

Sheet 一覧
A1: 選べる部署 | C1: ここに行を足すと、入力のドロップダウンにも増える
A2: 部署
A3: 総務
A4: 経理
A5: 営業
A6: 製造
A7: 購買
A8: 品質保証

Sheet 使い方
A1: 入力規則で選ばせるときに決めること
A3: 「一覧」はテーブル（部署表）にしてある。行を足すとテーブルが伸びて、ドロップダウンにも入る。
A4: 固定範囲で入力規則を作ると、一覧に行を足しても増えない。範囲を指定し直すまで古いままになる。
A6: 入力規則の元の値にテーブル名を直接書くことはできない。名前の定義を1つ挟む。
A7: このブックでは「部署リスト」という名前が「部署表[部署]」を指していて、入力規則はその名前を見ている。
A9: 別のブックにある一覧は、入力規則の元の値に直接書けない。同じブックの中にシートを作って置く。
A11: 入力規則は手で打つときにしか効かない。貼り付けや取り込みで入った値は、一覧になくても入る。
A12: だからC列とD列で拾う。C列は一覧にない値、D列は前後に空白が付いた値。
A13: C列に何か出ていたら、一覧に足すか、打ち直す。
A15: 規則のあるセルをコピーして別のセルに貼ると、規則も一緒に移る。表の外に貼ると規則が散らばる。
A16: あとから入力規則を付けても、すでに入っている値は消えない。C列で先に数えてから付ける。
