Workbook

Sheet 期限
A1: 雇用保険の届出期限 | E1: 黄色の列だけ入力。青い日付は休日で後ろにずれたもの
A2: 氏名 | B2: 入社日 | C2: 離職日 | D2: 離職日の年齢 | E2: 取得届の期限 | F2: 資格喪失日 | G2: 喪失届の期限 | H2: 離職票 | I2: 残り日数
A3: 9月1日に入社 | B3: 46266 | E3: =IF($B3="","",WORKDAY(DATE(YEAR($B3),MONTH($B3)+1,10)-1,1,休日!$A$3:$A$200)) | F3: =IF($C3="","",$C3+1) | G3: =IF($C3="","",WORKDAY($F3+10-1,1,休日!$A$3:$A$200)) | H3: =IF($C3="","",IF($D3>=59,"必ず交付（59歳以上）","本人が希望すれば交付")) | I3: =IF($C3="","",$G3-TODAY())
A4: 9月30日に入社 | B4: 46295 | E4: =IF($B4="","",WORKDAY(DATE(YEAR($B4),MONTH($B4)+1,10)-1,1,休日!$A$3:$A$200)) | F4: =IF($C4="","",$C4+1) | G4: =IF($C4="","",WORKDAY($F4+10-1,1,休日!$A$3:$A$200)) | H4: =IF($C4="","",IF($D4>=59,"必ず交付（59歳以上）","本人が希望すれば交付")) | I4: =IF($C4="","",$G4-TODAY())
A5: 9月1日に離職 | C5: 46266 | D5: 42 | E5: =IF($B5="","",WORKDAY(DATE(YEAR($B5),MONTH($B5)+1,10)-1,1,休日!$A$3:$A$200)) | F5: =IF($C5="","",$C5+1) | G5: =IF($C5="","",WORKDAY($F5+10-1,1,休日!$A$3:$A$200)) | H5: =IF($C5="","",IF($D5>=59,"必ず交付（59歳以上）","本人が希望すれば交付")) | I5: =IF($C5="","",$G5-TODAY())
A6: 9月30日に離職 | C6: 46295 | D6: 61 | E6: =IF($B6="","",WORKDAY(DATE(YEAR($B6),MONTH($B6)+1,10)-1,1,休日!$A$3:$A$200)) | F6: =IF($C6="","",$C6+1) | G6: =IF($C6="","",WORKDAY($F6+10-1,1,休日!$A$3:$A$200)) | H6: =IF($C6="","",IF($D6>=59,"必ず交付（59歳以上）","本人が希望すれば交付")) | I6: =IF($C6="","",$G6-TODAY())
A7: 12月25日に離職 | C7: 46381 | D7: 38 | E7: =IF($B7="","",WORKDAY(DATE(YEAR($B7),MONTH($B7)+1,10)-1,1,休日!$A$3:$A$200)) | F7: =IF($C7="","",$C7+1) | G7: =IF($C7="","",WORKDAY($F7+10-1,1,休日!$A$3:$A$200)) | H7: =IF($C7="","",IF($D7>=59,"必ず交付（59歳以上）","本人が希望すれば交付")) | I7: =IF($C7="","",$G7-TODAY())
E8: =IF($B8="","",WORKDAY(DATE(YEAR($B8),MONTH($B8)+1,10)-1,1,休日!$A$3:$A$200)) | F8: =IF($C8="","",$C8+1) | G8: =IF($C8="","",WORKDAY($F8+10-1,1,休日!$A$3:$A$200)) | H8: =IF($C8="","",IF($D8>=59,"必ず交付（59歳以上）","本人が希望すれば交付")) | I8: =IF($C8="","",$G8-TODAY())
E9: =IF($B9="","",WORKDAY(DATE(YEAR($B9),MONTH($B9)+1,10)-1,1,休日!$A$3:$A$200)) | F9: =IF($C9="","",$C9+1) | G9: =IF($C9="","",WORKDAY($F9+10-1,1,休日!$A$3:$A$200)) | H9: =IF($C9="","",IF($D9>=59,"必ず交付（59歳以上）","本人が希望すれば交付")) | I9: =IF($C9="","",$G9-TODAY())
E10: =IF($B10="","",WORKDAY(DATE(YEAR($B10),MONTH($B10)+1,10)-1,1,休日!$A$3:$A$200)) | F10: =IF($C10="","",$C10+1) | G10: =IF($C10="","",WORKDAY($F10+10-1,1,休日!$A$3:$A$200)) | H10: =IF($C10="","",IF($D10>=59,"必ず交付（59歳以上）","本人が希望すれば交付")) | I10: =IF($C10="","",$G10-TODAY())
E11: =IF($B11="","",WORKDAY(DATE(YEAR($B11),MONTH($B11)+1,10)-1,1,休日!$A$3:$A$200)) | F11: =IF($C11="","",$C11+1) | G11: =IF($C11="","",WORKDAY($F11+10-1,1,休日!$A$3:$A$200)) | H11: =IF($C11="","",IF($D11>=59,"必ず交付（59歳以上）","本人が希望すれば交付")) | I11: =IF($C11="","",$G11-TODAY())
E12: =IF($B12="","",WORKDAY(DATE(YEAR($B12),MONTH($B12)+1,10)-1,1,休日!$A$3:$A$200)) | F12: =IF($C12="","",$C12+1) | G12: =IF($C12="","",WORKDAY($F12+10-1,1,休日!$A$3:$A$200)) | H12: =IF($C12="","",IF($D12>=59,"必ず交付（59歳以上）","本人が希望すれば交付")) | I12: =IF($C12="","",$G12-TODAY())
E13: =IF($B13="","",WORKDAY(DATE(YEAR($B13),MONTH($B13)+1,10)-1,1,休日!$A$3:$A$200)) | F13: =IF($C13="","",$C13+1) | G13: =IF($C13="","",WORKDAY($F13+10-1,1,休日!$A$3:$A$200)) | H13: =IF($C13="","",IF($D13>=59,"必ず交付（59歳以上）","本人が希望すれば交付")) | I13: =IF($C13="","",$G13-TODAY())
E14: =IF($B14="","",WORKDAY(DATE(YEAR($B14),MONTH($B14)+1,10)-1,1,休日!$A$3:$A$200)) | F14: =IF($C14="","",$C14+1) | G14: =IF($C14="","",WORKDAY($F14+10-1,1,休日!$A$3:$A$200)) | H14: =IF($C14="","",IF($D14>=59,"必ず交付（59歳以上）","本人が希望すれば交付")) | I14: =IF($C14="","",$G14-TODAY())
E15: =IF($B15="","",WORKDAY(DATE(YEAR($B15),MONTH($B15)+1,10)-1,1,休日!$A$3:$A$200)) | F15: =IF($C15="","",$C15+1) | G15: =IF($C15="","",WORKDAY($F15+10-1,1,休日!$A$3:$A$200)) | H15: =IF($C15="","",IF($D15>=59,"必ず交付（59歳以上）","本人が希望すれば交付")) | I15: =IF($C15="","",$G15-TODAY())
E16: =IF($B16="","",WORKDAY(DATE(YEAR($B16),MONTH($B16)+1,10)-1,1,休日!$A$3:$A$200)) | F16: =IF($C16="","",$C16+1) | G16: =IF($C16="","",WORKDAY($F16+10-1,1,休日!$A$3:$A$200)) | H16: =IF($C16="","",IF($D16>=59,"必ず交付（59歳以上）","本人が希望すれば交付")) | I16: =IF($C16="","",$G16-TODAY())
E17: =IF($B17="","",WORKDAY(DATE(YEAR($B17),MONTH($B17)+1,10)-1,1,休日!$A$3:$A$200)) | F17: =IF($C17="","",$C17+1) | G17: =IF($C17="","",WORKDAY($F17+10-1,1,休日!$A$3:$A$200)) | H17: =IF($C17="","",IF($D17>=59,"必ず交付（59歳以上）","本人が希望すれば交付")) | I17: =IF($C17="","",$G17-TODAY())
E18: =IF($B18="","",WORKDAY(DATE(YEAR($B18),MONTH($B18)+1,10)-1,1,休日!$A$3:$A$200)) | F18: =IF($C18="","",$C18+1) | G18: =IF($C18="","",WORKDAY($F18+10-1,1,休日!$A$3:$A$200)) | H18: =IF($C18="","",IF($D18>=59,"必ず交付（59歳以上）","本人が希望すれば交付")) | I18: =IF($C18="","",$G18-TODAY())
E19: =IF($B19="","",WORKDAY(DATE(YEAR($B19),MONTH($B19)+1,10)-1,1,休日!$A$3:$A$200)) | F19: =IF($C19="","",$C19+1) | G19: =IF($C19="","",WORKDAY($F19+10-1,1,休日!$A$3:$A$200)) | H19: =IF($C19="","",IF($D19>=59,"必ず交付（59歳以上）","本人が希望すれば交付")) | I19: =IF($C19="","",$G19-TODAY())
... E302: =IF($B302="","",WORKDAY(DATE(YEAR($B302),MONTH($B302)+1,10)-1,1,休日!$A$3:$A$200)) | F302: =IF($C302="","",$C302+1) | G302: =IF($C302="","",WORKDAY($F302+10-1,1,休日!$A$3:$A$200)) | H302: =IF($C302="","",IF($D302>=59,"必ず交付（59歳以上）","本人が希望すれば交付")) | I302: =IF($C302="","",$G302-TODAY())

Sheet 加入判定
A1: 雇用保険に入るかどうか | F1: 所定労働時間を、週・月・年のどれで決めているかで入れる列が変わる
A2: 氏名 | B2: 決め方 | C2: 所定労働時間 | D2: 週に直すと | E2: 雇用見込み(日) | F2: 年齢 | G2: 判定 | H2: 理由 | J2: 20時間の分かれ目
A3: 山田 | B3: 週 | C3: 20 | D3: =IF($C3="","",IF($B3="月",ROUND($C3/(52/12),2),IF($B3="年",ROUND($C3/52,2),$C3))) | E3: 365 | F3: 34 | G3: =IF($C3="","",IF($D3<20,IF($F3>=65,"申出があれば入る","入らない"),IF($E3<31,"入らない","入る"))) | H3: =IF($C3="","",IF($D3<20,IF($F3>=65,"週20時間未満。65歳以上なので2か所合算の申出ができる","週20時間未満"),IF($E3<31,"31日以上の雇用見込みがない","週20時間以上で31日以上の見込み"))) | J3: 週で決めている | K3: 20
A4: 佐藤 | B4: 月 | C4: 80 | D4: =IF($C4="","",IF($B4="月",ROUND($C4/(52/12),2),IF($B4="年",ROUND($C4/52,2),$C4))) | E4: 365 | F4: 28 | G4: =IF($C4="","",IF($D4<20,IF($F4>=65,"申出があれば入る","入らない"),IF($E4<31,"入らない","入る"))) | H4: =IF($C4="","",IF($D4<20,IF($F4>=65,"週20時間未満。65歳以上なので2か所合算の申出ができる","週20時間未満"),IF($E4<31,"31日以上の雇用見込みがない","週20時間以上で31日以上の見込み"))) | J4: 月で決めている | K4: =ROUND(20*(52/12),2)
A5: 鈴木 | B5: 月 | C5: 90 | D5: =IF($C5="","",IF($B5="月",ROUND($C5/(52/12),2),IF($B5="年",ROUND($C5/52,2),$C5))) | E5: 365 | F5: 51 | G5: =IF($C5="","",IF($D5<20,IF($F5>=65,"申出があれば入る","入らない"),IF($E5<31,"入らない","入る"))) | H5: =IF($C5="","",IF($D5<20,IF($F5>=65,"週20時間未満。65歳以上なので2か所合算の申出ができる","週20時間未満"),IF($E5<31,"31日以上の雇用見込みがない","週20時間以上で31日以上の見込み"))) | J5: 年で決めている | K5: =20*52
A6: 高橋 | B6: 年 | C6: 1000 | D6: =IF($C6="","",IF($B6="月",ROUND($C6/(52/12),2),IF($B6="年",ROUND($C6/52,2),$C6))) | E6: 365 | F6: 45 | G6: =IF($C6="","",IF($D6<20,IF($F6>=65,"申出があれば入る","入らない"),IF($E6<31,"入らない","入る"))) | H6: =IF($C6="","",IF($D6<20,IF($F6>=65,"週20時間未満。65歳以上なので2か所合算の申出ができる","週20時間未満"),IF($E6<31,"31日以上の雇用見込みがない","週20時間以上で31日以上の見込み"))) | J6: この時間を下回ると入らない
A7: 田中 | B7: 週 | C7: 24 | D7: =IF($C7="","",IF($B7="月",ROUND($C7/(52/12),2),IF($B7="年",ROUND($C7/52,2),$C7))) | E7: 20 | F7: 33 | G7: =IF($C7="","",IF($D7<20,IF($F7>=65,"申出があれば入る","入らない"),IF($E7<31,"入らない","入る"))) | H7: =IF($C7="","",IF($D7<20,IF($F7>=65,"週20時間未満。65歳以上なので2か所合算の申出ができる","週20時間未満"),IF($E7<31,"31日以上の雇用見込みがない","週20時間以上で31日以上の見込み")))
A8: 伊藤 | B8: 週 | C8: 12 | D8: =IF($C8="","",IF($B8="月",ROUND($C8/(52/12),2),IF($B8="年",ROUND($C8/52,2),$C8))) | E8: 365 | F8: 67 | G8: =IF($C8="","",IF($D8<20,IF($F8>=65,"申出があれば入る","入らない"),IF($E8<31,"入らない","入る"))) | H8: =IF($C8="","",IF($D8<20,IF($F8>=65,"週20時間未満。65歳以上なので2か所合算の申出ができる","週20時間未満"),IF($E8<31,"31日以上の雇用見込みがない","週20時間以上で31日以上の見込み")))
D9: =IF($C9="","",IF($B9="月",ROUND($C9/(52/12),2),IF($B9="年",ROUND($C9/52,2),$C9))) | G9: =IF($C9="","",IF($D9<20,IF($F9>=65,"申出があれば入る","入らない"),IF($E9<31,"入らない","入る"))) | H9: =IF($C9="","",IF($D9<20,IF($F9>=65,"週20時間未満。65歳以上なので2か所合算の申出ができる","週20時間未満"),IF($E9<31,"31日以上の雇用見込みがない","週20時間以上で31日以上の見込み")))
D10: =IF($C10="","",IF($B10="月",ROUND($C10/(52/12),2),IF($B10="年",ROUND($C10/52,2),$C10))) | G10: =IF($C10="","",IF($D10<20,IF($F10>=65,"申出があれば入る","入らない"),IF($E10<31,"入らない","入る"))) | H10: =IF($C10="","",IF($D10<20,IF($F10>=65,"週20時間未満。65歳以上なので2か所合算の申出ができる","週20時間未満"),IF($E10<31,"31日以上の雇用見込みがない","週20時間以上で31日以上の見込み")))
D11: =IF($C11="","",IF($B11="月",ROUND($C11/(52/12),2),IF($B11="年",ROUND($C11/52,2),$C11))) | G11: =IF($C11="","",IF($D11<20,IF($F11>=65,"申出があれば入る","入らない"),IF($E11<31,"入らない","入る"))) | H11: =IF($C11="","",IF($D11<20,IF($F11>=65,"週20時間未満。65歳以上なので2か所合算の申出ができる","週20時間未満"),IF($E11<31,"31日以上の雇用見込みがない","週20時間以上で31日以上の見込み")))
D12: =IF($C12="","",IF($B12="月",ROUND($C12/(52/12),2),IF($B12="年",ROUND($C12/52,2),$C12))) | G12: =IF($C12="","",IF($D12<20,IF($F12>=65,"申出があれば入る","入らない"),IF($E12<31,"入らない","入る"))) | H12: =IF($C12="","",IF($D12<20,IF($F12>=65,"週20時間未満。65歳以上なので2か所合算の申出ができる","週20時間未満"),IF($E12<31,"31日以上の雇用見込みがない","週20時間以上で31日以上の見込み")))
D13: =IF($C13="","",IF($B13="月",ROUND($C13/(52/12),2),IF($B13="年",ROUND($C13/52,2),$C13))) | G13: =IF($C13="","",IF($D13<20,IF($F13>=65,"申出があれば入る","入らない"),IF($E13<31,"入らない","入る"))) | H13: =IF($C13="","",IF($D13<20,IF($F13>=65,"週20時間未満。65歳以上なので2か所合算の申出ができる","週20時間未満"),IF($E13<31,"31日以上の雇用見込みがない","週20時間以上で31日以上の見込み")))
D14: =IF($C14="","",IF($B14="月",ROUND($C14/(52/12),2),IF($B14="年",ROUND($C14/52,2),$C14))) | G14: =IF($C14="","",IF($D14<20,IF($F14>=65,"申出があれば入る","入らない"),IF($E14<31,"入らない","入る"))) | H14: =IF($C14="","",IF($D14<20,IF($F14>=65,"週20時間未満。65歳以上なので2か所合算の申出ができる","週20時間未満"),IF($E14<31,"31日以上の雇用見込みがない","週20時間以上で31日以上の見込み")))
D15: =IF($C15="","",IF($B15="月",ROUND($C15/(52/12),2),IF($B15="年",ROUND($C15/52,2),$C15))) | G15: =IF($C15="","",IF($D15<20,IF($F15>=65,"申出があれば入る","入らない"),IF($E15<31,"入らない","入る"))) | H15: =IF($C15="","",IF($D15<20,IF($F15>=65,"週20時間未満。65歳以上なので2か所合算の申出ができる","週20時間未満"),IF($E15<31,"31日以上の雇用見込みがない","週20時間以上で31日以上の見込み")))
D16: =IF($C16="","",IF($B16="月",ROUND($C16/(52/12),2),IF($B16="年",ROUND($C16/52,2),$C16))) | G16: =IF($C16="","",IF($D16<20,IF($F16>=65,"申出があれば入る","入らない"),IF($E16<31,"入らない","入る"))) | H16: =IF($C16="","",IF($D16<20,IF($F16>=65,"週20時間未満。65歳以上なので2か所合算の申出ができる","週20時間未満"),IF($E16<31,"31日以上の雇用見込みがない","週20時間以上で31日以上の見込み")))
D17: =IF($C17="","",IF($B17="月",ROUND($C17/(52/12),2),IF($B17="年",ROUND($C17/52,2),$C17))) | G17: =IF($C17="","",IF($D17<20,IF($F17>=65,"申出があれば入る","入らない"),IF($E17<31,"入らない","入る"))) | H17: =IF($C17="","",IF($D17<20,IF($F17>=65,"週20時間未満。65歳以上なので2か所合算の申出ができる","週20時間未満"),IF($E17<31,"31日以上の雇用見込みがない","週20時間以上で31日以上の見込み")))
D18: =IF($C18="","",IF($B18="月",ROUND($C18/(52/12),2),IF($B18="年",ROUND($C18/52,2),$C18))) | G18: =IF($C18="","",IF($D18<20,IF($F18>=65,"申出があれば入る","入らない"),IF($E18<31,"入らない","入る"))) | H18: =IF($C18="","",IF($D18<20,IF($F18>=65,"週20時間未満。65歳以上なので2か所合算の申出ができる","週20時間未満"),IF($E18<31,"31日以上の雇用見込みがない","週20時間以上で31日以上の見込み")))
D19: =IF($C19="","",IF($B19="月",ROUND($C19/(52/12),2),IF($B19="年",ROUND($C19/52,2),$C19))) | G19: =IF($C19="","",IF($D19<20,IF($F19>=65,"申出があれば入る","入らない"),IF($E19<31,"入らない","入る"))) | H19: =IF($C19="","",IF($D19<20,IF($F19>=65,"週20時間未満。65歳以上なので2か所合算の申出ができる","週20時間未満"),IF($E19<31,"31日以上の雇用見込みがない","週20時間以上で31日以上の見込み")))
D20: =IF($C20="","",IF($B20="月",ROUND($C20/(52/12),2),IF($B20="年",ROUND($C20/52,2),$C20))) | G20: =IF($C20="","",IF($D20<20,IF($F20>=65,"申出があれば入る","入らない"),IF($E20<31,"入らない","入る"))) | H20: =IF($C20="","",IF($D20<20,IF($F20>=65,"週20時間未満。65歳以上なので2か所合算の申出ができる","週20時間未満"),IF($E20<31,"31日以上の雇用見込みがない","週20時間以上で31日以上の見込み")))
... D302: =IF($C302="","",IF($B302="月",ROUND($C302/(52/12),2),IF($B302="年",ROUND($C302/52,2),$C302))) | G302: =IF($C302="","",IF($D302<20,IF($F302>=65,"申出があれば入る","入らない"),IF($E302<31,"入らない","入る"))) | H302: =IF($C302="","",IF($D302<20,IF($F302>=65,"週20時間未満。65歳以上なので2か所合算の申出ができる","週20時間未満"),IF($E302<31,"31日以上の雇用見込みがない","週20時間以上で31日以上の見込み")))

Sheet 休日
A1: 行政機関の休日 | C1: 祝日は内閣府の公表データ。年末年始は行政機関の休日に関する法律第1条3号
A2: 日付 | B2: 内容
A3: 45658 | B3: 元日
A4: 45659 | B4: 年末年始
A5: 45660 | B5: 年末年始
A6: 45670 | B6: 成人の日
A7: 45699 | B7: 建国記念の日
A8: 45711 | B8: 天皇誕生日
A9: 45712 | B9: 休日
A10: 45736 | B10: 春分の日
A11: 45776 | B11: 昭和の日
A12: 45780 | B12: 憲法記念日
A13: 45781 | B13: みどりの日
A14: 45782 | B14: こどもの日
... A71: 46752 | B71: 年末年始
D73: 土曜と日曜は式のほうで見ているので、ここには入れない。
D74: 年が変わったら、内閣府の「国民の祝日」から行を足す。A列には日付だけを入れる。

Sheet 使い方
A1: 期限と添付書類
A3: 資格取得届は、雇った日の属する月の翌月10日まで。入社日が月初でも月末でも同じ日が期限になる。
A4: 資格喪失届は、被保険者でなくなった日の翌日から起算して10日以内。被保険者でなくなる日は離職日の翌日。
A5: 9月30日に辞めた人なら、喪失日が10月1日、起算日が10月2日、10日目の10月11日が期限。
A7: 期限が土日祝や年末年始に当たる日は、翌開庁日にずれる。行政機関の休日に関する法律第2条による。
A8: この表では WORKDAY で計算している。祝日は「休日」シートの一覧を見ている。
A10: 取得届は原則として添付書類が要らない。要るのは、その事業主として初めて出すとき、期限を過ぎたとき、
A11: 労働保険料を滞納しているとき、過去3年間に事業主の届出による不正受給があったときなど。
A12: 同居の親族、従業員を兼ねる取締役、在宅勤務者は、雇用関係を確かめる書類が別に要る。
A14: 喪失届は逆で、労働者名簿・賃金台帳・出勤簿・雇用契約書などを添えるのが原則。
A15: 離職票が要るなら離職証明書（3枚1組）も添える。離職日に59歳以上なら、本人の希望に関係なく必ず要る。
A17: 週の所定労働時間は、月で決めているなら12分の52で割って週に直す。年なら52で割る。
A18: 祝日や年末年始、夏季休暇のような特別休日を含まない週で数える。
