Workbook

Sheet 案件
A1: 見積から請求までの管理表 | F1: 黄色の列だけ入力。日付を入れた分だけ状態が進む
A2: 番号 | B2: 取引先 | C2: 件名 | D2: 見積日 | E2: 見積金額 | F2: 受注日 | G2: 納品日 | H2: 請求日 | I2: 請求金額 | J2: 状態 | K2: 差額 | L2: 止まっている日数 | N2: 状態 | O2: 件数 | P2: 見積金額の合計
A3: M2601 | B3: 霞商店 | C3: 部品ケース 200個 | D3: 46213 | E3: 540000 | F3: 46218 | G3: 46239 | H3: 46244 | I3: 540000 | J3: =IF($A3="","",IF($H3<>"","請求済み",IF($G3<>"","納品済み・未請求",IF($F3<>"","受注・納品待ち","見積のまま")))) | K3: =IF(OR($I3="",$E3=""),"",$I3-$E3) | L3: =IF($A3="","",IF($J3="請求済み","",設定!$B$3-MAX($D3,$F3,$G3))) | N3: 見積のまま | O3: =COUNTIF($J$3:$J$502,$N3) | P3: =SUMIF($J$3:$J$502,$N3,$E$3:$E$502)
A4: M2602 | B4: 国税工務店 | C4: 梱包材 一式 | D4: 46235 | E4: 286000 | F4: 46240 | G4: 46262 | J4: =IF($A4="","",IF($H4<>"","請求済み",IF($G4<>"","納品済み・未請求",IF($F4<>"","受注・納品待ち","見積のまま")))) | K4: =IF(OR($I4="",$E4=""),"",$I4-$E4) | L4: =IF($A4="","",IF($J4="請求済み","",設定!$B$3-MAX($D4,$F4,$G4))) | N4: 受注・納品待ち | O4: =COUNTIF($J$3:$J$502,$N4) | P4: =SUMIF($J$3:$J$502,$N4,$E$3:$E$502)
A5: M2603 | B5: 青木製作所 | C5: 加工賃 | D5: 46254 | E5: 1240000 | F5: 46259 | J5: =IF($A5="","",IF($H5<>"","請求済み",IF($G5<>"","納品済み・未請求",IF($F5<>"","受注・納品待ち","見積のまま")))) | K5: =IF(OR($I5="",$E5=""),"",$I5-$E5) | L5: =IF($A5="","",IF($J5="請求済み","",設定!$B$3-MAX($D5,$F5,$G5))) | N5: 納品済み・未請求 | O5: =COUNTIF($J$3:$J$502,$N5) | P5: =SUMIF($J$3:$J$502,$N5,$E$3:$E$502)
A6: M2604 | B6: 北川物産 | C6: 保守 年間 | D6: 46266 | E6: 880000 | J6: =IF($A6="","",IF($H6<>"","請求済み",IF($G6<>"","納品済み・未請求",IF($F6<>"","受注・納品待ち","見積のまま")))) | K6: =IF(OR($I6="",$E6=""),"",$I6-$E6) | L6: =IF($A6="","",IF($J6="請求済み","",設定!$B$3-MAX($D6,$F6,$G6))) | N6: 請求済み | O6: =COUNTIF($J$3:$J$502,$N6) | P6: =SUMIF($J$3:$J$502,$N6,$E$3:$E$502)
A7: M2605 | B7: 南田サービス | C7: 設置工事 | D7: 46223 | E7: 2100000 | F7: 46228 | G7: 46254 | H7: 46265 | I7: 2050000 | J7: =IF($A7="","",IF($H7<>"","請求済み",IF($G7<>"","納品済み・未請求",IF($F7<>"","受注・納品待ち","見積のまま")))) | K7: =IF(OR($I7="",$E7=""),"",$I7-$E7) | L7: =IF($A7="","",IF($J7="請求済み","",設定!$B$3-MAX($D7,$F7,$G7)))
J8: =IF($A8="","",IF($H8<>"","請求済み",IF($G8<>"","納品済み・未請求",IF($F8<>"","受注・納品待ち","見積のまま")))) | K8: =IF(OR($I8="",$E8=""),"",$I8-$E8) | L8: =IF($A8="","",IF($J8="請求済み","",設定!$B$3-MAX($D8,$F8,$G8))) | N8: 見積と請求が違う件数 | O8: =SUMPRODUCT(($I$3:$I$502<>"")*($K$3:$K$502<>0))
J9: =IF($A9="","",IF($H9<>"","請求済み",IF($G9<>"","納品済み・未請求",IF($F9<>"","受注・納品待ち","見積のまま")))) | K9: =IF(OR($I9="",$E9=""),"",$I9-$E9) | L9: =IF($A9="","",IF($J9="請求済み","",設定!$B$3-MAX($D9,$F9,$G9))) | N9: 差額の合計 | P9: =SUM($K$3:$K$502)
J10: =IF($A10="","",IF($H10<>"","請求済み",IF($G10<>"","納品済み・未請求",IF($F10<>"","受注・納品待ち","見積のまま")))) | K10: =IF(OR($I10="",$E10=""),"",$I10-$E10) | L10: =IF($A10="","",IF($J10="請求済み","",設定!$B$3-MAX($D10,$F10,$G10)))
J11: =IF($A11="","",IF($H11<>"","請求済み",IF($G11<>"","納品済み・未請求",IF($F11<>"","受注・納品待ち","見積のまま")))) | K11: =IF(OR($I11="",$E11=""),"",$I11-$E11) | L11: =IF($A11="","",IF($J11="請求済み","",設定!$B$3-MAX($D11,$F11,$G11)))
J12: =IF($A12="","",IF($H12<>"","請求済み",IF($G12<>"","納品済み・未請求",IF($F12<>"","受注・納品待ち","見積のまま")))) | K12: =IF(OR($I12="",$E12=""),"",$I12-$E12) | L12: =IF($A12="","",IF($J12="請求済み","",設定!$B$3-MAX($D12,$F12,$G12)))
J13: =IF($A13="","",IF($H13<>"","請求済み",IF($G13<>"","納品済み・未請求",IF($F13<>"","受注・納品待ち","見積のまま")))) | K13: =IF(OR($I13="",$E13=""),"",$I13-$E13) | L13: =IF($A13="","",IF($J13="請求済み","",設定!$B$3-MAX($D13,$F13,$G13)))
J14: =IF($A14="","",IF($H14<>"","請求済み",IF($G14<>"","納品済み・未請求",IF($F14<>"","受注・納品待ち","見積のまま")))) | K14: =IF(OR($I14="",$E14=""),"",$I14-$E14) | L14: =IF($A14="","",IF($J14="請求済み","",設定!$B$3-MAX($D14,$F14,$G14)))
J15: =IF($A15="","",IF($H15<>"","請求済み",IF($G15<>"","納品済み・未請求",IF($F15<>"","受注・納品待ち","見積のまま")))) | K15: =IF(OR($I15="",$E15=""),"",$I15-$E15) | L15: =IF($A15="","",IF($J15="請求済み","",設定!$B$3-MAX($D15,$F15,$G15)))
J16: =IF($A16="","",IF($H16<>"","請求済み",IF($G16<>"","納品済み・未請求",IF($F16<>"","受注・納品待ち","見積のまま")))) | K16: =IF(OR($I16="",$E16=""),"",$I16-$E16) | L16: =IF($A16="","",IF($J16="請求済み","",設定!$B$3-MAX($D16,$F16,$G16)))
J17: =IF($A17="","",IF($H17<>"","請求済み",IF($G17<>"","納品済み・未請求",IF($F17<>"","受注・納品待ち","見積のまま")))) | K17: =IF(OR($I17="",$E17=""),"",$I17-$E17) | L17: =IF($A17="","",IF($J17="請求済み","",設定!$B$3-MAX($D17,$F17,$G17)))
J18: =IF($A18="","",IF($H18<>"","請求済み",IF($G18<>"","納品済み・未請求",IF($F18<>"","受注・納品待ち","見積のまま")))) | K18: =IF(OR($I18="",$E18=""),"",$I18-$E18) | L18: =IF($A18="","",IF($J18="請求済み","",設定!$B$3-MAX($D18,$F18,$G18)))
J19: =IF($A19="","",IF($H19<>"","請求済み",IF($G19<>"","納品済み・未請求",IF($F19<>"","受注・納品待ち","見積のまま")))) | K19: =IF(OR($I19="",$E19=""),"",$I19-$E19) | L19: =IF($A19="","",IF($J19="請求済み","",設定!$B$3-MAX($D19,$F19,$G19)))
J20: =IF($A20="","",IF($H20<>"","請求済み",IF($G20<>"","納品済み・未請求",IF($F20<>"","受注・納品待ち","見積のまま")))) | K20: =IF(OR($I20="",$E20=""),"",$I20-$E20) | L20: =IF($A20="","",IF($J20="請求済み","",設定!$B$3-MAX($D20,$F20,$G20)))
J21: =IF($A21="","",IF($H21<>"","請求済み",IF($G21<>"","納品済み・未請求",IF($F21<>"","受注・納品待ち","見積のまま")))) | K21: =IF(OR($I21="",$E21=""),"",$I21-$E21) | L21: =IF($A21="","",IF($J21="請求済み","",設定!$B$3-MAX($D21,$F21,$G21)))
... J502: =IF($A502="","",IF($H502<>"","請求済み",IF($G502<>"","納品済み・未請求",IF($F502<>"","受注・納品待ち","見積のまま")))) | K502: =IF(OR($I502="",$E502=""),"",$I502-$E502) | L502: =IF($A502="","",IF($J502="請求済み","",設定!$B$3-MAX($D502,$F502,$G502)))

Sheet 設定
A1: 管理表の基準
A3: 今日の日付 | B3: 46286
A5: 未請求として色を付ける日数 | B5: 14 | C5: ← 納品からこの日数を過ぎて未請求なら赤くする
A7: 番号は見積のときに1つ振って、受注・納品・請求まで同じものを使う。
A8: 書類ごとに番号を振り直すと、あとから1本の線でたどれなくなる。
