Workbook

Sheet 1_休日
A1: 休みの一覧。土日は式が自分で見るので入れていない。祝日は内閣府CSV（2016〜2027年）
A2: 役所と税の期限は12月29日〜1月3日、銀行は12月31日〜1月3日を足している。会社の休みで数えるなら黄色の行に足す
A3: 役所・税の休日 | B3: 名前 | C3: 曜日 | E3: 銀行の休日 | F3: 名前 | G3: 曜日 | I3: 祝日だけ（失敗例用） | J3: 名前 | K3: 曜日
A4: 42367 | B4: 年末年始 | C4: =IF(A4="","",TEXT(A4,"aaa")) | E4: 42369 | F4: 年末年始 | G4: =IF(E4="","",TEXT(E4,"aaa")) | I4: 42370 | J4: 元日 | K4: =IF(I4="","",TEXT(I4,"aaa"))
A5: 42368 | B5: 年末年始 | C5: =IF(A5="","",TEXT(A5,"aaa")) | E5: 42370 | F5: 元日 | G5: =IF(E5="","",TEXT(E5,"aaa")) | I5: 42380 | J5: 成人の日 | K5: =IF(I5="","",TEXT(I5,"aaa"))
A6: 42369 | B6: 年末年始 | C6: =IF(A6="","",TEXT(A6,"aaa")) | E6: 42371 | F6: 年末年始 | G6: =IF(E6="","",TEXT(E6,"aaa")) | I6: 42411 | J6: 建国記念の日 | K6: =IF(I6="","",TEXT(I6,"aaa"))
A7: 42370 | B7: 元日 | C7: =IF(A7="","",TEXT(A7,"aaa")) | E7: 42372 | F7: 年末年始 | G7: =IF(E7="","",TEXT(E7,"aaa")) | I7: 42449 | J7: 春分の日 | K7: =IF(I7="","",TEXT(I7,"aaa"))
A8: 42371 | B8: 年末年始 | C8: =IF(A8="","",TEXT(A8,"aaa")) | E8: 42380 | F8: 成人の日 | G8: =IF(E8="","",TEXT(E8,"aaa")) | I8: 42450 | J8: 休日 | K8: =IF(I8="","",TEXT(I8,"aaa"))
A9: 42372 | B9: 年末年始 | C9: =IF(A9="","",TEXT(A9,"aaa")) | E9: 42411 | F9: 建国記念の日 | G9: =IF(E9="","",TEXT(E9,"aaa")) | I9: 42489 | J9: 昭和の日 | K9: =IF(I9="","",TEXT(I9,"aaa"))
A10: 42380 | B10: 成人の日 | C10: =IF(A10="","",TEXT(A10,"aaa")) | E10: 42449 | F10: 春分の日 | G10: =IF(E10="","",TEXT(E10,"aaa")) | I10: 42493 | J10: 憲法記念日 | K10: =IF(I10="","",TEXT(I10,"aaa"))
A11: 42411 | B11: 建国記念の日 | C11: =IF(A11="","",TEXT(A11,"aaa")) | E11: 42450 | F11: 休日 | G11: =IF(E11="","",TEXT(E11,"aaa")) | I11: 42494 | J11: みどりの日 | K11: =IF(I11="","",TEXT(I11,"aaa"))
A12: 42449 | B12: 春分の日 | C12: =IF(A12="","",TEXT(A12,"aaa")) | E12: 42489 | F12: 昭和の日 | G12: =IF(E12="","",TEXT(E12,"aaa")) | I12: 42495 | J12: こどもの日 | K12: =IF(I12="","",TEXT(I12,"aaa"))
A13: 42450 | B13: 休日 | C13: =IF(A13="","",TEXT(A13,"aaa")) | E13: 42493 | F13: 憲法記念日 | G13: =IF(E13="","",TEXT(E13,"aaa")) | I13: 42569 | J13: 海の日 | K13: =IF(I13="","",TEXT(I13,"aaa"))
A14: 42489 | B14: 昭和の日 | C14: =IF(A14="","",TEXT(A14,"aaa")) | E14: 42494 | F14: みどりの日 | G14: =IF(E14="","",TEXT(E14,"aaa")) | I14: 42593 | J14: 山の日 | K14: =IF(I14="","",TEXT(I14,"aaa"))
A15: 42493 | B15: 憲法記念日 | C15: =IF(A15="","",TEXT(A15,"aaa")) | E15: 42495 | F15: こどもの日 | G15: =IF(E15="","",TEXT(E15,"aaa")) | I15: 42632 | J15: 敬老の日 | K15: =IF(I15="","",TEXT(I15,"aaa"))
... A222: 45736 | B222: 春分の日 | C222: =IF(A222="","",TEXT(A222,"aaa")) | E222: 46076 | F222: 天皇誕生日 | G222: =IF(E222="","",TEXT(E222,"aaa")) | I222: 46714 | J222: 勤労感謝の日 | K222: =IF(I222="","",TEXT(I222,"aaa"))
A223: 45776 | B223: 昭和の日 | C223: =IF(A223="","",TEXT(A223,"aaa")) | E223: 46101 | F223: 春分の日 | G223: =IF(E223="","",TEXT(E223,"aaa")) | K223: =IF(I223="","",TEXT(I223,"aaa"))
A224: 45780 | B224: 憲法記念日 | C224: =IF(A224="","",TEXT(A224,"aaa")) | E224: 46141 | F224: 昭和の日 | G224: =IF(E224="","",TEXT(E224,"aaa")) | K224: =IF(I224="","",TEXT(I224,"aaa"))
A225: 45781 | B225: みどりの日 | C225: =IF(A225="","",TEXT(A225,"aaa")) | E225: 46145 | F225: 憲法記念日 | G225: =IF(E225="","",TEXT(E225,"aaa")) | K225: =IF(I225="","",TEXT(I225,"aaa"))
A226: 45782 | B226: こどもの日 | C226: =IF(A226="","",TEXT(A226,"aaa")) | E226: 46146 | F226: みどりの日 | G226: =IF(E226="","",TEXT(E226,"aaa")) | K226: =IF(I226="","",TEXT(I226,"aaa"))
A227: 45783 | B227: 休日 | C227: =IF(A227="","",TEXT(A227,"aaa")) | E227: 46147 | F227: こどもの日 | G227: =IF(E227="","",TEXT(E227,"aaa")) | K227: =IF(I227="","",TEXT(I227,"aaa"))
A228: 45859 | B228: 海の日 | C228: =IF(A228="","",TEXT(A228,"aaa")) | E228: 46148 | F228: 休日 | G228: =IF(E228="","",TEXT(E228,"aaa")) | K228: =IF(I228="","",TEXT(I228,"aaa"))
A229: 45880 | B229: 山の日 | C229: =IF(A229="","",TEXT(A229,"aaa")) | E229: 46223 | F229: 海の日 | G229: =IF(E229="","",TEXT(E229,"aaa")) | K229: =IF(I229="","",TEXT(I229,"aaa"))
A230: 45915 | B230: 敬老の日 | C230: =IF(A230="","",TEXT(A230,"aaa")) | E230: 46245 | F230: 山の日 | G230: =IF(E230="","",TEXT(E230,"aaa")) | K230: =IF(I230="","",TEXT(I230,"aaa"))
A231: 45923 | B231: 秋分の日 | C231: =IF(A231="","",TEXT(A231,"aaa")) | E231: 46286 | F231: 敬老の日 | G231: =IF(E231="","",TEXT(E231,"aaa")) | K231: =IF(I231="","",TEXT(I231,"aaa"))
A232: 45943 | B232: スポーツの日 | C232: =IF(A232="","",TEXT(A232,"aaa")) | E232: 46287 | F232: 休日 | G232: =IF(E232="","",TEXT(E232,"aaa")) | K232: =IF(I232="","",TEXT(I232,"aaa"))
A233: 45964 | B233: 文化の日 | C233: =IF(A233="","",TEXT(A233,"aaa")) | E233: 46288 | F233: 秋分の日 | G233: =IF(E233="","",TEXT(E233,"aaa")) | K233: =IF(I233="","",TEXT(I233,"aaa"))
A234: 45984 | B234: 勤労感謝の日 | C234: =IF(A234="","",TEXT(A234,"aaa")) | E234: 46307 | F234: スポーツの日 | G234: =IF(E234="","",TEXT(E234,"aaa")) | K234: =IF(I234="","",TEXT(I234,"aaa"))
... A260: 46386 | B260: 年末年始 | C260: =IF(A260="","",TEXT(A260,"aaa")) | E260: 46755 | F260: 年末年始 | G260: =IF(E260="","",TEXT(E260,"aaa")) | K260: =IF(I260="","",TEXT(I260,"aaa"))
A261: 46387 | B261: 年末年始 | C261: =IF(A261="","",TEXT(A261,"aaa")) | G261: =IF(E261="","",TEXT(E261,"aaa")) | K261: =IF(I261="","",TEXT(I261,"aaa"))
A262: 46388 | B262: 元日 | C262: =IF(A262="","",TEXT(A262,"aaa")) | G262: =IF(E262="","",TEXT(E262,"aaa")) | K262: =IF(I262="","",TEXT(I262,"aaa"))
A263: 46389 | B263: 年末年始 | C263: =IF(A263="","",TEXT(A263,"aaa")) | G263: =IF(E263="","",TEXT(E263,"aaa")) | K263: =IF(I263="","",TEXT(I263,"aaa"))
A264: 46390 | B264: 年末年始 | C264: =IF(A264="","",TEXT(A264,"aaa")) | G264: =IF(E264="","",TEXT(E264,"aaa")) | K264: =IF(I264="","",TEXT(I264,"aaa"))
A265: 46398 | B265: 成人の日 | C265: =IF(A265="","",TEXT(A265,"aaa")) | G265: =IF(E265="","",TEXT(E265,"aaa")) | K265: =IF(I265="","",TEXT(I265,"aaa"))
A266: 46429 | B266: 建国記念の日 | C266: =IF(A266="","",TEXT(A266,"aaa")) | G266: =IF(E266="","",TEXT(E266,"aaa")) | K266: =IF(I266="","",TEXT(I266,"aaa"))
A267: 46441 | B267: 天皇誕生日 | C267: =IF(A267="","",TEXT(A267,"aaa")) | G267: =IF(E267="","",TEXT(E267,"aaa")) | K267: =IF(I267="","",TEXT(I267,"aaa"))
A268: 46467 | B268: 春分の日 | C268: =IF(A268="","",TEXT(A268,"aaa")) | G268: =IF(E268="","",TEXT(E268,"aaa")) | K268: =IF(I268="","",TEXT(I268,"aaa"))
A269: 46468 | B269: 休日 | C269: =IF(A269="","",TEXT(A269,"aaa")) | G269: =IF(E269="","",TEXT(E269,"aaa")) | K269: =IF(I269="","",TEXT(I269,"aaa"))
A270: 46506 | B270: 昭和の日 | C270: =IF(A270="","",TEXT(A270,"aaa")) | G270: =IF(E270="","",TEXT(E270,"aaa")) | K270: =IF(I270="","",TEXT(I270,"aaa"))
A271: 46510 | B271: 憲法記念日 | C271: =IF(A271="","",TEXT(A271,"aaa")) | G271: =IF(E271="","",TEXT(E271,"aaa")) | K271: =IF(I271="","",TEXT(I271,"aaa"))
A272: 46511 | B272: みどりの日 | C272: =IF(A272="","",TEXT(A272,"aaa")) | G272: =IF(E272="","",TEXT(E272,"aaa")) | K272: =IF(I272="","",TEXT(I272,"aaa"))
... A286: 46755 | B286: 年末年始 | C286: =IF(A286="","",TEXT(A286,"aaa")) | G286: =IF(E286="","",TEXT(E286,"aaa")) | K286: =IF(I286="","",TEXT(I286,"aaa"))
C287: =IF(A287="","",TEXT(A287,"aaa")) | G287: =IF(E287="","",TEXT(E287,"aaa")) | K287: =IF(I287="","",TEXT(I287,"aaa"))
C288: =IF(A288="","",TEXT(A288,"aaa")) | G288: =IF(E288="","",TEXT(E288,"aaa")) | K288: =IF(I288="","",TEXT(I288,"aaa"))
C289: =IF(A289="","",TEXT(A289,"aaa")) | G289: =IF(E289="","",TEXT(E289,"aaa")) | K289: =IF(I289="","",TEXT(I289,"aaa"))
C290: =IF(A290="","",TEXT(A290,"aaa")) | G290: =IF(E290="","",TEXT(E290,"aaa")) | K290: =IF(I290="","",TEXT(I290,"aaa"))
C291: =IF(A291="","",TEXT(A291,"aaa")) | G291: =IF(E291="","",TEXT(E291,"aaa")) | K291: =IF(I291="","",TEXT(I291,"aaa"))
C292: =IF(A292="","",TEXT(A292,"aaa")) | G292: =IF(E292="","",TEXT(E292,"aaa")) | K292: =IF(I292="","",TEXT(I292,"aaa"))
C293: =IF(A293="","",TEXT(A293,"aaa")) | G293: =IF(E293="","",TEXT(E293,"aaa")) | K293: =IF(I293="","",TEXT(I293,"aaa"))
C294: =IF(A294="","",TEXT(A294,"aaa")) | G294: =IF(E294="","",TEXT(E294,"aaa")) | K294: =IF(I294="","",TEXT(I294,"aaa"))
C295: =IF(A295="","",TEXT(A295,"aaa")) | G295: =IF(E295="","",TEXT(E295,"aaa")) | K295: =IF(I295="","",TEXT(I295,"aaa"))
C296: =IF(A296="","",TEXT(A296,"aaa")) | G296: =IF(E296="","",TEXT(E296,"aaa")) | K296: =IF(I296="","",TEXT(I296,"aaa"))
C297: =IF(A297="","",TEXT(A297,"aaa")) | G297: =IF(E297="","",TEXT(E297,"aaa")) | K297: =IF(I297="","",TEXT(I297,"aaa"))
C298: =IF(A298="","",TEXT(A298,"aaa")) | G298: =IF(E298="","",TEXT(E298,"aaa")) | K298: =IF(I298="","",TEXT(I298,"aaa"))
... C333: =IF(A333="","",TEXT(A333,"aaa")) | G333: =IF(E333="","",TEXT(E333,"aaa")) | K333: =IF(I333="","",TEXT(I333,"aaa"))

Sheet 2_年末年始
A1: 年末年始に役所と銀行が開く日と、その日が期限なら延びる先
A3: 年末の年 | C3: 2026 | D3: =IF(OR($C$3<2016,$C$3>2026),"祝日の一覧があるのは2016年末〜2026年末","")
A5: 日付 | B5: 曜日 | C5: 休みの名前 | D5: 役所 | E5: 銀行 | F5: 役所だけ休み | G5: 税の期限なら | H5: 延びる日数 | I5: 銀行の数え方なら | J5: 延びる日数 | L5: 集計 | N5: 値
A6: =DATE($C$3,12,20)+0 | B6: =TEXT(A6,"aaa") | C6: =IF(WEEKDAY(A6,2)>5,"",IFERROR(INDEX('1_休日'!$B$4:$B$333,MATCH(A6,'1_休日'!$A$4:$A$333,0)),"")) | D6: =IF(WORKDAY(A6-1,1,'1_休日'!$A$4:$A$333)=A6,"開庁","休み") | E6: =IF(WORKDAY(A6-1,1,'1_休日'!$E$4:$E$333)=A6,"営業","休み") | F6: =IF(AND(D6="休み",E6="営業"),"○","") | G6: =WORKDAY(A6-1,1,'1_休日'!$A$4:$A$333) | H6: =G6-A6 | I6: =WORKDAY(A6-1,1,'1_休日'!$E$4:$E$333) | J6: =I6-A6 | L6: 役所の最終開庁日 | N6: =WORKDAY(DATE($C$3,12,31)+1,-1,'1_休日'!$A$4:$A$333)
A7: =DATE($C$3,12,20)+1 | B7: =TEXT(A7,"aaa") | C7: =IF(WEEKDAY(A7,2)>5,"",IFERROR(INDEX('1_休日'!$B$4:$B$333,MATCH(A7,'1_休日'!$A$4:$A$333,0)),"")) | D7: =IF(WORKDAY(A7-1,1,'1_休日'!$A$4:$A$333)=A7,"開庁","休み") | E7: =IF(WORKDAY(A7-1,1,'1_休日'!$E$4:$E$333)=A7,"営業","休み") | F7: =IF(AND(D7="休み",E7="営業"),"○","") | G7: =WORKDAY(A7-1,1,'1_休日'!$A$4:$A$333) | H7: =G7-A7 | I7: =WORKDAY(A7-1,1,'1_休日'!$E$4:$E$333) | J7: =I7-A7 | L7: 役所の仕事始め | N7: =WORKDAY(DATE($C$3,12,31),1,'1_休日'!$A$4:$A$333)
A8: =DATE($C$3,12,20)+2 | B8: =TEXT(A8,"aaa") | C8: =IF(WEEKDAY(A8,2)>5,"",IFERROR(INDEX('1_休日'!$B$4:$B$333,MATCH(A8,'1_休日'!$A$4:$A$333,0)),"")) | D8: =IF(WORKDAY(A8-1,1,'1_休日'!$A$4:$A$333)=A8,"開庁","休み") | E8: =IF(WORKDAY(A8-1,1,'1_休日'!$E$4:$E$333)=A8,"営業","休み") | F8: =IF(AND(D8="休み",E8="営業"),"○","") | G8: =WORKDAY(A8-1,1,'1_休日'!$A$4:$A$333) | H8: =G8-A8 | I8: =WORKDAY(A8-1,1,'1_休日'!$E$4:$E$333) | J8: =I8-A8 | L8: 役所が続けて休む日数 | N8: =N7-N6-1
A9: =DATE($C$3,12,20)+3 | B9: =TEXT(A9,"aaa") | C9: =IF(WEEKDAY(A9,2)>5,"",IFERROR(INDEX('1_休日'!$B$4:$B$333,MATCH(A9,'1_休日'!$A$4:$A$333,0)),"")) | D9: =IF(WORKDAY(A9-1,1,'1_休日'!$A$4:$A$333)=A9,"開庁","休み") | E9: =IF(WORKDAY(A9-1,1,'1_休日'!$E$4:$E$333)=A9,"営業","休み") | F9: =IF(AND(D9="休み",E9="営業"),"○","") | G9: =WORKDAY(A9-1,1,'1_休日'!$A$4:$A$333) | H9: =G9-A9 | I9: =WORKDAY(A9-1,1,'1_休日'!$E$4:$E$333) | J9: =I9-A9 | L9: 銀行の最終営業日 | N9: =WORKDAY(DATE($C$3,12,31)+1,-1,'1_休日'!$E$4:$E$333)
A10: =DATE($C$3,12,20)+4 | B10: =TEXT(A10,"aaa") | C10: =IF(WEEKDAY(A10,2)>5,"",IFERROR(INDEX('1_休日'!$B$4:$B$333,MATCH(A10,'1_休日'!$A$4:$A$333,0)),"")) | D10: =IF(WORKDAY(A10-1,1,'1_休日'!$A$4:$A$333)=A10,"開庁","休み") | E10: =IF(WORKDAY(A10-1,1,'1_休日'!$E$4:$E$333)=A10,"営業","休み") | F10: =IF(AND(D10="休み",E10="営業"),"○","") | G10: =WORKDAY(A10-1,1,'1_休日'!$A$4:$A$333) | H10: =G10-A10 | I10: =WORKDAY(A10-1,1,'1_休日'!$E$4:$E$333) | J10: =I10-A10 | L10: 銀行の年始の初日 | N10: =WORKDAY(DATE($C$3,12,31),1,'1_休日'!$E$4:$E$333)
A11: =DATE($C$3,12,20)+5 | B11: =TEXT(A11,"aaa") | C11: =IF(WEEKDAY(A11,2)>5,"",IFERROR(INDEX('1_休日'!$B$4:$B$333,MATCH(A11,'1_休日'!$A$4:$A$333,0)),"")) | D11: =IF(WORKDAY(A11-1,1,'1_休日'!$A$4:$A$333)=A11,"開庁","休み") | E11: =IF(WORKDAY(A11-1,1,'1_休日'!$E$4:$E$333)=A11,"営業","休み") | F11: =IF(AND(D11="休み",E11="営業"),"○","") | G11: =WORKDAY(A11-1,1,'1_休日'!$A$4:$A$333) | H11: =G11-A11 | I11: =WORKDAY(A11-1,1,'1_休日'!$E$4:$E$333) | J11: =I11-A11 | L11: 銀行が続けて休む日数 | N11: =N10-N9-1
A12: =DATE($C$3,12,20)+6 | B12: =TEXT(A12,"aaa") | C12: =IF(WEEKDAY(A12,2)>5,"",IFERROR(INDEX('1_休日'!$B$4:$B$333,MATCH(A12,'1_休日'!$A$4:$A$333,0)),"")) | D12: =IF(WORKDAY(A12-1,1,'1_休日'!$A$4:$A$333)=A12,"開庁","休み") | E12: =IF(WORKDAY(A12-1,1,'1_休日'!$E$4:$E$333)=A12,"営業","休み") | F12: =IF(AND(D12="休み",E12="営業"),"○","") | G12: =WORKDAY(A12-1,1,'1_休日'!$A$4:$A$333) | H12: =G12-A12 | I12: =WORKDAY(A12-1,1,'1_休日'!$E$4:$E$333) | J12: =I12-A12 | L12: 役所は休みで銀行は開く日 | N12: =COUNTIF(F6:F32,"○")
A13: =DATE($C$3,12,20)+7 | B13: =TEXT(A13,"aaa") | C13: =IF(WEEKDAY(A13,2)>5,"",IFERROR(INDEX('1_休日'!$B$4:$B$333,MATCH(A13,'1_休日'!$A$4:$A$333,0)),"")) | D13: =IF(WORKDAY(A13-1,1,'1_休日'!$A$4:$A$333)=A13,"開庁","休み") | E13: =IF(WORKDAY(A13-1,1,'1_休日'!$E$4:$E$333)=A13,"営業","休み") | F13: =IF(AND(D13="休み",E13="営業"),"○","") | G13: =WORKDAY(A13-1,1,'1_休日'!$A$4:$A$333) | H13: =G13-A13 | I13: =WORKDAY(A13-1,1,'1_休日'!$E$4:$E$333) | J13: =I13-A13 | L13: 税の期限が一番延びる日数 | N13: =MAX(H6:H32)
A14: =DATE($C$3,12,20)+8 | B14: =TEXT(A14,"aaa") | C14: =IF(WEEKDAY(A14,2)>5,"",IFERROR(INDEX('1_休日'!$B$4:$B$333,MATCH(A14,'1_休日'!$A$4:$A$333,0)),"")) | D14: =IF(WORKDAY(A14-1,1,'1_休日'!$A$4:$A$333)=A14,"開庁","休み") | E14: =IF(WORKDAY(A14-1,1,'1_休日'!$E$4:$E$333)=A14,"営業","休み") | F14: =IF(AND(D14="休み",E14="営業"),"○","") | G14: =WORKDAY(A14-1,1,'1_休日'!$A$4:$A$333) | H14: =G14-A14 | I14: =WORKDAY(A14-1,1,'1_休日'!$E$4:$E$333) | J14: =I14-A14
A15: =DATE($C$3,12,20)+9 | B15: =TEXT(A15,"aaa") | C15: =IF(WEEKDAY(A15,2)>5,"",IFERROR(INDEX('1_休日'!$B$4:$B$333,MATCH(A15,'1_休日'!$A$4:$A$333,0)),"")) | D15: =IF(WORKDAY(A15-1,1,'1_休日'!$A$4:$A$333)=A15,"開庁","休み") | E15: =IF(WORKDAY(A15-1,1,'1_休日'!$E$4:$E$333)=A15,"営業","休み") | F15: =IF(AND(D15="休み",E15="営業"),"○","") | G15: =WORKDAY(A15-1,1,'1_休日'!$A$4:$A$333) | H15: =G15-A15 | I15: =WORKDAY(A15-1,1,'1_休日'!$E$4:$E$333) | J15: =I15-A15
A16: =DATE($C$3,12,20)+10 | B16: =TEXT(A16,"aaa") | C16: =IF(WEEKDAY(A16,2)>5,"",IFERROR(INDEX('1_休日'!$B$4:$B$333,MATCH(A16,'1_休日'!$A$4:$A$333,0)),"")) | D16: =IF(WORKDAY(A16-1,1,'1_休日'!$A$4:$A$333)=A16,"開庁","休み") | E16: =IF(WORKDAY(A16-1,1,'1_休日'!$E$4:$E$333)=A16,"営業","休み") | F16: =IF(AND(D16="休み",E16="営業"),"○","") | G16: =WORKDAY(A16-1,1,'1_休日'!$A$4:$A$333) | H16: =G16-A16 | I16: =WORKDAY(A16-1,1,'1_休日'!$E$4:$E$333) | J16: =I16-A16
A17: =DATE($C$3,12,20)+11 | B17: =TEXT(A17,"aaa") | C17: =IF(WEEKDAY(A17,2)>5,"",IFERROR(INDEX('1_休日'!$B$4:$B$333,MATCH(A17,'1_休日'!$A$4:$A$333,0)),"")) | D17: =IF(WORKDAY(A17-1,1,'1_休日'!$A$4:$A$333)=A17,"開庁","休み") | E17: =IF(WORKDAY(A17-1,1,'1_休日'!$E$4:$E$333)=A17,"営業","休み") | F17: =IF(AND(D17="休み",E17="営業"),"○","") | G17: =WORKDAY(A17-1,1,'1_休日'!$A$4:$A$333) | H17: =G17-A17 | I17: =WORKDAY(A17-1,1,'1_休日'!$E$4:$E$333) | J17: =I17-A17
A18: =DATE($C$3,12,20)+12 | B18: =TEXT(A18,"aaa") | C18: =IF(WEEKDAY(A18,2)>5,"",IFERROR(INDEX('1_休日'!$B$4:$B$333,MATCH(A18,'1_休日'!$A$4:$A$333,0)),"")) | D18: =IF(WORKDAY(A18-1,1,'1_休日'!$A$4:$A$333)=A18,"開庁","休み") | E18: =IF(WORKDAY(A18-1,1,'1_休日'!$E$4:$E$333)=A18,"営業","休み") | F18: =IF(AND(D18="休み",E18="営業"),"○","") | G18: =WORKDAY(A18-1,1,'1_休日'!$A$4:$A$333) | H18: =G18-A18 | I18: =WORKDAY(A18-1,1,'1_休日'!$E$4:$E$333) | J18: =I18-A18
A19: =DATE($C$3,12,20)+13 | B19: =TEXT(A19,"aaa") | C19: =IF(WEEKDAY(A19,2)>5,"",IFERROR(INDEX('1_休日'!$B$4:$B$333,MATCH(A19,'1_休日'!$A$4:$A$333,0)),"")) | D19: =IF(WORKDAY(A19-1,1,'1_休日'!$A$4:$A$333)=A19,"開庁","休み") | E19: =IF(WORKDAY(A19-1,1,'1_休日'!$E$4:$E$333)=A19,"営業","休み") | F19: =IF(AND(D19="休み",E19="営業"),"○","") | G19: =WORKDAY(A19-1,1,'1_休日'!$A$4:$A$333) | H19: =G19-A19 | I19: =WORKDAY(A19-1,1,'1_休日'!$E$4:$E$333) | J19: =I19-A19
A20: =DATE($C$3,12,20)+14 | B20: =TEXT(A20,"aaa") | C20: =IF(WEEKDAY(A20,2)>5,"",IFERROR(INDEX('1_休日'!$B$4:$B$333,MATCH(A20,'1_休日'!$A$4:$A$333,0)),"")) | D20: =IF(WORKDAY(A20-1,1,'1_休日'!$A$4:$A$333)=A20,"開庁","休み") | E20: =IF(WORKDAY(A20-1,1,'1_休日'!$E$4:$E$333)=A20,"営業","休み") | F20: =IF(AND(D20="休み",E20="営業"),"○","") | G20: =WORKDAY(A20-1,1,'1_休日'!$A$4:$A$333) | H20: =G20-A20 | I20: =WORKDAY(A20-1,1,'1_休日'!$E$4:$E$333) | J20: =I20-A20
A21: =DATE($C$3,12,20)+15 | B21: =TEXT(A21,"aaa") | C21: =IF(WEEKDAY(A21,2)>5,"",IFERROR(INDEX('1_休日'!$B$4:$B$333,MATCH(A21,'1_休日'!$A$4:$A$333,0)),"")) | D21: =IF(WORKDAY(A21-1,1,'1_休日'!$A$4:$A$333)=A21,"開庁","休み") | E21: =IF(WORKDAY(A21-1,1,'1_休日'!$E$4:$E$333)=A21,"営業","休み") | F21: =IF(AND(D21="休み",E21="営業"),"○","") | G21: =WORKDAY(A21-1,1,'1_休日'!$A$4:$A$333) | H21: =G21-A21 | I21: =WORKDAY(A21-1,1,'1_休日'!$E$4:$E$333) | J21: =I21-A21
A22: =DATE($C$3,12,20)+16 | B22: =TEXT(A22,"aaa") | C22: =IF(WEEKDAY(A22,2)>5,"",IFERROR(INDEX('1_休日'!$B$4:$B$333,MATCH(A22,'1_休日'!$A$4:$A$333,0)),"")) | D22: =IF(WORKDAY(A22-1,1,'1_休日'!$A$4:$A$333)=A22,"開庁","休み") | E22: =IF(WORKDAY(A22-1,1,'1_休日'!$E$4:$E$333)=A22,"営業","休み") | F22: =IF(AND(D22="休み",E22="営業"),"○","") | G22: =WORKDAY(A22-1,1,'1_休日'!$A$4:$A$333) | H22: =G22-A22 | I22: =WORKDAY(A22-1,1,'1_休日'!$E$4:$E$333) | J22: =I22-A22
A23: =DATE($C$3,12,20)+17 | B23: =TEXT(A23,"aaa") | C23: =IF(WEEKDAY(A23,2)>5,"",IFERROR(INDEX('1_休日'!$B$4:$B$333,MATCH(A23,'1_休日'!$A$4:$A$333,0)),"")) | D23: =IF(WORKDAY(A23-1,1,'1_休日'!$A$4:$A$333)=A23,"開庁","休み") | E23: =IF(WORKDAY(A23-1,1,'1_休日'!$E$4:$E$333)=A23,"営業","休み") | F23: =IF(AND(D23="休み",E23="営業"),"○","") | G23: =WORKDAY(A23-1,1,'1_休日'!$A$4:$A$333) | H23: =G23-A23 | I23: =WORKDAY(A23-1,1,'1_休日'!$E$4:$E$333) | J23: =I23-A23
A24: =DATE($C$3,12,20)+18 | B24: =TEXT(A24,"aaa") | C24: =IF(WEEKDAY(A24,2)>5,"",IFERROR(INDEX('1_休日'!$B$4:$B$333,MATCH(A24,'1_休日'!$A$4:$A$333,0)),"")) | D24: =IF(WORKDAY(A24-1,1,'1_休日'!$A$4:$A$333)=A24,"開庁","休み") | E24: =IF(WORKDAY(A24-1,1,'1_休日'!$E$4:$E$333)=A24,"営業","休み") | F24: =IF(AND(D24="休み",E24="営業"),"○","") | G24: =WORKDAY(A24-1,1,'1_休日'!$A$4:$A$333) | H24: =G24-A24 | I24: =WORKDAY(A24-1,1,'1_休日'!$E$4:$E$333) | J24: =I24-A24
A25: =DATE($C$3,12,20)+19 | B25: =TEXT(A25,"aaa") | C25: =IF(WEEKDAY(A25,2)>5,"",IFERROR(INDEX('1_休日'!$B$4:$B$333,MATCH(A25,'1_休日'!$A$4:$A$333,0)),"")) | D25: =IF(WORKDAY(A25-1,1,'1_休日'!$A$4:$A$333)=A25,"開庁","休み") | E25: =IF(WORKDAY(A25-1,1,'1_休日'!$E$4:$E$333)=A25,"営業","休み") | F25: =IF(AND(D25="休み",E25="営業"),"○","") | G25: =WORKDAY(A25-1,1,'1_休日'!$A$4:$A$333) | H25: =G25-A25 | I25: =WORKDAY(A25-1,1,'1_休日'!$E$4:$E$333) | J25: =I25-A25
A26: =DATE($C$3,12,20)+20 | B26: =TEXT(A26,"aaa") | C26: =IF(WEEKDAY(A26,2)>5,"",IFERROR(INDEX('1_休日'!$B$4:$B$333,MATCH(A26,'1_休日'!$A$4:$A$333,0)),"")) | D26: =IF(WORKDAY(A26-1,1,'1_休日'!$A$4:$A$333)=A26,"開庁","休み") | E26: =IF(WORKDAY(A26-1,1,'1_休日'!$E$4:$E$333)=A26,"営業","休み") | F26: =IF(AND(D26="休み",E26="営業"),"○","") | G26: =WORKDAY(A26-1,1,'1_休日'!$A$4:$A$333) | H26: =G26-A26 | I26: =WORKDAY(A26-1,1,'1_休日'!$E$4:$E$333) | J26: =I26-A26
A27: =DATE($C$3,12,20)+21 | B27: =TEXT(A27,"aaa") | C27: =IF(WEEKDAY(A27,2)>5,"",IFERROR(INDEX('1_休日'!$B$4:$B$333,MATCH(A27,'1_休日'!$A$4:$A$333,0)),"")) | D27: =IF(WORKDAY(A27-1,1,'1_休日'!$A$4:$A$333)=A27,"開庁","休み") | E27: =IF(WORKDAY(A27-1,1,'1_休日'!$E$4:$E$333)=A27,"営業","休み") | F27: =IF(AND(D27="休み",E27="営業"),"○","") | G27: =WORKDAY(A27-1,1,'1_休日'!$A$4:$A$333) | H27: =G27-A27 | I27: =WORKDAY(A27-1,1,'1_休日'!$E$4:$E$333) | J27: =I27-A27
A28: =DATE($C$3,12,20)+22 | B28: =TEXT(A28,"aaa") | C28: =IF(WEEKDAY(A28,2)>5,"",IFERROR(INDEX('1_休日'!$B$4:$B$333,MATCH(A28,'1_休日'!$A$4:$A$333,0)),"")) | D28: =IF(WORKDAY(A28-1,1,'1_休日'!$A$4:$A$333)=A28,"開庁","休み") | E28: =IF(WORKDAY(A28-1,1,'1_休日'!$E$4:$E$333)=A28,"営業","休み") | F28: =IF(AND(D28="休み",E28="営業"),"○","") | G28: =WORKDAY(A28-1,1,'1_休日'!$A$4:$A$333) | H28: =G28-A28 | I28: =WORKDAY(A28-1,1,'1_休日'!$E$4:$E$333) | J28: =I28-A28
A29: =DATE($C$3,12,20)+23 | B29: =TEXT(A29,"aaa") | C29: =IF(WEEKDAY(A29,2)>5,"",IFERROR(INDEX('1_休日'!$B$4:$B$333,MATCH(A29,'1_休日'!$A$4:$A$333,0)),"")) | D29: =IF(WORKDAY(A29-1,1,'1_休日'!$A$4:$A$333)=A29,"開庁","休み") | E29: =IF(WORKDAY(A29-1,1,'1_休日'!$E$4:$E$333)=A29,"営業","休み") | F29: =IF(AND(D29="休み",E29="営業"),"○","") | G29: =WORKDAY(A29-1,1,'1_休日'!$A$4:$A$333) | H29: =G29-A29 | I29: =WORKDAY(A29-1,1,'1_休日'!$E$4:$E$333) | J29: =I29-A29
A30: =DATE($C$3,12,20)+24 | B30: =TEXT(A30,"aaa") | C30: =IF(WEEKDAY(A30,2)>5,"",IFERROR(INDEX('1_休日'!$B$4:$B$333,MATCH(A30,'1_休日'!$A$4:$A$333,0)),"")) | D30: =IF(WORKDAY(A30-1,1,'1_休日'!$A$4:$A$333)=A30,"開庁","休み") | E30: =IF(WORKDAY(A30-1,1,'1_休日'!$E$4:$E$333)=A30,"営業","休み") | F30: =IF(AND(D30="休み",E30="営業"),"○","") | G30: =WORKDAY(A30-1,1,'1_休日'!$A$4:$A$333) | H30: =G30-A30 | I30: =WORKDAY(A30-1,1,'1_休日'!$E$4:$E$333) | J30: =I30-A30
A31: =DATE($C$3,12,20)+25 | B31: =TEXT(A31,"aaa") | C31: =IF(WEEKDAY(A31,2)>5,"",IFERROR(INDEX('1_休日'!$B$4:$B$333,MATCH(A31,'1_休日'!$A$4:$A$333,0)),"")) | D31: =IF(WORKDAY(A31-1,1,'1_休日'!$A$4:$A$333)=A31,"開庁","休み") | E31: =IF(WORKDAY(A31-1,1,'1_休日'!$E$4:$E$333)=A31,"営業","休み") | F31: =IF(AND(D31="休み",E31="営業"),"○","") | G31: =WORKDAY(A31-1,1,'1_休日'!$A$4:$A$333) | H31: =G31-A31 | I31: =WORKDAY(A31-1,1,'1_休日'!$E$4:$E$333) | J31: =I31-A31
A32: =DATE($C$3,12,20)+26 | B32: =TEXT(A32,"aaa") | C32: =IF(WEEKDAY(A32,2)>5,"",IFERROR(INDEX('1_休日'!$B$4:$B$333,MATCH(A32,'1_休日'!$A$4:$A$333,0)),"")) | D32: =IF(WORKDAY(A32-1,1,'1_休日'!$A$4:$A$333)=A32,"開庁","休み") | E32: =IF(WORKDAY(A32-1,1,'1_休日'!$E$4:$E$333)=A32,"営業","休み") | F32: =IF(AND(D32="休み",E32="営業"),"○","") | G32: =WORKDAY(A32-1,1,'1_休日'!$A$4:$A$333) | H32: =G32-A32 | I32: =WORKDAY(A32-1,1,'1_休日'!$E$4:$E$333) | J32: =I32-A32
A34: 役所は行政機関の休日に関する法律第1条で、土日・祝日・12月29日〜1月3日が休み。
A35: 銀行は銀行法施行令第5条で、土曜・祝日・12月31日〜1月3日が休み（日曜は銀行法第15条）。
A36: 税の期限は国税通則法第10条第2項と同法施行令第2条第2項で、土日・祝日・12月29日〜31日・1月2日と3日に当たると翌日に延びる。
A37: 1月2日と3日は国税庁の国税通則法基本通達（第10条関係4）で「一般の休日」とされている。地方税は地方税法第20条の5と同法施行令第6条の18で、土曜・12月29日〜31日と民法第142条の休日。1月2日と3日は政令に書かれていない。
A38: G列とI列は、その日が期限だったときに実際に期限になる日。延びないならその日のまま。

Sheet 3_期限
A1: 期限が年末年始や土日祝に当たったときの、実際の期限（2026年末〜2027年始の例）
A2: 黄色の欄を書き換えれば、ほかの期限も出せる。数え方は「税」か「銀行」を選ぶ
A3: 公表値がある行は、日本年金機構の「発送日と納付期限」の表（令和8年度下期、2026年10月6日確認）の日付
A5: 期限の中身 | B5: 決まり | C5: 本来の期限 | D5: 数え方 | E5: 実際の期限 | F5: 曜日 | G5: 延びた日数 | H5: 公表値 | I5: 照合 | J5: 失敗例1 祝日だけで数える | K5: 失敗例2 WORKDAY(期限,1)
A6: 10月決算の法人税・消費税の申告と納付 | B6: 法人税法第74条 2か月以内 | C6: 46387 | D6: 税 | E6: =IF(C6="","",IF(D6="銀行",WORKDAY(C6-1,1,'1_休日'!$E$4:$E$333),WORKDAY(C6-1,1,'1_休日'!$A$4:$A$333))) | F6: =IF(C6="","",TEXT(E6,"aaa")) | G6: =IF(C6="","",E6-C6) | I6: =IF(H6="","",IF(H6=E6,"一致","違う")) | J6: =IF(C6="","",WORKDAY(C6-1,1,'1_休日'!$I$4:$I$333)) | K6: =IF(C6="","",WORKDAY(C6,1,'1_休日'!$A$4:$A$333))
A7: 4月決算の法人税の中間申告 | B7: 法人税法第71条 6か月経過日から2か月以内 | C7: 46387 | D7: 税 | E7: =IF(C7="","",IF(D7="銀行",WORKDAY(C7-1,1,'1_休日'!$E$4:$E$333),WORKDAY(C7-1,1,'1_休日'!$A$4:$A$333))) | F7: =IF(C7="","",TEXT(E7,"aaa")) | G7: =IF(C7="","",E7-C7) | I7: =IF(H7="","",IF(H7=E7,"一致","違う")) | J7: =IF(C7="","",WORKDAY(C7-1,1,'1_休日'!$I$4:$I$333)) | K7: =IF(C7="","",WORKDAY(C7,1,'1_休日'!$A$4:$A$333))
A8: 11月分の健康保険・厚生年金保険料 | B8: 翌月末日 | C8: 46387 | D8: 銀行 | E8: =IF(C8="","",IF(D8="銀行",WORKDAY(C8-1,1,'1_休日'!$E$4:$E$333),WORKDAY(C8-1,1,'1_休日'!$A$4:$A$333))) | F8: =IF(C8="","",TEXT(E8,"aaa")) | G8: =IF(C8="","",E8-C8) | H8: 46391 | I8: =IF(H8="","",IF(H8=E8,"一致","違う")) | J8: =IF(C8="","",WORKDAY(C8-1,1,'1_休日'!$I$4:$I$333)) | K8: =IF(C8="","",WORKDAY(C8,1,'1_休日'!$A$4:$A$333))
A9: 12月分の源泉所得税（毎月納付） | B9: 所得税法第183条 翌月10日 | C9: 46397 | D9: 税 | E9: =IF(C9="","",IF(D9="銀行",WORKDAY(C9-1,1,'1_休日'!$E$4:$E$333),WORKDAY(C9-1,1,'1_休日'!$A$4:$A$333))) | F9: =IF(C9="","",TEXT(E9,"aaa")) | G9: =IF(C9="","",E9-C9) | I9: =IF(H9="","",IF(H9=E9,"一致","違う")) | J9: =IF(C9="","",WORKDAY(C9-1,1,'1_休日'!$I$4:$I$333)) | K9: =IF(C9="","",WORKDAY(C9,1,'1_休日'!$A$4:$A$333))
A10: 12月分の住民税（特別徴収） | B10: 地方税法第321条の5 翌月10日 | C10: 46397 | D10: 税 | E10: =IF(C10="","",IF(D10="銀行",WORKDAY(C10-1,1,'1_休日'!$E$4:$E$333),WORKDAY(C10-1,1,'1_休日'!$A$4:$A$333))) | F10: =IF(C10="","",TEXT(E10,"aaa")) | G10: =IF(C10="","",E10-C10) | I10: =IF(H10="","",IF(H10=E10,"一致","違う")) | J10: =IF(C10="","",WORKDAY(C10-1,1,'1_休日'!$I$4:$I$333)) | K10: =IF(C10="","",WORKDAY(C10,1,'1_休日'!$A$4:$A$333))
A11: 7〜12月分の源泉所得税（納期の特例） | B11: 所得税法第216条 1月20日 | C11: 46407 | D11: 税 | E11: =IF(C11="","",IF(D11="銀行",WORKDAY(C11-1,1,'1_休日'!$E$4:$E$333),WORKDAY(C11-1,1,'1_休日'!$A$4:$A$333))) | F11: =IF(C11="","",TEXT(E11,"aaa")) | G11: =IF(C11="","",E11-C11) | I11: =IF(H11="","",IF(H11=E11,"一致","違う")) | J11: =IF(C11="","",WORKDAY(C11-1,1,'1_休日'!$I$4:$I$333)) | K11: =IF(C11="","",WORKDAY(C11,1,'1_休日'!$A$4:$A$333))
A12: 源泉徴収票・法定調書の提出 | B12: 所得税法第226条ほか 1月31日 | C12: 46418 | D12: 税 | E12: =IF(C12="","",IF(D12="銀行",WORKDAY(C12-1,1,'1_休日'!$E$4:$E$333),WORKDAY(C12-1,1,'1_休日'!$A$4:$A$333))) | F12: =IF(C12="","",TEXT(E12,"aaa")) | G12: =IF(C12="","",E12-C12) | I12: =IF(H12="","",IF(H12=E12,"一致","違う")) | J12: =IF(C12="","",WORKDAY(C12-1,1,'1_休日'!$I$4:$I$333)) | K12: =IF(C12="","",WORKDAY(C12,1,'1_休日'!$A$4:$A$333))
A13: 給与支払報告書の提出 | B13: 地方税法第317条の6 1月31日 | C13: 46418 | D13: 税 | E13: =IF(C13="","",IF(D13="銀行",WORKDAY(C13-1,1,'1_休日'!$E$4:$E$333),WORKDAY(C13-1,1,'1_休日'!$A$4:$A$333))) | F13: =IF(C13="","",TEXT(E13,"aaa")) | G13: =IF(C13="","",E13-C13) | I13: =IF(H13="","",IF(H13=E13,"一致","違う")) | J13: =IF(C13="","",WORKDAY(C13-1,1,'1_休日'!$I$4:$I$333)) | K13: =IF(C13="","",WORKDAY(C13,1,'1_休日'!$A$4:$A$333))
A14: 12月分の健康保険・厚生年金保険料 | B14: 翌月末日 | C14: 46418 | D14: 銀行 | E14: =IF(C14="","",IF(D14="銀行",WORKDAY(C14-1,1,'1_休日'!$E$4:$E$333),WORKDAY(C14-1,1,'1_休日'!$A$4:$A$333))) | F14: =IF(C14="","",TEXT(E14,"aaa")) | G14: =IF(C14="","",E14-C14) | H14: 46419 | I14: =IF(H14="","",IF(H14=E14,"一致","違う")) | J14: =IF(C14="","",WORKDAY(C14-1,1,'1_休日'!$I$4:$I$333)) | K14: =IF(C14="","",WORKDAY(C14,1,'1_休日'!$A$4:$A$333))
A15: 9月分の健康保険・厚生年金保険料 | B15: 翌月末日 | C15: 46326 | D15: 銀行 | E15: =IF(C15="","",IF(D15="銀行",WORKDAY(C15-1,1,'1_休日'!$E$4:$E$333),WORKDAY(C15-1,1,'1_休日'!$A$4:$A$333))) | F15: =IF(C15="","",TEXT(E15,"aaa")) | G15: =IF(C15="","",E15-C15) | H15: 46328 | I15: =IF(H15="","",IF(H15=E15,"一致","違う")) | J15: =IF(C15="","",WORKDAY(C15-1,1,'1_休日'!$I$4:$I$333)) | K15: =IF(C15="","",WORKDAY(C15,1,'1_休日'!$A$4:$A$333))
A16: 10月分の健康保険・厚生年金保険料 | B16: 翌月末日 | C16: 46356 | D16: 銀行 | E16: =IF(C16="","",IF(D16="銀行",WORKDAY(C16-1,1,'1_休日'!$E$4:$E$333),WORKDAY(C16-1,1,'1_休日'!$A$4:$A$333))) | F16: =IF(C16="","",TEXT(E16,"aaa")) | G16: =IF(C16="","",E16-C16) | H16: 46356 | I16: =IF(H16="","",IF(H16=E16,"一致","違う")) | J16: =IF(C16="","",WORKDAY(C16-1,1,'1_休日'!$I$4:$I$333)) | K16: =IF(C16="","",WORKDAY(C16,1,'1_休日'!$A$4:$A$333))
A17: 1月分の健康保険・厚生年金保険料 | B17: 翌月末日 | C17: 46446 | D17: 銀行 | E17: =IF(C17="","",IF(D17="銀行",WORKDAY(C17-1,1,'1_休日'!$E$4:$E$333),WORKDAY(C17-1,1,'1_休日'!$A$4:$A$333))) | F17: =IF(C17="","",TEXT(E17,"aaa")) | G17: =IF(C17="","",E17-C17) | H17: 46447 | I17: =IF(H17="","",IF(H17=E17,"一致","違う")) | J17: =IF(C17="","",WORKDAY(C17-1,1,'1_休日'!$I$4:$I$333)) | K17: =IF(C17="","",WORKDAY(C17,1,'1_休日'!$A$4:$A$333))
A18: 2月分の健康保険・厚生年金保険料 | B18: 翌月末日 | C18: 46477 | D18: 銀行 | E18: =IF(C18="","",IF(D18="銀行",WORKDAY(C18-1,1,'1_休日'!$E$4:$E$333),WORKDAY(C18-1,1,'1_休日'!$A$4:$A$333))) | F18: =IF(C18="","",TEXT(E18,"aaa")) | G18: =IF(C18="","",E18-C18) | H18: 46477 | I18: =IF(H18="","",IF(H18=E18,"一致","違う")) | J18: =IF(C18="","",WORKDAY(C18-1,1,'1_休日'!$I$4:$I$333)) | K18: =IF(C18="","",WORKDAY(C18,1,'1_休日'!$A$4:$A$333))
A19: 12月29日が期限だったら | C19: 46385 | D19: 税 | E19: =IF(C19="","",IF(D19="銀行",WORKDAY(C19-1,1,'1_休日'!$E$4:$E$333),WORKDAY(C19-1,1,'1_休日'!$A$4:$A$333))) | F19: =IF(C19="","",TEXT(E19,"aaa")) | G19: =IF(C19="","",E19-C19) | I19: =IF(H19="","",IF(H19=E19,"一致","違う")) | J19: =IF(C19="","",WORKDAY(C19-1,1,'1_休日'!$I$4:$I$333)) | K19: =IF(C19="","",WORKDAY(C19,1,'1_休日'!$A$4:$A$333))
A20: 12月30日が期限だったら（銀行は開いている） | C20: 46386 | D20: 税 | E20: =IF(C20="","",IF(D20="銀行",WORKDAY(C20-1,1,'1_休日'!$E$4:$E$333),WORKDAY(C20-1,1,'1_休日'!$A$4:$A$333))) | F20: =IF(C20="","",TEXT(E20,"aaa")) | G20: =IF(C20="","",E20-C20) | I20: =IF(H20="","",IF(H20=E20,"一致","違う")) | J20: =IF(C20="","",WORKDAY(C20-1,1,'1_休日'!$I$4:$I$333)) | K20: =IF(C20="","",WORKDAY(C20,1,'1_休日'!$A$4:$A$333))
E21: =IF(C21="","",IF(D21="銀行",WORKDAY(C21-1,1,'1_休日'!$E$4:$E$333),WORKDAY(C21-1,1,'1_休日'!$A$4:$A$333))) | F21: =IF(C21="","",TEXT(E21,"aaa")) | G21: =IF(C21="","",E21-C21) | I21: =IF(H21="","",IF(H21=E21,"一致","違う")) | J21: =IF(C21="","",WORKDAY(C21-1,1,'1_休日'!$I$4:$I$333)) | K21: =IF(C21="","",WORKDAY(C21,1,'1_休日'!$A$4:$A$333))
E22: =IF(C22="","",IF(D22="銀行",WORKDAY(C22-1,1,'1_休日'!$E$4:$E$333),WORKDAY(C22-1,1,'1_休日'!$A$4:$A$333))) | F22: =IF(C22="","",TEXT(E22,"aaa")) | G22: =IF(C22="","",E22-C22) | I22: =IF(H22="","",IF(H22=E22,"一致","違う")) | J22: =IF(C22="","",WORKDAY(C22-1,1,'1_休日'!$I$4:$I$333)) | K22: =IF(C22="","",WORKDAY(C22,1,'1_休日'!$A$4:$A$333))
E23: =IF(C23="","",IF(D23="銀行",WORKDAY(C23-1,1,'1_休日'!$E$4:$E$333),WORKDAY(C23-1,1,'1_休日'!$A$4:$A$333))) | F23: =IF(C23="","",TEXT(E23,"aaa")) | G23: =IF(C23="","",E23-C23) | I23: =IF(H23="","",IF(H23=E23,"一致","違う")) | J23: =IF(C23="","",WORKDAY(C23-1,1,'1_休日'!$I$4:$I$333)) | K23: =IF(C23="","",WORKDAY(C23,1,'1_休日'!$A$4:$A$333))
E24: =IF(C24="","",IF(D24="銀行",WORKDAY(C24-1,1,'1_休日'!$E$4:$E$333),WORKDAY(C24-1,1,'1_休日'!$A$4:$A$333))) | F24: =IF(C24="","",TEXT(E24,"aaa")) | G24: =IF(C24="","",E24-C24) | I24: =IF(H24="","",IF(H24=E24,"一致","違う")) | J24: =IF(C24="","",WORKDAY(C24-1,1,'1_休日'!$I$4:$I$333)) | K24: =IF(C24="","",WORKDAY(C24,1,'1_休日'!$A$4:$A$333))
E25: =IF(C25="","",IF(D25="銀行",WORKDAY(C25-1,1,'1_休日'!$E$4:$E$333),WORKDAY(C25-1,1,'1_休日'!$A$4:$A$333))) | F25: =IF(C25="","",TEXT(E25,"aaa")) | G25: =IF(C25="","",E25-C25) | I25: =IF(H25="","",IF(H25=E25,"一致","違う")) | J25: =IF(C25="","",WORKDAY(C25-1,1,'1_休日'!$I$4:$I$333)) | K25: =IF(C25="","",WORKDAY(C25,1,'1_休日'!$A$4:$A$333))
A27: 公表値と照らした行 | C27: =COUNT(H6:H25)
A28: そのうち一致 | C28: =COUNTIF(I6:I25,"一致")
A29: 延びた期限 | C29: =COUNTIF(G6:G25,">0")
A30: 失敗例1で日付が違う行 | C30: =SUMPRODUCT((C6:C25<>"")*(J6:J25<>E6:E25))
A31: 失敗例2で日付が違う行 | C31: =SUMPRODUCT((C6:C25<>"")*(K6:K25<>E6:E25))
A33: 失敗例1は休日の一覧に祝日しか入れていない。12月31日や12月29日を開いている日と数えてしまう。
A34: 失敗例2は WORKDAY(期限,1)。期限が平日でも1日先へ動かしてしまう。正しくは E列のように 期限-1 から1日進める。
A35: 数え方「税」は役所・税の休日（12月29日〜1月3日）、「銀行」は銀行の休日（12月31日〜1月3日）を使う。

Sheet 4_年ごと
A1: 2016年末から2026年末までの、役所と銀行の最終日と年始の初日
A3: 年末の年 | B3: 役所の最終開庁日 | C3: 曜日 | D3: 仕事始め | E3: 曜日 | F3: 役所の休み（日） | G3: 銀行の最終営業日 | H3: 曜日 | I3: 銀行の初日 | J3: 銀行の休み（日） | K3: 役所は休みで銀行は開く日 | L3: 税の期限が一番延びる日数
A4: 2016 | B4: =WORKDAY(DATE(A4,12,31)+1,-1,'1_休日'!$A$4:$A$333) | C4: =TEXT(B4,"aaa") | D4: =WORKDAY(DATE(A4,12,31),1,'1_休日'!$A$4:$A$333) | E4: =TEXT(D4,"aaa") | F4: =D4-B4-1 | G4: =WORKDAY(DATE(A4,12,31)+1,-1,'1_休日'!$E$4:$E$333) | H4: =TEXT(G4,"aaa") | I4: =WORKDAY(DATE(A4,12,31),1,'1_休日'!$E$4:$E$333) | J4: =I4-G4-1 | K4: =NETWORKDAYS(B4+1,D4-1,'1_休日'!$E$4:$E$333) | L4: =D4-(B4+1)
A5: 2017 | B5: =WORKDAY(DATE(A5,12,31)+1,-1,'1_休日'!$A$4:$A$333) | C5: =TEXT(B5,"aaa") | D5: =WORKDAY(DATE(A5,12,31),1,'1_休日'!$A$4:$A$333) | E5: =TEXT(D5,"aaa") | F5: =D5-B5-1 | G5: =WORKDAY(DATE(A5,12,31)+1,-1,'1_休日'!$E$4:$E$333) | H5: =TEXT(G5,"aaa") | I5: =WORKDAY(DATE(A5,12,31),1,'1_休日'!$E$4:$E$333) | J5: =I5-G5-1 | K5: =NETWORKDAYS(B5+1,D5-1,'1_休日'!$E$4:$E$333) | L5: =D5-(B5+1)
A6: 2018 | B6: =WORKDAY(DATE(A6,12,31)+1,-1,'1_休日'!$A$4:$A$333) | C6: =TEXT(B6,"aaa") | D6: =WORKDAY(DATE(A6,12,31),1,'1_休日'!$A$4:$A$333) | E6: =TEXT(D6,"aaa") | F6: =D6-B6-1 | G6: =WORKDAY(DATE(A6,12,31)+1,-1,'1_休日'!$E$4:$E$333) | H6: =TEXT(G6,"aaa") | I6: =WORKDAY(DATE(A6,12,31),1,'1_休日'!$E$4:$E$333) | J6: =I6-G6-1 | K6: =NETWORKDAYS(B6+1,D6-1,'1_休日'!$E$4:$E$333) | L6: =D6-(B6+1)
A7: 2019 | B7: =WORKDAY(DATE(A7,12,31)+1,-1,'1_休日'!$A$4:$A$333) | C7: =TEXT(B7,"aaa") | D7: =WORKDAY(DATE(A7,12,31),1,'1_休日'!$A$4:$A$333) | E7: =TEXT(D7,"aaa") | F7: =D7-B7-1 | G7: =WORKDAY(DATE(A7,12,31)+1,-1,'1_休日'!$E$4:$E$333) | H7: =TEXT(G7,"aaa") | I7: =WORKDAY(DATE(A7,12,31),1,'1_休日'!$E$4:$E$333) | J7: =I7-G7-1 | K7: =NETWORKDAYS(B7+1,D7-1,'1_休日'!$E$4:$E$333) | L7: =D7-(B7+1)
A8: 2020 | B8: =WORKDAY(DATE(A8,12,31)+1,-1,'1_休日'!$A$4:$A$333) | C8: =TEXT(B8,"aaa") | D8: =WORKDAY(DATE(A8,12,31),1,'1_休日'!$A$4:$A$333) | E8: =TEXT(D8,"aaa") | F8: =D8-B8-1 | G8: =WORKDAY(DATE(A8,12,31)+1,-1,'1_休日'!$E$4:$E$333) | H8: =TEXT(G8,"aaa") | I8: =WORKDAY(DATE(A8,12,31),1,'1_休日'!$E$4:$E$333) | J8: =I8-G8-1 | K8: =NETWORKDAYS(B8+1,D8-1,'1_休日'!$E$4:$E$333) | L8: =D8-(B8+1)
A9: 2021 | B9: =WORKDAY(DATE(A9,12,31)+1,-1,'1_休日'!$A$4:$A$333) | C9: =TEXT(B9,"aaa") | D9: =WORKDAY(DATE(A9,12,31),1,'1_休日'!$A$4:$A$333) | E9: =TEXT(D9,"aaa") | F9: =D9-B9-1 | G9: =WORKDAY(DATE(A9,12,31)+1,-1,'1_休日'!$E$4:$E$333) | H9: =TEXT(G9,"aaa") | I9: =WORKDAY(DATE(A9,12,31),1,'1_休日'!$E$4:$E$333) | J9: =I9-G9-1 | K9: =NETWORKDAYS(B9+1,D9-1,'1_休日'!$E$4:$E$333) | L9: =D9-(B9+1)
A10: 2022 | B10: =WORKDAY(DATE(A10,12,31)+1,-1,'1_休日'!$A$4:$A$333) | C10: =TEXT(B10,"aaa") | D10: =WORKDAY(DATE(A10,12,31),1,'1_休日'!$A$4:$A$333) | E10: =TEXT(D10,"aaa") | F10: =D10-B10-1 | G10: =WORKDAY(DATE(A10,12,31)+1,-1,'1_休日'!$E$4:$E$333) | H10: =TEXT(G10,"aaa") | I10: =WORKDAY(DATE(A10,12,31),1,'1_休日'!$E$4:$E$333) | J10: =I10-G10-1 | K10: =NETWORKDAYS(B10+1,D10-1,'1_休日'!$E$4:$E$333) | L10: =D10-(B10+1)
A11: 2023 | B11: =WORKDAY(DATE(A11,12,31)+1,-1,'1_休日'!$A$4:$A$333) | C11: =TEXT(B11,"aaa") | D11: =WORKDAY(DATE(A11,12,31),1,'1_休日'!$A$4:$A$333) | E11: =TEXT(D11,"aaa") | F11: =D11-B11-1 | G11: =WORKDAY(DATE(A11,12,31)+1,-1,'1_休日'!$E$4:$E$333) | H11: =TEXT(G11,"aaa") | I11: =WORKDAY(DATE(A11,12,31),1,'1_休日'!$E$4:$E$333) | J11: =I11-G11-1 | K11: =NETWORKDAYS(B11+1,D11-1,'1_休日'!$E$4:$E$333) | L11: =D11-(B11+1)
A12: 2024 | B12: =WORKDAY(DATE(A12,12,31)+1,-1,'1_休日'!$A$4:$A$333) | C12: =TEXT(B12,"aaa") | D12: =WORKDAY(DATE(A12,12,31),1,'1_休日'!$A$4:$A$333) | E12: =TEXT(D12,"aaa") | F12: =D12-B12-1 | G12: =WORKDAY(DATE(A12,12,31)+1,-1,'1_休日'!$E$4:$E$333) | H12: =TEXT(G12,"aaa") | I12: =WORKDAY(DATE(A12,12,31),1,'1_休日'!$E$4:$E$333) | J12: =I12-G12-1 | K12: =NETWORKDAYS(B12+1,D12-1,'1_休日'!$E$4:$E$333) | L12: =D12-(B12+1)
A13: 2025 | B13: =WORKDAY(DATE(A13,12,31)+1,-1,'1_休日'!$A$4:$A$333) | C13: =TEXT(B13,"aaa") | D13: =WORKDAY(DATE(A13,12,31),1,'1_休日'!$A$4:$A$333) | E13: =TEXT(D13,"aaa") | F13: =D13-B13-1 | G13: =WORKDAY(DATE(A13,12,31)+1,-1,'1_休日'!$E$4:$E$333) | H13: =TEXT(G13,"aaa") | I13: =WORKDAY(DATE(A13,12,31),1,'1_休日'!$E$4:$E$333) | J13: =I13-G13-1 | K13: =NETWORKDAYS(B13+1,D13-1,'1_休日'!$E$4:$E$333) | L13: =D13-(B13+1)
A14: 2026 | B14: =WORKDAY(DATE(A14,12,31)+1,-1,'1_休日'!$A$4:$A$333) | C14: =TEXT(B14,"aaa") | D14: =WORKDAY(DATE(A14,12,31),1,'1_休日'!$A$4:$A$333) | E14: =TEXT(D14,"aaa") | F14: =D14-B14-1 | G14: =WORKDAY(DATE(A14,12,31)+1,-1,'1_休日'!$E$4:$E$333) | H14: =TEXT(G14,"aaa") | I14: =WORKDAY(DATE(A14,12,31),1,'1_休日'!$E$4:$E$333) | J14: =I14-G14-1 | K14: =NETWORKDAYS(B14+1,D14-1,'1_休日'!$E$4:$E$333) | L14: =D14-(B14+1)
A15: 平均 | F15: =AVERAGE(F4:F14) | J15: =AVERAGE(J4:J14) | K15: =AVERAGE(K4:K14)
A17: 橙は役所の休みが7日以上の年。12月28日が土日だと最終日が前に、1月4日が土日だと仕事始めが後ろにずれる。
A18: 税の期限が一番延びるのは、役所の休みの初日が期限の場合。延びる日数は役所の休みの日数と同じになる。

Sheet 5_使い方
A1: 使い方
A3: 2_年末年始 のC3に年末の年を入れる。2026と入れると、2026年12月20日から2027年1月15日までを1日ずつ出す。
A4: 役所の列は行政機関の休日、銀行の列は銀行の休日で、開いているかを出す。青い行は役所が休みで銀行が開いている日。
A5: 税の期限なら（G列）は、その日が国税や地方税の期限だったときに実際に期限になる日。式は WORKDAY(日付-1,1,休日)。
A6: 3_期限 は、2026年末から2027年始の主な期限を並べた。黄色の欄を書き換えれば、ほかの期限も出せる。
A7: 社会保険料の行は、日本年金機構が公表している納付期限と照らしている。I列が「違う」になったら式か休日の一覧を見直す。
A8: 4_年ごと は2016年末から2026年末までの11回を並べた。
A10: 会社の年末年始休暇で数えたいときは、1_休日 の黄色の行に会社の休みを足す。役所の一覧に足せば2_年末年始の役所の列が会社の休みになる。
A11: 祝日は内閣府のCSVの2027年11月23日まで。2027年末以降は、2028年の祝日がCSVに載ってから足す。
A13: 出典（どれも2026年10月6日確認）
A14: 行政機関の休日に関する法律 第1条 https://laws.e-gov.go.jp/law/363AC0000000091
A15: 銀行法 第15条 https://laws.e-gov.go.jp/law/356AC0000000059
... A26: Microsoft 365のExcel（バージョン16）で確認、2026年10月6日。
