Workbook

Sheet 1_割増の計算
A1: 大晦日から元日にかけての勤務の割増賃金（法定休日は0時から24時の暦日で切る）
A2: 黄色い欄を埋める。終業が始業より前の時刻なら翌日の終業として数える。勤務は24時間未満、休憩は1回まで
A3: 1時間あたりの賃金（円） | B3: 1500 | C3: 月給の人は、割増の基礎に入る月給 ÷ 1か月平均の所定労働時間（労働基準法施行規則第19条）
A4: 法定休日は就業規則で決めた週1日（または4週4日）の休日。国民の祝日だからといって法定休日になるわけではない
A5: 率は法律の最低の率。会社がそれより高い率を決めているなら7行目を書き換える
I7: 率 | J7: 1 | K7: 1.25 | L7: 1.25 | M7: 1.5 | N7: 1.35 | O7: 1.6 | T7: ここから右は計算の途中の値
A8: 勤務 | B8: 始業日 | C8: 始業 | D8: 終業 | E8: 休憩の始め | F8: 休憩の終わり | G8: 始業日は法定休日か | H8: 翌日は法定休日か | I8: 実働（時間） | J8: 法定内 | K8: 法定内の深夜 | L8: 時間外 | M8: 時間外の深夜 | N8: 法定休日 | O8: 法定休日の深夜 | P8: 賃金（円） | Q8: うち割増の分 | R8: 確認 | T8: 始業の日時 | U8: 終業の日時 | V8: 休憩の始め | W8: 休憩の終わり | X8: 始業日の翌日0時 | Y8: 法定休日でない分の始め | Z8: 法定休日でない分の終わり | AA8: 8時間に達する時刻
A9: 大晦日の夜勤（元日は法定休日でない） | B9: 46387 | C9: 0.91666667 | D9: 0.20833333 | E9: 0.083333333 | F9: 0.125 | G9: いいえ | H9: いいえ | I9: =IF(OR($B9="",$C9="",$D9=""),"",ROUND((MAX(0,MIN($U9,$U9)-MAX($T9,$T9))-MAX(0,MIN($W9,$U9)-MAX($V9,$T9)))*24,4)) | J9: =IF(OR($B9="",$C9="",$D9=""),"",ROUND(((MAX(0,MIN($U9,MIN($Z9,$AA9))-MAX($T9,$Y9))-MAX(0,MIN($W9,MIN($Z9,$AA9))-MAX($V9,$Y9)))-((MAX(0,MIN($U9,MIN(MIN($Z9,$AA9),($B9+0+5/24)))-MAX($T9,MAX($Y9,($B9+-1+22/24))))-MAX(0,MIN($W9,MIN(MIN($Z9,$AA9),($B9+0+5/24)))-MAX($V9,MAX($Y9,($B9+-1+22/24)))))+(MAX(0,MIN($U9,MIN(MIN($Z9,$AA9),($B9+1+5/24)))-MAX($T9,MAX($Y9,($B9+0+22/24))))-MAX(0,MIN($W9,MIN(MIN($Z9,$AA9),($B9+1+5/24)))-MAX($V9,MAX($Y9,($B9+0+22/24)))))+(MAX(0,MIN($U9,MIN(MIN($Z9,$AA9),($B9+2+5/24)))-MAX($T9,MAX($Y9,($B9+1+22/24))))-MAX(0,MIN($W9,MIN(MIN($Z9,$AA9),($B9+2+5/24)))-MAX($V9,MAX($Y9,($B9+1+22/24)))))))*24,4)) | K9: =IF(OR($B9="",$C9="",$D9=""),"",ROUND(((MAX(0,MIN($U9,MIN(MIN($Z9,$AA9),($B9+0+5/24)))-MAX($T9,MAX($Y9,($B9+-1+22/24))))-MAX(0,MIN($W9,MIN(MIN($Z9,$AA9),($B9+0+5/24)))-MAX($V9,MAX($Y9,($B9+-1+22/24)))))+(MAX(0,MIN($U9,MIN(MIN($Z9,$AA9),($B9+1+5/24)))-MAX($T9,MAX($Y9,($B9+0+22/24))))-MAX(0,MIN($W9,MIN(MIN($Z9,$AA9),($B9+1+5/24)))-MAX($V9,MAX($Y9,($B9+0+22/24)))))+(MAX(0,MIN($U9,MIN(MIN($Z9,$AA9),($B9+2+5/24)))-MAX($T9,MAX($Y9,($B9+1+22/24))))-MAX(0,MIN($W9,MIN(MIN($Z9,$AA9),($B9+2+5/24)))-MAX($V9,MAX($Y9,($B9+1+22/24))))))*24,4)) | L9: =IF(OR($B9="",$C9="",$D9=""),"",ROUND(((MAX(0,MIN($U9,$Z9)-MAX($T9,MAX($Y9,$AA9)))-MAX(0,MIN($W9,$Z9)-MAX($V9,MAX($Y9,$AA9))))-((MAX(0,MIN($U9,MIN($Z9,($B9+0+5/24)))-MAX($T9,MAX(MAX($Y9,$AA9),($B9+-1+22/24))))-MAX(0,MIN($W9,MIN($Z9,($B9+0+5/24)))-MAX($V9,MAX(MAX($Y9,$AA9),($B9+-1+22/24)))))+(MAX(0,MIN($U9,MIN($Z9,($B9+1+5/24)))-MAX($T9,MAX(MAX($Y9,$AA9),($B9+0+22/24))))-MAX(0,MIN($W9,MIN($Z9,($B9+1+5/24)))-MAX($V9,MAX(MAX($Y9,$AA9),($B9+0+22/24)))))+(MAX(0,MIN($U9,MIN($Z9,($B9+2+5/24)))-MAX($T9,MAX(MAX($Y9,$AA9),($B9+1+22/24))))-MAX(0,MIN($W9,MIN($Z9,($B9+2+5/24)))-MAX($V9,MAX(MAX($Y9,$AA9),($B9+1+22/24)))))))*24,4)) | M9: =IF(OR($B9="",$C9="",$D9=""),"",ROUND(((MAX(0,MIN($U9,MIN($Z9,($B9+0+5/24)))-MAX($T9,MAX(MAX($Y9,$AA9),($B9+-1+22/24))))-MAX(0,MIN($W9,MIN($Z9,($B9+0+5/24)))-MAX($V9,MAX(MAX($Y9,$AA9),($B9+-1+22/24)))))+(MAX(0,MIN($U9,MIN($Z9,($B9+1+5/24)))-MAX($T9,MAX(MAX($Y9,$AA9),($B9+0+22/24))))-MAX(0,MIN($W9,MIN($Z9,($B9+1+5/24)))-MAX($V9,MAX(MAX($Y9,$AA9),($B9+0+22/24)))))+(MAX(0,MIN($U9,MIN($Z9,($B9+2+5/24)))-MAX($T9,MAX(MAX($Y9,$AA9),($B9+1+22/24))))-MAX(0,MIN($W9,MIN($Z9,($B9+2+5/24)))-MAX($V9,MAX(MAX($Y9,$AA9),($B9+1+22/24))))))*24,4)) | N9: =IF(OR($B9="",$C9="",$D9=""),"",ROUND((IF($G9="はい",(MAX(0,MIN($U9,$X9)-MAX($T9,$T9))-MAX(0,MIN($W9,$X9)-MAX($V9,$T9))),0)+IF($H9="はい",(MAX(0,MIN($U9,$U9)-MAX($T9,$X9))-MAX(0,MIN($W9,$U9)-MAX($V9,$X9))),0)-IF($G9="はい",((MAX(0,MIN($U9,MIN($X9,($B9+0+5/24)))-MAX($T9,MAX($T9,($B9+-1+22/24))))-MAX(0,MIN($W9,MIN($X9,($B9+0+5/24)))-MAX($V9,MAX($T9,($B9+-1+22/24)))))+(MAX(0,MIN($U9,MIN($X9,($B9+1+5/24)))-MAX($T9,MAX($T9,($B9+0+22/24))))-MAX(0,MIN($W9,MIN($X9,($B9+1+5/24)))-MAX($V9,MAX($T9,($B9+0+22/24)))))+(MAX(0,MIN($U9,MIN($X9,($B9+2+5/24)))-MAX($T9,MAX($T9,($B9+1+22/24))))-MAX(0,MIN($W9,MIN($X9,($B9+2+5/24)))-MAX($V9,MAX($T9,($B9+1+22/24)))))),0)-IF($H9="はい",((MAX(0,MIN($U9,MIN($U9,($B9+0+5/24)))-MAX($T9,MAX($X9,($B9+-1+22/24))))-MAX(0,MIN($W9,MIN($U9,($B9+0+5/24)))-MAX($V9,MAX($X9,($B9+-1+22/24)))))+(MAX(0,MIN($U9,MIN($U9,($B9+1+5/24)))-MAX($T9,MAX($X9,($B9+0+22/24))))-MAX(0,MIN($W9,MIN($U9,($B9+1+5/24)))-MAX($V9,MAX($X9,($B9+0+22/24)))))+(MAX(0,MIN($U9,MIN($U9,($B9+2+5/24)))-MAX($T9,MAX($X9,($B9+1+22/24))))-MAX(0,MIN($W9,MIN($U9,($B9+2+5/24)))-MAX($V9,MAX($X9,($B9+1+22/24)))))),0))*24,4)) | O9: =IF(OR($B9="",$C9="",$D9=""),"",ROUND((IF($G9="はい",((MAX(0,MIN($U9,MIN($X9,($B9+0+5/24)))-MAX($T9,MAX($T9,($B9+-1+22/24))))-MAX(0,MIN($W9,MIN($X9,($B9+0+5/24)))-MAX($V9,MAX($T9,($B9+-1+22/24)))))+(MAX(0,MIN($U9,MIN($X9,($B9+1+5/24)))-MAX($T9,MAX($T9,($B9+0+22/24))))-MAX(0,MIN($W9,MIN($X9,($B9+1+5/24)))-MAX($V9,MAX($T9,($B9+0+22/24)))))+(MAX(0,MIN($U9,MIN($X9,($B9+2+5/24)))-MAX($T9,MAX($T9,($B9+1+22/24))))-MAX(0,MIN($W9,MIN($X9,($B9+2+5/24)))-MAX($V9,MAX($T9,($B9+1+22/24)))))),0)+IF($H9="はい",((MAX(0,MIN($U9,MIN($U9,($B9+0+5/24)))-MAX($T9,MAX($X9,($B9+-1+22/24))))-MAX(0,MIN($W9,MIN($U9,($B9+0+5/24)))-MAX($V9,MAX($X9,($B9+-1+22/24)))))+(MAX(0,MIN($U9,MIN($U9,($B9+1+5/24)))-MAX($T9,MAX($X9,($B9+0+22/24))))-MAX(0,MIN($W9,MIN($U9,($B9+1+5/24)))-MAX($V9,MAX($X9,($B9+0+22/24)))))+(MAX(0,MIN($U9,MIN($U9,($B9+2+5/24)))-MAX($T9,MAX($X9,($B9+1+22/24))))-MAX(0,MIN($W9,MIN($U9,($B9+2+5/24)))-MAX($V9,MAX($X9,($B9+1+22/24)))))),0))*24,4)) | P9: =IF(OR($B9="",$C9="",$D9=""),"",ROUND($B$3*SUMPRODUCT($J9:$O9,$J$7:$O$7),0)) | Q9: =IF(OR($B9="",$C9="",$D9=""),"",$P9-ROUND($B$3*$I9,0)) | R9: =IF(OR($B9="",$C9="",$D9=""),"",IF(ABS(SUM($J9:$O9)-$I9)>0.001,"区分の合計がずれた",IF(AND($I9>8,ROUND(($W9-$V9)*24,4)<1),"休憩が1時間に足りない",IF(AND($I9>6,ROUND(($W9-$V9)*24,4)<0.75),"休憩が45分に足りない","")))) | T9: =IF(OR($B9="",$C9="",$D9=""),"",$B9+$C9) | U9: =IF(OR($B9="",$C9="",$D9=""),"",$B9+$D9+IF($D9<=$C9,1,0)) | V9: =IF(OR($B9="",$C9="",$D9=""),"",IF($E9="",$U9,$B9+$E9+IF($E9<$C9,1,0))) | W9: =IF(OR($B9="",$C9="",$D9=""),"",IF(OR($E9="",$F9=""),$V9,$B9+$F9+IF($F9<$C9,1,0))) | X9: =IF(OR($B9="",$C9="",$D9=""),"",$B9+1) | Y9: =IF(OR($B9="",$C9="",$D9=""),"",IF($G9="はい",MAX($T9,$X9),$T9)) | Z9: =IF(OR($B9="",$C9="",$D9=""),"",IF($H9="はい",MIN($U9,$X9),$U9)) | AA9: =IF(OR($B9="",$C9="",$D9=""),"",IF(MAX($V9,$Y9)>=$Y9+8/24,$Y9+8/24,$Y9+8/24+(MAX($W9,$Y9)-MAX($V9,$Y9))))
A10: 大晦日の夜勤（元日が法定休日） | B10: 46387 | C10: 0.91666667 | D10: 0.20833333 | E10: 0.083333333 | F10: 0.125 | G10: いいえ | H10: はい | I10: =IF(OR($B10="",$C10="",$D10=""),"",ROUND((MAX(0,MIN($U10,$U10)-MAX($T10,$T10))-MAX(0,MIN($W10,$U10)-MAX($V10,$T10)))*24,4)) | J10: =IF(OR($B10="",$C10="",$D10=""),"",ROUND(((MAX(0,MIN($U10,MIN($Z10,$AA10))-MAX($T10,$Y10))-MAX(0,MIN($W10,MIN($Z10,$AA10))-MAX($V10,$Y10)))-((MAX(0,MIN($U10,MIN(MIN($Z10,$AA10),($B10+0+5/24)))-MAX($T10,MAX($Y10,($B10+-1+22/24))))-MAX(0,MIN($W10,MIN(MIN($Z10,$AA10),($B10+0+5/24)))-MAX($V10,MAX($Y10,($B10+-1+22/24)))))+(MAX(0,MIN($U10,MIN(MIN($Z10,$AA10),($B10+1+5/24)))-MAX($T10,MAX($Y10,($B10+0+22/24))))-MAX(0,MIN($W10,MIN(MIN($Z10,$AA10),($B10+1+5/24)))-MAX($V10,MAX($Y10,($B10+0+22/24)))))+(MAX(0,MIN($U10,MIN(MIN($Z10,$AA10),($B10+2+5/24)))-MAX($T10,MAX($Y10,($B10+1+22/24))))-MAX(0,MIN($W10,MIN(MIN($Z10,$AA10),($B10+2+5/24)))-MAX($V10,MAX($Y10,($B10+1+22/24)))))))*24,4)) | K10: =IF(OR($B10="",$C10="",$D10=""),"",ROUND(((MAX(0,MIN($U10,MIN(MIN($Z10,$AA10),($B10+0+5/24)))-MAX($T10,MAX($Y10,($B10+-1+22/24))))-MAX(0,MIN($W10,MIN(MIN($Z10,$AA10),($B10+0+5/24)))-MAX($V10,MAX($Y10,($B10+-1+22/24)))))+(MAX(0,MIN($U10,MIN(MIN($Z10,$AA10),($B10+1+5/24)))-MAX($T10,MAX($Y10,($B10+0+22/24))))-MAX(0,MIN($W10,MIN(MIN($Z10,$AA10),($B10+1+5/24)))-MAX($V10,MAX($Y10,($B10+0+22/24)))))+(MAX(0,MIN($U10,MIN(MIN($Z10,$AA10),($B10+2+5/24)))-MAX($T10,MAX($Y10,($B10+1+22/24))))-MAX(0,MIN($W10,MIN(MIN($Z10,$AA10),($B10+2+5/24)))-MAX($V10,MAX($Y10,($B10+1+22/24))))))*24,4)) | L10: =IF(OR($B10="",$C10="",$D10=""),"",ROUND(((MAX(0,MIN($U10,$Z10)-MAX($T10,MAX($Y10,$AA10)))-MAX(0,MIN($W10,$Z10)-MAX($V10,MAX($Y10,$AA10))))-((MAX(0,MIN($U10,MIN($Z10,($B10+0+5/24)))-MAX($T10,MAX(MAX($Y10,$AA10),($B10+-1+22/24))))-MAX(0,MIN($W10,MIN($Z10,($B10+0+5/24)))-MAX($V10,MAX(MAX($Y10,$AA10),($B10+-1+22/24)))))+(MAX(0,MIN($U10,MIN($Z10,($B10+1+5/24)))-MAX($T10,MAX(MAX($Y10,$AA10),($B10+0+22/24))))-MAX(0,MIN($W10,MIN($Z10,($B10+1+5/24)))-MAX($V10,MAX(MAX($Y10,$AA10),($B10+0+22/24)))))+(MAX(0,MIN($U10,MIN($Z10,($B10+2+5/24)))-MAX($T10,MAX(MAX($Y10,$AA10),($B10+1+22/24))))-MAX(0,MIN($W10,MIN($Z10,($B10+2+5/24)))-MAX($V10,MAX(MAX($Y10,$AA10),($B10+1+22/24)))))))*24,4)) | M10: =IF(OR($B10="",$C10="",$D10=""),"",ROUND(((MAX(0,MIN($U10,MIN($Z10,($B10+0+5/24)))-MAX($T10,MAX(MAX($Y10,$AA10),($B10+-1+22/24))))-MAX(0,MIN($W10,MIN($Z10,($B10+0+5/24)))-MAX($V10,MAX(MAX($Y10,$AA10),($B10+-1+22/24)))))+(MAX(0,MIN($U10,MIN($Z10,($B10+1+5/24)))-MAX($T10,MAX(MAX($Y10,$AA10),($B10+0+22/24))))-MAX(0,MIN($W10,MIN($Z10,($B10+1+5/24)))-MAX($V10,MAX(MAX($Y10,$AA10),($B10+0+22/24)))))+(MAX(0,MIN($U10,MIN($Z10,($B10+2+5/24)))-MAX($T10,MAX(MAX($Y10,$AA10),($B10+1+22/24))))-MAX(0,MIN($W10,MIN($Z10,($B10+2+5/24)))-MAX($V10,MAX(MAX($Y10,$AA10),($B10+1+22/24))))))*24,4)) | N10: =IF(OR($B10="",$C10="",$D10=""),"",ROUND((IF($G10="はい",(MAX(0,MIN($U10,$X10)-MAX($T10,$T10))-MAX(0,MIN($W10,$X10)-MAX($V10,$T10))),0)+IF($H10="はい",(MAX(0,MIN($U10,$U10)-MAX($T10,$X10))-MAX(0,MIN($W10,$U10)-MAX($V10,$X10))),0)-IF($G10="はい",((MAX(0,MIN($U10,MIN($X10,($B10+0+5/24)))-MAX($T10,MAX($T10,($B10+-1+22/24))))-MAX(0,MIN($W10,MIN($X10,($B10+0+5/24)))-MAX($V10,MAX($T10,($B10+-1+22/24)))))+(MAX(0,MIN($U10,MIN($X10,($B10+1+5/24)))-MAX($T10,MAX($T10,($B10+0+22/24))))-MAX(0,MIN($W10,MIN($X10,($B10+1+5/24)))-MAX($V10,MAX($T10,($B10+0+22/24)))))+(MAX(0,MIN($U10,MIN($X10,($B10+2+5/24)))-MAX($T10,MAX($T10,($B10+1+22/24))))-MAX(0,MIN($W10,MIN($X10,($B10+2+5/24)))-MAX($V10,MAX($T10,($B10+1+22/24)))))),0)-IF($H10="はい",((MAX(0,MIN($U10,MIN($U10,($B10+0+5/24)))-MAX($T10,MAX($X10,($B10+-1+22/24))))-MAX(0,MIN($W10,MIN($U10,($B10+0+5/24)))-MAX($V10,MAX($X10,($B10+-1+22/24)))))+(MAX(0,MIN($U10,MIN($U10,($B10+1+5/24)))-MAX($T10,MAX($X10,($B10+0+22/24))))-MAX(0,MIN($W10,MIN($U10,($B10+1+5/24)))-MAX($V10,MAX($X10,($B10+0+22/24)))))+(MAX(0,MIN($U10,MIN($U10,($B10+2+5/24)))-MAX($T10,MAX($X10,($B10+1+22/24))))-MAX(0,MIN($W10,MIN($U10,($B10+2+5/24)))-MAX($V10,MAX($X10,($B10+1+22/24)))))),0))*24,4)) | O10: =IF(OR($B10="",$C10="",$D10=""),"",ROUND((IF($G10="はい",((MAX(0,MIN($U10,MIN($X10,($B10+0+5/24)))-MAX($T10,MAX($T10,($B10+-1+22/24))))-MAX(0,MIN($W10,MIN($X10,($B10+0+5/24)))-MAX($V10,MAX($T10,($B10+-1+22/24)))))+(MAX(0,MIN($U10,MIN($X10,($B10+1+5/24)))-MAX($T10,MAX($T10,($B10+0+22/24))))-MAX(0,MIN($W10,MIN($X10,($B10+1+5/24)))-MAX($V10,MAX($T10,($B10+0+22/24)))))+(MAX(0,MIN($U10,MIN($X10,($B10+2+5/24)))-MAX($T10,MAX($T10,($B10+1+22/24))))-MAX(0,MIN($W10,MIN($X10,($B10+2+5/24)))-MAX($V10,MAX($T10,($B10+1+22/24)))))),0)+IF($H10="はい",((MAX(0,MIN($U10,MIN($U10,($B10+0+5/24)))-MAX($T10,MAX($X10,($B10+-1+22/24))))-MAX(0,MIN($W10,MIN($U10,($B10+0+5/24)))-MAX($V10,MAX($X10,($B10+-1+22/24)))))+(MAX(0,MIN($U10,MIN($U10,($B10+1+5/24)))-MAX($T10,MAX($X10,($B10+0+22/24))))-MAX(0,MIN($W10,MIN($U10,($B10+1+5/24)))-MAX($V10,MAX($X10,($B10+0+22/24)))))+(MAX(0,MIN($U10,MIN($U10,($B10+2+5/24)))-MAX($T10,MAX($X10,($B10+1+22/24))))-MAX(0,MIN($W10,MIN($U10,($B10+2+5/24)))-MAX($V10,MAX($X10,($B10+1+22/24)))))),0))*24,4)) | P10: =IF(OR($B10="",$C10="",$D10=""),"",ROUND($B$3*SUMPRODUCT($J10:$O10,$J$7:$O$7),0)) | Q10: =IF(OR($B10="",$C10="",$D10=""),"",$P10-ROUND($B$3*$I10,0)) | R10: =IF(OR($B10="",$C10="",$D10=""),"",IF(ABS(SUM($J10:$O10)-$I10)>0.001,"区分の合計がずれた",IF(AND($I10>8,ROUND(($W10-$V10)*24,4)<1),"休憩が1時間に足りない",IF(AND($I10>6,ROUND(($W10-$V10)*24,4)<0.75),"休憩が45分に足りない","")))) | T10: =IF(OR($B10="",$C10="",$D10=""),"",$B10+$C10) | U10: =IF(OR($B10="",$C10="",$D10=""),"",$B10+$D10+IF($D10<=$C10,1,0)) | V10: =IF(OR($B10="",$C10="",$D10=""),"",IF($E10="",$U10,$B10+$E10+IF($E10<$C10,1,0))) | W10: =IF(OR($B10="",$C10="",$D10=""),"",IF(OR($E10="",$F10=""),$V10,$B10+$F10+IF($F10<$C10,1,0))) | X10: =IF(OR($B10="",$C10="",$D10=""),"",$B10+1) | Y10: =IF(OR($B10="",$C10="",$D10=""),"",IF($G10="はい",MAX($T10,$X10),$T10)) | Z10: =IF(OR($B10="",$C10="",$D10=""),"",IF($H10="はい",MIN($U10,$X10),$U10)) | AA10: =IF(OR($B10="",$C10="",$D10=""),"",IF(MAX($V10,$Y10)>=$Y10+8/24,$Y10+8/24,$Y10+8/24+(MAX($W10,$Y10)-MAX($V10,$Y10))))
A11: 元日の夜勤（元日が法定休日） | B11: 46388 | C11: 0.91666667 | D11: 0.20833333 | E11: 0.083333333 | F11: 0.125 | G11: はい | H11: いいえ | I11: =IF(OR($B11="",$C11="",$D11=""),"",ROUND((MAX(0,MIN($U11,$U11)-MAX($T11,$T11))-MAX(0,MIN($W11,$U11)-MAX($V11,$T11)))*24,4)) | J11: =IF(OR($B11="",$C11="",$D11=""),"",ROUND(((MAX(0,MIN($U11,MIN($Z11,$AA11))-MAX($T11,$Y11))-MAX(0,MIN($W11,MIN($Z11,$AA11))-MAX($V11,$Y11)))-((MAX(0,MIN($U11,MIN(MIN($Z11,$AA11),($B11+0+5/24)))-MAX($T11,MAX($Y11,($B11+-1+22/24))))-MAX(0,MIN($W11,MIN(MIN($Z11,$AA11),($B11+0+5/24)))-MAX($V11,MAX($Y11,($B11+-1+22/24)))))+(MAX(0,MIN($U11,MIN(MIN($Z11,$AA11),($B11+1+5/24)))-MAX($T11,MAX($Y11,($B11+0+22/24))))-MAX(0,MIN($W11,MIN(MIN($Z11,$AA11),($B11+1+5/24)))-MAX($V11,MAX($Y11,($B11+0+22/24)))))+(MAX(0,MIN($U11,MIN(MIN($Z11,$AA11),($B11+2+5/24)))-MAX($T11,MAX($Y11,($B11+1+22/24))))-MAX(0,MIN($W11,MIN(MIN($Z11,$AA11),($B11+2+5/24)))-MAX($V11,MAX($Y11,($B11+1+22/24)))))))*24,4)) | K11: =IF(OR($B11="",$C11="",$D11=""),"",ROUND(((MAX(0,MIN($U11,MIN(MIN($Z11,$AA11),($B11+0+5/24)))-MAX($T11,MAX($Y11,($B11+-1+22/24))))-MAX(0,MIN($W11,MIN(MIN($Z11,$AA11),($B11+0+5/24)))-MAX($V11,MAX($Y11,($B11+-1+22/24)))))+(MAX(0,MIN($U11,MIN(MIN($Z11,$AA11),($B11+1+5/24)))-MAX($T11,MAX($Y11,($B11+0+22/24))))-MAX(0,MIN($W11,MIN(MIN($Z11,$AA11),($B11+1+5/24)))-MAX($V11,MAX($Y11,($B11+0+22/24)))))+(MAX(0,MIN($U11,MIN(MIN($Z11,$AA11),($B11+2+5/24)))-MAX($T11,MAX($Y11,($B11+1+22/24))))-MAX(0,MIN($W11,MIN(MIN($Z11,$AA11),($B11+2+5/24)))-MAX($V11,MAX($Y11,($B11+1+22/24))))))*24,4)) | L11: =IF(OR($B11="",$C11="",$D11=""),"",ROUND(((MAX(0,MIN($U11,$Z11)-MAX($T11,MAX($Y11,$AA11)))-MAX(0,MIN($W11,$Z11)-MAX($V11,MAX($Y11,$AA11))))-((MAX(0,MIN($U11,MIN($Z11,($B11+0+5/24)))-MAX($T11,MAX(MAX($Y11,$AA11),($B11+-1+22/24))))-MAX(0,MIN($W11,MIN($Z11,($B11+0+5/24)))-MAX($V11,MAX(MAX($Y11,$AA11),($B11+-1+22/24)))))+(MAX(0,MIN($U11,MIN($Z11,($B11+1+5/24)))-MAX($T11,MAX(MAX($Y11,$AA11),($B11+0+22/24))))-MAX(0,MIN($W11,MIN($Z11,($B11+1+5/24)))-MAX($V11,MAX(MAX($Y11,$AA11),($B11+0+22/24)))))+(MAX(0,MIN($U11,MIN($Z11,($B11+2+5/24)))-MAX($T11,MAX(MAX($Y11,$AA11),($B11+1+22/24))))-MAX(0,MIN($W11,MIN($Z11,($B11+2+5/24)))-MAX($V11,MAX(MAX($Y11,$AA11),($B11+1+22/24)))))))*24,4)) | M11: =IF(OR($B11="",$C11="",$D11=""),"",ROUND(((MAX(0,MIN($U11,MIN($Z11,($B11+0+5/24)))-MAX($T11,MAX(MAX($Y11,$AA11),($B11+-1+22/24))))-MAX(0,MIN($W11,MIN($Z11,($B11+0+5/24)))-MAX($V11,MAX(MAX($Y11,$AA11),($B11+-1+22/24)))))+(MAX(0,MIN($U11,MIN($Z11,($B11+1+5/24)))-MAX($T11,MAX(MAX($Y11,$AA11),($B11+0+22/24))))-MAX(0,MIN($W11,MIN($Z11,($B11+1+5/24)))-MAX($V11,MAX(MAX($Y11,$AA11),($B11+0+22/24)))))+(MAX(0,MIN($U11,MIN($Z11,($B11+2+5/24)))-MAX($T11,MAX(MAX($Y11,$AA11),($B11+1+22/24))))-MAX(0,MIN($W11,MIN($Z11,($B11+2+5/24)))-MAX($V11,MAX(MAX($Y11,$AA11),($B11+1+22/24))))))*24,4)) | N11: =IF(OR($B11="",$C11="",$D11=""),"",ROUND((IF($G11="はい",(MAX(0,MIN($U11,$X11)-MAX($T11,$T11))-MAX(0,MIN($W11,$X11)-MAX($V11,$T11))),0)+IF($H11="はい",(MAX(0,MIN($U11,$U11)-MAX($T11,$X11))-MAX(0,MIN($W11,$U11)-MAX($V11,$X11))),0)-IF($G11="はい",((MAX(0,MIN($U11,MIN($X11,($B11+0+5/24)))-MAX($T11,MAX($T11,($B11+-1+22/24))))-MAX(0,MIN($W11,MIN($X11,($B11+0+5/24)))-MAX($V11,MAX($T11,($B11+-1+22/24)))))+(MAX(0,MIN($U11,MIN($X11,($B11+1+5/24)))-MAX($T11,MAX($T11,($B11+0+22/24))))-MAX(0,MIN($W11,MIN($X11,($B11+1+5/24)))-MAX($V11,MAX($T11,($B11+0+22/24)))))+(MAX(0,MIN($U11,MIN($X11,($B11+2+5/24)))-MAX($T11,MAX($T11,($B11+1+22/24))))-MAX(0,MIN($W11,MIN($X11,($B11+2+5/24)))-MAX($V11,MAX($T11,($B11+1+22/24)))))),0)-IF($H11="はい",((MAX(0,MIN($U11,MIN($U11,($B11+0+5/24)))-MAX($T11,MAX($X11,($B11+-1+22/24))))-MAX(0,MIN($W11,MIN($U11,($B11+0+5/24)))-MAX($V11,MAX($X11,($B11+-1+22/24)))))+(MAX(0,MIN($U11,MIN($U11,($B11+1+5/24)))-MAX($T11,MAX($X11,($B11+0+22/24))))-MAX(0,MIN($W11,MIN($U11,($B11+1+5/24)))-MAX($V11,MAX($X11,($B11+0+22/24)))))+(MAX(0,MIN($U11,MIN($U11,($B11+2+5/24)))-MAX($T11,MAX($X11,($B11+1+22/24))))-MAX(0,MIN($W11,MIN($U11,($B11+2+5/24)))-MAX($V11,MAX($X11,($B11+1+22/24)))))),0))*24,4)) | O11: =IF(OR($B11="",$C11="",$D11=""),"",ROUND((IF($G11="はい",((MAX(0,MIN($U11,MIN($X11,($B11+0+5/24)))-MAX($T11,MAX($T11,($B11+-1+22/24))))-MAX(0,MIN($W11,MIN($X11,($B11+0+5/24)))-MAX($V11,MAX($T11,($B11+-1+22/24)))))+(MAX(0,MIN($U11,MIN($X11,($B11+1+5/24)))-MAX($T11,MAX($T11,($B11+0+22/24))))-MAX(0,MIN($W11,MIN($X11,($B11+1+5/24)))-MAX($V11,MAX($T11,($B11+0+22/24)))))+(MAX(0,MIN($U11,MIN($X11,($B11+2+5/24)))-MAX($T11,MAX($T11,($B11+1+22/24))))-MAX(0,MIN($W11,MIN($X11,($B11+2+5/24)))-MAX($V11,MAX($T11,($B11+1+22/24)))))),0)+IF($H11="はい",((MAX(0,MIN($U11,MIN($U11,($B11+0+5/24)))-MAX($T11,MAX($X11,($B11+-1+22/24))))-MAX(0,MIN($W11,MIN($U11,($B11+0+5/24)))-MAX($V11,MAX($X11,($B11+-1+22/24)))))+(MAX(0,MIN($U11,MIN($U11,($B11+1+5/24)))-MAX($T11,MAX($X11,($B11+0+22/24))))-MAX(0,MIN($W11,MIN($U11,($B11+1+5/24)))-MAX($V11,MAX($X11,($B11+0+22/24)))))+(MAX(0,MIN($U11,MIN($U11,($B11+2+5/24)))-MAX($T11,MAX($X11,($B11+1+22/24))))-MAX(0,MIN($W11,MIN($U11,($B11+2+5/24)))-MAX($V11,MAX($X11,($B11+1+22/24)))))),0))*24,4)) | P11: =IF(OR($B11="",$C11="",$D11=""),"",ROUND($B$3*SUMPRODUCT($J11:$O11,$J$7:$O$7),0)) | Q11: =IF(OR($B11="",$C11="",$D11=""),"",$P11-ROUND($B$3*$I11,0)) | R11: =IF(OR($B11="",$C11="",$D11=""),"",IF(ABS(SUM($J11:$O11)-$I11)>0.001,"区分の合計がずれた",IF(AND($I11>8,ROUND(($W11-$V11)*24,4)<1),"休憩が1時間に足りない",IF(AND($I11>6,ROUND(($W11-$V11)*24,4)<0.75),"休憩が45分に足りない","")))) | T11: =IF(OR($B11="",$C11="",$D11=""),"",$B11+$C11) | U11: =IF(OR($B11="",$C11="",$D11=""),"",$B11+$D11+IF($D11<=$C11,1,0)) | V11: =IF(OR($B11="",$C11="",$D11=""),"",IF($E11="",$U11,$B11+$E11+IF($E11<$C11,1,0))) | W11: =IF(OR($B11="",$C11="",$D11=""),"",IF(OR($E11="",$F11=""),$V11,$B11+$F11+IF($F11<$C11,1,0))) | X11: =IF(OR($B11="",$C11="",$D11=""),"",$B11+1) | Y11: =IF(OR($B11="",$C11="",$D11=""),"",IF($G11="はい",MAX($T11,$X11),$T11)) | Z11: =IF(OR($B11="",$C11="",$D11=""),"",IF($H11="はい",MIN($U11,$X11),$U11)) | AA11: =IF(OR($B11="",$C11="",$D11=""),"",IF(MAX($V11,$Y11)>=$Y11+8/24,$Y11+8/24,$Y11+8/24+(MAX($W11,$Y11)-MAX($V11,$Y11))))
A12: 大晦日の日勤から2時まで残業（元日が法定休日） | B12: 46387 | C12: 0.375 | D12: 0.083333333 | E12: 0.5 | F12: 0.54166667 | G12: いいえ | H12: はい | I12: =IF(OR($B12="",$C12="",$D12=""),"",ROUND((MAX(0,MIN($U12,$U12)-MAX($T12,$T12))-MAX(0,MIN($W12,$U12)-MAX($V12,$T12)))*24,4)) | J12: =IF(OR($B12="",$C12="",$D12=""),"",ROUND(((MAX(0,MIN($U12,MIN($Z12,$AA12))-MAX($T12,$Y12))-MAX(0,MIN($W12,MIN($Z12,$AA12))-MAX($V12,$Y12)))-((MAX(0,MIN($U12,MIN(MIN($Z12,$AA12),($B12+0+5/24)))-MAX($T12,MAX($Y12,($B12+-1+22/24))))-MAX(0,MIN($W12,MIN(MIN($Z12,$AA12),($B12+0+5/24)))-MAX($V12,MAX($Y12,($B12+-1+22/24)))))+(MAX(0,MIN($U12,MIN(MIN($Z12,$AA12),($B12+1+5/24)))-MAX($T12,MAX($Y12,($B12+0+22/24))))-MAX(0,MIN($W12,MIN(MIN($Z12,$AA12),($B12+1+5/24)))-MAX($V12,MAX($Y12,($B12+0+22/24)))))+(MAX(0,MIN($U12,MIN(MIN($Z12,$AA12),($B12+2+5/24)))-MAX($T12,MAX($Y12,($B12+1+22/24))))-MAX(0,MIN($W12,MIN(MIN($Z12,$AA12),($B12+2+5/24)))-MAX($V12,MAX($Y12,($B12+1+22/24)))))))*24,4)) | K12: =IF(OR($B12="",$C12="",$D12=""),"",ROUND(((MAX(0,MIN($U12,MIN(MIN($Z12,$AA12),($B12+0+5/24)))-MAX($T12,MAX($Y12,($B12+-1+22/24))))-MAX(0,MIN($W12,MIN(MIN($Z12,$AA12),($B12+0+5/24)))-MAX($V12,MAX($Y12,($B12+-1+22/24)))))+(MAX(0,MIN($U12,MIN(MIN($Z12,$AA12),($B12+1+5/24)))-MAX($T12,MAX($Y12,($B12+0+22/24))))-MAX(0,MIN($W12,MIN(MIN($Z12,$AA12),($B12+1+5/24)))-MAX($V12,MAX($Y12,($B12+0+22/24)))))+(MAX(0,MIN($U12,MIN(MIN($Z12,$AA12),($B12+2+5/24)))-MAX($T12,MAX($Y12,($B12+1+22/24))))-MAX(0,MIN($W12,MIN(MIN($Z12,$AA12),($B12+2+5/24)))-MAX($V12,MAX($Y12,($B12+1+22/24))))))*24,4)) | L12: =IF(OR($B12="",$C12="",$D12=""),"",ROUND(((MAX(0,MIN($U12,$Z12)-MAX($T12,MAX($Y12,$AA12)))-MAX(0,MIN($W12,$Z12)-MAX($V12,MAX($Y12,$AA12))))-((MAX(0,MIN($U12,MIN($Z12,($B12+0+5/24)))-MAX($T12,MAX(MAX($Y12,$AA12),($B12+-1+22/24))))-MAX(0,MIN($W12,MIN($Z12,($B12+0+5/24)))-MAX($V12,MAX(MAX($Y12,$AA12),($B12+-1+22/24)))))+(MAX(0,MIN($U12,MIN($Z12,($B12+1+5/24)))-MAX($T12,MAX(MAX($Y12,$AA12),($B12+0+22/24))))-MAX(0,MIN($W12,MIN($Z12,($B12+1+5/24)))-MAX($V12,MAX(MAX($Y12,$AA12),($B12+0+22/24)))))+(MAX(0,MIN($U12,MIN($Z12,($B12+2+5/24)))-MAX($T12,MAX(MAX($Y12,$AA12),($B12+1+22/24))))-MAX(0,MIN($W12,MIN($Z12,($B12+2+5/24)))-MAX($V12,MAX(MAX($Y12,$AA12),($B12+1+22/24)))))))*24,4)) | M12: =IF(OR($B12="",$C12="",$D12=""),"",ROUND(((MAX(0,MIN($U12,MIN($Z12,($B12+0+5/24)))-MAX($T12,MAX(MAX($Y12,$AA12),($B12+-1+22/24))))-MAX(0,MIN($W12,MIN($Z12,($B12+0+5/24)))-MAX($V12,MAX(MAX($Y12,$AA12),($B12+-1+22/24)))))+(MAX(0,MIN($U12,MIN($Z12,($B12+1+5/24)))-MAX($T12,MAX(MAX($Y12,$AA12),($B12+0+22/24))))-MAX(0,MIN($W12,MIN($Z12,($B12+1+5/24)))-MAX($V12,MAX(MAX($Y12,$AA12),($B12+0+22/24)))))+(MAX(0,MIN($U12,MIN($Z12,($B12+2+5/24)))-MAX($T12,MAX(MAX($Y12,$AA12),($B12+1+22/24))))-MAX(0,MIN($W12,MIN($Z12,($B12+2+5/24)))-MAX($V12,MAX(MAX($Y12,$AA12),($B12+1+22/24))))))*24,4)) | N12: =IF(OR($B12="",$C12="",$D12=""),"",ROUND((IF($G12="はい",(MAX(0,MIN($U12,$X12)-MAX($T12,$T12))-MAX(0,MIN($W12,$X12)-MAX($V12,$T12))),0)+IF($H12="はい",(MAX(0,MIN($U12,$U12)-MAX($T12,$X12))-MAX(0,MIN($W12,$U12)-MAX($V12,$X12))),0)-IF($G12="はい",((MAX(0,MIN($U12,MIN($X12,($B12+0+5/24)))-MAX($T12,MAX($T12,($B12+-1+22/24))))-MAX(0,MIN($W12,MIN($X12,($B12+0+5/24)))-MAX($V12,MAX($T12,($B12+-1+22/24)))))+(MAX(0,MIN($U12,MIN($X12,($B12+1+5/24)))-MAX($T12,MAX($T12,($B12+0+22/24))))-MAX(0,MIN($W12,MIN($X12,($B12+1+5/24)))-MAX($V12,MAX($T12,($B12+0+22/24)))))+(MAX(0,MIN($U12,MIN($X12,($B12+2+5/24)))-MAX($T12,MAX($T12,($B12+1+22/24))))-MAX(0,MIN($W12,MIN($X12,($B12+2+5/24)))-MAX($V12,MAX($T12,($B12+1+22/24)))))),0)-IF($H12="はい",((MAX(0,MIN($U12,MIN($U12,($B12+0+5/24)))-MAX($T12,MAX($X12,($B12+-1+22/24))))-MAX(0,MIN($W12,MIN($U12,($B12+0+5/24)))-MAX($V12,MAX($X12,($B12+-1+22/24)))))+(MAX(0,MIN($U12,MIN($U12,($B12+1+5/24)))-MAX($T12,MAX($X12,($B12+0+22/24))))-MAX(0,MIN($W12,MIN($U12,($B12+1+5/24)))-MAX($V12,MAX($X12,($B12+0+22/24)))))+(MAX(0,MIN($U12,MIN($U12,($B12+2+5/24)))-MAX($T12,MAX($X12,($B12+1+22/24))))-MAX(0,MIN($W12,MIN($U12,($B12+2+5/24)))-MAX($V12,MAX($X12,($B12+1+22/24)))))),0))*24,4)) | O12: =IF(OR($B12="",$C12="",$D12=""),"",ROUND((IF($G12="はい",((MAX(0,MIN($U12,MIN($X12,($B12+0+5/24)))-MAX($T12,MAX($T12,($B12+-1+22/24))))-MAX(0,MIN($W12,MIN($X12,($B12+0+5/24)))-MAX($V12,MAX($T12,($B12+-1+22/24)))))+(MAX(0,MIN($U12,MIN($X12,($B12+1+5/24)))-MAX($T12,MAX($T12,($B12+0+22/24))))-MAX(0,MIN($W12,MIN($X12,($B12+1+5/24)))-MAX($V12,MAX($T12,($B12+0+22/24)))))+(MAX(0,MIN($U12,MIN($X12,($B12+2+5/24)))-MAX($T12,MAX($T12,($B12+1+22/24))))-MAX(0,MIN($W12,MIN($X12,($B12+2+5/24)))-MAX($V12,MAX($T12,($B12+1+22/24)))))),0)+IF($H12="はい",((MAX(0,MIN($U12,MIN($U12,($B12+0+5/24)))-MAX($T12,MAX($X12,($B12+-1+22/24))))-MAX(0,MIN($W12,MIN($U12,($B12+0+5/24)))-MAX($V12,MAX($X12,($B12+-1+22/24)))))+(MAX(0,MIN($U12,MIN($U12,($B12+1+5/24)))-MAX($T12,MAX($X12,($B12+0+22/24))))-MAX(0,MIN($W12,MIN($U12,($B12+1+5/24)))-MAX($V12,MAX($X12,($B12+0+22/24)))))+(MAX(0,MIN($U12,MIN($U12,($B12+2+5/24)))-MAX($T12,MAX($X12,($B12+1+22/24))))-MAX(0,MIN($W12,MIN($U12,($B12+2+5/24)))-MAX($V12,MAX($X12,($B12+1+22/24)))))),0))*24,4)) | P12: =IF(OR($B12="",$C12="",$D12=""),"",ROUND($B$3*SUMPRODUCT($J12:$O12,$J$7:$O$7),0)) | Q12: =IF(OR($B12="",$C12="",$D12=""),"",$P12-ROUND($B$3*$I12,0)) | R12: =IF(OR($B12="",$C12="",$D12=""),"",IF(ABS(SUM($J12:$O12)-$I12)>0.001,"区分の合計がずれた",IF(AND($I12>8,ROUND(($W12-$V12)*24,4)<1),"休憩が1時間に足りない",IF(AND($I12>6,ROUND(($W12-$V12)*24,4)<0.75),"休憩が45分に足りない","")))) | T12: =IF(OR($B12="",$C12="",$D12=""),"",$B12+$C12) | U12: =IF(OR($B12="",$C12="",$D12=""),"",$B12+$D12+IF($D12<=$C12,1,0)) | V12: =IF(OR($B12="",$C12="",$D12=""),"",IF($E12="",$U12,$B12+$E12+IF($E12<$C12,1,0))) | W12: =IF(OR($B12="",$C12="",$D12=""),"",IF(OR($E12="",$F12=""),$V12,$B12+$F12+IF($F12<$C12,1,0))) | X12: =IF(OR($B12="",$C12="",$D12=""),"",$B12+1) | Y12: =IF(OR($B12="",$C12="",$D12=""),"",IF($G12="はい",MAX($T12,$X12),$T12)) | Z12: =IF(OR($B12="",$C12="",$D12=""),"",IF($H12="はい",MIN($U12,$X12),$U12)) | AA12: =IF(OR($B12="",$C12="",$D12=""),"",IF(MAX($V12,$Y12)>=$Y12+8/24,$Y12+8/24,$Y12+8/24+(MAX($W12,$Y12)-MAX($V12,$Y12))))
A13: 大晦日の日勤から2時まで残業（元日は法定休日でない） | B13: 46387 | C13: 0.375 | D13: 0.083333333 | E13: 0.5 | F13: 0.54166667 | G13: いいえ | H13: いいえ | I13: =IF(OR($B13="",$C13="",$D13=""),"",ROUND((MAX(0,MIN($U13,$U13)-MAX($T13,$T13))-MAX(0,MIN($W13,$U13)-MAX($V13,$T13)))*24,4)) | J13: =IF(OR($B13="",$C13="",$D13=""),"",ROUND(((MAX(0,MIN($U13,MIN($Z13,$AA13))-MAX($T13,$Y13))-MAX(0,MIN($W13,MIN($Z13,$AA13))-MAX($V13,$Y13)))-((MAX(0,MIN($U13,MIN(MIN($Z13,$AA13),($B13+0+5/24)))-MAX($T13,MAX($Y13,($B13+-1+22/24))))-MAX(0,MIN($W13,MIN(MIN($Z13,$AA13),($B13+0+5/24)))-MAX($V13,MAX($Y13,($B13+-1+22/24)))))+(MAX(0,MIN($U13,MIN(MIN($Z13,$AA13),($B13+1+5/24)))-MAX($T13,MAX($Y13,($B13+0+22/24))))-MAX(0,MIN($W13,MIN(MIN($Z13,$AA13),($B13+1+5/24)))-MAX($V13,MAX($Y13,($B13+0+22/24)))))+(MAX(0,MIN($U13,MIN(MIN($Z13,$AA13),($B13+2+5/24)))-MAX($T13,MAX($Y13,($B13+1+22/24))))-MAX(0,MIN($W13,MIN(MIN($Z13,$AA13),($B13+2+5/24)))-MAX($V13,MAX($Y13,($B13+1+22/24)))))))*24,4)) | K13: =IF(OR($B13="",$C13="",$D13=""),"",ROUND(((MAX(0,MIN($U13,MIN(MIN($Z13,$AA13),($B13+0+5/24)))-MAX($T13,MAX($Y13,($B13+-1+22/24))))-MAX(0,MIN($W13,MIN(MIN($Z13,$AA13),($B13+0+5/24)))-MAX($V13,MAX($Y13,($B13+-1+22/24)))))+(MAX(0,MIN($U13,MIN(MIN($Z13,$AA13),($B13+1+5/24)))-MAX($T13,MAX($Y13,($B13+0+22/24))))-MAX(0,MIN($W13,MIN(MIN($Z13,$AA13),($B13+1+5/24)))-MAX($V13,MAX($Y13,($B13+0+22/24)))))+(MAX(0,MIN($U13,MIN(MIN($Z13,$AA13),($B13+2+5/24)))-MAX($T13,MAX($Y13,($B13+1+22/24))))-MAX(0,MIN($W13,MIN(MIN($Z13,$AA13),($B13+2+5/24)))-MAX($V13,MAX($Y13,($B13+1+22/24))))))*24,4)) | L13: =IF(OR($B13="",$C13="",$D13=""),"",ROUND(((MAX(0,MIN($U13,$Z13)-MAX($T13,MAX($Y13,$AA13)))-MAX(0,MIN($W13,$Z13)-MAX($V13,MAX($Y13,$AA13))))-((MAX(0,MIN($U13,MIN($Z13,($B13+0+5/24)))-MAX($T13,MAX(MAX($Y13,$AA13),($B13+-1+22/24))))-MAX(0,MIN($W13,MIN($Z13,($B13+0+5/24)))-MAX($V13,MAX(MAX($Y13,$AA13),($B13+-1+22/24)))))+(MAX(0,MIN($U13,MIN($Z13,($B13+1+5/24)))-MAX($T13,MAX(MAX($Y13,$AA13),($B13+0+22/24))))-MAX(0,MIN($W13,MIN($Z13,($B13+1+5/24)))-MAX($V13,MAX(MAX($Y13,$AA13),($B13+0+22/24)))))+(MAX(0,MIN($U13,MIN($Z13,($B13+2+5/24)))-MAX($T13,MAX(MAX($Y13,$AA13),($B13+1+22/24))))-MAX(0,MIN($W13,MIN($Z13,($B13+2+5/24)))-MAX($V13,MAX(MAX($Y13,$AA13),($B13+1+22/24)))))))*24,4)) | M13: =IF(OR($B13="",$C13="",$D13=""),"",ROUND(((MAX(0,MIN($U13,MIN($Z13,($B13+0+5/24)))-MAX($T13,MAX(MAX($Y13,$AA13),($B13+-1+22/24))))-MAX(0,MIN($W13,MIN($Z13,($B13+0+5/24)))-MAX($V13,MAX(MAX($Y13,$AA13),($B13+-1+22/24)))))+(MAX(0,MIN($U13,MIN($Z13,($B13+1+5/24)))-MAX($T13,MAX(MAX($Y13,$AA13),($B13+0+22/24))))-MAX(0,MIN($W13,MIN($Z13,($B13+1+5/24)))-MAX($V13,MAX(MAX($Y13,$AA13),($B13+0+22/24)))))+(MAX(0,MIN($U13,MIN($Z13,($B13+2+5/24)))-MAX($T13,MAX(MAX($Y13,$AA13),($B13+1+22/24))))-MAX(0,MIN($W13,MIN($Z13,($B13+2+5/24)))-MAX($V13,MAX(MAX($Y13,$AA13),($B13+1+22/24))))))*24,4)) | N13: =IF(OR($B13="",$C13="",$D13=""),"",ROUND((IF($G13="はい",(MAX(0,MIN($U13,$X13)-MAX($T13,$T13))-MAX(0,MIN($W13,$X13)-MAX($V13,$T13))),0)+IF($H13="はい",(MAX(0,MIN($U13,$U13)-MAX($T13,$X13))-MAX(0,MIN($W13,$U13)-MAX($V13,$X13))),0)-IF($G13="はい",((MAX(0,MIN($U13,MIN($X13,($B13+0+5/24)))-MAX($T13,MAX($T13,($B13+-1+22/24))))-MAX(0,MIN($W13,MIN($X13,($B13+0+5/24)))-MAX($V13,MAX($T13,($B13+-1+22/24)))))+(MAX(0,MIN($U13,MIN($X13,($B13+1+5/24)))-MAX($T13,MAX($T13,($B13+0+22/24))))-MAX(0,MIN($W13,MIN($X13,($B13+1+5/24)))-MAX($V13,MAX($T13,($B13+0+22/24)))))+(MAX(0,MIN($U13,MIN($X13,($B13+2+5/24)))-MAX($T13,MAX($T13,($B13+1+22/24))))-MAX(0,MIN($W13,MIN($X13,($B13+2+5/24)))-MAX($V13,MAX($T13,($B13+1+22/24)))))),0)-IF($H13="はい",((MAX(0,MIN($U13,MIN($U13,($B13+0+5/24)))-MAX($T13,MAX($X13,($B13+-1+22/24))))-MAX(0,MIN($W13,MIN($U13,($B13+0+5/24)))-MAX($V13,MAX($X13,($B13+-1+22/24)))))+(MAX(0,MIN($U13,MIN($U13,($B13+1+5/24)))-MAX($T13,MAX($X13,($B13+0+22/24))))-MAX(0,MIN($W13,MIN($U13,($B13+1+5/24)))-MAX($V13,MAX($X13,($B13+0+22/24)))))+(MAX(0,MIN($U13,MIN($U13,($B13+2+5/24)))-MAX($T13,MAX($X13,($B13+1+22/24))))-MAX(0,MIN($W13,MIN($U13,($B13+2+5/24)))-MAX($V13,MAX($X13,($B13+1+22/24)))))),0))*24,4)) | O13: =IF(OR($B13="",$C13="",$D13=""),"",ROUND((IF($G13="はい",((MAX(0,MIN($U13,MIN($X13,($B13+0+5/24)))-MAX($T13,MAX($T13,($B13+-1+22/24))))-MAX(0,MIN($W13,MIN($X13,($B13+0+5/24)))-MAX($V13,MAX($T13,($B13+-1+22/24)))))+(MAX(0,MIN($U13,MIN($X13,($B13+1+5/24)))-MAX($T13,MAX($T13,($B13+0+22/24))))-MAX(0,MIN($W13,MIN($X13,($B13+1+5/24)))-MAX($V13,MAX($T13,($B13+0+22/24)))))+(MAX(0,MIN($U13,MIN($X13,($B13+2+5/24)))-MAX($T13,MAX($T13,($B13+1+22/24))))-MAX(0,MIN($W13,MIN($X13,($B13+2+5/24)))-MAX($V13,MAX($T13,($B13+1+22/24)))))),0)+IF($H13="はい",((MAX(0,MIN($U13,MIN($U13,($B13+0+5/24)))-MAX($T13,MAX($X13,($B13+-1+22/24))))-MAX(0,MIN($W13,MIN($U13,($B13+0+5/24)))-MAX($V13,MAX($X13,($B13+-1+22/24)))))+(MAX(0,MIN($U13,MIN($U13,($B13+1+5/24)))-MAX($T13,MAX($X13,($B13+0+22/24))))-MAX(0,MIN($W13,MIN($U13,($B13+1+5/24)))-MAX($V13,MAX($X13,($B13+0+22/24)))))+(MAX(0,MIN($U13,MIN($U13,($B13+2+5/24)))-MAX($T13,MAX($X13,($B13+1+22/24))))-MAX(0,MIN($W13,MIN($U13,($B13+2+5/24)))-MAX($V13,MAX($X13,($B13+1+22/24)))))),0))*24,4)) | P13: =IF(OR($B13="",$C13="",$D13=""),"",ROUND($B$3*SUMPRODUCT($J13:$O13,$J$7:$O$7),0)) | Q13: =IF(OR($B13="",$C13="",$D13=""),"",$P13-ROUND($B$3*$I13,0)) | R13: =IF(OR($B13="",$C13="",$D13=""),"",IF(ABS(SUM($J13:$O13)-$I13)>0.001,"区分の合計がずれた",IF(AND($I13>8,ROUND(($W13-$V13)*24,4)<1),"休憩が1時間に足りない",IF(AND($I13>6,ROUND(($W13-$V13)*24,4)<0.75),"休憩が45分に足りない","")))) | T13: =IF(OR($B13="",$C13="",$D13=""),"",$B13+$C13) | U13: =IF(OR($B13="",$C13="",$D13=""),"",$B13+$D13+IF($D13<=$C13,1,0)) | V13: =IF(OR($B13="",$C13="",$D13=""),"",IF($E13="",$U13,$B13+$E13+IF($E13<$C13,1,0))) | W13: =IF(OR($B13="",$C13="",$D13=""),"",IF(OR($E13="",$F13=""),$V13,$B13+$F13+IF($F13<$C13,1,0))) | X13: =IF(OR($B13="",$C13="",$D13=""),"",$B13+1) | Y13: =IF(OR($B13="",$C13="",$D13=""),"",IF($G13="はい",MAX($T13,$X13),$T13)) | Z13: =IF(OR($B13="",$C13="",$D13=""),"",IF($H13="はい",MIN($U13,$X13),$U13)) | AA13: =IF(OR($B13="",$C13="",$D13=""),"",IF(MAX($V13,$Y13)>=$Y13+8/24,$Y13+8/24,$Y13+8/24+(MAX($W13,$Y13)-MAX($V13,$Y13))))
A14: 元日の日勤（元日が法定休日） | B14: 46388 | C14: 0.375 | D14: 0.75 | E14: 0.5 | F14: 0.54166667 | G14: はい | H14: いいえ | I14: =IF(OR($B14="",$C14="",$D14=""),"",ROUND((MAX(0,MIN($U14,$U14)-MAX($T14,$T14))-MAX(0,MIN($W14,$U14)-MAX($V14,$T14)))*24,4)) | J14: =IF(OR($B14="",$C14="",$D14=""),"",ROUND(((MAX(0,MIN($U14,MIN($Z14,$AA14))-MAX($T14,$Y14))-MAX(0,MIN($W14,MIN($Z14,$AA14))-MAX($V14,$Y14)))-((MAX(0,MIN($U14,MIN(MIN($Z14,$AA14),($B14+0+5/24)))-MAX($T14,MAX($Y14,($B14+-1+22/24))))-MAX(0,MIN($W14,MIN(MIN($Z14,$AA14),($B14+0+5/24)))-MAX($V14,MAX($Y14,($B14+-1+22/24)))))+(MAX(0,MIN($U14,MIN(MIN($Z14,$AA14),($B14+1+5/24)))-MAX($T14,MAX($Y14,($B14+0+22/24))))-MAX(0,MIN($W14,MIN(MIN($Z14,$AA14),($B14+1+5/24)))-MAX($V14,MAX($Y14,($B14+0+22/24)))))+(MAX(0,MIN($U14,MIN(MIN($Z14,$AA14),($B14+2+5/24)))-MAX($T14,MAX($Y14,($B14+1+22/24))))-MAX(0,MIN($W14,MIN(MIN($Z14,$AA14),($B14+2+5/24)))-MAX($V14,MAX($Y14,($B14+1+22/24)))))))*24,4)) | K14: =IF(OR($B14="",$C14="",$D14=""),"",ROUND(((MAX(0,MIN($U14,MIN(MIN($Z14,$AA14),($B14+0+5/24)))-MAX($T14,MAX($Y14,($B14+-1+22/24))))-MAX(0,MIN($W14,MIN(MIN($Z14,$AA14),($B14+0+5/24)))-MAX($V14,MAX($Y14,($B14+-1+22/24)))))+(MAX(0,MIN($U14,MIN(MIN($Z14,$AA14),($B14+1+5/24)))-MAX($T14,MAX($Y14,($B14+0+22/24))))-MAX(0,MIN($W14,MIN(MIN($Z14,$AA14),($B14+1+5/24)))-MAX($V14,MAX($Y14,($B14+0+22/24)))))+(MAX(0,MIN($U14,MIN(MIN($Z14,$AA14),($B14+2+5/24)))-MAX($T14,MAX($Y14,($B14+1+22/24))))-MAX(0,MIN($W14,MIN(MIN($Z14,$AA14),($B14+2+5/24)))-MAX($V14,MAX($Y14,($B14+1+22/24))))))*24,4)) | L14: =IF(OR($B14="",$C14="",$D14=""),"",ROUND(((MAX(0,MIN($U14,$Z14)-MAX($T14,MAX($Y14,$AA14)))-MAX(0,MIN($W14,$Z14)-MAX($V14,MAX($Y14,$AA14))))-((MAX(0,MIN($U14,MIN($Z14,($B14+0+5/24)))-MAX($T14,MAX(MAX($Y14,$AA14),($B14+-1+22/24))))-MAX(0,MIN($W14,MIN($Z14,($B14+0+5/24)))-MAX($V14,MAX(MAX($Y14,$AA14),($B14+-1+22/24)))))+(MAX(0,MIN($U14,MIN($Z14,($B14+1+5/24)))-MAX($T14,MAX(MAX($Y14,$AA14),($B14+0+22/24))))-MAX(0,MIN($W14,MIN($Z14,($B14+1+5/24)))-MAX($V14,MAX(MAX($Y14,$AA14),($B14+0+22/24)))))+(MAX(0,MIN($U14,MIN($Z14,($B14+2+5/24)))-MAX($T14,MAX(MAX($Y14,$AA14),($B14+1+22/24))))-MAX(0,MIN($W14,MIN($Z14,($B14+2+5/24)))-MAX($V14,MAX(MAX($Y14,$AA14),($B14+1+22/24)))))))*24,4)) | M14: =IF(OR($B14="",$C14="",$D14=""),"",ROUND(((MAX(0,MIN($U14,MIN($Z14,($B14+0+5/24)))-MAX($T14,MAX(MAX($Y14,$AA14),($B14+-1+22/24))))-MAX(0,MIN($W14,MIN($Z14,($B14+0+5/24)))-MAX($V14,MAX(MAX($Y14,$AA14),($B14+-1+22/24)))))+(MAX(0,MIN($U14,MIN($Z14,($B14+1+5/24)))-MAX($T14,MAX(MAX($Y14,$AA14),($B14+0+22/24))))-MAX(0,MIN($W14,MIN($Z14,($B14+1+5/24)))-MAX($V14,MAX(MAX($Y14,$AA14),($B14+0+22/24)))))+(MAX(0,MIN($U14,MIN($Z14,($B14+2+5/24)))-MAX($T14,MAX(MAX($Y14,$AA14),($B14+1+22/24))))-MAX(0,MIN($W14,MIN($Z14,($B14+2+5/24)))-MAX($V14,MAX(MAX($Y14,$AA14),($B14+1+22/24))))))*24,4)) | N14: =IF(OR($B14="",$C14="",$D14=""),"",ROUND((IF($G14="はい",(MAX(0,MIN($U14,$X14)-MAX($T14,$T14))-MAX(0,MIN($W14,$X14)-MAX($V14,$T14))),0)+IF($H14="はい",(MAX(0,MIN($U14,$U14)-MAX($T14,$X14))-MAX(0,MIN($W14,$U14)-MAX($V14,$X14))),0)-IF($G14="はい",((MAX(0,MIN($U14,MIN($X14,($B14+0+5/24)))-MAX($T14,MAX($T14,($B14+-1+22/24))))-MAX(0,MIN($W14,MIN($X14,($B14+0+5/24)))-MAX($V14,MAX($T14,($B14+-1+22/24)))))+(MAX(0,MIN($U14,MIN($X14,($B14+1+5/24)))-MAX($T14,MAX($T14,($B14+0+22/24))))-MAX(0,MIN($W14,MIN($X14,($B14+1+5/24)))-MAX($V14,MAX($T14,($B14+0+22/24)))))+(MAX(0,MIN($U14,MIN($X14,($B14+2+5/24)))-MAX($T14,MAX($T14,($B14+1+22/24))))-MAX(0,MIN($W14,MIN($X14,($B14+2+5/24)))-MAX($V14,MAX($T14,($B14+1+22/24)))))),0)-IF($H14="はい",((MAX(0,MIN($U14,MIN($U14,($B14+0+5/24)))-MAX($T14,MAX($X14,($B14+-1+22/24))))-MAX(0,MIN($W14,MIN($U14,($B14+0+5/24)))-MAX($V14,MAX($X14,($B14+-1+22/24)))))+(MAX(0,MIN($U14,MIN($U14,($B14+1+5/24)))-MAX($T14,MAX($X14,($B14+0+22/24))))-MAX(0,MIN($W14,MIN($U14,($B14+1+5/24)))-MAX($V14,MAX($X14,($B14+0+22/24)))))+(MAX(0,MIN($U14,MIN($U14,($B14+2+5/24)))-MAX($T14,MAX($X14,($B14+1+22/24))))-MAX(0,MIN($W14,MIN($U14,($B14+2+5/24)))-MAX($V14,MAX($X14,($B14+1+22/24)))))),0))*24,4)) | O14: =IF(OR($B14="",$C14="",$D14=""),"",ROUND((IF($G14="はい",((MAX(0,MIN($U14,MIN($X14,($B14+0+5/24)))-MAX($T14,MAX($T14,($B14+-1+22/24))))-MAX(0,MIN($W14,MIN($X14,($B14+0+5/24)))-MAX($V14,MAX($T14,($B14+-1+22/24)))))+(MAX(0,MIN($U14,MIN($X14,($B14+1+5/24)))-MAX($T14,MAX($T14,($B14+0+22/24))))-MAX(0,MIN($W14,MIN($X14,($B14+1+5/24)))-MAX($V14,MAX($T14,($B14+0+22/24)))))+(MAX(0,MIN($U14,MIN($X14,($B14+2+5/24)))-MAX($T14,MAX($T14,($B14+1+22/24))))-MAX(0,MIN($W14,MIN($X14,($B14+2+5/24)))-MAX($V14,MAX($T14,($B14+1+22/24)))))),0)+IF($H14="はい",((MAX(0,MIN($U14,MIN($U14,($B14+0+5/24)))-MAX($T14,MAX($X14,($B14+-1+22/24))))-MAX(0,MIN($W14,MIN($U14,($B14+0+5/24)))-MAX($V14,MAX($X14,($B14+-1+22/24)))))+(MAX(0,MIN($U14,MIN($U14,($B14+1+5/24)))-MAX($T14,MAX($X14,($B14+0+22/24))))-MAX(0,MIN($W14,MIN($U14,($B14+1+5/24)))-MAX($V14,MAX($X14,($B14+0+22/24)))))+(MAX(0,MIN($U14,MIN($U14,($B14+2+5/24)))-MAX($T14,MAX($X14,($B14+1+22/24))))-MAX(0,MIN($W14,MIN($U14,($B14+2+5/24)))-MAX($V14,MAX($X14,($B14+1+22/24)))))),0))*24,4)) | P14: =IF(OR($B14="",$C14="",$D14=""),"",ROUND($B$3*SUMPRODUCT($J14:$O14,$J$7:$O$7),0)) | Q14: =IF(OR($B14="",$C14="",$D14=""),"",$P14-ROUND($B$3*$I14,0)) | R14: =IF(OR($B14="",$C14="",$D14=""),"",IF(ABS(SUM($J14:$O14)-$I14)>0.001,"区分の合計がずれた",IF(AND($I14>8,ROUND(($W14-$V14)*24,4)<1),"休憩が1時間に足りない",IF(AND($I14>6,ROUND(($W14-$V14)*24,4)<0.75),"休憩が45分に足りない","")))) | T14: =IF(OR($B14="",$C14="",$D14=""),"",$B14+$C14) | U14: =IF(OR($B14="",$C14="",$D14=""),"",$B14+$D14+IF($D14<=$C14,1,0)) | V14: =IF(OR($B14="",$C14="",$D14=""),"",IF($E14="",$U14,$B14+$E14+IF($E14<$C14,1,0))) | W14: =IF(OR($B14="",$C14="",$D14=""),"",IF(OR($E14="",$F14=""),$V14,$B14+$F14+IF($F14<$C14,1,0))) | X14: =IF(OR($B14="",$C14="",$D14=""),"",$B14+1) | Y14: =IF(OR($B14="",$C14="",$D14=""),"",IF($G14="はい",MAX($T14,$X14),$T14)) | Z14: =IF(OR($B14="",$C14="",$D14=""),"",IF($H14="はい",MIN($U14,$X14),$U14)) | AA14: =IF(OR($B14="",$C14="",$D14=""),"",IF(MAX($V14,$Y14)>=$Y14+8/24,$Y14+8/24,$Y14+8/24+(MAX($W14,$Y14)-MAX($V14,$Y14))))
A15: 元日の日勤（元日は法定休日でない） | B15: 46388 | C15: 0.375 | D15: 0.75 | E15: 0.5 | F15: 0.54166667 | G15: いいえ | H15: いいえ | I15: =IF(OR($B15="",$C15="",$D15=""),"",ROUND((MAX(0,MIN($U15,$U15)-MAX($T15,$T15))-MAX(0,MIN($W15,$U15)-MAX($V15,$T15)))*24,4)) | J15: =IF(OR($B15="",$C15="",$D15=""),"",ROUND(((MAX(0,MIN($U15,MIN($Z15,$AA15))-MAX($T15,$Y15))-MAX(0,MIN($W15,MIN($Z15,$AA15))-MAX($V15,$Y15)))-((MAX(0,MIN($U15,MIN(MIN($Z15,$AA15),($B15+0+5/24)))-MAX($T15,MAX($Y15,($B15+-1+22/24))))-MAX(0,MIN($W15,MIN(MIN($Z15,$AA15),($B15+0+5/24)))-MAX($V15,MAX($Y15,($B15+-1+22/24)))))+(MAX(0,MIN($U15,MIN(MIN($Z15,$AA15),($B15+1+5/24)))-MAX($T15,MAX($Y15,($B15+0+22/24))))-MAX(0,MIN($W15,MIN(MIN($Z15,$AA15),($B15+1+5/24)))-MAX($V15,MAX($Y15,($B15+0+22/24)))))+(MAX(0,MIN($U15,MIN(MIN($Z15,$AA15),($B15+2+5/24)))-MAX($T15,MAX($Y15,($B15+1+22/24))))-MAX(0,MIN($W15,MIN(MIN($Z15,$AA15),($B15+2+5/24)))-MAX($V15,MAX($Y15,($B15+1+22/24)))))))*24,4)) | K15: =IF(OR($B15="",$C15="",$D15=""),"",ROUND(((MAX(0,MIN($U15,MIN(MIN($Z15,$AA15),($B15+0+5/24)))-MAX($T15,MAX($Y15,($B15+-1+22/24))))-MAX(0,MIN($W15,MIN(MIN($Z15,$AA15),($B15+0+5/24)))-MAX($V15,MAX($Y15,($B15+-1+22/24)))))+(MAX(0,MIN($U15,MIN(MIN($Z15,$AA15),($B15+1+5/24)))-MAX($T15,MAX($Y15,($B15+0+22/24))))-MAX(0,MIN($W15,MIN(MIN($Z15,$AA15),($B15+1+5/24)))-MAX($V15,MAX($Y15,($B15+0+22/24)))))+(MAX(0,MIN($U15,MIN(MIN($Z15,$AA15),($B15+2+5/24)))-MAX($T15,MAX($Y15,($B15+1+22/24))))-MAX(0,MIN($W15,MIN(MIN($Z15,$AA15),($B15+2+5/24)))-MAX($V15,MAX($Y15,($B15+1+22/24))))))*24,4)) | L15: =IF(OR($B15="",$C15="",$D15=""),"",ROUND(((MAX(0,MIN($U15,$Z15)-MAX($T15,MAX($Y15,$AA15)))-MAX(0,MIN($W15,$Z15)-MAX($V15,MAX($Y15,$AA15))))-((MAX(0,MIN($U15,MIN($Z15,($B15+0+5/24)))-MAX($T15,MAX(MAX($Y15,$AA15),($B15+-1+22/24))))-MAX(0,MIN($W15,MIN($Z15,($B15+0+5/24)))-MAX($V15,MAX(MAX($Y15,$AA15),($B15+-1+22/24)))))+(MAX(0,MIN($U15,MIN($Z15,($B15+1+5/24)))-MAX($T15,MAX(MAX($Y15,$AA15),($B15+0+22/24))))-MAX(0,MIN($W15,MIN($Z15,($B15+1+5/24)))-MAX($V15,MAX(MAX($Y15,$AA15),($B15+0+22/24)))))+(MAX(0,MIN($U15,MIN($Z15,($B15+2+5/24)))-MAX($T15,MAX(MAX($Y15,$AA15),($B15+1+22/24))))-MAX(0,MIN($W15,MIN($Z15,($B15+2+5/24)))-MAX($V15,MAX(MAX($Y15,$AA15),($B15+1+22/24)))))))*24,4)) | M15: =IF(OR($B15="",$C15="",$D15=""),"",ROUND(((MAX(0,MIN($U15,MIN($Z15,($B15+0+5/24)))-MAX($T15,MAX(MAX($Y15,$AA15),($B15+-1+22/24))))-MAX(0,MIN($W15,MIN($Z15,($B15+0+5/24)))-MAX($V15,MAX(MAX($Y15,$AA15),($B15+-1+22/24)))))+(MAX(0,MIN($U15,MIN($Z15,($B15+1+5/24)))-MAX($T15,MAX(MAX($Y15,$AA15),($B15+0+22/24))))-MAX(0,MIN($W15,MIN($Z15,($B15+1+5/24)))-MAX($V15,MAX(MAX($Y15,$AA15),($B15+0+22/24)))))+(MAX(0,MIN($U15,MIN($Z15,($B15+2+5/24)))-MAX($T15,MAX(MAX($Y15,$AA15),($B15+1+22/24))))-MAX(0,MIN($W15,MIN($Z15,($B15+2+5/24)))-MAX($V15,MAX(MAX($Y15,$AA15),($B15+1+22/24))))))*24,4)) | N15: =IF(OR($B15="",$C15="",$D15=""),"",ROUND((IF($G15="はい",(MAX(0,MIN($U15,$X15)-MAX($T15,$T15))-MAX(0,MIN($W15,$X15)-MAX($V15,$T15))),0)+IF($H15="はい",(MAX(0,MIN($U15,$U15)-MAX($T15,$X15))-MAX(0,MIN($W15,$U15)-MAX($V15,$X15))),0)-IF($G15="はい",((MAX(0,MIN($U15,MIN($X15,($B15+0+5/24)))-MAX($T15,MAX($T15,($B15+-1+22/24))))-MAX(0,MIN($W15,MIN($X15,($B15+0+5/24)))-MAX($V15,MAX($T15,($B15+-1+22/24)))))+(MAX(0,MIN($U15,MIN($X15,($B15+1+5/24)))-MAX($T15,MAX($T15,($B15+0+22/24))))-MAX(0,MIN($W15,MIN($X15,($B15+1+5/24)))-MAX($V15,MAX($T15,($B15+0+22/24)))))+(MAX(0,MIN($U15,MIN($X15,($B15+2+5/24)))-MAX($T15,MAX($T15,($B15+1+22/24))))-MAX(0,MIN($W15,MIN($X15,($B15+2+5/24)))-MAX($V15,MAX($T15,($B15+1+22/24)))))),0)-IF($H15="はい",((MAX(0,MIN($U15,MIN($U15,($B15+0+5/24)))-MAX($T15,MAX($X15,($B15+-1+22/24))))-MAX(0,MIN($W15,MIN($U15,($B15+0+5/24)))-MAX($V15,MAX($X15,($B15+-1+22/24)))))+(MAX(0,MIN($U15,MIN($U15,($B15+1+5/24)))-MAX($T15,MAX($X15,($B15+0+22/24))))-MAX(0,MIN($W15,MIN($U15,($B15+1+5/24)))-MAX($V15,MAX($X15,($B15+0+22/24)))))+(MAX(0,MIN($U15,MIN($U15,($B15+2+5/24)))-MAX($T15,MAX($X15,($B15+1+22/24))))-MAX(0,MIN($W15,MIN($U15,($B15+2+5/24)))-MAX($V15,MAX($X15,($B15+1+22/24)))))),0))*24,4)) | O15: =IF(OR($B15="",$C15="",$D15=""),"",ROUND((IF($G15="はい",((MAX(0,MIN($U15,MIN($X15,($B15+0+5/24)))-MAX($T15,MAX($T15,($B15+-1+22/24))))-MAX(0,MIN($W15,MIN($X15,($B15+0+5/24)))-MAX($V15,MAX($T15,($B15+-1+22/24)))))+(MAX(0,MIN($U15,MIN($X15,($B15+1+5/24)))-MAX($T15,MAX($T15,($B15+0+22/24))))-MAX(0,MIN($W15,MIN($X15,($B15+1+5/24)))-MAX($V15,MAX($T15,($B15+0+22/24)))))+(MAX(0,MIN($U15,MIN($X15,($B15+2+5/24)))-MAX($T15,MAX($T15,($B15+1+22/24))))-MAX(0,MIN($W15,MIN($X15,($B15+2+5/24)))-MAX($V15,MAX($T15,($B15+1+22/24)))))),0)+IF($H15="はい",((MAX(0,MIN($U15,MIN($U15,($B15+0+5/24)))-MAX($T15,MAX($X15,($B15+-1+22/24))))-MAX(0,MIN($W15,MIN($U15,($B15+0+5/24)))-MAX($V15,MAX($X15,($B15+-1+22/24)))))+(MAX(0,MIN($U15,MIN($U15,($B15+1+5/24)))-MAX($T15,MAX($X15,($B15+0+22/24))))-MAX(0,MIN($W15,MIN($U15,($B15+1+5/24)))-MAX($V15,MAX($X15,($B15+0+22/24)))))+(MAX(0,MIN($U15,MIN($U15,($B15+2+5/24)))-MAX($T15,MAX($X15,($B15+1+22/24))))-MAX(0,MIN($W15,MIN($U15,($B15+2+5/24)))-MAX($V15,MAX($X15,($B15+1+22/24)))))),0))*24,4)) | P15: =IF(OR($B15="",$C15="",$D15=""),"",ROUND($B$3*SUMPRODUCT($J15:$O15,$J$7:$O$7),0)) | Q15: =IF(OR($B15="",$C15="",$D15=""),"",$P15-ROUND($B$3*$I15,0)) | R15: =IF(OR($B15="",$C15="",$D15=""),"",IF(ABS(SUM($J15:$O15)-$I15)>0.001,"区分の合計がずれた",IF(AND($I15>8,ROUND(($W15-$V15)*24,4)<1),"休憩が1時間に足りない",IF(AND($I15>6,ROUND(($W15-$V15)*24,4)<0.75),"休憩が45分に足りない","")))) | T15: =IF(OR($B15="",$C15="",$D15=""),"",$B15+$C15) | U15: =IF(OR($B15="",$C15="",$D15=""),"",$B15+$D15+IF($D15<=$C15,1,0)) | V15: =IF(OR($B15="",$C15="",$D15=""),"",IF($E15="",$U15,$B15+$E15+IF($E15<$C15,1,0))) | W15: =IF(OR($B15="",$C15="",$D15=""),"",IF(OR($E15="",$F15=""),$V15,$B15+$F15+IF($F15<$C15,1,0))) | X15: =IF(OR($B15="",$C15="",$D15=""),"",$B15+1) | Y15: =IF(OR($B15="",$C15="",$D15=""),"",IF($G15="はい",MAX($T15,$X15),$T15)) | Z15: =IF(OR($B15="",$C15="",$D15=""),"",IF($H15="はい",MIN($U15,$X15),$U15)) | AA15: =IF(OR($B15="",$C15="",$D15=""),"",IF(MAX($V15,$Y15)>=$Y15+8/24,$Y15+8/24,$Y15+8/24+(MAX($W15,$Y15)-MAX($V15,$Y15))))
A16: 大晦日の夜勤 休憩なし（元日は法定休日でない） | B16: 46387 | C16: 0.91666667 | D16: 0.20833333 | G16: いいえ | H16: いいえ | I16: =IF(OR($B16="",$C16="",$D16=""),"",ROUND((MAX(0,MIN($U16,$U16)-MAX($T16,$T16))-MAX(0,MIN($W16,$U16)-MAX($V16,$T16)))*24,4)) | J16: =IF(OR($B16="",$C16="",$D16=""),"",ROUND(((MAX(0,MIN($U16,MIN($Z16,$AA16))-MAX($T16,$Y16))-MAX(0,MIN($W16,MIN($Z16,$AA16))-MAX($V16,$Y16)))-((MAX(0,MIN($U16,MIN(MIN($Z16,$AA16),($B16+0+5/24)))-MAX($T16,MAX($Y16,($B16+-1+22/24))))-MAX(0,MIN($W16,MIN(MIN($Z16,$AA16),($B16+0+5/24)))-MAX($V16,MAX($Y16,($B16+-1+22/24)))))+(MAX(0,MIN($U16,MIN(MIN($Z16,$AA16),($B16+1+5/24)))-MAX($T16,MAX($Y16,($B16+0+22/24))))-MAX(0,MIN($W16,MIN(MIN($Z16,$AA16),($B16+1+5/24)))-MAX($V16,MAX($Y16,($B16+0+22/24)))))+(MAX(0,MIN($U16,MIN(MIN($Z16,$AA16),($B16+2+5/24)))-MAX($T16,MAX($Y16,($B16+1+22/24))))-MAX(0,MIN($W16,MIN(MIN($Z16,$AA16),($B16+2+5/24)))-MAX($V16,MAX($Y16,($B16+1+22/24)))))))*24,4)) | K16: =IF(OR($B16="",$C16="",$D16=""),"",ROUND(((MAX(0,MIN($U16,MIN(MIN($Z16,$AA16),($B16+0+5/24)))-MAX($T16,MAX($Y16,($B16+-1+22/24))))-MAX(0,MIN($W16,MIN(MIN($Z16,$AA16),($B16+0+5/24)))-MAX($V16,MAX($Y16,($B16+-1+22/24)))))+(MAX(0,MIN($U16,MIN(MIN($Z16,$AA16),($B16+1+5/24)))-MAX($T16,MAX($Y16,($B16+0+22/24))))-MAX(0,MIN($W16,MIN(MIN($Z16,$AA16),($B16+1+5/24)))-MAX($V16,MAX($Y16,($B16+0+22/24)))))+(MAX(0,MIN($U16,MIN(MIN($Z16,$AA16),($B16+2+5/24)))-MAX($T16,MAX($Y16,($B16+1+22/24))))-MAX(0,MIN($W16,MIN(MIN($Z16,$AA16),($B16+2+5/24)))-MAX($V16,MAX($Y16,($B16+1+22/24))))))*24,4)) | L16: =IF(OR($B16="",$C16="",$D16=""),"",ROUND(((MAX(0,MIN($U16,$Z16)-MAX($T16,MAX($Y16,$AA16)))-MAX(0,MIN($W16,$Z16)-MAX($V16,MAX($Y16,$AA16))))-((MAX(0,MIN($U16,MIN($Z16,($B16+0+5/24)))-MAX($T16,MAX(MAX($Y16,$AA16),($B16+-1+22/24))))-MAX(0,MIN($W16,MIN($Z16,($B16+0+5/24)))-MAX($V16,MAX(MAX($Y16,$AA16),($B16+-1+22/24)))))+(MAX(0,MIN($U16,MIN($Z16,($B16+1+5/24)))-MAX($T16,MAX(MAX($Y16,$AA16),($B16+0+22/24))))-MAX(0,MIN($W16,MIN($Z16,($B16+1+5/24)))-MAX($V16,MAX(MAX($Y16,$AA16),($B16+0+22/24)))))+(MAX(0,MIN($U16,MIN($Z16,($B16+2+5/24)))-MAX($T16,MAX(MAX($Y16,$AA16),($B16+1+22/24))))-MAX(0,MIN($W16,MIN($Z16,($B16+2+5/24)))-MAX($V16,MAX(MAX($Y16,$AA16),($B16+1+22/24)))))))*24,4)) | M16: =IF(OR($B16="",$C16="",$D16=""),"",ROUND(((MAX(0,MIN($U16,MIN($Z16,($B16+0+5/24)))-MAX($T16,MAX(MAX($Y16,$AA16),($B16+-1+22/24))))-MAX(0,MIN($W16,MIN($Z16,($B16+0+5/24)))-MAX($V16,MAX(MAX($Y16,$AA16),($B16+-1+22/24)))))+(MAX(0,MIN($U16,MIN($Z16,($B16+1+5/24)))-MAX($T16,MAX(MAX($Y16,$AA16),($B16+0+22/24))))-MAX(0,MIN($W16,MIN($Z16,($B16+1+5/24)))-MAX($V16,MAX(MAX($Y16,$AA16),($B16+0+22/24)))))+(MAX(0,MIN($U16,MIN($Z16,($B16+2+5/24)))-MAX($T16,MAX(MAX($Y16,$AA16),($B16+1+22/24))))-MAX(0,MIN($W16,MIN($Z16,($B16+2+5/24)))-MAX($V16,MAX(MAX($Y16,$AA16),($B16+1+22/24))))))*24,4)) | N16: =IF(OR($B16="",$C16="",$D16=""),"",ROUND((IF($G16="はい",(MAX(0,MIN($U16,$X16)-MAX($T16,$T16))-MAX(0,MIN($W16,$X16)-MAX($V16,$T16))),0)+IF($H16="はい",(MAX(0,MIN($U16,$U16)-MAX($T16,$X16))-MAX(0,MIN($W16,$U16)-MAX($V16,$X16))),0)-IF($G16="はい",((MAX(0,MIN($U16,MIN($X16,($B16+0+5/24)))-MAX($T16,MAX($T16,($B16+-1+22/24))))-MAX(0,MIN($W16,MIN($X16,($B16+0+5/24)))-MAX($V16,MAX($T16,($B16+-1+22/24)))))+(MAX(0,MIN($U16,MIN($X16,($B16+1+5/24)))-MAX($T16,MAX($T16,($B16+0+22/24))))-MAX(0,MIN($W16,MIN($X16,($B16+1+5/24)))-MAX($V16,MAX($T16,($B16+0+22/24)))))+(MAX(0,MIN($U16,MIN($X16,($B16+2+5/24)))-MAX($T16,MAX($T16,($B16+1+22/24))))-MAX(0,MIN($W16,MIN($X16,($B16+2+5/24)))-MAX($V16,MAX($T16,($B16+1+22/24)))))),0)-IF($H16="はい",((MAX(0,MIN($U16,MIN($U16,($B16+0+5/24)))-MAX($T16,MAX($X16,($B16+-1+22/24))))-MAX(0,MIN($W16,MIN($U16,($B16+0+5/24)))-MAX($V16,MAX($X16,($B16+-1+22/24)))))+(MAX(0,MIN($U16,MIN($U16,($B16+1+5/24)))-MAX($T16,MAX($X16,($B16+0+22/24))))-MAX(0,MIN($W16,MIN($U16,($B16+1+5/24)))-MAX($V16,MAX($X16,($B16+0+22/24)))))+(MAX(0,MIN($U16,MIN($U16,($B16+2+5/24)))-MAX($T16,MAX($X16,($B16+1+22/24))))-MAX(0,MIN($W16,MIN($U16,($B16+2+5/24)))-MAX($V16,MAX($X16,($B16+1+22/24)))))),0))*24,4)) | O16: =IF(OR($B16="",$C16="",$D16=""),"",ROUND((IF($G16="はい",((MAX(0,MIN($U16,MIN($X16,($B16+0+5/24)))-MAX($T16,MAX($T16,($B16+-1+22/24))))-MAX(0,MIN($W16,MIN($X16,($B16+0+5/24)))-MAX($V16,MAX($T16,($B16+-1+22/24)))))+(MAX(0,MIN($U16,MIN($X16,($B16+1+5/24)))-MAX($T16,MAX($T16,($B16+0+22/24))))-MAX(0,MIN($W16,MIN($X16,($B16+1+5/24)))-MAX($V16,MAX($T16,($B16+0+22/24)))))+(MAX(0,MIN($U16,MIN($X16,($B16+2+5/24)))-MAX($T16,MAX($T16,($B16+1+22/24))))-MAX(0,MIN($W16,MIN($X16,($B16+2+5/24)))-MAX($V16,MAX($T16,($B16+1+22/24)))))),0)+IF($H16="はい",((MAX(0,MIN($U16,MIN($U16,($B16+0+5/24)))-MAX($T16,MAX($X16,($B16+-1+22/24))))-MAX(0,MIN($W16,MIN($U16,($B16+0+5/24)))-MAX($V16,MAX($X16,($B16+-1+22/24)))))+(MAX(0,MIN($U16,MIN($U16,($B16+1+5/24)))-MAX($T16,MAX($X16,($B16+0+22/24))))-MAX(0,MIN($W16,MIN($U16,($B16+1+5/24)))-MAX($V16,MAX($X16,($B16+0+22/24)))))+(MAX(0,MIN($U16,MIN($U16,($B16+2+5/24)))-MAX($T16,MAX($X16,($B16+1+22/24))))-MAX(0,MIN($W16,MIN($U16,($B16+2+5/24)))-MAX($V16,MAX($X16,($B16+1+22/24)))))),0))*24,4)) | P16: =IF(OR($B16="",$C16="",$D16=""),"",ROUND($B$3*SUMPRODUCT($J16:$O16,$J$7:$O$7),0)) | Q16: =IF(OR($B16="",$C16="",$D16=""),"",$P16-ROUND($B$3*$I16,0)) | R16: =IF(OR($B16="",$C16="",$D16=""),"",IF(ABS(SUM($J16:$O16)-$I16)>0.001,"区分の合計がずれた",IF(AND($I16>8,ROUND(($W16-$V16)*24,4)<1),"休憩が1時間に足りない",IF(AND($I16>6,ROUND(($W16-$V16)*24,4)<0.75),"休憩が45分に足りない","")))) | T16: =IF(OR($B16="",$C16="",$D16=""),"",$B16+$C16) | U16: =IF(OR($B16="",$C16="",$D16=""),"",$B16+$D16+IF($D16<=$C16,1,0)) | V16: =IF(OR($B16="",$C16="",$D16=""),"",IF($E16="",$U16,$B16+$E16+IF($E16<$C16,1,0))) | W16: =IF(OR($B16="",$C16="",$D16=""),"",IF(OR($E16="",$F16=""),$V16,$B16+$F16+IF($F16<$C16,1,0))) | X16: =IF(OR($B16="",$C16="",$D16=""),"",$B16+1) | Y16: =IF(OR($B16="",$C16="",$D16=""),"",IF($G16="はい",MAX($T16,$X16),$T16)) | Z16: =IF(OR($B16="",$C16="",$D16=""),"",IF($H16="はい",MIN($U16,$X16),$U16)) | AA16: =IF(OR($B16="",$C16="",$D16=""),"",IF(MAX($V16,$Y16)>=$Y16+8/24,$Y16+8/24,$Y16+8/24+(MAX($W16,$Y16)-MAX($V16,$Y16))))
G17: いいえ | H17: いいえ | I17: =IF(OR($B17="",$C17="",$D17=""),"",ROUND((MAX(0,MIN($U17,$U17)-MAX($T17,$T17))-MAX(0,MIN($W17,$U17)-MAX($V17,$T17)))*24,4)) | J17: =IF(OR($B17="",$C17="",$D17=""),"",ROUND(((MAX(0,MIN($U17,MIN($Z17,$AA17))-MAX($T17,$Y17))-MAX(0,MIN($W17,MIN($Z17,$AA17))-MAX($V17,$Y17)))-((MAX(0,MIN($U17,MIN(MIN($Z17,$AA17),($B17+0+5/24)))-MAX($T17,MAX($Y17,($B17+-1+22/24))))-MAX(0,MIN($W17,MIN(MIN($Z17,$AA17),($B17+0+5/24)))-MAX($V17,MAX($Y17,($B17+-1+22/24)))))+(MAX(0,MIN($U17,MIN(MIN($Z17,$AA17),($B17+1+5/24)))-MAX($T17,MAX($Y17,($B17+0+22/24))))-MAX(0,MIN($W17,MIN(MIN($Z17,$AA17),($B17+1+5/24)))-MAX($V17,MAX($Y17,($B17+0+22/24)))))+(MAX(0,MIN($U17,MIN(MIN($Z17,$AA17),($B17+2+5/24)))-MAX($T17,MAX($Y17,($B17+1+22/24))))-MAX(0,MIN($W17,MIN(MIN($Z17,$AA17),($B17+2+5/24)))-MAX($V17,MAX($Y17,($B17+1+22/24)))))))*24,4)) | K17: =IF(OR($B17="",$C17="",$D17=""),"",ROUND(((MAX(0,MIN($U17,MIN(MIN($Z17,$AA17),($B17+0+5/24)))-MAX($T17,MAX($Y17,($B17+-1+22/24))))-MAX(0,MIN($W17,MIN(MIN($Z17,$AA17),($B17+0+5/24)))-MAX($V17,MAX($Y17,($B17+-1+22/24)))))+(MAX(0,MIN($U17,MIN(MIN($Z17,$AA17),($B17+1+5/24)))-MAX($T17,MAX($Y17,($B17+0+22/24))))-MAX(0,MIN($W17,MIN(MIN($Z17,$AA17),($B17+1+5/24)))-MAX($V17,MAX($Y17,($B17+0+22/24)))))+(MAX(0,MIN($U17,MIN(MIN($Z17,$AA17),($B17+2+5/24)))-MAX($T17,MAX($Y17,($B17+1+22/24))))-MAX(0,MIN($W17,MIN(MIN($Z17,$AA17),($B17+2+5/24)))-MAX($V17,MAX($Y17,($B17+1+22/24))))))*24,4)) | L17: =IF(OR($B17="",$C17="",$D17=""),"",ROUND(((MAX(0,MIN($U17,$Z17)-MAX($T17,MAX($Y17,$AA17)))-MAX(0,MIN($W17,$Z17)-MAX($V17,MAX($Y17,$AA17))))-((MAX(0,MIN($U17,MIN($Z17,($B17+0+5/24)))-MAX($T17,MAX(MAX($Y17,$AA17),($B17+-1+22/24))))-MAX(0,MIN($W17,MIN($Z17,($B17+0+5/24)))-MAX($V17,MAX(MAX($Y17,$AA17),($B17+-1+22/24)))))+(MAX(0,MIN($U17,MIN($Z17,($B17+1+5/24)))-MAX($T17,MAX(MAX($Y17,$AA17),($B17+0+22/24))))-MAX(0,MIN($W17,MIN($Z17,($B17+1+5/24)))-MAX($V17,MAX(MAX($Y17,$AA17),($B17+0+22/24)))))+(MAX(0,MIN($U17,MIN($Z17,($B17+2+5/24)))-MAX($T17,MAX(MAX($Y17,$AA17),($B17+1+22/24))))-MAX(0,MIN($W17,MIN($Z17,($B17+2+5/24)))-MAX($V17,MAX(MAX($Y17,$AA17),($B17+1+22/24)))))))*24,4)) | M17: =IF(OR($B17="",$C17="",$D17=""),"",ROUND(((MAX(0,MIN($U17,MIN($Z17,($B17+0+5/24)))-MAX($T17,MAX(MAX($Y17,$AA17),($B17+-1+22/24))))-MAX(0,MIN($W17,MIN($Z17,($B17+0+5/24)))-MAX($V17,MAX(MAX($Y17,$AA17),($B17+-1+22/24)))))+(MAX(0,MIN($U17,MIN($Z17,($B17+1+5/24)))-MAX($T17,MAX(MAX($Y17,$AA17),($B17+0+22/24))))-MAX(0,MIN($W17,MIN($Z17,($B17+1+5/24)))-MAX($V17,MAX(MAX($Y17,$AA17),($B17+0+22/24)))))+(MAX(0,MIN($U17,MIN($Z17,($B17+2+5/24)))-MAX($T17,MAX(MAX($Y17,$AA17),($B17+1+22/24))))-MAX(0,MIN($W17,MIN($Z17,($B17+2+5/24)))-MAX($V17,MAX(MAX($Y17,$AA17),($B17+1+22/24))))))*24,4)) | N17: =IF(OR($B17="",$C17="",$D17=""),"",ROUND((IF($G17="はい",(MAX(0,MIN($U17,$X17)-MAX($T17,$T17))-MAX(0,MIN($W17,$X17)-MAX($V17,$T17))),0)+IF($H17="はい",(MAX(0,MIN($U17,$U17)-MAX($T17,$X17))-MAX(0,MIN($W17,$U17)-MAX($V17,$X17))),0)-IF($G17="はい",((MAX(0,MIN($U17,MIN($X17,($B17+0+5/24)))-MAX($T17,MAX($T17,($B17+-1+22/24))))-MAX(0,MIN($W17,MIN($X17,($B17+0+5/24)))-MAX($V17,MAX($T17,($B17+-1+22/24)))))+(MAX(0,MIN($U17,MIN($X17,($B17+1+5/24)))-MAX($T17,MAX($T17,($B17+0+22/24))))-MAX(0,MIN($W17,MIN($X17,($B17+1+5/24)))-MAX($V17,MAX($T17,($B17+0+22/24)))))+(MAX(0,MIN($U17,MIN($X17,($B17+2+5/24)))-MAX($T17,MAX($T17,($B17+1+22/24))))-MAX(0,MIN($W17,MIN($X17,($B17+2+5/24)))-MAX($V17,MAX($T17,($B17+1+22/24)))))),0)-IF($H17="はい",((MAX(0,MIN($U17,MIN($U17,($B17+0+5/24)))-MAX($T17,MAX($X17,($B17+-1+22/24))))-MAX(0,MIN($W17,MIN($U17,($B17+0+5/24)))-MAX($V17,MAX($X17,($B17+-1+22/24)))))+(MAX(0,MIN($U17,MIN($U17,($B17+1+5/24)))-MAX($T17,MAX($X17,($B17+0+22/24))))-MAX(0,MIN($W17,MIN($U17,($B17+1+5/24)))-MAX($V17,MAX($X17,($B17+0+22/24)))))+(MAX(0,MIN($U17,MIN($U17,($B17+2+5/24)))-MAX($T17,MAX($X17,($B17+1+22/24))))-MAX(0,MIN($W17,MIN($U17,($B17+2+5/24)))-MAX($V17,MAX($X17,($B17+1+22/24)))))),0))*24,4)) | O17: =IF(OR($B17="",$C17="",$D17=""),"",ROUND((IF($G17="はい",((MAX(0,MIN($U17,MIN($X17,($B17+0+5/24)))-MAX($T17,MAX($T17,($B17+-1+22/24))))-MAX(0,MIN($W17,MIN($X17,($B17+0+5/24)))-MAX($V17,MAX($T17,($B17+-1+22/24)))))+(MAX(0,MIN($U17,MIN($X17,($B17+1+5/24)))-MAX($T17,MAX($T17,($B17+0+22/24))))-MAX(0,MIN($W17,MIN($X17,($B17+1+5/24)))-MAX($V17,MAX($T17,($B17+0+22/24)))))+(MAX(0,MIN($U17,MIN($X17,($B17+2+5/24)))-MAX($T17,MAX($T17,($B17+1+22/24))))-MAX(0,MIN($W17,MIN($X17,($B17+2+5/24)))-MAX($V17,MAX($T17,($B17+1+22/24)))))),0)+IF($H17="はい",((MAX(0,MIN($U17,MIN($U17,($B17+0+5/24)))-MAX($T17,MAX($X17,($B17+-1+22/24))))-MAX(0,MIN($W17,MIN($U17,($B17+0+5/24)))-MAX($V17,MAX($X17,($B17+-1+22/24)))))+(MAX(0,MIN($U17,MIN($U17,($B17+1+5/24)))-MAX($T17,MAX($X17,($B17+0+22/24))))-MAX(0,MIN($W17,MIN($U17,($B17+1+5/24)))-MAX($V17,MAX($X17,($B17+0+22/24)))))+(MAX(0,MIN($U17,MIN($U17,($B17+2+5/24)))-MAX($T17,MAX($X17,($B17+1+22/24))))-MAX(0,MIN($W17,MIN($U17,($B17+2+5/24)))-MAX($V17,MAX($X17,($B17+1+22/24)))))),0))*24,4)) | P17: =IF(OR($B17="",$C17="",$D17=""),"",ROUND($B$3*SUMPRODUCT($J17:$O17,$J$7:$O$7),0)) | Q17: =IF(OR($B17="",$C17="",$D17=""),"",$P17-ROUND($B$3*$I17,0)) | R17: =IF(OR($B17="",$C17="",$D17=""),"",IF(ABS(SUM($J17:$O17)-$I17)>0.001,"区分の合計がずれた",IF(AND($I17>8,ROUND(($W17-$V17)*24,4)<1),"休憩が1時間に足りない",IF(AND($I17>6,ROUND(($W17-$V17)*24,4)<0.75),"休憩が45分に足りない","")))) | T17: =IF(OR($B17="",$C17="",$D17=""),"",$B17+$C17) | U17: =IF(OR($B17="",$C17="",$D17=""),"",$B17+$D17+IF($D17<=$C17,1,0)) | V17: =IF(OR($B17="",$C17="",$D17=""),"",IF($E17="",$U17,$B17+$E17+IF($E17<$C17,1,0))) | W17: =IF(OR($B17="",$C17="",$D17=""),"",IF(OR($E17="",$F17=""),$V17,$B17+$F17+IF($F17<$C17,1,0))) | X17: =IF(OR($B17="",$C17="",$D17=""),"",$B17+1) | Y17: =IF(OR($B17="",$C17="",$D17=""),"",IF($G17="はい",MAX($T17,$X17),$T17)) | Z17: =IF(OR($B17="",$C17="",$D17=""),"",IF($H17="はい",MIN($U17,$X17),$U17)) | AA17: =IF(OR($B17="",$C17="",$D17=""),"",IF(MAX($V17,$Y17)>=$Y17+8/24,$Y17+8/24,$Y17+8/24+(MAX($W17,$Y17)-MAX($V17,$Y17))))
