Workbook

Sheet 1_割増の計算
A1: 大晦日から元日にかけての勤務の割増賃金（法定休日は0時から24時の暦日で切る）
A2: 黄色い欄を埋める。終業が始業より前の時刻なら翌日の終業として数える。勤務は24時間未満、休憩は1回まで
A3: 1時間あたりの賃金（円） | B3: 1500 | C3: 月給の人は、割増の基礎に入る月給 ÷ 1か月平均の所定労働時間（労働基準法施行規則第19条）
A4: 法定休日は就業規則で決めた週1日（または4週4日）の休日。国民の祝日だからといって法定休日になるわけではない
A5: 率は法律の最低の率。会社がそれより高い率を決めているなら7行目を書き換える
I7: 率 | J7: 1 | K7: 1.25 | L7: 1.25 | M7: 1.5 | N7: 1.35 | O7: 1.6 | T7: ここから右は計算の途中の値
A8: 勤務 | B8: 始業日 | C8: 始業 | D8: 終業 | E8: 休憩の始め | F8: 休憩の終わり | G8: 始業日は法定休日か | H8: 翌日は法定休日か | I8: 実働（時間） | J8: 法定内 | K8: 法定内の深夜 | L8: 時間外 | M8: 時間外の深夜 | N8: 法定休日 | O8: 法定休日の深夜 | P8: 賃金（円） | Q8: うち割増の分 | R8: 確認 | T8: 始業の日時 | U8: 終業の日時 | V8: 休憩の始め | W8: 休憩の終わり | X8: 始業日の翌日0時 | Y8: 法定休日でない分の始め | Z8: 法定休日でない分の終わり | AA8: 8時間に達する時刻
A9: 大晦日の夜勤（元日は法定休日でない） | B9: 46387 | C9: 0.91666667 | D9: 0.20833333 | E9: 0.083333333 | F9: 0.125 | G9: いいえ | H9: いいえ | I9: =IF(OR($B9="",$C9="",$D9=""),"",ROUND((MAX(0,MIN($U9,$U9)-MAX($T9,$T9))-MAX(0,MIN($W9,$U9)-MAX($V9,$T9)))*24,4)) | J9: =IF(OR($B9="",$C9="",$D9=""),"",ROUND(((MAX(0,MIN($U9,MIN($Z9,$AA9))-MAX($T9,$Y9))-MAX(0,MIN($W9,MIN($Z9,$AA9))-MAX($V9,$Y9)))-((MAX(0,MIN($U9,MIN(MIN($Z9,$AA9),($B9+0+5/24)))-MAX($T9,MAX($Y9,($B9+-1+22/24))))-MAX(0,MIN($W9,MIN(MIN($Z9,$AA9),($B9+0+5/24)))-MAX($V9,MAX($Y9,($B9+-1+22/24)))))+(MAX(0,MIN($U9,MIN(MIN($Z9,$AA9),($B9+1+5/24)))-MAX($T9,MAX($Y9,($B9+0+22/24))))-MAX(0,MIN($W9,MIN(MIN($Z9,$AA9),($B9+1+5/24)))-MAX($V9,MAX($Y9,($B9+0+22/24)))))+(MAX(0,MIN($U9,MIN(MIN($Z9,$AA9),($B9+2+5/24)))-MAX($T9,MAX($Y9,($B9+1+22/24))))-MAX(0,MIN($W9,MIN(MIN($Z9,$AA9),($B9+2+5/24)))-MAX($V9,MAX($Y9,($B9+1+22/24)))))))*24,4)) | K9: =IF(OR($B9="",$C9="",$D9=""),"",ROUND(((MAX(0,MIN($U9,MIN(MIN($Z9,$AA9),($B9+0+5/24)))-MAX($T9,MAX($Y9,($B9+-1+22/24))))-MAX(0,MIN($W9,MIN(MIN($Z9,$AA9),($B9+0+5/24)))-MAX($V9,MAX($Y9,($B9+-1+22/24)))))+(MAX(0,MIN($U9,MIN(MIN($Z9,$AA9),($B9+1+5/24)))-MAX($T9,MAX($Y9,($B9+0+22/24))))-MAX(0,MIN($W9,MIN(MIN($Z9,$AA9),($B9+1+5/24)))-MAX($V9,MAX($Y9,($B9+0+22/24)))))+(MAX(0,MIN($U9,MIN(MIN($Z9,$AA9),($B9+2+5/24)))-MAX($T9,MAX($Y9,($B9+1+22/24))))-MAX(0,MIN($W9,MIN(MIN($Z9,$AA9),($B9+2+5/24)))-MAX($V9,MAX($Y9,($B9+1+22/24))))))*24,4)) | L9: =IF(OR($B9="",$C9="",$D9=""),"",ROUND(((MAX(0,MIN($U9,$Z9)-MAX($T9,MAX($Y9,$AA9)))-MAX(0,MIN($W9,$Z9)-MAX($V9,MAX($Y9,$AA9))))-((MAX(0,MIN($U9,MIN($Z9,($B9+0+5/24)))-MAX($T9,MAX(MAX($Y9,$AA9),($B9+-1+22/24))))-MAX(0,MIN($W9,MIN($Z9,($B9+0+5/24)))-MAX($V9,MAX(MAX($Y9,$AA9),($B9+-1+22/24)))))+(MAX(0,MIN($U9,MIN($Z9,($B9+1+5/24)))-MAX($T9,MAX(MAX($Y9,$AA9),($B9+0+22/24))))-MAX(0,MIN($W9,MIN($Z9,($B9+1+5/24)))-MAX($V9,MAX(MAX($Y9,$AA9),($B9+0+22/24)))))+(MAX(0,MIN($U9,MIN($Z9,($B9+2+5/24)))-MAX($T9,MAX(MAX($Y9,$AA9),($B9+1+22/24))))-MAX(0,MIN($W9,MIN($Z9,($B9+2+5/24)))-MAX($V9,MAX(MAX($Y9,$AA9),($B9+1+22/24)))))))*24,4)) | M9: =IF(OR($B9="",$C9="",$D9=""),"",ROUND(((MAX(0,MIN($U9,MIN($Z9,($B9+0+5/24)))-MAX($T9,MAX(MAX($Y9,$AA9),($B9+-1+22/24))))-MAX(0,MIN($W9,MIN($Z9,($B9+0+5/24)))-MAX($V9,MAX(MAX($Y9,$AA9),($B9+-1+22/24)))))+(MAX(0,MIN($U9,MIN($Z9,($B9+1+5/24)))-MAX($T9,MAX(MAX($Y9,$AA9),($B9+0+22/24))))-MAX(0,MIN($W9,MIN($Z9,($B9+1+5/24)))-MAX($V9,MAX(MAX($Y9,$AA9),($B9+0+22/24)))))+(MAX(0,MIN($U9,MIN($Z9,($B9+2+5/24)))-MAX($T9,MAX(MAX($Y9,$AA9),($B9+1+22/24))))-MAX(0,MIN($W9,MIN($Z9,($B9+2+5/24)))-MAX($V9,MAX(MAX($Y9,$AA9),($B9+1+22/24))))))*24,4)) | N9: =IF(OR($B9="",$C9="",$D9=""),"",ROUND((IF($G9="はい",(MAX(0,MIN($U9,$X9)-MAX($T9,$T9))-MAX(0,MIN($W9,$X9)-MAX($V9,$T9))),0)+IF($H9="はい",(MAX(0,MIN($U9,$U9)-MAX($T9,$X9))-MAX(0,MIN($W9,$U9)-MAX($V9,$X9))),0)-IF($G9="はい",((MAX(0,MIN($U9,MIN($X9,($B9+0+5/24)))-MAX($T9,MAX($T9,($B9+-1+22/24))))-MAX(0,MIN($W9,MIN($X9,($B9+0+5/24)))-MAX($V9,MAX($T9,($B9+-1+22/24)))))+(MAX(0,MIN($U9,MIN($X9,($B9+1+5/24)))-MAX($T9,MAX($T9,($B9+0+22/24))))-MAX(0,MIN($W9,MIN($X9,($B9+1+5/24)))-MAX($V9,MAX($T9,($B9+0+22/24)))))+(MAX(0,MIN($U9,MIN($X9,($B9+2+5/24)))-MAX($T9,MAX($T9,($B9+1+22/24))))-MAX(0,MIN($W9,MIN($X9,($B9+2+5/24)))-MAX($V9,MAX($T9,($B9+1+22/24)))))),0)-IF($H9="はい",((MAX(0,MIN($U9,MIN($U9,($B9+0+5/24)))-MAX($T9,MAX($X9,($B9+-1+22/24))))-MAX(0,MIN($W9,MIN($U9,($B9+0+5/24)))-MAX($V9,MAX($X9,($B9+-1+22/24)))))+(MAX(0,MIN($U9,MIN($U9,($B9+1+5/24)))-MAX($T9,MAX($X9,($B9+0+22/24))))-MAX(0,MIN($W9,MIN($U9,($B9+1+5/24)))-MAX($V9,MAX($X9,($B9+0+22/24)))))+(MAX(0,MIN($U9,MIN($U9,($B9+2+5/24)))-MAX($T9,MAX($X9,($B9+1+22/24))))-MAX(0,MIN($W9,MIN($U9,($B9+2+5/24)))-MAX($V9,MAX($X9,($B9+1+22/24)))))),0))*24,4)) | O9: =IF(OR($B9="",$C9="",$D9=""),"",ROUND((IF($G9="はい",((MAX(0,MIN($U9,MIN($X9,($B9+0+5/24)))-MAX($T9,MAX($T9,($B9+-1+22/24))))-MAX(0,MIN($W9,MIN($X9,($B9+0+5/24)))-MAX($V9,MAX($T9,($B9+-1+22/24)))))+(MAX(0,MIN($U9,MIN($X9,($B9+1+5/24)))-MAX($T9,MAX($T9,($B9+0+22/24))))-MAX(0,MIN($W9,MIN($X9,($B9+1+5/24)))-MAX($V9,MAX($T9,($B9+0+22/24)))))+(MAX(0,MIN($U9,MIN($X9,($B9+2+5/24)))-MAX($T9,MAX($T9,($B9+1+22/24))))-MAX(0,MIN($W9,MIN($X9,($B9+2+5/24)))-MAX($V9,MAX($T9,($B9+1+22/24)))))),0)+IF($H9="はい",((MAX(0,MIN($U9,MIN($U9,($B9+0+5/24)))-MAX($T9,MAX($X9,($B9+-1+22/24))))-MAX(0,MIN($W9,MIN($U9,($B9+0+5/24)))-MAX($V9,MAX($X9,($B9+-1+22/24)))))+(MAX(0,MIN($U9,MIN($U9,($B9+1+5/24)))-MAX($T9,MAX($X9,($B9+0+22/24))))-MAX(0,MIN($W9,MIN($U9,($B9+1+5/24)))-MAX($V9,MAX($X9,($B9+0+22/24)))))+(MAX(0,MIN($U9,MIN($U9,($B9+2+5/24)))-MAX($T9,MAX($X9,($B9+1+22/24))))-MAX(0,MIN($W9,MIN($U9,($B9+2+5/24)))-MAX($V9,MAX($X9,($B9+1+22/24)))))),0))*24,4)) | P9: =IF(OR($B9="",$C9="",$D9=""),"",ROUND($B$3*SUMPRODUCT($J9:$O9,$J$7:$O$7),0)) | Q9: =IF(OR($B9="",$C9="",$D9=""),"",$P9-ROUND($B$3*$I9,0)) | R9: =IF(OR($B9="",$C9="",$D9=""),"",IF(ABS(SUM($J9:$O9)-$I9)>0.001,"区分の合計がずれた",IF(AND($I9>8,ROUND(($W9-$V9)*24,4)<1),"休憩が1時間に足りない",IF(AND($I9>6,ROUND(($W9-$V9)*24,4)<0.75),"休憩が45分に足りない","")))) | T9: =IF(OR($B9="",$C9="",$D9=""),"",$B9+$C9) | U9: =IF(OR($B9="",$C9="",$D9=""),"",$B9+$D9+IF($D9<=$C9,1,0)) | V9: =IF(OR($B9="",$C9="",$D9=""),"",IF($E9="",$U9,$B9+$E9+IF($E9<$C9,1,0))) | W9: =IF(OR($B9="",$C9="",$D9=""),"",IF(OR($E9="",$F9=""),$V9,$B9+$F9+IF($F9<$C9,1,0))) | X9: =IF(OR($B9="",$C9="",$D9=""),"",$B9+1) | Y9: =IF(OR($B9="",$C9="",$D9=""),"",IF($G9="はい",MAX($T9,$X9),$T9)) | Z9: =IF(OR($B9="",$C9="",$D9=""),"",IF($H9="はい",MIN($U9,$X9),$U9)) | AA9: =IF(OR($B9="",$C9="",$D9=""),"",IF(MAX($V9,$Y9)>=$Y9+8/24,$Y9+8/24,$Y9+8/24+(MAX($W9,$Y9)-MAX($V9,$Y9))))
A10: 大晦日の夜勤（元日が法定休日） | B10: 46387 | C10: 0.91666667 | D10: 0.20833333 | E10: 0.083333333 | F10: 0.125 | G10: いいえ | H10: はい | I10: =IF(OR($B10="",$C10="",$D10=""),"",ROUND((MAX(0,MIN($U10,$U10)-MAX($T10,$T10))-MAX(0,MIN($W10,$U10)-MAX($V10,$T10)))*24,4)) | J10: =IF(OR($B10="",$C10="",$D10=""),"",ROUND(((MAX(0,MIN($U10,MIN($Z10,$AA10))-MAX($T10,$Y10))-MAX(0,MIN($W10,MIN($Z10,$AA10))-MAX($V10,$Y10)))-((MAX(0,MIN($U10,MIN(MIN($Z10,$AA10),($B10+0+5/24)))-MAX($T10,MAX($Y10,($B10+-1+22/24))))-MAX(0,MIN($W10,MIN(MIN($Z10,$AA10),($B10+0+5/24)))-MAX($V10,MAX($Y10,($B10+-1+22/24)))))+(MAX(0,MIN($U10,MIN(MIN($Z10,$AA10),($B10+1+5/24)))-MAX($T10,MAX($Y10,($B10+0+22/24))))-MAX(0,MIN($W10,MIN(MIN($Z10,$AA10),($B10+1+5/24)))-MAX($V10,MAX($Y10,($B10+0+22/24)))))+(MAX(0,MIN($U10,MIN(MIN($Z10,$AA10),($B10+2+5/24)))-MAX($T10,MAX($Y10,($B10+1+22/24))))-MAX(0,MIN($W10,MIN(MIN($Z10,$AA10),($B10+2+5/24)))-MAX($V10,MAX($Y10,($B10+1+22/24)))))))*24,4)) | K10: =IF(OR($B10="",$C10="",$D10=""),"",ROUND(((MAX(0,MIN($U10,MIN(MIN($Z10,$AA10),($B10+0+5/24)))-MAX($T10,MAX($Y10,($B10+-1+22/24))))-MAX(0,MIN($W10,MIN(MIN($Z10,$AA10),($B10+0+5/24)))-MAX($V10,MAX($Y10,($B10+-1+22/24)))))+(MAX(0,MIN($U10,MIN(MIN($Z10,$AA10),($B10+1+5/24)))-MAX($T10,MAX($Y10,($B10+0+22/24))))-MAX(0,MIN($W10,MIN(MIN($Z10,$AA10),($B10+1+5/24)))-MAX($V10,MAX($Y10,($B10+0+22/24)))))+(MAX(0,MIN($U10,MIN(MIN($Z10,$AA10),($B10+2+5/24)))-MAX($T10,MAX($Y10,($B10+1+22/24))))-MAX(0,MIN($W10,MIN(MIN($Z10,$AA10),($B10+2+5/24)))-MAX($V10,MAX($Y10,($B10+1+22/24))))))*24,4)) | L10: =IF(OR($B10="",$C10="",$D10=""),"",ROUND(((MAX(0,MIN($U10,$Z10)-MAX($T10,MAX($Y10,$AA10)))-MAX(0,MIN($W10,$Z10)-MAX($V10,MAX($Y10,$AA10))))-((MAX(0,MIN($U10,MIN($Z10,($B10+0+5/24)))-MAX($T10,MAX(MAX($Y10,$AA10),($B10+-1+22/24))))-MAX(0,MIN($W10,MIN($Z10,($B10+0+5/24)))-MAX($V10,MAX(MAX($Y10,$AA10),($B10+-1+22/24)))))+(MAX(0,MIN($U10,MIN($Z10,($B10+1+5/24)))-MAX($T10,MAX(MAX($Y10,$AA10),($B10+0+22/24))))-MAX(0,MIN($W10,MIN($Z10,($B10+1+5/24)))-MAX($V10,MAX(MAX($Y10,$AA10),($B10+0+22/24)))))+(MAX(0,MIN($U10,MIN($Z10,($B10+2+5/24)))-MAX($T10,MAX(MAX($Y10,$AA10),($B10+1+22/24))))-MAX(0,MIN($W10,MIN($Z10,($B10+2+5/24)))-MAX($V10,MAX(MAX($Y10,$AA10),($B10+1+22/24)))))))*24,4)) | M10: =IF(OR($B10="",$C10="",$D10=""),"",ROUND(((MAX(0,MIN($U10,MIN($Z10,($B10+0+5/24)))-MAX($T10,MAX(MAX($Y10,$AA10),($B10+-1+22/24))))-MAX(0,MIN($W10,MIN($Z10,($B10+0+5/24)))-MAX($V10,MAX(MAX($Y10,$AA10),($B10+-1+22/24)))))+(MAX(0,MIN($U10,MIN($Z10,($B10+1+5/24)))-MAX($T10,MAX(MAX($Y10,$AA10),($B10+0+22/24))))-MAX(0,MIN($W10,MIN($Z10,($B10+1+5/24)))-MAX($V10,MAX(MAX($Y10,$AA10),($B10+0+22/24)))))+(MAX(0,MIN($U10,MIN($Z10,($B10+2+5/24)))-MAX($T10,MAX(MAX($Y10,$AA10),($B10+1+22/24))))-MAX(0,MIN($W10,MIN($Z10,($B10+2+5/24)))-MAX($V10,MAX(MAX($Y10,$AA10),($B10+1+22/24))))))*24,4)) | N10: =IF(OR($B10="",$C10="",$D10=""),"",ROUND((IF($G10="はい",(MAX(0,MIN($U10,$X10)-MAX($T10,$T10))-MAX(0,MIN($W10,$X10)-MAX($V10,$T10))),0)+IF($H10="はい",(MAX(0,MIN($U10,$U10)-MAX($T10,$X10))-MAX(0,MIN($W10,$U10)-MAX($V10,$X10))),0)-IF($G10="はい",((MAX(0,MIN($U10,MIN($X10,($B10+0+5/24)))-MAX($T10,MAX($T10,($B10+-1+22/24))))-MAX(0,MIN($W10,MIN($X10,($B10+0+5/24)))-MAX($V10,MAX($T10,($B10+-1+22/24)))))+(MAX(0,MIN($U10,MIN($X10,($B10+1+5/24)))-MAX($T10,MAX($T10,($B10+0+22/24))))-MAX(0,MIN($W10,MIN($X10,($B10+1+5/24)))-MAX($V10,MAX($T10,($B10+0+22/24)))))+(MAX(0,MIN($U10,MIN($X10,($B10+2+5/24)))-MAX($T10,MAX($T10,($B10+1+22/24))))-MAX(0,MIN($W10,MIN($X10,($B10+2+5/24)))-MAX($V10,MAX($T10,($B10+1+22/24)))))),0)-IF($H10="はい",((MAX(0,MIN($U10,MIN($U10,($B10+0+5/24)))-MAX($T10,MAX($X10,($B10+-1+22/24))))-MAX(0,MIN($W10,MIN($U10,($B10+0+5/24)))-MAX($V10,MAX($X10,($B10+-1+22/24)))))+(MAX(0,MIN($U10,MIN($U10,($B10+1+5/24)))-MAX($T10,MAX($X10,($B10+0+22/24))))-MAX(0,MIN($W10,MIN($U10,($B10+1+5/24)))-MAX($V10,MAX($X10,($B10+0+22/24)))))+(MAX(0,MIN($U10,MIN($U10,($B10+2+5/24)))-MAX($T10,MAX($X10,($B10+1+22/24))))-MAX(0,MIN($W10,MIN($U10,($B10+2+5/24)))-MAX($V10,MAX($X10,($B10+1+22/24)))))),0))*24,4)) | O10: =IF(OR($B10="",$C10="",$D10=""),"",ROUND((IF($G10="はい",((MAX(0,MIN($U10,MIN($X10,($B10+0+5/24)))-MAX($T10,MAX($T10,($B10+-1+22/24))))-MAX(0,MIN($W10,MIN($X10,($B10+0+5/24)))-MAX($V10,MAX($T10,($B10+-1+22/24)))))+(MAX(0,MIN($U10,MIN($X10,($B10+1+5/24)))-MAX($T10,MAX($T10,($B10+0+22/24))))-MAX(0,MIN($W10,MIN($X10,($B10+1+5/24)))-MAX($V10,MAX($T10,($B10+0+22/24)))))+(MAX(0,MIN($U10,MIN($X10,($B10+2+5/24)))-MAX($T10,MAX($T10,($B10+1+22/24))))-MAX(0,MIN($W10,MIN($X10,($B10+2+5/24)))-MAX($V10,MAX($T10,($B10+1+22/24)))))),0)+IF($H10="はい",((MAX(0,MIN($U10,MIN($U10,($B10+0+5/24)))-MAX($T10,MAX($X10,($B10+-1+22/24))))-MAX(0,MIN($W10,MIN($U10,($B10+0+5/24)))-MAX($V10,MAX($X10,($B10+-1+22/24)))))+(MAX(0,MIN($U10,MIN($U10,($B10+1+5/24)))-MAX($T10,MAX($X10,($B10+0+22/24))))-MAX(0,MIN($W10,MIN($U10,($B10+1+5/24)))-MAX($V10,MAX($X10,($B10+0+22/24)))))+(MAX(0,MIN($U10,MIN($U10,($B10+2+5/24)))-MAX($T10,MAX($X10,($B10+1+22/24))))-MAX(0,MIN($W10,MIN($U10,($B10+2+5/24)))-MAX($V10,MAX($X10,($B10+1+22/24)))))),0))*24,4)) | P10: =IF(OR($B10="",$C10="",$D10=""),"",ROUND($B$3*SUMPRODUCT($J10:$O10,$J$7:$O$7),0)) | Q10: =IF(OR($B10="",$C10="",$D10=""),"",$P10-ROUND($B$3*$I10,0)) | R10: =IF(OR($B10="",$C10="",$D10=""),"",IF(ABS(SUM($J10:$O10)-$I10)>0.001,"区分の合計がずれた",IF(AND($I10>8,ROUND(($W10-$V10)*24,4)<1),"休憩が1時間に足りない",IF(AND($I10>6,ROUND(($W10-$V10)*24,4)<0.75),"休憩が45分に足りない","")))) | T10: =IF(OR($B10="",$C10="",$D10=""),"",$B10+$C10) | U10: =IF(OR($B10="",$C10="",$D10=""),"",$B10+$D10+IF($D10<=$C10,1,0)) | V10: =IF(OR($B10="",$C10="",$D10=""),"",IF($E10="",$U10,$B10+$E10+IF($E10<$C10,1,0))) | W10: =IF(OR($B10="",$C10="",$D10=""),"",IF(OR($E10="",$F10=""),$V10,$B10+$F10+IF($F10<$C10,1,0))) | X10: =IF(OR($B10="",$C10="",$D10=""),"",$B10+1) | Y10: =IF(OR($B10="",$C10="",$D10=""),"",IF($G10="はい",MAX($T10,$X10),$T10)) | Z10: =IF(OR($B10="",$C10="",$D10=""),"",IF($H10="はい",MIN($U10,$X10),$U10)) | AA10: =IF(OR($B10="",$C10="",$D10=""),"",IF(MAX($V10,$Y10)>=$Y10+8/24,$Y10+8/24,$Y10+8/24+(MAX($W10,$Y10)-MAX($V10,$Y10))))
A11: 元日の夜勤（元日が法定休日） | B11: 46388 | C11: 0.91666667 | D11: 0.20833333 | E11: 0.083333333 | F11: 0.125 | G11: はい | H11: いいえ | I11: =IF(OR($B11="",$C11="",$D11=""),"",ROUND((MAX(0,MIN($U11,$U11)-MAX($T11,$T11))-MAX(0,MIN($W11,$U11)-MAX($V11,$T11)))*24,4)) | J11: =IF(OR($B11="",$C11="",$D11=""),"",ROUND(((MAX(0,MIN($U11,MIN($Z11,$AA11))-MAX($T11,$Y11))-MAX(0,MIN($W11,MIN($Z11,$AA11))-MAX($V11,$Y11)))-((MAX(0,MIN($U11,MIN(MIN($Z11,$AA11),($B11+0+5/24)))-MAX($T11,MAX($Y11,($B11+-1+22/24))))-MAX(0,MIN($W11,MIN(MIN($Z11,$AA11),($B11+0+5/24)))-MAX($V11,MAX($Y11,($B11+-1+22/24)))))+(MAX(0,MIN($U11,MIN(MIN($Z11,$AA11),($B11+1+5/24)))-MAX($T11,MAX($Y11,($B11+0+22/24))))-MAX(0,MIN($W11,MIN(MIN($Z11,$AA11),($B11+1+5/24)))-MAX($V11,MAX($Y11,($B11+0+22/24)))))+(MAX(0,MIN($U11,MIN(MIN($Z11,$AA11),($B11+2+5/24)))-MAX($T11,MAX($Y11,($B11+1+22/24))))-MAX(0,MIN($W11,MIN(MIN($Z11,$AA11),($B11+2+5/24)))-MAX($V11,MAX($Y11,($B11+1+22/24)))))))*24,4)) | K11: =IF(OR($B11="",$C11="",$D11=""),"",ROUND(((MAX(0,MIN($U11,MIN(MIN($Z11,$AA11),($B11+0+5/24)))-MAX($T11,MAX($Y11,($B11+-1+22/24))))-MAX(0,MIN($W11,MIN(MIN($Z11,$AA11),($B11+0+5/24)))-MAX($V11,MAX($Y11,($B11+-1+22/24)))))+(MAX(0,MIN($U11,MIN(MIN($Z11,$AA11),($B11+1+5/24)))-MAX($T11,MAX($Y11,($B11+0+22/24))))-MAX(0,MIN($W11,MIN(MIN($Z11,$AA11),($B11+1+5/24)))-MAX($V11,MAX($Y11,($B11+0+22/24)))))+(MAX(0,MIN($U11,MIN(MIN($Z11,$AA11),($B11+2+5/24)))-MAX($T11,MAX($Y11,($B11+1+22/24))))-MAX(0,MIN($W11,MIN(MIN($Z11,$AA11),($B11+2+5/24)))-MAX($V11,MAX($Y11,($B11+1+22/24))))))*24,4)) | L11: =IF(OR($B11="",$C11="",$D11=""),"",ROUND(((MAX(0,MIN($U11,$Z11)-MAX($T11,MAX($Y11,$AA11)))-MAX(0,MIN($W11,$Z11)-MAX($V11,MAX($Y11,$AA11))))-((MAX(0,MIN($U11,MIN($Z11,($B11+0+5/24)))-MAX($T11,MAX(MAX($Y11,$AA11),($B11+-1+22/24))))-MAX(0,MIN($W11,MIN($Z11,($B11+0+5/24)))-MAX($V11,MAX(MAX($Y11,$AA11),($B11+-1+22/24)))))+(MAX(0,MIN($U11,MIN($Z11,($B11+1+5/24)))-MAX($T11,MAX(MAX($Y11,$AA11),($B11+0+22/24))))-MAX(0,MIN($W11,MIN($Z11,($B11+1+5/24)))-MAX($V11,MAX(MAX($Y11,$AA11),($B11+0+22/24)))))+(MAX(0,MIN($U11,MIN($Z11,($B11+2+5/24)))-MAX($T11,MAX(MAX($Y11,$AA11),($B11+1+22/24))))-MAX(0,MIN($W11,MIN($Z11,($B11+2+5/24)))-MAX($V11,MAX(MAX($Y11,$AA11),($B11+1+22/24)))))))*24,4)) | M11: =IF(OR($B11="",$C11="",$D11=""),"",ROUND(((MAX(0,MIN($U11,MIN($Z11,($B11+0+5/24)))-MAX($T11,MAX(MAX($Y11,$AA11),($B11+-1+22/24))))-MAX(0,MIN($W11,MIN($Z11,($B11+0+5/24)))-MAX($V11,MAX(MAX($Y11,$AA11),($B11+-1+22/24)))))+(MAX(0,MIN($U11,MIN($Z11,($B11+1+5/24)))-MAX($T11,MAX(MAX($Y11,$AA11),($B11+0+22/24))))-MAX(0,MIN($W11,MIN($Z11,($B11+1+5/24)))-MAX($V11,MAX(MAX($Y11,$AA11),($B11+0+22/24)))))+(MAX(0,MIN($U11,MIN($Z11,($B11+2+5/24)))-MAX($T11,MAX(MAX($Y11,$AA11),($B11+1+22/24))))-MAX(0,MIN($W11,MIN($Z11,($B11+2+5/24)))-MAX($V11,MAX(MAX($Y11,$AA11),($B11+1+22/24))))))*24,4)) | N11: =IF(OR($B11="",$C11="",$D11=""),"",ROUND((IF($G11="はい",(MAX(0,MIN($U11,$X11)-MAX($T11,$T11))-MAX(0,MIN($W11,$X11)-MAX($V11,$T11))),0)+IF($H11="はい",(MAX(0,MIN($U11,$U11)-MAX($T11,$X11))-MAX(0,MIN($W11,$U11)-MAX($V11,$X11))),0)-IF($G11="はい",((MAX(0,MIN($U11,MIN($X11,($B11+0+5/24)))-MAX($T11,MAX($T11,($B11+-1+22/24))))-MAX(0,MIN($W11,MIN($X11,($B11+0+5/24)))-MAX($V11,MAX($T11,($B11+-1+22/24)))))+(MAX(0,MIN($U11,MIN($X11,($B11+1+5/24)))-MAX($T11,MAX($T11,($B11+0+22/24))))-MAX(0,MIN($W11,MIN($X11,($B11+1+5/24)))-MAX($V11,MAX($T11,($B11+0+22/24)))))+(MAX(0,MIN($U11,MIN($X11,($B11+2+5/24)))-MAX($T11,MAX($T11,($B11+1+22/24))))-MAX(0,MIN($W11,MIN($X11,($B11+2+5/24)))-MAX($V11,MAX($T11,($B11+1+22/24)))))),0)-IF($H11="はい",((MAX(0,MIN($U11,MIN($U11,($B11+0+5/24)))-MAX($T11,MAX($X11,($B11+-1+22/24))))-MAX(0,MIN($W11,MIN($U11,($B11+0+5/24)))-MAX($V11,MAX($X11,($B11+-1+22/24)))))+(MAX(0,MIN($U11,MIN($U11,($B11+1+5/24)))-MAX($T11,MAX($X11,($B11+0+22/24))))-MAX(0,MIN($W11,MIN($U11,($B11+1+5/24)))-MAX($V11,MAX($X11,($B11+0+22/24)))))+(MAX(0,MIN($U11,MIN($U11,($B11+2+5/24)))-MAX($T11,MAX($X11,($B11+1+22/24))))-MAX(0,MIN($W11,MIN($U11,($B11+2+5/24)))-MAX($V11,MAX($X11,($B11+1+22/24)))))),0))*24,4)) | O11: =IF(OR($B11="",$C11="",$D11=""),"",ROUND((IF($G11="はい",((MAX(0,MIN($U11,MIN($X11,($B11+0+5/24)))-MAX($T11,MAX($T11,($B11+-1+22/24))))-MAX(0,MIN($W11,MIN($X11,($B11+0+5/24)))-MAX($V11,MAX($T11,($B11+-1+22/24)))))+(MAX(0,MIN($U11,MIN($X11,($B11+1+5/24)))-MAX($T11,MAX($T11,($B11+0+22/24))))-MAX(0,MIN($W11,MIN($X11,($B11+1+5/24)))-MAX($V11,MAX($T11,($B11+0+22/24)))))+(MAX(0,MIN($U11,MIN($X11,($B11+2+5/24)))-MAX($T11,MAX($T11,($B11+1+22/24))))-MAX(0,MIN($W11,MIN($X11,($B11+2+5/24)))-MAX($V11,MAX($T11,($B11+1+22/24)))))),0)+IF($H11="はい",((MAX(0,MIN($U11,MIN($U11,($B11+0+5/24)))-MAX($T11,MAX($X11,($B11+-1+22/24))))-MAX(0,MIN($W11,MIN($U11,($B11+0+5/24)))-MAX($V11,MAX($X11,($B11+-1+22/24)))))+(MAX(0,MIN($U11,MIN($U11,($B11+1+5/24)))-MAX($T11,MAX($X11,($B11+0+22/24))))-MAX(0,MIN($W11,MIN($U11,($B11+1+5/24)))-MAX($V11,MAX($X11,($B11+0+22/24)))))+(MAX(0,MIN($U11,MIN($U11,($B11+2+5/24)))-MAX($T11,MAX($X11,($B11+1+22/24))))-MAX(0,MIN($W11,MIN($U11,($B11+2+5/24)))-MAX($V11,MAX($X11,($B11+1+22/24)))))),0))*24,4)) | P11: =IF(OR($B11="",$C11="",$D11=""),"",ROUND($B$3*SUMPRODUCT($J11:$O11,$J$7:$O$7),0)) | Q11: =IF(OR($B11="",$C11="",$D11=""),"",$P11-ROUND($B$3*$I11,0)) | R11: =IF(OR($B11="",$C11="",$D11=""),"",IF(ABS(SUM($J11:$O11)-$I11)>0.001,"区分の合計がずれた",IF(AND($I11>8,ROUND(($W11-$V11)*24,4)<1),"休憩が1時間に足りない",IF(AND($I11>6,ROUND(($W11-$V11)*24,4)<0.75),"休憩が45分に足りない","")))) | T11: =IF(OR($B11="",$C11="",$D11=""),"",$B11+$C11) | U11: =IF(OR($B11="",$C11="",$D11=""),"",$B11+$D11+IF($D11<=$C11,1,0)) | V11: =IF(OR($B11="",$C11="",$D11=""),"",IF($E11="",$U11,$B11+$E11+IF($E11<$C11,1,0))) | W11: =IF(OR($B11="",$C11="",$D11=""),"",IF(OR($E11="",$F11=""),$V11,$B11+$F11+IF($F11<$C11,1,0))) | X11: =IF(OR($B11="",$C11="",$D11=""),"",$B11+1) | Y11: =IF(OR($B11="",$C11="",$D11=""),"",IF($G11="はい",MAX($T11,$X11),$T11)) | Z11: =IF(OR($B11="",$C11="",$D11=""),"",IF($H11="はい",MIN($U11,$X11),$U11)) | AA11: =IF(OR($B11="",$C11="",$D11=""),"",IF(MAX($V11,$Y11)>=$Y11+8/24,$Y11+8/24,$Y11+8/24+(MAX($W11,$Y11)-MAX($V11,$Y11))))
A12: 大晦日の日勤から2時まで残業（元日が法定休日） | B12: 46387 | C12: 0.375 | D12: 0.083333333 | E12: 0.5 | F12: 0.54166667 | G12: いいえ | H12: はい | I12: =IF(OR($B12="",$C12="",$D12=""),"",ROUND((MAX(0,MIN($U12,$U12)-MAX($T12,$T12))-MAX(0,MIN($W12,$U12)-MAX($V12,$T12)))*24,4)) | J12: =IF(OR($B12="",$C12="",$D12=""),"",ROUND(((MAX(0,MIN($U12,MIN($Z12,$AA12))-MAX($T12,$Y12))-MAX(0,MIN($W12,MIN($Z12,$AA12))-MAX($V12,$Y12)))-((MAX(0,MIN($U12,MIN(MIN($Z12,$AA12),($B12+0+5/24)))-MAX($T12,MAX($Y12,($B12+-1+22/24))))-MAX(0,MIN($W12,MIN(MIN($Z12,$AA12),($B12+0+5/24)))-MAX($V12,MAX($Y12,($B12+-1+22/24)))))+(MAX(0,MIN($U12,MIN(MIN($Z12,$AA12),($B12+1+5/24)))-MAX($T12,MAX($Y12,($B12+0+22/24))))-MAX(0,MIN($W12,MIN(MIN($Z12,$AA12),($B12+1+5/24)))-MAX($V12,MAX($Y12,($B12+0+22/24)))))+(MAX(0,MIN($U12,MIN(MIN($Z12,$AA12),($B12+2+5/24)))-MAX($T12,MAX($Y12,($B12+1+22/24))))-MAX(0,MIN($W12,MIN(MIN($Z12,$AA12),($B12+2+5/24)))-MAX($V12,MAX($Y12,($B12+1+22/24)))))))*24,4)) | K12: =IF(OR($B12="",$C12="",$D12=""),"",ROUND(((MAX(0,MIN($U12,MIN(MIN($Z12,$AA12),($B12+0+5/24)))-MAX($T12,MAX($Y12,($B12+-1+22/24))))-MAX(0,MIN($W12,MIN(MIN($Z12,$AA12),($B12+0+5/24)))-MAX($V12,MAX($Y12,($B12+-1+22/24)))))+(MAX(0,MIN($U12,MIN(MIN($Z12,$AA12),($B12+1+5/24)))-MAX($T12,MAX($Y12,($B12+0+22/24))))-MAX(0,MIN($W12,MIN(MIN($Z12,$AA12),($B12+1+5/24)))-MAX($V12,MAX($Y12,($B12+0+22/24)))))+(MAX(0,MIN($U12,MIN(MIN($Z12,$AA12),($B12+2+5/24)))-MAX($T12,MAX($Y12,($B12+1+22/24))))-MAX(0,MIN($W12,MIN(MIN($Z12,$AA12),($B12+2+5/24)))-MAX($V12,MAX($Y12,($B12+1+22/24))))))*24,4)) | L12: =IF(OR($B12="",$C12="",$D12=""),"",ROUND(((MAX(0,MIN($U12,$Z12)-MAX($T12,MAX($Y12,$AA12)))-MAX(0,MIN($W12,$Z12)-MAX($V12,MAX($Y12,$AA12))))-((MAX(0,MIN($U12,MIN($Z12,($B12+0+5/24)))-MAX($T12,MAX(MAX($Y12,$AA12),($B12+-1+22/24))))-MAX(0,MIN($W12,MIN($Z12,($B12+0+5/24)))-MAX($V12,MAX(MAX($Y12,$AA12),($B12+-1+22/24)))))+(MAX(0,MIN($U12,MIN($Z12,($B12+1+5/24)))-MAX($T12,MAX(MAX($Y12,$AA12),($B12+0+22/24))))-MAX(0,MIN($W12,MIN($Z12,($B12+1+5/24)))-MAX($V12,MAX(MAX($Y12,$AA12),($B12+0+22/24)))))+(MAX(0,MIN($U12,MIN($Z12,($B12+2+5/24)))-MAX($T12,MAX(MAX($Y12,$AA12),($B12+1+22/24))))-MAX(0,MIN($W12,MIN($Z12,($B12+2+5/24)))-MAX($V12,MAX(MAX($Y12,$AA12),($B12+1+22/24)))))))*24,4)) | M12: =IF(OR($B12="",$C12="",$D12=""),"",ROUND(((MAX(0,MIN($U12,MIN($Z12,($B12+0+5/24)))-MAX($T12,MAX(MAX($Y12,$AA12),($B12+-1+22/24))))-MAX(0,MIN($W12,MIN($Z12,($B12+0+5/24)))-MAX($V12,MAX(MAX($Y12,$AA12),($B12+-1+22/24)))))+(MAX(0,MIN($U12,MIN($Z12,($B12+1+5/24)))-MAX($T12,MAX(MAX($Y12,$AA12),($B12+0+22/24))))-MAX(0,MIN($W12,MIN($Z12,($B12+1+5/24)))-MAX($V12,MAX(MAX($Y12,$AA12),($B12+0+22/24)))))+(MAX(0,MIN($U12,MIN($Z12,($B12+2+5/24)))-MAX($T12,MAX(MAX($Y12,$AA12),($B12+1+22/24))))-MAX(0,MIN($W12,MIN($Z12,($B12+2+5/24)))-MAX($V12,MAX(MAX($Y12,$AA12),($B12+1+22/24))))))*24,4)) | N12: =IF(OR($B12="",$C12="",$D12=""),"",ROUND((IF($G12="はい",(MAX(0,MIN($U12,$X12)-MAX($T12,$T12))-MAX(0,MIN($W12,$X12)-MAX($V12,$T12))),0)+IF($H12="はい",(MAX(0,MIN($U12,$U12)-MAX($T12,$X12))-MAX(0,MIN($W12,$U12)-MAX($V12,$X12))),0)-IF($G12="はい",((MAX(0,MIN($U12,MIN($X12,($B12+0+5/24)))-MAX($T12,MAX($T12,($B12+-1+22/24))))-MAX(0,MIN($W12,MIN($X12,($B12+0+5/24)))-MAX($V12,MAX($T12,($B12+-1+22/24)))))+(MAX(0,MIN($U12,MIN($X12,($B12+1+5/24)))-MAX($T12,MAX($T12,($B12+0+22/24))))-MAX(0,MIN($W12,MIN($X12,($B12+1+5/24)))-MAX($V12,MAX($T12,($B12+0+22/24)))))+(MAX(0,MIN($U12,MIN($X12,($B12+2+5/24)))-MAX($T12,MAX($T12,($B12+1+22/24))))-MAX(0,MIN($W12,MIN($X12,($B12+2+5/24)))-MAX($V12,MAX($T12,($B12+1+22/24)))))),0)-IF($H12="はい",((MAX(0,MIN($U12,MIN($U12,($B12+0+5/24)))-MAX($T12,MAX($X12,($B12+-1+22/24))))-MAX(0,MIN($W12,MIN($U12,($B12+0+5/24)))-MAX($V12,MAX($X12,($B12+-1+22/24)))))+(MAX(0,MIN($U12,MIN($U12,($B12+1+5/24)))-MAX($T12,MAX($X12,($B12+0+22/24))))-MAX(0,MIN($W12,MIN($U12,($B12+1+5/24)))-MAX($V12,MAX($X12,($B12+0+22/24)))))+(MAX(0,MIN($U12,MIN($U12,($B12+2+5/24)))-MAX($T12,MAX($X12,($B12+1+22/24))))-MAX(0,MIN($W12,MIN($U12,($B12+2+5/24)))-MAX($V12,MAX($X12,($B12+1+22/24)))))),0))*24,4)) | O12: =IF(OR($B12="",$C12="",$D12=""),"",ROUND((IF($G12="はい",((MAX(0,MIN($U12,MIN($X12,($B12+0+5/24)))-MAX($T12,MAX($T12,($B12+-1+22/24))))-MAX(0,MIN($W12,MIN($X12,($B12+0+5/24)))-MAX($V12,MAX($T12,($B12+-1+22/24)))))+(MAX(0,MIN($U12,MIN($X12,($B12+1+5/24)))-MAX($T12,MAX($T12,($B12+0+22/24))))-MAX(0,MIN($W12,MIN($X12,($B12+1+5/24)))-MAX($V12,MAX($T12,($B12+0+22/24)))))+(MAX(0,MIN($U12,MIN($X12,($B12+2+5/24)))-MAX($T12,MAX($T12,($B12+1+22/24))))-MAX(0,MIN($W12,MIN($X12,($B12+2+5/24)))-MAX($V12,MAX($T12,($B12+1+22/24)))))),0)+IF($H12="はい",((MAX(0,MIN($U12,MIN($U12,($B12+0+5/24)))-MAX($T12,MAX($X12,($B12+-1+22/24))))-MAX(0,MIN($W12,MIN($U12,($B12+0+5/24)))-MAX($V12,MAX($X12,($B12+-1+22/24)))))+(MAX(0,MIN($U12,MIN($U12,($B12+1+5/24)))-MAX($T12,MAX($X12,($B12+0+22/24))))-MAX(0,MIN($W12,MIN($U12,($B12+1+5/24)))-MAX($V12,MAX($X12,($B12+0+22/24)))))+(MAX(0,MIN($U12,MIN($U12,($B12+2+5/24)))-MAX($T12,MAX($X12,($B12+1+22/24))))-MAX(0,MIN($W12,MIN($U12,($B12+2+5/24)))-MAX($V12,MAX($X12,($B12+1+22/24)))))),0))*24,4)) | P12: =IF(OR($B12="",$C12="",$D12=""),"",ROUND($B$3*SUMPRODUCT($J12:$O12,$J$7:$O$7),0)) | Q12: =IF(OR($B12="",$C12="",$D12=""),"",$P12-ROUND($B$3*$I12,0)) | R12: =IF(OR($B12="",$C12="",$D12=""),"",IF(ABS(SUM($J12:$O12)-$I12)>0.001,"区分の合計がずれた",IF(AND($I12>8,ROUND(($W12-$V12)*24,4)<1),"休憩が1時間に足りない",IF(AND($I12>6,ROUND(($W12-$V12)*24,4)<0.75),"休憩が45分に足りない","")))) | T12: =IF(OR($B12="",$C12="",$D12=""),"",$B12+$C12) | U12: =IF(OR($B12="",$C12="",$D12=""),"",$B12+$D12+IF($D12<=$C12,1,0)) | V12: =IF(OR($B12="",$C12="",$D12=""),"",IF($E12="",$U12,$B12+$E12+IF($E12<$C12,1,0))) | W12: =IF(OR($B12="",$C12="",$D12=""),"",IF(OR($E12="",$F12=""),$V12,$B12+$F12+IF($F12<$C12,1,0))) | X12: =IF(OR($B12="",$C12="",$D12=""),"",$B12+1) | Y12: =IF(OR($B12="",$C12="",$D12=""),"",IF($G12="はい",MAX($T12,$X12),$T12)) | Z12: =IF(OR($B12="",$C12="",$D12=""),"",IF($H12="はい",MIN($U12,$X12),$U12)) | AA12: =IF(OR($B12="",$C12="",$D12=""),"",IF(MAX($V12,$Y12)>=$Y12+8/24,$Y12+8/24,$Y12+8/24+(MAX($W12,$Y12)-MAX($V12,$Y12))))
A13: 大晦日の日勤から2時まで残業（元日は法定休日でない） | B13: 46387 | C13: 0.375 | D13: 0.083333333 | E13: 0.5 | F13: 0.54166667 | G13: いいえ | H13: いいえ | I13: =IF(OR($B13="",$C13="",$D13=""),"",ROUND((MAX(0,MIN($U13,$U13)-MAX($T13,$T13))-MAX(0,MIN($W13,$U13)-MAX($V13,$T13)))*24,4)) | J13: =IF(OR($B13="",$C13="",$D13=""),"",ROUND(((MAX(0,MIN($U13,MIN($Z13,$AA13))-MAX($T13,$Y13))-MAX(0,MIN($W13,MIN($Z13,$AA13))-MAX($V13,$Y13)))-((MAX(0,MIN($U13,MIN(MIN($Z13,$AA13),($B13+0+5/24)))-MAX($T13,MAX($Y13,($B13+-1+22/24))))-MAX(0,MIN($W13,MIN(MIN($Z13,$AA13),($B13+0+5/24)))-MAX($V13,MAX($Y13,($B13+-1+22/24)))))+(MAX(0,MIN($U13,MIN(MIN($Z13,$AA13),($B13+1+5/24)))-MAX($T13,MAX($Y13,($B13+0+22/24))))-MAX(0,MIN($W13,MIN(MIN($Z13,$AA13),($B13+1+5/24)))-MAX($V13,MAX($Y13,($B13+0+22/24)))))+(MAX(0,MIN($U13,MIN(MIN($Z13,$AA13),($B13+2+5/24)))-MAX($T13,MAX($Y13,($B13+1+22/24))))-MAX(0,MIN($W13,MIN(MIN($Z13,$AA13),($B13+2+5/24)))-MAX($V13,MAX($Y13,($B13+1+22/24)))))))*24,4)) | K13: =IF(OR($B13="",$C13="",$D13=""),"",ROUND(((MAX(0,MIN($U13,MIN(MIN($Z13,$AA13),($B13+0+5/24)))-MAX($T13,MAX($Y13,($B13+-1+22/24))))-MAX(0,MIN($W13,MIN(MIN($Z13,$AA13),($B13+0+5/24)))-MAX($V13,MAX($Y13,($B13+-1+22/24)))))+(MAX(0,MIN($U13,MIN(MIN($Z13,$AA13),($B13+1+5/24)))-MAX($T13,MAX($Y13,($B13+0+22/24))))-MAX(0,MIN($W13,MIN(MIN($Z13,$AA13),($B13+1+5/24)))-MAX($V13,MAX($Y13,($B13+0+22/24)))))+(MAX(0,MIN($U13,MIN(MIN($Z13,$AA13),($B13+2+5/24)))-MAX($T13,MAX($Y13,($B13+1+22/24))))-MAX(0,MIN($W13,MIN(MIN($Z13,$AA13),($B13+2+5/24)))-MAX($V13,MAX($Y13,($B13+1+22/24))))))*24,4)) | L13: =IF(OR($B13="",$C13="",$D13=""),"",ROUND(((MAX(0,MIN($U13,$Z13)-MAX($T13,MAX($Y13,$AA13)))-MAX(0,MIN($W13,$Z13)-MAX($V13,MAX($Y13,$AA13))))-((MAX(0,MIN($U13,MIN($Z13,($B13+0+5/24)))-MAX($T13,MAX(MAX($Y13,$AA13),($B13+-1+22/24))))-MAX(0,MIN($W13,MIN($Z13,($B13+0+5/24)))-MAX($V13,MAX(MAX($Y13,$AA13),($B13+-1+22/24)))))+(MAX(0,MIN($U13,MIN($Z13,($B13+1+5/24)))-MAX($T13,MAX(MAX($Y13,$AA13),($B13+0+22/24))))-MAX(0,MIN($W13,MIN($Z13,($B13+1+5/24)))-MAX($V13,MAX(MAX($Y13,$AA13),($B13+0+22/24)))))+(MAX(0,MIN($U13,MIN($Z13,($B13+2+5/24)))-MAX($T13,MAX(MAX($Y13,$AA13),($B13+1+22/24))))-MAX(0,MIN($W13,MIN($Z13,($B13+2+5/24)))-MAX($V13,MAX(MAX($Y13,$AA13),($B13+1+22/24)))))))*24,4)) | M13: =IF(OR($B13="",$C13="",$D13=""),"",ROUND(((MAX(0,MIN($U13,MIN($Z13,($B13+0+5/24)))-MAX($T13,MAX(MAX($Y13,$AA13),($B13+-1+22/24))))-MAX(0,MIN($W13,MIN($Z13,($B13+0+5/24)))-MAX($V13,MAX(MAX($Y13,$AA13),($B13+-1+22/24)))))+(MAX(0,MIN($U13,MIN($Z13,($B13+1+5/24)))-MAX($T13,MAX(MAX($Y13,$AA13),($B13+0+22/24))))-MAX(0,MIN($W13,MIN($Z13,($B13+1+5/24)))-MAX($V13,MAX(MAX($Y13,$AA13),($B13+0+22/24)))))+(MAX(0,MIN($U13,MIN($Z13,($B13+2+5/24)))-MAX($T13,MAX(MAX($Y13,$AA13),($B13+1+22/24))))-MAX(0,MIN($W13,MIN($Z13,($B13+2+5/24)))-MAX($V13,MAX(MAX($Y13,$AA13),($B13+1+22/24))))))*24,4)) | N13: =IF(OR($B13="",$C13="",$D13=""),"",ROUND((IF($G13="はい",(MAX(0,MIN($U13,$X13)-MAX($T13,$T13))-MAX(0,MIN($W13,$X13)-MAX($V13,$T13))),0)+IF($H13="はい",(MAX(0,MIN($U13,$U13)-MAX($T13,$X13))-MAX(0,MIN($W13,$U13)-MAX($V13,$X13))),0)-IF($G13="はい",((MAX(0,MIN($U13,MIN($X13,($B13+0+5/24)))-MAX($T13,MAX($T13,($B13+-1+22/24))))-MAX(0,MIN($W13,MIN($X13,($B13+0+5/24)))-MAX($V13,MAX($T13,($B13+-1+22/24)))))+(MAX(0,MIN($U13,MIN($X13,($B13+1+5/24)))-MAX($T13,MAX($T13,($B13+0+22/24))))-MAX(0,MIN($W13,MIN($X13,($B13+1+5/24)))-MAX($V13,MAX($T13,($B13+0+22/24)))))+(MAX(0,MIN($U13,MIN($X13,($B13+2+5/24)))-MAX($T13,MAX($T13,($B13+1+22/24))))-MAX(0,MIN($W13,MIN($X13,($B13+2+5/24)))-MAX($V13,MAX($T13,($B13+1+22/24)))))),0)-IF($H13="はい",((MAX(0,MIN($U13,MIN($U13,($B13+0+5/24)))-MAX($T13,MAX($X13,($B13+-1+22/24))))-MAX(0,MIN($W13,MIN($U13,($B13+0+5/24)))-MAX($V13,MAX($X13,($B13+-1+22/24)))))+(MAX(0,MIN($U13,MIN($U13,($B13+1+5/24)))-MAX($T13,MAX($X13,($B13+0+22/24))))-MAX(0,MIN($W13,MIN($U13,($B13+1+5/24)))-MAX($V13,MAX($X13,($B13+0+22/24)))))+(MAX(0,MIN($U13,MIN($U13,($B13+2+5/24)))-MAX($T13,MAX($X13,($B13+1+22/24))))-MAX(0,MIN($W13,MIN($U13,($B13+2+5/24)))-MAX($V13,MAX($X13,($B13+1+22/24)))))),0))*24,4)) | O13: =IF(OR($B13="",$C13="",$D13=""),"",ROUND((IF($G13="はい",((MAX(0,MIN($U13,MIN($X13,($B13+0+5/24)))-MAX($T13,MAX($T13,($B13+-1+22/24))))-MAX(0,MIN($W13,MIN($X13,($B13+0+5/24)))-MAX($V13,MAX($T13,($B13+-1+22/24)))))+(MAX(0,MIN($U13,MIN($X13,($B13+1+5/24)))-MAX($T13,MAX($T13,($B13+0+22/24))))-MAX(0,MIN($W13,MIN($X13,($B13+1+5/24)))-MAX($V13,MAX($T13,($B13+0+22/24)))))+(MAX(0,MIN($U13,MIN($X13,($B13+2+5/24)))-MAX($T13,MAX($T13,($B13+1+22/24))))-MAX(0,MIN($W13,MIN($X13,($B13+2+5/24)))-MAX($V13,MAX($T13,($B13+1+22/24)))))),0)+IF($H13="はい",((MAX(0,MIN($U13,MIN($U13,($B13+0+5/24)))-MAX($T13,MAX($X13,($B13+-1+22/24))))-MAX(0,MIN($W13,MIN($U13,($B13+0+5/24)))-MAX($V13,MAX($X13,($B13+-1+22/24)))))+(MAX(0,MIN($U13,MIN($U13,($B13+1+5/24)))-MAX($T13,MAX($X13,($B13+0+22/24))))-MAX(0,MIN($W13,MIN($U13,($B13+1+5/24)))-MAX($V13,MAX($X13,($B13+0+22/24)))))+(MAX(0,MIN($U13,MIN($U13,($B13+2+5/24)))-MAX($T13,MAX($X13,($B13+1+22/24))))-MAX(0,MIN($W13,MIN($U13,($B13+2+5/24)))-MAX($V13,MAX($X13,($B13+1+22/24)))))),0))*24,4)) | P13: =IF(OR($B13="",$C13="",$D13=""),"",ROUND($B$3*SUMPRODUCT($J13:$O13,$J$7:$O$7),0)) | Q13: =IF(OR($B13="",$C13="",$D13=""),"",$P13-ROUND($B$3*$I13,0)) | R13: =IF(OR($B13="",$C13="",$D13=""),"",IF(ABS(SUM($J13:$O13)-$I13)>0.001,"区分の合計がずれた",IF(AND($I13>8,ROUND(($W13-$V13)*24,4)<1),"休憩が1時間に足りない",IF(AND($I13>6,ROUND(($W13-$V13)*24,4)<0.75),"休憩が45分に足りない","")))) | T13: =IF(OR($B13="",$C13="",$D13=""),"",$B13+$C13) | U13: =IF(OR($B13="",$C13="",$D13=""),"",$B13+$D13+IF($D13<=$C13,1,0)) | V13: =IF(OR($B13="",$C13="",$D13=""),"",IF($E13="",$U13,$B13+$E13+IF($E13<$C13,1,0))) | W13: =IF(OR($B13="",$C13="",$D13=""),"",IF(OR($E13="",$F13=""),$V13,$B13+$F13+IF($F13<$C13,1,0))) | X13: =IF(OR($B13="",$C13="",$D13=""),"",$B13+1) | Y13: =IF(OR($B13="",$C13="",$D13=""),"",IF($G13="はい",MAX($T13,$X13),$T13)) | Z13: =IF(OR($B13="",$C13="",$D13=""),"",IF($H13="はい",MIN($U13,$X13),$U13)) | AA13: =IF(OR($B13="",$C13="",$D13=""),"",IF(MAX($V13,$Y13)>=$Y13+8/24,$Y13+8/24,$Y13+8/24+(MAX($W13,$Y13)-MAX($V13,$Y13))))
A14: 元日の日勤（元日が法定休日） | B14: 46388 | C14: 0.375 | D14: 0.75 | E14: 0.5 | F14: 0.54166667 | G14: はい | H14: いいえ | I14: =IF(OR($B14="",$C14="",$D14=""),"",ROUND((MAX(0,MIN($U14,$U14)-MAX($T14,$T14))-MAX(0,MIN($W14,$U14)-MAX($V14,$T14)))*24,4)) | J14: =IF(OR($B14="",$C14="",$D14=""),"",ROUND(((MAX(0,MIN($U14,MIN($Z14,$AA14))-MAX($T14,$Y14))-MAX(0,MIN($W14,MIN($Z14,$AA14))-MAX($V14,$Y14)))-((MAX(0,MIN($U14,MIN(MIN($Z14,$AA14),($B14+0+5/24)))-MAX($T14,MAX($Y14,($B14+-1+22/24))))-MAX(0,MIN($W14,MIN(MIN($Z14,$AA14),($B14+0+5/24)))-MAX($V14,MAX($Y14,($B14+-1+22/24)))))+(MAX(0,MIN($U14,MIN(MIN($Z14,$AA14),($B14+1+5/24)))-MAX($T14,MAX($Y14,($B14+0+22/24))))-MAX(0,MIN($W14,MIN(MIN($Z14,$AA14),($B14+1+5/24)))-MAX($V14,MAX($Y14,($B14+0+22/24)))))+(MAX(0,MIN($U14,MIN(MIN($Z14,$AA14),($B14+2+5/24)))-MAX($T14,MAX($Y14,($B14+1+22/24))))-MAX(0,MIN($W14,MIN(MIN($Z14,$AA14),($B14+2+5/24)))-MAX($V14,MAX($Y14,($B14+1+22/24)))))))*24,4)) | K14: =IF(OR($B14="",$C14="",$D14=""),"",ROUND(((MAX(0,MIN($U14,MIN(MIN($Z14,$AA14),($B14+0+5/24)))-MAX($T14,MAX($Y14,($B14+-1+22/24))))-MAX(0,MIN($W14,MIN(MIN($Z14,$AA14),($B14+0+5/24)))-MAX($V14,MAX($Y14,($B14+-1+22/24)))))+(MAX(0,MIN($U14,MIN(MIN($Z14,$AA14),($B14+1+5/24)))-MAX($T14,MAX($Y14,($B14+0+22/24))))-MAX(0,MIN($W14,MIN(MIN($Z14,$AA14),($B14+1+5/24)))-MAX($V14,MAX($Y14,($B14+0+22/24)))))+(MAX(0,MIN($U14,MIN(MIN($Z14,$AA14),($B14+2+5/24)))-MAX($T14,MAX($Y14,($B14+1+22/24))))-MAX(0,MIN($W14,MIN(MIN($Z14,$AA14),($B14+2+5/24)))-MAX($V14,MAX($Y14,($B14+1+22/24))))))*24,4)) | L14: =IF(OR($B14="",$C14="",$D14=""),"",ROUND(((MAX(0,MIN($U14,$Z14)-MAX($T14,MAX($Y14,$AA14)))-MAX(0,MIN($W14,$Z14)-MAX($V14,MAX($Y14,$AA14))))-((MAX(0,MIN($U14,MIN($Z14,($B14+0+5/24)))-MAX($T14,MAX(MAX($Y14,$AA14),($B14+-1+22/24))))-MAX(0,MIN($W14,MIN($Z14,($B14+0+5/24)))-MAX($V14,MAX(MAX($Y14,$AA14),($B14+-1+22/24)))))+(MAX(0,MIN($U14,MIN($Z14,($B14+1+5/24)))-MAX($T14,MAX(MAX($Y14,$AA14),($B14+0+22/24))))-MAX(0,MIN($W14,MIN($Z14,($B14+1+5/24)))-MAX($V14,MAX(MAX($Y14,$AA14),($B14+0+22/24)))))+(MAX(0,MIN($U14,MIN($Z14,($B14+2+5/24)))-MAX($T14,MAX(MAX($Y14,$AA14),($B14+1+22/24))))-MAX(0,MIN($W14,MIN($Z14,($B14+2+5/24)))-MAX($V14,MAX(MAX($Y14,$AA14),($B14+1+22/24)))))))*24,4)) | M14: =IF(OR($B14="",$C14="",$D14=""),"",ROUND(((MAX(0,MIN($U14,MIN($Z14,($B14+0+5/24)))-MAX($T14,MAX(MAX($Y14,$AA14),($B14+-1+22/24))))-MAX(0,MIN($W14,MIN($Z14,($B14+0+5/24)))-MAX($V14,MAX(MAX($Y14,$AA14),($B14+-1+22/24)))))+(MAX(0,MIN($U14,MIN($Z14,($B14+1+5/24)))-MAX($T14,MAX(MAX($Y14,$AA14),($B14+0+22/24))))-MAX(0,MIN($W14,MIN($Z14,($B14+1+5/24)))-MAX($V14,MAX(MAX($Y14,$AA14),($B14+0+22/24)))))+(MAX(0,MIN($U14,MIN($Z14,($B14+2+5/24)))-MAX($T14,MAX(MAX($Y14,$AA14),($B14+1+22/24))))-MAX(0,MIN($W14,MIN($Z14,($B14+2+5/24)))-MAX($V14,MAX(MAX($Y14,$AA14),($B14+1+22/24))))))*24,4)) | N14: =IF(OR($B14="",$C14="",$D14=""),"",ROUND((IF($G14="はい",(MAX(0,MIN($U14,$X14)-MAX($T14,$T14))-MAX(0,MIN($W14,$X14)-MAX($V14,$T14))),0)+IF($H14="はい",(MAX(0,MIN($U14,$U14)-MAX($T14,$X14))-MAX(0,MIN($W14,$U14)-MAX($V14,$X14))),0)-IF($G14="はい",((MAX(0,MIN($U14,MIN($X14,($B14+0+5/24)))-MAX($T14,MAX($T14,($B14+-1+22/24))))-MAX(0,MIN($W14,MIN($X14,($B14+0+5/24)))-MAX($V14,MAX($T14,($B14+-1+22/24)))))+(MAX(0,MIN($U14,MIN($X14,($B14+1+5/24)))-MAX($T14,MAX($T14,($B14+0+22/24))))-MAX(0,MIN($W14,MIN($X14,($B14+1+5/24)))-MAX($V14,MAX($T14,($B14+0+22/24)))))+(MAX(0,MIN($U14,MIN($X14,($B14+2+5/24)))-MAX($T14,MAX($T14,($B14+1+22/24))))-MAX(0,MIN($W14,MIN($X14,($B14+2+5/24)))-MAX($V14,MAX($T14,($B14+1+22/24)))))),0)-IF($H14="はい",((MAX(0,MIN($U14,MIN($U14,($B14+0+5/24)))-MAX($T14,MAX($X14,($B14+-1+22/24))))-MAX(0,MIN($W14,MIN($U14,($B14+0+5/24)))-MAX($V14,MAX($X14,($B14+-1+22/24)))))+(MAX(0,MIN($U14,MIN($U14,($B14+1+5/24)))-MAX($T14,MAX($X14,($B14+0+22/24))))-MAX(0,MIN($W14,MIN($U14,($B14+1+5/24)))-MAX($V14,MAX($X14,($B14+0+22/24)))))+(MAX(0,MIN($U14,MIN($U14,($B14+2+5/24)))-MAX($T14,MAX($X14,($B14+1+22/24))))-MAX(0,MIN($W14,MIN($U14,($B14+2+5/24)))-MAX($V14,MAX($X14,($B14+1+22/24)))))),0))*24,4)) | O14: =IF(OR($B14="",$C14="",$D14=""),"",ROUND((IF($G14="はい",((MAX(0,MIN($U14,MIN($X14,($B14+0+5/24)))-MAX($T14,MAX($T14,($B14+-1+22/24))))-MAX(0,MIN($W14,MIN($X14,($B14+0+5/24)))-MAX($V14,MAX($T14,($B14+-1+22/24)))))+(MAX(0,MIN($U14,MIN($X14,($B14+1+5/24)))-MAX($T14,MAX($T14,($B14+0+22/24))))-MAX(0,MIN($W14,MIN($X14,($B14+1+5/24)))-MAX($V14,MAX($T14,($B14+0+22/24)))))+(MAX(0,MIN($U14,MIN($X14,($B14+2+5/24)))-MAX($T14,MAX($T14,($B14+1+22/24))))-MAX(0,MIN($W14,MIN($X14,($B14+2+5/24)))-MAX($V14,MAX($T14,($B14+1+22/24)))))),0)+IF($H14="はい",((MAX(0,MIN($U14,MIN($U14,($B14+0+5/24)))-MAX($T14,MAX($X14,($B14+-1+22/24))))-MAX(0,MIN($W14,MIN($U14,($B14+0+5/24)))-MAX($V14,MAX($X14,($B14+-1+22/24)))))+(MAX(0,MIN($U14,MIN($U14,($B14+1+5/24)))-MAX($T14,MAX($X14,($B14+0+22/24))))-MAX(0,MIN($W14,MIN($U14,($B14+1+5/24)))-MAX($V14,MAX($X14,($B14+0+22/24)))))+(MAX(0,MIN($U14,MIN($U14,($B14+2+5/24)))-MAX($T14,MAX($X14,($B14+1+22/24))))-MAX(0,MIN($W14,MIN($U14,($B14+2+5/24)))-MAX($V14,MAX($X14,($B14+1+22/24)))))),0))*24,4)) | P14: =IF(OR($B14="",$C14="",$D14=""),"",ROUND($B$3*SUMPRODUCT($J14:$O14,$J$7:$O$7),0)) | Q14: =IF(OR($B14="",$C14="",$D14=""),"",$P14-ROUND($B$3*$I14,0)) | R14: =IF(OR($B14="",$C14="",$D14=""),"",IF(ABS(SUM($J14:$O14)-$I14)>0.001,"区分の合計がずれた",IF(AND($I14>8,ROUND(($W14-$V14)*24,4)<1),"休憩が1時間に足りない",IF(AND($I14>6,ROUND(($W14-$V14)*24,4)<0.75),"休憩が45分に足りない","")))) | T14: =IF(OR($B14="",$C14="",$D14=""),"",$B14+$C14) | U14: =IF(OR($B14="",$C14="",$D14=""),"",$B14+$D14+IF($D14<=$C14,1,0)) | V14: =IF(OR($B14="",$C14="",$D14=""),"",IF($E14="",$U14,$B14+$E14+IF($E14<$C14,1,0))) | W14: =IF(OR($B14="",$C14="",$D14=""),"",IF(OR($E14="",$F14=""),$V14,$B14+$F14+IF($F14<$C14,1,0))) | X14: =IF(OR($B14="",$C14="",$D14=""),"",$B14+1) | Y14: =IF(OR($B14="",$C14="",$D14=""),"",IF($G14="はい",MAX($T14,$X14),$T14)) | Z14: =IF(OR($B14="",$C14="",$D14=""),"",IF($H14="はい",MIN($U14,$X14),$U14)) | AA14: =IF(OR($B14="",$C14="",$D14=""),"",IF(MAX($V14,$Y14)>=$Y14+8/24,$Y14+8/24,$Y14+8/24+(MAX($W14,$Y14)-MAX($V14,$Y14))))
A15: 元日の日勤（元日は法定休日でない） | B15: 46388 | C15: 0.375 | D15: 0.75 | E15: 0.5 | F15: 0.54166667 | G15: いいえ | H15: いいえ | I15: =IF(OR($B15="",$C15="",$D15=""),"",ROUND((MAX(0,MIN($U15,$U15)-MAX($T15,$T15))-MAX(0,MIN($W15,$U15)-MAX($V15,$T15)))*24,4)) | J15: =IF(OR($B15="",$C15="",$D15=""),"",ROUND(((MAX(0,MIN($U15,MIN($Z15,$AA15))-MAX($T15,$Y15))-MAX(0,MIN($W15,MIN($Z15,$AA15))-MAX($V15,$Y15)))-((MAX(0,MIN($U15,MIN(MIN($Z15,$AA15),($B15+0+5/24)))-MAX($T15,MAX($Y15,($B15+-1+22/24))))-MAX(0,MIN($W15,MIN(MIN($Z15,$AA15),($B15+0+5/24)))-MAX($V15,MAX($Y15,($B15+-1+22/24)))))+(MAX(0,MIN($U15,MIN(MIN($Z15,$AA15),($B15+1+5/24)))-MAX($T15,MAX($Y15,($B15+0+22/24))))-MAX(0,MIN($W15,MIN(MIN($Z15,$AA15),($B15+1+5/24)))-MAX($V15,MAX($Y15,($B15+0+22/24)))))+(MAX(0,MIN($U15,MIN(MIN($Z15,$AA15),($B15+2+5/24)))-MAX($T15,MAX($Y15,($B15+1+22/24))))-MAX(0,MIN($W15,MIN(MIN($Z15,$AA15),($B15+2+5/24)))-MAX($V15,MAX($Y15,($B15+1+22/24)))))))*24,4)) | K15: =IF(OR($B15="",$C15="",$D15=""),"",ROUND(((MAX(0,MIN($U15,MIN(MIN($Z15,$AA15),($B15+0+5/24)))-MAX($T15,MAX($Y15,($B15+-1+22/24))))-MAX(0,MIN($W15,MIN(MIN($Z15,$AA15),($B15+0+5/24)))-MAX($V15,MAX($Y15,($B15+-1+22/24)))))+(MAX(0,MIN($U15,MIN(MIN($Z15,$AA15),($B15+1+5/24)))-MAX($T15,MAX($Y15,($B15+0+22/24))))-MAX(0,MIN($W15,MIN(MIN($Z15,$AA15),($B15+1+5/24)))-MAX($V15,MAX($Y15,($B15+0+22/24)))))+(MAX(0,MIN($U15,MIN(MIN($Z15,$AA15),($B15+2+5/24)))-MAX($T15,MAX($Y15,($B15+1+22/24))))-MAX(0,MIN($W15,MIN(MIN($Z15,$AA15),($B15+2+5/24)))-MAX($V15,MAX($Y15,($B15+1+22/24))))))*24,4)) | L15: =IF(OR($B15="",$C15="",$D15=""),"",ROUND(((MAX(0,MIN($U15,$Z15)-MAX($T15,MAX($Y15,$AA15)))-MAX(0,MIN($W15,$Z15)-MAX($V15,MAX($Y15,$AA15))))-((MAX(0,MIN($U15,MIN($Z15,($B15+0+5/24)))-MAX($T15,MAX(MAX($Y15,$AA15),($B15+-1+22/24))))-MAX(0,MIN($W15,MIN($Z15,($B15+0+5/24)))-MAX($V15,MAX(MAX($Y15,$AA15),($B15+-1+22/24)))))+(MAX(0,MIN($U15,MIN($Z15,($B15+1+5/24)))-MAX($T15,MAX(MAX($Y15,$AA15),($B15+0+22/24))))-MAX(0,MIN($W15,MIN($Z15,($B15+1+5/24)))-MAX($V15,MAX(MAX($Y15,$AA15),($B15+0+22/24)))))+(MAX(0,MIN($U15,MIN($Z15,($B15+2+5/24)))-MAX($T15,MAX(MAX($Y15,$AA15),($B15+1+22/24))))-MAX(0,MIN($W15,MIN($Z15,($B15+2+5/24)))-MAX($V15,MAX(MAX($Y15,$AA15),($B15+1+22/24)))))))*24,4)) | M15: =IF(OR($B15="",$C15="",$D15=""),"",ROUND(((MAX(0,MIN($U15,MIN($Z15,($B15+0+5/24)))-MAX($T15,MAX(MAX($Y15,$AA15),($B15+-1+22/24))))-MAX(0,MIN($W15,MIN($Z15,($B15+0+5/24)))-MAX($V15,MAX(MAX($Y15,$AA15),($B15+-1+22/24)))))+(MAX(0,MIN($U15,MIN($Z15,($B15+1+5/24)))-MAX($T15,MAX(MAX($Y15,$AA15),($B15+0+22/24))))-MAX(0,MIN($W15,MIN($Z15,($B15+1+5/24)))-MAX($V15,MAX(MAX($Y15,$AA15),($B15+0+22/24)))))+(MAX(0,MIN($U15,MIN($Z15,($B15+2+5/24)))-MAX($T15,MAX(MAX($Y15,$AA15),($B15+1+22/24))))-MAX(0,MIN($W15,MIN($Z15,($B15+2+5/24)))-MAX($V15,MAX(MAX($Y15,$AA15),($B15+1+22/24))))))*24,4)) | N15: =IF(OR($B15="",$C15="",$D15=""),"",ROUND((IF($G15="はい",(MAX(0,MIN($U15,$X15)-MAX($T15,$T15))-MAX(0,MIN($W15,$X15)-MAX($V15,$T15))),0)+IF($H15="はい",(MAX(0,MIN($U15,$U15)-MAX($T15,$X15))-MAX(0,MIN($W15,$U15)-MAX($V15,$X15))),0)-IF($G15="はい",((MAX(0,MIN($U15,MIN($X15,($B15+0+5/24)))-MAX($T15,MAX($T15,($B15+-1+22/24))))-MAX(0,MIN($W15,MIN($X15,($B15+0+5/24)))-MAX($V15,MAX($T15,($B15+-1+22/24)))))+(MAX(0,MIN($U15,MIN($X15,($B15+1+5/24)))-MAX($T15,MAX($T15,($B15+0+22/24))))-MAX(0,MIN($W15,MIN($X15,($B15+1+5/24)))-MAX($V15,MAX($T15,($B15+0+22/24)))))+(MAX(0,MIN($U15,MIN($X15,($B15+2+5/24)))-MAX($T15,MAX($T15,($B15+1+22/24))))-MAX(0,MIN($W15,MIN($X15,($B15+2+5/24)))-MAX($V15,MAX($T15,($B15+1+22/24)))))),0)-IF($H15="はい",((MAX(0,MIN($U15,MIN($U15,($B15+0+5/24)))-MAX($T15,MAX($X15,($B15+-1+22/24))))-MAX(0,MIN($W15,MIN($U15,($B15+0+5/24)))-MAX($V15,MAX($X15,($B15+-1+22/24)))))+(MAX(0,MIN($U15,MIN($U15,($B15+1+5/24)))-MAX($T15,MAX($X15,($B15+0+22/24))))-MAX(0,MIN($W15,MIN($U15,($B15+1+5/24)))-MAX($V15,MAX($X15,($B15+0+22/24)))))+(MAX(0,MIN($U15,MIN($U15,($B15+2+5/24)))-MAX($T15,MAX($X15,($B15+1+22/24))))-MAX(0,MIN($W15,MIN($U15,($B15+2+5/24)))-MAX($V15,MAX($X15,($B15+1+22/24)))))),0))*24,4)) | O15: =IF(OR($B15="",$C15="",$D15=""),"",ROUND((IF($G15="はい",((MAX(0,MIN($U15,MIN($X15,($B15+0+5/24)))-MAX($T15,MAX($T15,($B15+-1+22/24))))-MAX(0,MIN($W15,MIN($X15,($B15+0+5/24)))-MAX($V15,MAX($T15,($B15+-1+22/24)))))+(MAX(0,MIN($U15,MIN($X15,($B15+1+5/24)))-MAX($T15,MAX($T15,($B15+0+22/24))))-MAX(0,MIN($W15,MIN($X15,($B15+1+5/24)))-MAX($V15,MAX($T15,($B15+0+22/24)))))+(MAX(0,MIN($U15,MIN($X15,($B15+2+5/24)))-MAX($T15,MAX($T15,($B15+1+22/24))))-MAX(0,MIN($W15,MIN($X15,($B15+2+5/24)))-MAX($V15,MAX($T15,($B15+1+22/24)))))),0)+IF($H15="はい",((MAX(0,MIN($U15,MIN($U15,($B15+0+5/24)))-MAX($T15,MAX($X15,($B15+-1+22/24))))-MAX(0,MIN($W15,MIN($U15,($B15+0+5/24)))-MAX($V15,MAX($X15,($B15+-1+22/24)))))+(MAX(0,MIN($U15,MIN($U15,($B15+1+5/24)))-MAX($T15,MAX($X15,($B15+0+22/24))))-MAX(0,MIN($W15,MIN($U15,($B15+1+5/24)))-MAX($V15,MAX($X15,($B15+0+22/24)))))+(MAX(0,MIN($U15,MIN($U15,($B15+2+5/24)))-MAX($T15,MAX($X15,($B15+1+22/24))))-MAX(0,MIN($W15,MIN($U15,($B15+2+5/24)))-MAX($V15,MAX($X15,($B15+1+22/24)))))),0))*24,4)) | P15: =IF(OR($B15="",$C15="",$D15=""),"",ROUND($B$3*SUMPRODUCT($J15:$O15,$J$7:$O$7),0)) | Q15: =IF(OR($B15="",$C15="",$D15=""),"",$P15-ROUND($B$3*$I15,0)) | R15: =IF(OR($B15="",$C15="",$D15=""),"",IF(ABS(SUM($J15:$O15)-$I15)>0.001,"区分の合計がずれた",IF(AND($I15>8,ROUND(($W15-$V15)*24,4)<1),"休憩が1時間に足りない",IF(AND($I15>6,ROUND(($W15-$V15)*24,4)<0.75),"休憩が45分に足りない","")))) | T15: =IF(OR($B15="",$C15="",$D15=""),"",$B15+$C15) | U15: =IF(OR($B15="",$C15="",$D15=""),"",$B15+$D15+IF($D15<=$C15,1,0)) | V15: =IF(OR($B15="",$C15="",$D15=""),"",IF($E15="",$U15,$B15+$E15+IF($E15<$C15,1,0))) | W15: =IF(OR($B15="",$C15="",$D15=""),"",IF(OR($E15="",$F15=""),$V15,$B15+$F15+IF($F15<$C15,1,0))) | X15: =IF(OR($B15="",$C15="",$D15=""),"",$B15+1) | Y15: =IF(OR($B15="",$C15="",$D15=""),"",IF($G15="はい",MAX($T15,$X15),$T15)) | Z15: =IF(OR($B15="",$C15="",$D15=""),"",IF($H15="はい",MIN($U15,$X15),$U15)) | AA15: =IF(OR($B15="",$C15="",$D15=""),"",IF(MAX($V15,$Y15)>=$Y15+8/24,$Y15+8/24,$Y15+8/24+(MAX($W15,$Y15)-MAX($V15,$Y15))))
A16: 大晦日の夜勤 休憩なし（元日は法定休日でない） | B16: 46387 | C16: 0.91666667 | D16: 0.20833333 | G16: いいえ | H16: いいえ | I16: =IF(OR($B16="",$C16="",$D16=""),"",ROUND((MAX(0,MIN($U16,$U16)-MAX($T16,$T16))-MAX(0,MIN($W16,$U16)-MAX($V16,$T16)))*24,4)) | J16: =IF(OR($B16="",$C16="",$D16=""),"",ROUND(((MAX(0,MIN($U16,MIN($Z16,$AA16))-MAX($T16,$Y16))-MAX(0,MIN($W16,MIN($Z16,$AA16))-MAX($V16,$Y16)))-((MAX(0,MIN($U16,MIN(MIN($Z16,$AA16),($B16+0+5/24)))-MAX($T16,MAX($Y16,($B16+-1+22/24))))-MAX(0,MIN($W16,MIN(MIN($Z16,$AA16),($B16+0+5/24)))-MAX($V16,MAX($Y16,($B16+-1+22/24)))))+(MAX(0,MIN($U16,MIN(MIN($Z16,$AA16),($B16+1+5/24)))-MAX($T16,MAX($Y16,($B16+0+22/24))))-MAX(0,MIN($W16,MIN(MIN($Z16,$AA16),($B16+1+5/24)))-MAX($V16,MAX($Y16,($B16+0+22/24)))))+(MAX(0,MIN($U16,MIN(MIN($Z16,$AA16),($B16+2+5/24)))-MAX($T16,MAX($Y16,($B16+1+22/24))))-MAX(0,MIN($W16,MIN(MIN($Z16,$AA16),($B16+2+5/24)))-MAX($V16,MAX($Y16,($B16+1+22/24)))))))*24,4)) | K16: =IF(OR($B16="",$C16="",$D16=""),"",ROUND(((MAX(0,MIN($U16,MIN(MIN($Z16,$AA16),($B16+0+5/24)))-MAX($T16,MAX($Y16,($B16+-1+22/24))))-MAX(0,MIN($W16,MIN(MIN($Z16,$AA16),($B16+0+5/24)))-MAX($V16,MAX($Y16,($B16+-1+22/24)))))+(MAX(0,MIN($U16,MIN(MIN($Z16,$AA16),($B16+1+5/24)))-MAX($T16,MAX($Y16,($B16+0+22/24))))-MAX(0,MIN($W16,MIN(MIN($Z16,$AA16),($B16+1+5/24)))-MAX($V16,MAX($Y16,($B16+0+22/24)))))+(MAX(0,MIN($U16,MIN(MIN($Z16,$AA16),($B16+2+5/24)))-MAX($T16,MAX($Y16,($B16+1+22/24))))-MAX(0,MIN($W16,MIN(MIN($Z16,$AA16),($B16+2+5/24)))-MAX($V16,MAX($Y16,($B16+1+22/24))))))*24,4)) | L16: =IF(OR($B16="",$C16="",$D16=""),"",ROUND(((MAX(0,MIN($U16,$Z16)-MAX($T16,MAX($Y16,$AA16)))-MAX(0,MIN($W16,$Z16)-MAX($V16,MAX($Y16,$AA16))))-((MAX(0,MIN($U16,MIN($Z16,($B16+0+5/24)))-MAX($T16,MAX(MAX($Y16,$AA16),($B16+-1+22/24))))-MAX(0,MIN($W16,MIN($Z16,($B16+0+5/24)))-MAX($V16,MAX(MAX($Y16,$AA16),($B16+-1+22/24)))))+(MAX(0,MIN($U16,MIN($Z16,($B16+1+5/24)))-MAX($T16,MAX(MAX($Y16,$AA16),($B16+0+22/24))))-MAX(0,MIN($W16,MIN($Z16,($B16+1+5/24)))-MAX($V16,MAX(MAX($Y16,$AA16),($B16+0+22/24)))))+(MAX(0,MIN($U16,MIN($Z16,($B16+2+5/24)))-MAX($T16,MAX(MAX($Y16,$AA16),($B16+1+22/24))))-MAX(0,MIN($W16,MIN($Z16,($B16+2+5/24)))-MAX($V16,MAX(MAX($Y16,$AA16),($B16+1+22/24)))))))*24,4)) | M16: =IF(OR($B16="",$C16="",$D16=""),"",ROUND(((MAX(0,MIN($U16,MIN($Z16,($B16+0+5/24)))-MAX($T16,MAX(MAX($Y16,$AA16),($B16+-1+22/24))))-MAX(0,MIN($W16,MIN($Z16,($B16+0+5/24)))-MAX($V16,MAX(MAX($Y16,$AA16),($B16+-1+22/24)))))+(MAX(0,MIN($U16,MIN($Z16,($B16+1+5/24)))-MAX($T16,MAX(MAX($Y16,$AA16),($B16+0+22/24))))-MAX(0,MIN($W16,MIN($Z16,($B16+1+5/24)))-MAX($V16,MAX(MAX($Y16,$AA16),($B16+0+22/24)))))+(MAX(0,MIN($U16,MIN($Z16,($B16+2+5/24)))-MAX($T16,MAX(MAX($Y16,$AA16),($B16+1+22/24))))-MAX(0,MIN($W16,MIN($Z16,($B16+2+5/24)))-MAX($V16,MAX(MAX($Y16,$AA16),($B16+1+22/24))))))*24,4)) | N16: =IF(OR($B16="",$C16="",$D16=""),"",ROUND((IF($G16="はい",(MAX(0,MIN($U16,$X16)-MAX($T16,$T16))-MAX(0,MIN($W16,$X16)-MAX($V16,$T16))),0)+IF($H16="はい",(MAX(0,MIN($U16,$U16)-MAX($T16,$X16))-MAX(0,MIN($W16,$U16)-MAX($V16,$X16))),0)-IF($G16="はい",((MAX(0,MIN($U16,MIN($X16,($B16+0+5/24)))-MAX($T16,MAX($T16,($B16+-1+22/24))))-MAX(0,MIN($W16,MIN($X16,($B16+0+5/24)))-MAX($V16,MAX($T16,($B16+-1+22/24)))))+(MAX(0,MIN($U16,MIN($X16,($B16+1+5/24)))-MAX($T16,MAX($T16,($B16+0+22/24))))-MAX(0,MIN($W16,MIN($X16,($B16+1+5/24)))-MAX($V16,MAX($T16,($B16+0+22/24)))))+(MAX(0,MIN($U16,MIN($X16,($B16+2+5/24)))-MAX($T16,MAX($T16,($B16+1+22/24))))-MAX(0,MIN($W16,MIN($X16,($B16+2+5/24)))-MAX($V16,MAX($T16,($B16+1+22/24)))))),0)-IF($H16="はい",((MAX(0,MIN($U16,MIN($U16,($B16+0+5/24)))-MAX($T16,MAX($X16,($B16+-1+22/24))))-MAX(0,MIN($W16,MIN($U16,($B16+0+5/24)))-MAX($V16,MAX($X16,($B16+-1+22/24)))))+(MAX(0,MIN($U16,MIN($U16,($B16+1+5/24)))-MAX($T16,MAX($X16,($B16+0+22/24))))-MAX(0,MIN($W16,MIN($U16,($B16+1+5/24)))-MAX($V16,MAX($X16,($B16+0+22/24)))))+(MAX(0,MIN($U16,MIN($U16,($B16+2+5/24)))-MAX($T16,MAX($X16,($B16+1+22/24))))-MAX(0,MIN($W16,MIN($U16,($B16+2+5/24)))-MAX($V16,MAX($X16,($B16+1+22/24)))))),0))*24,4)) | O16: =IF(OR($B16="",$C16="",$D16=""),"",ROUND((IF($G16="はい",((MAX(0,MIN($U16,MIN($X16,($B16+0+5/24)))-MAX($T16,MAX($T16,($B16+-1+22/24))))-MAX(0,MIN($W16,MIN($X16,($B16+0+5/24)))-MAX($V16,MAX($T16,($B16+-1+22/24)))))+(MAX(0,MIN($U16,MIN($X16,($B16+1+5/24)))-MAX($T16,MAX($T16,($B16+0+22/24))))-MAX(0,MIN($W16,MIN($X16,($B16+1+5/24)))-MAX($V16,MAX($T16,($B16+0+22/24)))))+(MAX(0,MIN($U16,MIN($X16,($B16+2+5/24)))-MAX($T16,MAX($T16,($B16+1+22/24))))-MAX(0,MIN($W16,MIN($X16,($B16+2+5/24)))-MAX($V16,MAX($T16,($B16+1+22/24)))))),0)+IF($H16="はい",((MAX(0,MIN($U16,MIN($U16,($B16+0+5/24)))-MAX($T16,MAX($X16,($B16+-1+22/24))))-MAX(0,MIN($W16,MIN($U16,($B16+0+5/24)))-MAX($V16,MAX($X16,($B16+-1+22/24)))))+(MAX(0,MIN($U16,MIN($U16,($B16+1+5/24)))-MAX($T16,MAX($X16,($B16+0+22/24))))-MAX(0,MIN($W16,MIN($U16,($B16+1+5/24)))-MAX($V16,MAX($X16,($B16+0+22/24)))))+(MAX(0,MIN($U16,MIN($U16,($B16+2+5/24)))-MAX($T16,MAX($X16,($B16+1+22/24))))-MAX(0,MIN($W16,MIN($U16,($B16+2+5/24)))-MAX($V16,MAX($X16,($B16+1+22/24)))))),0))*24,4)) | P16: =IF(OR($B16="",$C16="",$D16=""),"",ROUND($B$3*SUMPRODUCT($J16:$O16,$J$7:$O$7),0)) | Q16: =IF(OR($B16="",$C16="",$D16=""),"",$P16-ROUND($B$3*$I16,0)) | R16: =IF(OR($B16="",$C16="",$D16=""),"",IF(ABS(SUM($J16:$O16)-$I16)>0.001,"区分の合計がずれた",IF(AND($I16>8,ROUND(($W16-$V16)*24,4)<1),"休憩が1時間に足りない",IF(AND($I16>6,ROUND(($W16-$V16)*24,4)<0.75),"休憩が45分に足りない","")))) | T16: =IF(OR($B16="",$C16="",$D16=""),"",$B16+$C16) | U16: =IF(OR($B16="",$C16="",$D16=""),"",$B16+$D16+IF($D16<=$C16,1,0)) | V16: =IF(OR($B16="",$C16="",$D16=""),"",IF($E16="",$U16,$B16+$E16+IF($E16<$C16,1,0))) | W16: =IF(OR($B16="",$C16="",$D16=""),"",IF(OR($E16="",$F16=""),$V16,$B16+$F16+IF($F16<$C16,1,0))) | X16: =IF(OR($B16="",$C16="",$D16=""),"",$B16+1) | Y16: =IF(OR($B16="",$C16="",$D16=""),"",IF($G16="はい",MAX($T16,$X16),$T16)) | Z16: =IF(OR($B16="",$C16="",$D16=""),"",IF($H16="はい",MIN($U16,$X16),$U16)) | AA16: =IF(OR($B16="",$C16="",$D16=""),"",IF(MAX($V16,$Y16)>=$Y16+8/24,$Y16+8/24,$Y16+8/24+(MAX($W16,$Y16)-MAX($V16,$Y16))))
G17: いいえ | H17: いいえ | I17: =IF(OR($B17="",$C17="",$D17=""),"",ROUND((MAX(0,MIN($U17,$U17)-MAX($T17,$T17))-MAX(0,MIN($W17,$U17)-MAX($V17,$T17)))*24,4)) | J17: =IF(OR($B17="",$C17="",$D17=""),"",ROUND(((MAX(0,MIN($U17,MIN($Z17,$AA17))-MAX($T17,$Y17))-MAX(0,MIN($W17,MIN($Z17,$AA17))-MAX($V17,$Y17)))-((MAX(0,MIN($U17,MIN(MIN($Z17,$AA17),($B17+0+5/24)))-MAX($T17,MAX($Y17,($B17+-1+22/24))))-MAX(0,MIN($W17,MIN(MIN($Z17,$AA17),($B17+0+5/24)))-MAX($V17,MAX($Y17,($B17+-1+22/24)))))+(MAX(0,MIN($U17,MIN(MIN($Z17,$AA17),($B17+1+5/24)))-MAX($T17,MAX($Y17,($B17+0+22/24))))-MAX(0,MIN($W17,MIN(MIN($Z17,$AA17),($B17+1+5/24)))-MAX($V17,MAX($Y17,($B17+0+22/24)))))+(MAX(0,MIN($U17,MIN(MIN($Z17,$AA17),($B17+2+5/24)))-MAX($T17,MAX($Y17,($B17+1+22/24))))-MAX(0,MIN($W17,MIN(MIN($Z17,$AA17),($B17+2+5/24)))-MAX($V17,MAX($Y17,($B17+1+22/24)))))))*24,4)) | K17: =IF(OR($B17="",$C17="",$D17=""),"",ROUND(((MAX(0,MIN($U17,MIN(MIN($Z17,$AA17),($B17+0+5/24)))-MAX($T17,MAX($Y17,($B17+-1+22/24))))-MAX(0,MIN($W17,MIN(MIN($Z17,$AA17),($B17+0+5/24)))-MAX($V17,MAX($Y17,($B17+-1+22/24)))))+(MAX(0,MIN($U17,MIN(MIN($Z17,$AA17),($B17+1+5/24)))-MAX($T17,MAX($Y17,($B17+0+22/24))))-MAX(0,MIN($W17,MIN(MIN($Z17,$AA17),($B17+1+5/24)))-MAX($V17,MAX($Y17,($B17+0+22/24)))))+(MAX(0,MIN($U17,MIN(MIN($Z17,$AA17),($B17+2+5/24)))-MAX($T17,MAX($Y17,($B17+1+22/24))))-MAX(0,MIN($W17,MIN(MIN($Z17,$AA17),($B17+2+5/24)))-MAX($V17,MAX($Y17,($B17+1+22/24))))))*24,4)) | L17: =IF(OR($B17="",$C17="",$D17=""),"",ROUND(((MAX(0,MIN($U17,$Z17)-MAX($T17,MAX($Y17,$AA17)))-MAX(0,MIN($W17,$Z17)-MAX($V17,MAX($Y17,$AA17))))-((MAX(0,MIN($U17,MIN($Z17,($B17+0+5/24)))-MAX($T17,MAX(MAX($Y17,$AA17),($B17+-1+22/24))))-MAX(0,MIN($W17,MIN($Z17,($B17+0+5/24)))-MAX($V17,MAX(MAX($Y17,$AA17),($B17+-1+22/24)))))+(MAX(0,MIN($U17,MIN($Z17,($B17+1+5/24)))-MAX($T17,MAX(MAX($Y17,$AA17),($B17+0+22/24))))-MAX(0,MIN($W17,MIN($Z17,($B17+1+5/24)))-MAX($V17,MAX(MAX($Y17,$AA17),($B17+0+22/24)))))+(MAX(0,MIN($U17,MIN($Z17,($B17+2+5/24)))-MAX($T17,MAX(MAX($Y17,$AA17),($B17+1+22/24))))-MAX(0,MIN($W17,MIN($Z17,($B17+2+5/24)))-MAX($V17,MAX(MAX($Y17,$AA17),($B17+1+22/24)))))))*24,4)) | M17: =IF(OR($B17="",$C17="",$D17=""),"",ROUND(((MAX(0,MIN($U17,MIN($Z17,($B17+0+5/24)))-MAX($T17,MAX(MAX($Y17,$AA17),($B17+-1+22/24))))-MAX(0,MIN($W17,MIN($Z17,($B17+0+5/24)))-MAX($V17,MAX(MAX($Y17,$AA17),($B17+-1+22/24)))))+(MAX(0,MIN($U17,MIN($Z17,($B17+1+5/24)))-MAX($T17,MAX(MAX($Y17,$AA17),($B17+0+22/24))))-MAX(0,MIN($W17,MIN($Z17,($B17+1+5/24)))-MAX($V17,MAX(MAX($Y17,$AA17),($B17+0+22/24)))))+(MAX(0,MIN($U17,MIN($Z17,($B17+2+5/24)))-MAX($T17,MAX(MAX($Y17,$AA17),($B17+1+22/24))))-MAX(0,MIN($W17,MIN($Z17,($B17+2+5/24)))-MAX($V17,MAX(MAX($Y17,$AA17),($B17+1+22/24))))))*24,4)) | N17: =IF(OR($B17="",$C17="",$D17=""),"",ROUND((IF($G17="はい",(MAX(0,MIN($U17,$X17)-MAX($T17,$T17))-MAX(0,MIN($W17,$X17)-MAX($V17,$T17))),0)+IF($H17="はい",(MAX(0,MIN($U17,$U17)-MAX($T17,$X17))-MAX(0,MIN($W17,$U17)-MAX($V17,$X17))),0)-IF($G17="はい",((MAX(0,MIN($U17,MIN($X17,($B17+0+5/24)))-MAX($T17,MAX($T17,($B17+-1+22/24))))-MAX(0,MIN($W17,MIN($X17,($B17+0+5/24)))-MAX($V17,MAX($T17,($B17+-1+22/24)))))+(MAX(0,MIN($U17,MIN($X17,($B17+1+5/24)))-MAX($T17,MAX($T17,($B17+0+22/24))))-MAX(0,MIN($W17,MIN($X17,($B17+1+5/24)))-MAX($V17,MAX($T17,($B17+0+22/24)))))+(MAX(0,MIN($U17,MIN($X17,($B17+2+5/24)))-MAX($T17,MAX($T17,($B17+1+22/24))))-MAX(0,MIN($W17,MIN($X17,($B17+2+5/24)))-MAX($V17,MAX($T17,($B17+1+22/24)))))),0)-IF($H17="はい",((MAX(0,MIN($U17,MIN($U17,($B17+0+5/24)))-MAX($T17,MAX($X17,($B17+-1+22/24))))-MAX(0,MIN($W17,MIN($U17,($B17+0+5/24)))-MAX($V17,MAX($X17,($B17+-1+22/24)))))+(MAX(0,MIN($U17,MIN($U17,($B17+1+5/24)))-MAX($T17,MAX($X17,($B17+0+22/24))))-MAX(0,MIN($W17,MIN($U17,($B17+1+5/24)))-MAX($V17,MAX($X17,($B17+0+22/24)))))+(MAX(0,MIN($U17,MIN($U17,($B17+2+5/24)))-MAX($T17,MAX($X17,($B17+1+22/24))))-MAX(0,MIN($W17,MIN($U17,($B17+2+5/24)))-MAX($V17,MAX($X17,($B17+1+22/24)))))),0))*24,4)) | O17: =IF(OR($B17="",$C17="",$D17=""),"",ROUND((IF($G17="はい",((MAX(0,MIN($U17,MIN($X17,($B17+0+5/24)))-MAX($T17,MAX($T17,($B17+-1+22/24))))-MAX(0,MIN($W17,MIN($X17,($B17+0+5/24)))-MAX($V17,MAX($T17,($B17+-1+22/24)))))+(MAX(0,MIN($U17,MIN($X17,($B17+1+5/24)))-MAX($T17,MAX($T17,($B17+0+22/24))))-MAX(0,MIN($W17,MIN($X17,($B17+1+5/24)))-MAX($V17,MAX($T17,($B17+0+22/24)))))+(MAX(0,MIN($U17,MIN($X17,($B17+2+5/24)))-MAX($T17,MAX($T17,($B17+1+22/24))))-MAX(0,MIN($W17,MIN($X17,($B17+2+5/24)))-MAX($V17,MAX($T17,($B17+1+22/24)))))),0)+IF($H17="はい",((MAX(0,MIN($U17,MIN($U17,($B17+0+5/24)))-MAX($T17,MAX($X17,($B17+-1+22/24))))-MAX(0,MIN($W17,MIN($U17,($B17+0+5/24)))-MAX($V17,MAX($X17,($B17+-1+22/24)))))+(MAX(0,MIN($U17,MIN($U17,($B17+1+5/24)))-MAX($T17,MAX($X17,($B17+0+22/24))))-MAX(0,MIN($W17,MIN($U17,($B17+1+5/24)))-MAX($V17,MAX($X17,($B17+0+22/24)))))+(MAX(0,MIN($U17,MIN($U17,($B17+2+5/24)))-MAX($T17,MAX($X17,($B17+1+22/24))))-MAX(0,MIN($W17,MIN($U17,($B17+2+5/24)))-MAX($V17,MAX($X17,($B17+1+22/24)))))),0))*24,4)) | P17: =IF(OR($B17="",$C17="",$D17=""),"",ROUND($B$3*SUMPRODUCT($J17:$O17,$J$7:$O$7),0)) | Q17: =IF(OR($B17="",$C17="",$D17=""),"",$P17-ROUND($B$3*$I17,0)) | R17: =IF(OR($B17="",$C17="",$D17=""),"",IF(ABS(SUM($J17:$O17)-$I17)>0.001,"区分の合計がずれた",IF(AND($I17>8,ROUND(($W17-$V17)*24,4)<1),"休憩が1時間に足りない",IF(AND($I17>6,ROUND(($W17-$V17)*24,4)<0.75),"休憩が45分に足りない","")))) | T17: =IF(OR($B17="",$C17="",$D17=""),"",$B17+$C17) | U17: =IF(OR($B17="",$C17="",$D17=""),"",$B17+$D17+IF($D17<=$C17,1,0)) | V17: =IF(OR($B17="",$C17="",$D17=""),"",IF($E17="",$U17,$B17+$E17+IF($E17<$C17,1,0))) | W17: =IF(OR($B17="",$C17="",$D17=""),"",IF(OR($E17="",$F17=""),$V17,$B17+$F17+IF($F17<$C17,1,0))) | X17: =IF(OR($B17="",$C17="",$D17=""),"",$B17+1) | Y17: =IF(OR($B17="",$C17="",$D17=""),"",IF($G17="はい",MAX($T17,$X17),$T17)) | Z17: =IF(OR($B17="",$C17="",$D17=""),"",IF($H17="はい",MIN($U17,$X17),$U17)) | AA17: =IF(OR($B17="",$C17="",$D17=""),"",IF(MAX($V17,$Y17)>=$Y17+8/24,$Y17+8/24,$Y17+8/24+(MAX($W17,$Y17)-MAX($V17,$Y17))))
G18: いいえ | H18: いいえ | I18: =IF(OR($B18="",$C18="",$D18=""),"",ROUND((MAX(0,MIN($U18,$U18)-MAX($T18,$T18))-MAX(0,MIN($W18,$U18)-MAX($V18,$T18)))*24,4)) | J18: =IF(OR($B18="",$C18="",$D18=""),"",ROUND(((MAX(0,MIN($U18,MIN($Z18,$AA18))-MAX($T18,$Y18))-MAX(0,MIN($W18,MIN($Z18,$AA18))-MAX($V18,$Y18)))-((MAX(0,MIN($U18,MIN(MIN($Z18,$AA18),($B18+0+5/24)))-MAX($T18,MAX($Y18,($B18+-1+22/24))))-MAX(0,MIN($W18,MIN(MIN($Z18,$AA18),($B18+0+5/24)))-MAX($V18,MAX($Y18,($B18+-1+22/24)))))+(MAX(0,MIN($U18,MIN(MIN($Z18,$AA18),($B18+1+5/24)))-MAX($T18,MAX($Y18,($B18+0+22/24))))-MAX(0,MIN($W18,MIN(MIN($Z18,$AA18),($B18+1+5/24)))-MAX($V18,MAX($Y18,($B18+0+22/24)))))+(MAX(0,MIN($U18,MIN(MIN($Z18,$AA18),($B18+2+5/24)))-MAX($T18,MAX($Y18,($B18+1+22/24))))-MAX(0,MIN($W18,MIN(MIN($Z18,$AA18),($B18+2+5/24)))-MAX($V18,MAX($Y18,($B18+1+22/24)))))))*24,4)) | K18: =IF(OR($B18="",$C18="",$D18=""),"",ROUND(((MAX(0,MIN($U18,MIN(MIN($Z18,$AA18),($B18+0+5/24)))-MAX($T18,MAX($Y18,($B18+-1+22/24))))-MAX(0,MIN($W18,MIN(MIN($Z18,$AA18),($B18+0+5/24)))-MAX($V18,MAX($Y18,($B18+-1+22/24)))))+(MAX(0,MIN($U18,MIN(MIN($Z18,$AA18),($B18+1+5/24)))-MAX($T18,MAX($Y18,($B18+0+22/24))))-MAX(0,MIN($W18,MIN(MIN($Z18,$AA18),($B18+1+5/24)))-MAX($V18,MAX($Y18,($B18+0+22/24)))))+(MAX(0,MIN($U18,MIN(MIN($Z18,$AA18),($B18+2+5/24)))-MAX($T18,MAX($Y18,($B18+1+22/24))))-MAX(0,MIN($W18,MIN(MIN($Z18,$AA18),($B18+2+5/24)))-MAX($V18,MAX($Y18,($B18+1+22/24))))))*24,4)) | L18: =IF(OR($B18="",$C18="",$D18=""),"",ROUND(((MAX(0,MIN($U18,$Z18)-MAX($T18,MAX($Y18,$AA18)))-MAX(0,MIN($W18,$Z18)-MAX($V18,MAX($Y18,$AA18))))-((MAX(0,MIN($U18,MIN($Z18,($B18+0+5/24)))-MAX($T18,MAX(MAX($Y18,$AA18),($B18+-1+22/24))))-MAX(0,MIN($W18,MIN($Z18,($B18+0+5/24)))-MAX($V18,MAX(MAX($Y18,$AA18),($B18+-1+22/24)))))+(MAX(0,MIN($U18,MIN($Z18,($B18+1+5/24)))-MAX($T18,MAX(MAX($Y18,$AA18),($B18+0+22/24))))-MAX(0,MIN($W18,MIN($Z18,($B18+1+5/24)))-MAX($V18,MAX(MAX($Y18,$AA18),($B18+0+22/24)))))+(MAX(0,MIN($U18,MIN($Z18,($B18+2+5/24)))-MAX($T18,MAX(MAX($Y18,$AA18),($B18+1+22/24))))-MAX(0,MIN($W18,MIN($Z18,($B18+2+5/24)))-MAX($V18,MAX(MAX($Y18,$AA18),($B18+1+22/24)))))))*24,4)) | M18: =IF(OR($B18="",$C18="",$D18=""),"",ROUND(((MAX(0,MIN($U18,MIN($Z18,($B18+0+5/24)))-MAX($T18,MAX(MAX($Y18,$AA18),($B18+-1+22/24))))-MAX(0,MIN($W18,MIN($Z18,($B18+0+5/24)))-MAX($V18,MAX(MAX($Y18,$AA18),($B18+-1+22/24)))))+(MAX(0,MIN($U18,MIN($Z18,($B18+1+5/24)))-MAX($T18,MAX(MAX($Y18,$AA18),($B18+0+22/24))))-MAX(0,MIN($W18,MIN($Z18,($B18+1+5/24)))-MAX($V18,MAX(MAX($Y18,$AA18),($B18+0+22/24)))))+(MAX(0,MIN($U18,MIN($Z18,($B18+2+5/24)))-MAX($T18,MAX(MAX($Y18,$AA18),($B18+1+22/24))))-MAX(0,MIN($W18,MIN($Z18,($B18+2+5/24)))-MAX($V18,MAX(MAX($Y18,$AA18),($B18+1+22/24))))))*24,4)) | N18: =IF(OR($B18="",$C18="",$D18=""),"",ROUND((IF($G18="はい",(MAX(0,MIN($U18,$X18)-MAX($T18,$T18))-MAX(0,MIN($W18,$X18)-MAX($V18,$T18))),0)+IF($H18="はい",(MAX(0,MIN($U18,$U18)-MAX($T18,$X18))-MAX(0,MIN($W18,$U18)-MAX($V18,$X18))),0)-IF($G18="はい",((MAX(0,MIN($U18,MIN($X18,($B18+0+5/24)))-MAX($T18,MAX($T18,($B18+-1+22/24))))-MAX(0,MIN($W18,MIN($X18,($B18+0+5/24)))-MAX($V18,MAX($T18,($B18+-1+22/24)))))+(MAX(0,MIN($U18,MIN($X18,($B18+1+5/24)))-MAX($T18,MAX($T18,($B18+0+22/24))))-MAX(0,MIN($W18,MIN($X18,($B18+1+5/24)))-MAX($V18,MAX($T18,($B18+0+22/24)))))+(MAX(0,MIN($U18,MIN($X18,($B18+2+5/24)))-MAX($T18,MAX($T18,($B18+1+22/24))))-MAX(0,MIN($W18,MIN($X18,($B18+2+5/24)))-MAX($V18,MAX($T18,($B18+1+22/24)))))),0)-IF($H18="はい",((MAX(0,MIN($U18,MIN($U18,($B18+0+5/24)))-MAX($T18,MAX($X18,($B18+-1+22/24))))-MAX(0,MIN($W18,MIN($U18,($B18+0+5/24)))-MAX($V18,MAX($X18,($B18+-1+22/24)))))+(MAX(0,MIN($U18,MIN($U18,($B18+1+5/24)))-MAX($T18,MAX($X18,($B18+0+22/24))))-MAX(0,MIN($W18,MIN($U18,($B18+1+5/24)))-MAX($V18,MAX($X18,($B18+0+22/24)))))+(MAX(0,MIN($U18,MIN($U18,($B18+2+5/24)))-MAX($T18,MAX($X18,($B18+1+22/24))))-MAX(0,MIN($W18,MIN($U18,($B18+2+5/24)))-MAX($V18,MAX($X18,($B18+1+22/24)))))),0))*24,4)) | O18: =IF(OR($B18="",$C18="",$D18=""),"",ROUND((IF($G18="はい",((MAX(0,MIN($U18,MIN($X18,($B18+0+5/24)))-MAX($T18,MAX($T18,($B18+-1+22/24))))-MAX(0,MIN($W18,MIN($X18,($B18+0+5/24)))-MAX($V18,MAX($T18,($B18+-1+22/24)))))+(MAX(0,MIN($U18,MIN($X18,($B18+1+5/24)))-MAX($T18,MAX($T18,($B18+0+22/24))))-MAX(0,MIN($W18,MIN($X18,($B18+1+5/24)))-MAX($V18,MAX($T18,($B18+0+22/24)))))+(MAX(0,MIN($U18,MIN($X18,($B18+2+5/24)))-MAX($T18,MAX($T18,($B18+1+22/24))))-MAX(0,MIN($W18,MIN($X18,($B18+2+5/24)))-MAX($V18,MAX($T18,($B18+1+22/24)))))),0)+IF($H18="はい",((MAX(0,MIN($U18,MIN($U18,($B18+0+5/24)))-MAX($T18,MAX($X18,($B18+-1+22/24))))-MAX(0,MIN($W18,MIN($U18,($B18+0+5/24)))-MAX($V18,MAX($X18,($B18+-1+22/24)))))+(MAX(0,MIN($U18,MIN($U18,($B18+1+5/24)))-MAX($T18,MAX($X18,($B18+0+22/24))))-MAX(0,MIN($W18,MIN($U18,($B18+1+5/24)))-MAX($V18,MAX($X18,($B18+0+22/24)))))+(MAX(0,MIN($U18,MIN($U18,($B18+2+5/24)))-MAX($T18,MAX($X18,($B18+1+22/24))))-MAX(0,MIN($W18,MIN($U18,($B18+2+5/24)))-MAX($V18,MAX($X18,($B18+1+22/24)))))),0))*24,4)) | P18: =IF(OR($B18="",$C18="",$D18=""),"",ROUND($B$3*SUMPRODUCT($J18:$O18,$J$7:$O$7),0)) | Q18: =IF(OR($B18="",$C18="",$D18=""),"",$P18-ROUND($B$3*$I18,0)) | R18: =IF(OR($B18="",$C18="",$D18=""),"",IF(ABS(SUM($J18:$O18)-$I18)>0.001,"区分の合計がずれた",IF(AND($I18>8,ROUND(($W18-$V18)*24,4)<1),"休憩が1時間に足りない",IF(AND($I18>6,ROUND(($W18-$V18)*24,4)<0.75),"休憩が45分に足りない","")))) | T18: =IF(OR($B18="",$C18="",$D18=""),"",$B18+$C18) | U18: =IF(OR($B18="",$C18="",$D18=""),"",$B18+$D18+IF($D18<=$C18,1,0)) | V18: =IF(OR($B18="",$C18="",$D18=""),"",IF($E18="",$U18,$B18+$E18+IF($E18<$C18,1,0))) | W18: =IF(OR($B18="",$C18="",$D18=""),"",IF(OR($E18="",$F18=""),$V18,$B18+$F18+IF($F18<$C18,1,0))) | X18: =IF(OR($B18="",$C18="",$D18=""),"",$B18+1) | Y18: =IF(OR($B18="",$C18="",$D18=""),"",IF($G18="はい",MAX($T18,$X18),$T18)) | Z18: =IF(OR($B18="",$C18="",$D18=""),"",IF($H18="はい",MIN($U18,$X18),$U18)) | AA18: =IF(OR($B18="",$C18="",$D18=""),"",IF(MAX($V18,$Y18)>=$Y18+8/24,$Y18+8/24,$Y18+8/24+(MAX($W18,$Y18)-MAX($V18,$Y18))))
G19: いいえ | H19: いいえ | I19: =IF(OR($B19="",$C19="",$D19=""),"",ROUND((MAX(0,MIN($U19,$U19)-MAX($T19,$T19))-MAX(0,MIN($W19,$U19)-MAX($V19,$T19)))*24,4)) | J19: =IF(OR($B19="",$C19="",$D19=""),"",ROUND(((MAX(0,MIN($U19,MIN($Z19,$AA19))-MAX($T19,$Y19))-MAX(0,MIN($W19,MIN($Z19,$AA19))-MAX($V19,$Y19)))-((MAX(0,MIN($U19,MIN(MIN($Z19,$AA19),($B19+0+5/24)))-MAX($T19,MAX($Y19,($B19+-1+22/24))))-MAX(0,MIN($W19,MIN(MIN($Z19,$AA19),($B19+0+5/24)))-MAX($V19,MAX($Y19,($B19+-1+22/24)))))+(MAX(0,MIN($U19,MIN(MIN($Z19,$AA19),($B19+1+5/24)))-MAX($T19,MAX($Y19,($B19+0+22/24))))-MAX(0,MIN($W19,MIN(MIN($Z19,$AA19),($B19+1+5/24)))-MAX($V19,MAX($Y19,($B19+0+22/24)))))+(MAX(0,MIN($U19,MIN(MIN($Z19,$AA19),($B19+2+5/24)))-MAX($T19,MAX($Y19,($B19+1+22/24))))-MAX(0,MIN($W19,MIN(MIN($Z19,$AA19),($B19+2+5/24)))-MAX($V19,MAX($Y19,($B19+1+22/24)))))))*24,4)) | K19: =IF(OR($B19="",$C19="",$D19=""),"",ROUND(((MAX(0,MIN($U19,MIN(MIN($Z19,$AA19),($B19+0+5/24)))-MAX($T19,MAX($Y19,($B19+-1+22/24))))-MAX(0,MIN($W19,MIN(MIN($Z19,$AA19),($B19+0+5/24)))-MAX($V19,MAX($Y19,($B19+-1+22/24)))))+(MAX(0,MIN($U19,MIN(MIN($Z19,$AA19),($B19+1+5/24)))-MAX($T19,MAX($Y19,($B19+0+22/24))))-MAX(0,MIN($W19,MIN(MIN($Z19,$AA19),($B19+1+5/24)))-MAX($V19,MAX($Y19,($B19+0+22/24)))))+(MAX(0,MIN($U19,MIN(MIN($Z19,$AA19),($B19+2+5/24)))-MAX($T19,MAX($Y19,($B19+1+22/24))))-MAX(0,MIN($W19,MIN(MIN($Z19,$AA19),($B19+2+5/24)))-MAX($V19,MAX($Y19,($B19+1+22/24))))))*24,4)) | L19: =IF(OR($B19="",$C19="",$D19=""),"",ROUND(((MAX(0,MIN($U19,$Z19)-MAX($T19,MAX($Y19,$AA19)))-MAX(0,MIN($W19,$Z19)-MAX($V19,MAX($Y19,$AA19))))-((MAX(0,MIN($U19,MIN($Z19,($B19+0+5/24)))-MAX($T19,MAX(MAX($Y19,$AA19),($B19+-1+22/24))))-MAX(0,MIN($W19,MIN($Z19,($B19+0+5/24)))-MAX($V19,MAX(MAX($Y19,$AA19),($B19+-1+22/24)))))+(MAX(0,MIN($U19,MIN($Z19,($B19+1+5/24)))-MAX($T19,MAX(MAX($Y19,$AA19),($B19+0+22/24))))-MAX(0,MIN($W19,MIN($Z19,($B19+1+5/24)))-MAX($V19,MAX(MAX($Y19,$AA19),($B19+0+22/24)))))+(MAX(0,MIN($U19,MIN($Z19,($B19+2+5/24)))-MAX($T19,MAX(MAX($Y19,$AA19),($B19+1+22/24))))-MAX(0,MIN($W19,MIN($Z19,($B19+2+5/24)))-MAX($V19,MAX(MAX($Y19,$AA19),($B19+1+22/24)))))))*24,4)) | M19: =IF(OR($B19="",$C19="",$D19=""),"",ROUND(((MAX(0,MIN($U19,MIN($Z19,($B19+0+5/24)))-MAX($T19,MAX(MAX($Y19,$AA19),($B19+-1+22/24))))-MAX(0,MIN($W19,MIN($Z19,($B19+0+5/24)))-MAX($V19,MAX(MAX($Y19,$AA19),($B19+-1+22/24)))))+(MAX(0,MIN($U19,MIN($Z19,($B19+1+5/24)))-MAX($T19,MAX(MAX($Y19,$AA19),($B19+0+22/24))))-MAX(0,MIN($W19,MIN($Z19,($B19+1+5/24)))-MAX($V19,MAX(MAX($Y19,$AA19),($B19+0+22/24)))))+(MAX(0,MIN($U19,MIN($Z19,($B19+2+5/24)))-MAX($T19,MAX(MAX($Y19,$AA19),($B19+1+22/24))))-MAX(0,MIN($W19,MIN($Z19,($B19+2+5/24)))-MAX($V19,MAX(MAX($Y19,$AA19),($B19+1+22/24))))))*24,4)) | N19: =IF(OR($B19="",$C19="",$D19=""),"",ROUND((IF($G19="はい",(MAX(0,MIN($U19,$X19)-MAX($T19,$T19))-MAX(0,MIN($W19,$X19)-MAX($V19,$T19))),0)+IF($H19="はい",(MAX(0,MIN($U19,$U19)-MAX($T19,$X19))-MAX(0,MIN($W19,$U19)-MAX($V19,$X19))),0)-IF($G19="はい",((MAX(0,MIN($U19,MIN($X19,($B19+0+5/24)))-MAX($T19,MAX($T19,($B19+-1+22/24))))-MAX(0,MIN($W19,MIN($X19,($B19+0+5/24)))-MAX($V19,MAX($T19,($B19+-1+22/24)))))+(MAX(0,MIN($U19,MIN($X19,($B19+1+5/24)))-MAX($T19,MAX($T19,($B19+0+22/24))))-MAX(0,MIN($W19,MIN($X19,($B19+1+5/24)))-MAX($V19,MAX($T19,($B19+0+22/24)))))+(MAX(0,MIN($U19,MIN($X19,($B19+2+5/24)))-MAX($T19,MAX($T19,($B19+1+22/24))))-MAX(0,MIN($W19,MIN($X19,($B19+2+5/24)))-MAX($V19,MAX($T19,($B19+1+22/24)))))),0)-IF($H19="はい",((MAX(0,MIN($U19,MIN($U19,($B19+0+5/24)))-MAX($T19,MAX($X19,($B19+-1+22/24))))-MAX(0,MIN($W19,MIN($U19,($B19+0+5/24)))-MAX($V19,MAX($X19,($B19+-1+22/24)))))+(MAX(0,MIN($U19,MIN($U19,($B19+1+5/24)))-MAX($T19,MAX($X19,($B19+0+22/24))))-MAX(0,MIN($W19,MIN($U19,($B19+1+5/24)))-MAX($V19,MAX($X19,($B19+0+22/24)))))+(MAX(0,MIN($U19,MIN($U19,($B19+2+5/24)))-MAX($T19,MAX($X19,($B19+1+22/24))))-MAX(0,MIN($W19,MIN($U19,($B19+2+5/24)))-MAX($V19,MAX($X19,($B19+1+22/24)))))),0))*24,4)) | O19: =IF(OR($B19="",$C19="",$D19=""),"",ROUND((IF($G19="はい",((MAX(0,MIN($U19,MIN($X19,($B19+0+5/24)))-MAX($T19,MAX($T19,($B19+-1+22/24))))-MAX(0,MIN($W19,MIN($X19,($B19+0+5/24)))-MAX($V19,MAX($T19,($B19+-1+22/24)))))+(MAX(0,MIN($U19,MIN($X19,($B19+1+5/24)))-MAX($T19,MAX($T19,($B19+0+22/24))))-MAX(0,MIN($W19,MIN($X19,($B19+1+5/24)))-MAX($V19,MAX($T19,($B19+0+22/24)))))+(MAX(0,MIN($U19,MIN($X19,($B19+2+5/24)))-MAX($T19,MAX($T19,($B19+1+22/24))))-MAX(0,MIN($W19,MIN($X19,($B19+2+5/24)))-MAX($V19,MAX($T19,($B19+1+22/24)))))),0)+IF($H19="はい",((MAX(0,MIN($U19,MIN($U19,($B19+0+5/24)))-MAX($T19,MAX($X19,($B19+-1+22/24))))-MAX(0,MIN($W19,MIN($U19,($B19+0+5/24)))-MAX($V19,MAX($X19,($B19+-1+22/24)))))+(MAX(0,MIN($U19,MIN($U19,($B19+1+5/24)))-MAX($T19,MAX($X19,($B19+0+22/24))))-MAX(0,MIN($W19,MIN($U19,($B19+1+5/24)))-MAX($V19,MAX($X19,($B19+0+22/24)))))+(MAX(0,MIN($U19,MIN($U19,($B19+2+5/24)))-MAX($T19,MAX($X19,($B19+1+22/24))))-MAX(0,MIN($W19,MIN($U19,($B19+2+5/24)))-MAX($V19,MAX($X19,($B19+1+22/24)))))),0))*24,4)) | P19: =IF(OR($B19="",$C19="",$D19=""),"",ROUND($B$3*SUMPRODUCT($J19:$O19,$J$7:$O$7),0)) | Q19: =IF(OR($B19="",$C19="",$D19=""),"",$P19-ROUND($B$3*$I19,0)) | R19: =IF(OR($B19="",$C19="",$D19=""),"",IF(ABS(SUM($J19:$O19)-$I19)>0.001,"区分の合計がずれた",IF(AND($I19>8,ROUND(($W19-$V19)*24,4)<1),"休憩が1時間に足りない",IF(AND($I19>6,ROUND(($W19-$V19)*24,4)<0.75),"休憩が45分に足りない","")))) | T19: =IF(OR($B19="",$C19="",$D19=""),"",$B19+$C19) | U19: =IF(OR($B19="",$C19="",$D19=""),"",$B19+$D19+IF($D19<=$C19,1,0)) | V19: =IF(OR($B19="",$C19="",$D19=""),"",IF($E19="",$U19,$B19+$E19+IF($E19<$C19,1,0))) | W19: =IF(OR($B19="",$C19="",$D19=""),"",IF(OR($E19="",$F19=""),$V19,$B19+$F19+IF($F19<$C19,1,0))) | X19: =IF(OR($B19="",$C19="",$D19=""),"",$B19+1) | Y19: =IF(OR($B19="",$C19="",$D19=""),"",IF($G19="はい",MAX($T19,$X19),$T19)) | Z19: =IF(OR($B19="",$C19="",$D19=""),"",IF($H19="はい",MIN($U19,$X19),$U19)) | AA19: =IF(OR($B19="",$C19="",$D19=""),"",IF(MAX($V19,$Y19)>=$Y19+8/24,$Y19+8/24,$Y19+8/24+(MAX($W19,$Y19)-MAX($V19,$Y19))))
G20: いいえ | H20: いいえ | I20: =IF(OR($B20="",$C20="",$D20=""),"",ROUND((MAX(0,MIN($U20,$U20)-MAX($T20,$T20))-MAX(0,MIN($W20,$U20)-MAX($V20,$T20)))*24,4)) | J20: =IF(OR($B20="",$C20="",$D20=""),"",ROUND(((MAX(0,MIN($U20,MIN($Z20,$AA20))-MAX($T20,$Y20))-MAX(0,MIN($W20,MIN($Z20,$AA20))-MAX($V20,$Y20)))-((MAX(0,MIN($U20,MIN(MIN($Z20,$AA20),($B20+0+5/24)))-MAX($T20,MAX($Y20,($B20+-1+22/24))))-MAX(0,MIN($W20,MIN(MIN($Z20,$AA20),($B20+0+5/24)))-MAX($V20,MAX($Y20,($B20+-1+22/24)))))+(MAX(0,MIN($U20,MIN(MIN($Z20,$AA20),($B20+1+5/24)))-MAX($T20,MAX($Y20,($B20+0+22/24))))-MAX(0,MIN($W20,MIN(MIN($Z20,$AA20),($B20+1+5/24)))-MAX($V20,MAX($Y20,($B20+0+22/24)))))+(MAX(0,MIN($U20,MIN(MIN($Z20,$AA20),($B20+2+5/24)))-MAX($T20,MAX($Y20,($B20+1+22/24))))-MAX(0,MIN($W20,MIN(MIN($Z20,$AA20),($B20+2+5/24)))-MAX($V20,MAX($Y20,($B20+1+22/24)))))))*24,4)) | K20: =IF(OR($B20="",$C20="",$D20=""),"",ROUND(((MAX(0,MIN($U20,MIN(MIN($Z20,$AA20),($B20+0+5/24)))-MAX($T20,MAX($Y20,($B20+-1+22/24))))-MAX(0,MIN($W20,MIN(MIN($Z20,$AA20),($B20+0+5/24)))-MAX($V20,MAX($Y20,($B20+-1+22/24)))))+(MAX(0,MIN($U20,MIN(MIN($Z20,$AA20),($B20+1+5/24)))-MAX($T20,MAX($Y20,($B20+0+22/24))))-MAX(0,MIN($W20,MIN(MIN($Z20,$AA20),($B20+1+5/24)))-MAX($V20,MAX($Y20,($B20+0+22/24)))))+(MAX(0,MIN($U20,MIN(MIN($Z20,$AA20),($B20+2+5/24)))-MAX($T20,MAX($Y20,($B20+1+22/24))))-MAX(0,MIN($W20,MIN(MIN($Z20,$AA20),($B20+2+5/24)))-MAX($V20,MAX($Y20,($B20+1+22/24))))))*24,4)) | L20: =IF(OR($B20="",$C20="",$D20=""),"",ROUND(((MAX(0,MIN($U20,$Z20)-MAX($T20,MAX($Y20,$AA20)))-MAX(0,MIN($W20,$Z20)-MAX($V20,MAX($Y20,$AA20))))-((MAX(0,MIN($U20,MIN($Z20,($B20+0+5/24)))-MAX($T20,MAX(MAX($Y20,$AA20),($B20+-1+22/24))))-MAX(0,MIN($W20,MIN($Z20,($B20+0+5/24)))-MAX($V20,MAX(MAX($Y20,$AA20),($B20+-1+22/24)))))+(MAX(0,MIN($U20,MIN($Z20,($B20+1+5/24)))-MAX($T20,MAX(MAX($Y20,$AA20),($B20+0+22/24))))-MAX(0,MIN($W20,MIN($Z20,($B20+1+5/24)))-MAX($V20,MAX(MAX($Y20,$AA20),($B20+0+22/24)))))+(MAX(0,MIN($U20,MIN($Z20,($B20+2+5/24)))-MAX($T20,MAX(MAX($Y20,$AA20),($B20+1+22/24))))-MAX(0,MIN($W20,MIN($Z20,($B20+2+5/24)))-MAX($V20,MAX(MAX($Y20,$AA20),($B20+1+22/24)))))))*24,4)) | M20: =IF(OR($B20="",$C20="",$D20=""),"",ROUND(((MAX(0,MIN($U20,MIN($Z20,($B20+0+5/24)))-MAX($T20,MAX(MAX($Y20,$AA20),($B20+-1+22/24))))-MAX(0,MIN($W20,MIN($Z20,($B20+0+5/24)))-MAX($V20,MAX(MAX($Y20,$AA20),($B20+-1+22/24)))))+(MAX(0,MIN($U20,MIN($Z20,($B20+1+5/24)))-MAX($T20,MAX(MAX($Y20,$AA20),($B20+0+22/24))))-MAX(0,MIN($W20,MIN($Z20,($B20+1+5/24)))-MAX($V20,MAX(MAX($Y20,$AA20),($B20+0+22/24)))))+(MAX(0,MIN($U20,MIN($Z20,($B20+2+5/24)))-MAX($T20,MAX(MAX($Y20,$AA20),($B20+1+22/24))))-MAX(0,MIN($W20,MIN($Z20,($B20+2+5/24)))-MAX($V20,MAX(MAX($Y20,$AA20),($B20+1+22/24))))))*24,4)) | N20: =IF(OR($B20="",$C20="",$D20=""),"",ROUND((IF($G20="はい",(MAX(0,MIN($U20,$X20)-MAX($T20,$T20))-MAX(0,MIN($W20,$X20)-MAX($V20,$T20))),0)+IF($H20="はい",(MAX(0,MIN($U20,$U20)-MAX($T20,$X20))-MAX(0,MIN($W20,$U20)-MAX($V20,$X20))),0)-IF($G20="はい",((MAX(0,MIN($U20,MIN($X20,($B20+0+5/24)))-MAX($T20,MAX($T20,($B20+-1+22/24))))-MAX(0,MIN($W20,MIN($X20,($B20+0+5/24)))-MAX($V20,MAX($T20,($B20+-1+22/24)))))+(MAX(0,MIN($U20,MIN($X20,($B20+1+5/24)))-MAX($T20,MAX($T20,($B20+0+22/24))))-MAX(0,MIN($W20,MIN($X20,($B20+1+5/24)))-MAX($V20,MAX($T20,($B20+0+22/24)))))+(MAX(0,MIN($U20,MIN($X20,($B20+2+5/24)))-MAX($T20,MAX($T20,($B20+1+22/24))))-MAX(0,MIN($W20,MIN($X20,($B20+2+5/24)))-MAX($V20,MAX($T20,($B20+1+22/24)))))),0)-IF($H20="はい",((MAX(0,MIN($U20,MIN($U20,($B20+0+5/24)))-MAX($T20,MAX($X20,($B20+-1+22/24))))-MAX(0,MIN($W20,MIN($U20,($B20+0+5/24)))-MAX($V20,MAX($X20,($B20+-1+22/24)))))+(MAX(0,MIN($U20,MIN($U20,($B20+1+5/24)))-MAX($T20,MAX($X20,($B20+0+22/24))))-MAX(0,MIN($W20,MIN($U20,($B20+1+5/24)))-MAX($V20,MAX($X20,($B20+0+22/24)))))+(MAX(0,MIN($U20,MIN($U20,($B20+2+5/24)))-MAX($T20,MAX($X20,($B20+1+22/24))))-MAX(0,MIN($W20,MIN($U20,($B20+2+5/24)))-MAX($V20,MAX($X20,($B20+1+22/24)))))),0))*24,4)) | O20: =IF(OR($B20="",$C20="",$D20=""),"",ROUND((IF($G20="はい",((MAX(0,MIN($U20,MIN($X20,($B20+0+5/24)))-MAX($T20,MAX($T20,($B20+-1+22/24))))-MAX(0,MIN($W20,MIN($X20,($B20+0+5/24)))-MAX($V20,MAX($T20,($B20+-1+22/24)))))+(MAX(0,MIN($U20,MIN($X20,($B20+1+5/24)))-MAX($T20,MAX($T20,($B20+0+22/24))))-MAX(0,MIN($W20,MIN($X20,($B20+1+5/24)))-MAX($V20,MAX($T20,($B20+0+22/24)))))+(MAX(0,MIN($U20,MIN($X20,($B20+2+5/24)))-MAX($T20,MAX($T20,($B20+1+22/24))))-MAX(0,MIN($W20,MIN($X20,($B20+2+5/24)))-MAX($V20,MAX($T20,($B20+1+22/24)))))),0)+IF($H20="はい",((MAX(0,MIN($U20,MIN($U20,($B20+0+5/24)))-MAX($T20,MAX($X20,($B20+-1+22/24))))-MAX(0,MIN($W20,MIN($U20,($B20+0+5/24)))-MAX($V20,MAX($X20,($B20+-1+22/24)))))+(MAX(0,MIN($U20,MIN($U20,($B20+1+5/24)))-MAX($T20,MAX($X20,($B20+0+22/24))))-MAX(0,MIN($W20,MIN($U20,($B20+1+5/24)))-MAX($V20,MAX($X20,($B20+0+22/24)))))+(MAX(0,MIN($U20,MIN($U20,($B20+2+5/24)))-MAX($T20,MAX($X20,($B20+1+22/24))))-MAX(0,MIN($W20,MIN($U20,($B20+2+5/24)))-MAX($V20,MAX($X20,($B20+1+22/24)))))),0))*24,4)) | P20: =IF(OR($B20="",$C20="",$D20=""),"",ROUND($B$3*SUMPRODUCT($J20:$O20,$J$7:$O$7),0)) | Q20: =IF(OR($B20="",$C20="",$D20=""),"",$P20-ROUND($B$3*$I20,0)) | R20: =IF(OR($B20="",$C20="",$D20=""),"",IF(ABS(SUM($J20:$O20)-$I20)>0.001,"区分の合計がずれた",IF(AND($I20>8,ROUND(($W20-$V20)*24,4)<1),"休憩が1時間に足りない",IF(AND($I20>6,ROUND(($W20-$V20)*24,4)<0.75),"休憩が45分に足りない","")))) | T20: =IF(OR($B20="",$C20="",$D20=""),"",$B20+$C20) | U20: =IF(OR($B20="",$C20="",$D20=""),"",$B20+$D20+IF($D20<=$C20,1,0)) | V20: =IF(OR($B20="",$C20="",$D20=""),"",IF($E20="",$U20,$B20+$E20+IF($E20<$C20,1,0))) | W20: =IF(OR($B20="",$C20="",$D20=""),"",IF(OR($E20="",$F20=""),$V20,$B20+$F20+IF($F20<$C20,1,0))) | X20: =IF(OR($B20="",$C20="",$D20=""),"",$B20+1) | Y20: =IF(OR($B20="",$C20="",$D20=""),"",IF($G20="はい",MAX($T20,$X20),$T20)) | Z20: =IF(OR($B20="",$C20="",$D20=""),"",IF($H20="はい",MIN($U20,$X20),$U20)) | AA20: =IF(OR($B20="",$C20="",$D20=""),"",IF(MAX($V20,$Y20)>=$Y20+8/24,$Y20+8/24,$Y20+8/24+(MAX($W20,$Y20)-MAX($V20,$Y20))))
G21: いいえ | H21: いいえ | I21: =IF(OR($B21="",$C21="",$D21=""),"",ROUND((MAX(0,MIN($U21,$U21)-MAX($T21,$T21))-MAX(0,MIN($W21,$U21)-MAX($V21,$T21)))*24,4)) | J21: =IF(OR($B21="",$C21="",$D21=""),"",ROUND(((MAX(0,MIN($U21,MIN($Z21,$AA21))-MAX($T21,$Y21))-MAX(0,MIN($W21,MIN($Z21,$AA21))-MAX($V21,$Y21)))-((MAX(0,MIN($U21,MIN(MIN($Z21,$AA21),($B21+0+5/24)))-MAX($T21,MAX($Y21,($B21+-1+22/24))))-MAX(0,MIN($W21,MIN(MIN($Z21,$AA21),($B21+0+5/24)))-MAX($V21,MAX($Y21,($B21+-1+22/24)))))+(MAX(0,MIN($U21,MIN(MIN($Z21,$AA21),($B21+1+5/24)))-MAX($T21,MAX($Y21,($B21+0+22/24))))-MAX(0,MIN($W21,MIN(MIN($Z21,$AA21),($B21+1+5/24)))-MAX($V21,MAX($Y21,($B21+0+22/24)))))+(MAX(0,MIN($U21,MIN(MIN($Z21,$AA21),($B21+2+5/24)))-MAX($T21,MAX($Y21,($B21+1+22/24))))-MAX(0,MIN($W21,MIN(MIN($Z21,$AA21),($B21+2+5/24)))-MAX($V21,MAX($Y21,($B21+1+22/24)))))))*24,4)) | K21: =IF(OR($B21="",$C21="",$D21=""),"",ROUND(((MAX(0,MIN($U21,MIN(MIN($Z21,$AA21),($B21+0+5/24)))-MAX($T21,MAX($Y21,($B21+-1+22/24))))-MAX(0,MIN($W21,MIN(MIN($Z21,$AA21),($B21+0+5/24)))-MAX($V21,MAX($Y21,($B21+-1+22/24)))))+(MAX(0,MIN($U21,MIN(MIN($Z21,$AA21),($B21+1+5/24)))-MAX($T21,MAX($Y21,($B21+0+22/24))))-MAX(0,MIN($W21,MIN(MIN($Z21,$AA21),($B21+1+5/24)))-MAX($V21,MAX($Y21,($B21+0+22/24)))))+(MAX(0,MIN($U21,MIN(MIN($Z21,$AA21),($B21+2+5/24)))-MAX($T21,MAX($Y21,($B21+1+22/24))))-MAX(0,MIN($W21,MIN(MIN($Z21,$AA21),($B21+2+5/24)))-MAX($V21,MAX($Y21,($B21+1+22/24))))))*24,4)) | L21: =IF(OR($B21="",$C21="",$D21=""),"",ROUND(((MAX(0,MIN($U21,$Z21)-MAX($T21,MAX($Y21,$AA21)))-MAX(0,MIN($W21,$Z21)-MAX($V21,MAX($Y21,$AA21))))-((MAX(0,MIN($U21,MIN($Z21,($B21+0+5/24)))-MAX($T21,MAX(MAX($Y21,$AA21),($B21+-1+22/24))))-MAX(0,MIN($W21,MIN($Z21,($B21+0+5/24)))-MAX($V21,MAX(MAX($Y21,$AA21),($B21+-1+22/24)))))+(MAX(0,MIN($U21,MIN($Z21,($B21+1+5/24)))-MAX($T21,MAX(MAX($Y21,$AA21),($B21+0+22/24))))-MAX(0,MIN($W21,MIN($Z21,($B21+1+5/24)))-MAX($V21,MAX(MAX($Y21,$AA21),($B21+0+22/24)))))+(MAX(0,MIN($U21,MIN($Z21,($B21+2+5/24)))-MAX($T21,MAX(MAX($Y21,$AA21),($B21+1+22/24))))-MAX(0,MIN($W21,MIN($Z21,($B21+2+5/24)))-MAX($V21,MAX(MAX($Y21,$AA21),($B21+1+22/24)))))))*24,4)) | M21: =IF(OR($B21="",$C21="",$D21=""),"",ROUND(((MAX(0,MIN($U21,MIN($Z21,($B21+0+5/24)))-MAX($T21,MAX(MAX($Y21,$AA21),($B21+-1+22/24))))-MAX(0,MIN($W21,MIN($Z21,($B21+0+5/24)))-MAX($V21,MAX(MAX($Y21,$AA21),($B21+-1+22/24)))))+(MAX(0,MIN($U21,MIN($Z21,($B21+1+5/24)))-MAX($T21,MAX(MAX($Y21,$AA21),($B21+0+22/24))))-MAX(0,MIN($W21,MIN($Z21,($B21+1+5/24)))-MAX($V21,MAX(MAX($Y21,$AA21),($B21+0+22/24)))))+(MAX(0,MIN($U21,MIN($Z21,($B21+2+5/24)))-MAX($T21,MAX(MAX($Y21,$AA21),($B21+1+22/24))))-MAX(0,MIN($W21,MIN($Z21,($B21+2+5/24)))-MAX($V21,MAX(MAX($Y21,$AA21),($B21+1+22/24))))))*24,4)) | N21: =IF(OR($B21="",$C21="",$D21=""),"",ROUND((IF($G21="はい",(MAX(0,MIN($U21,$X21)-MAX($T21,$T21))-MAX(0,MIN($W21,$X21)-MAX($V21,$T21))),0)+IF($H21="はい",(MAX(0,MIN($U21,$U21)-MAX($T21,$X21))-MAX(0,MIN($W21,$U21)-MAX($V21,$X21))),0)-IF($G21="はい",((MAX(0,MIN($U21,MIN($X21,($B21+0+5/24)))-MAX($T21,MAX($T21,($B21+-1+22/24))))-MAX(0,MIN($W21,MIN($X21,($B21+0+5/24)))-MAX($V21,MAX($T21,($B21+-1+22/24)))))+(MAX(0,MIN($U21,MIN($X21,($B21+1+5/24)))-MAX($T21,MAX($T21,($B21+0+22/24))))-MAX(0,MIN($W21,MIN($X21,($B21+1+5/24)))-MAX($V21,MAX($T21,($B21+0+22/24)))))+(MAX(0,MIN($U21,MIN($X21,($B21+2+5/24)))-MAX($T21,MAX($T21,($B21+1+22/24))))-MAX(0,MIN($W21,MIN($X21,($B21+2+5/24)))-MAX($V21,MAX($T21,($B21+1+22/24)))))),0)-IF($H21="はい",((MAX(0,MIN($U21,MIN($U21,($B21+0+5/24)))-MAX($T21,MAX($X21,($B21+-1+22/24))))-MAX(0,MIN($W21,MIN($U21,($B21+0+5/24)))-MAX($V21,MAX($X21,($B21+-1+22/24)))))+(MAX(0,MIN($U21,MIN($U21,($B21+1+5/24)))-MAX($T21,MAX($X21,($B21+0+22/24))))-MAX(0,MIN($W21,MIN($U21,($B21+1+5/24)))-MAX($V21,MAX($X21,($B21+0+22/24)))))+(MAX(0,MIN($U21,MIN($U21,($B21+2+5/24)))-MAX($T21,MAX($X21,($B21+1+22/24))))-MAX(0,MIN($W21,MIN($U21,($B21+2+5/24)))-MAX($V21,MAX($X21,($B21+1+22/24)))))),0))*24,4)) | O21: =IF(OR($B21="",$C21="",$D21=""),"",ROUND((IF($G21="はい",((MAX(0,MIN($U21,MIN($X21,($B21+0+5/24)))-MAX($T21,MAX($T21,($B21+-1+22/24))))-MAX(0,MIN($W21,MIN($X21,($B21+0+5/24)))-MAX($V21,MAX($T21,($B21+-1+22/24)))))+(MAX(0,MIN($U21,MIN($X21,($B21+1+5/24)))-MAX($T21,MAX($T21,($B21+0+22/24))))-MAX(0,MIN($W21,MIN($X21,($B21+1+5/24)))-MAX($V21,MAX($T21,($B21+0+22/24)))))+(MAX(0,MIN($U21,MIN($X21,($B21+2+5/24)))-MAX($T21,MAX($T21,($B21+1+22/24))))-MAX(0,MIN($W21,MIN($X21,($B21+2+5/24)))-MAX($V21,MAX($T21,($B21+1+22/24)))))),0)+IF($H21="はい",((MAX(0,MIN($U21,MIN($U21,($B21+0+5/24)))-MAX($T21,MAX($X21,($B21+-1+22/24))))-MAX(0,MIN($W21,MIN($U21,($B21+0+5/24)))-MAX($V21,MAX($X21,($B21+-1+22/24)))))+(MAX(0,MIN($U21,MIN($U21,($B21+1+5/24)))-MAX($T21,MAX($X21,($B21+0+22/24))))-MAX(0,MIN($W21,MIN($U21,($B21+1+5/24)))-MAX($V21,MAX($X21,($B21+0+22/24)))))+(MAX(0,MIN($U21,MIN($U21,($B21+2+5/24)))-MAX($T21,MAX($X21,($B21+1+22/24))))-MAX(0,MIN($W21,MIN($U21,($B21+2+5/24)))-MAX($V21,MAX($X21,($B21+1+22/24)))))),0))*24,4)) | P21: =IF(OR($B21="",$C21="",$D21=""),"",ROUND($B$3*SUMPRODUCT($J21:$O21,$J$7:$O$7),0)) | Q21: =IF(OR($B21="",$C21="",$D21=""),"",$P21-ROUND($B$3*$I21,0)) | R21: =IF(OR($B21="",$C21="",$D21=""),"",IF(ABS(SUM($J21:$O21)-$I21)>0.001,"区分の合計がずれた",IF(AND($I21>8,ROUND(($W21-$V21)*24,4)<1),"休憩が1時間に足りない",IF(AND($I21>6,ROUND(($W21-$V21)*24,4)<0.75),"休憩が45分に足りない","")))) | T21: =IF(OR($B21="",$C21="",$D21=""),"",$B21+$C21) | U21: =IF(OR($B21="",$C21="",$D21=""),"",$B21+$D21+IF($D21<=$C21,1,0)) | V21: =IF(OR($B21="",$C21="",$D21=""),"",IF($E21="",$U21,$B21+$E21+IF($E21<$C21,1,0))) | W21: =IF(OR($B21="",$C21="",$D21=""),"",IF(OR($E21="",$F21=""),$V21,$B21+$F21+IF($F21<$C21,1,0))) | X21: =IF(OR($B21="",$C21="",$D21=""),"",$B21+1) | Y21: =IF(OR($B21="",$C21="",$D21=""),"",IF($G21="はい",MAX($T21,$X21),$T21)) | Z21: =IF(OR($B21="",$C21="",$D21=""),"",IF($H21="はい",MIN($U21,$X21),$U21)) | AA21: =IF(OR($B21="",$C21="",$D21=""),"",IF(MAX($V21,$Y21)>=$Y21+8/24,$Y21+8/24,$Y21+8/24+(MAX($W21,$Y21)-MAX($V21,$Y21))))
G22: いいえ | H22: いいえ | I22: =IF(OR($B22="",$C22="",$D22=""),"",ROUND((MAX(0,MIN($U22,$U22)-MAX($T22,$T22))-MAX(0,MIN($W22,$U22)-MAX($V22,$T22)))*24,4)) | J22: =IF(OR($B22="",$C22="",$D22=""),"",ROUND(((MAX(0,MIN($U22,MIN($Z22,$AA22))-MAX($T22,$Y22))-MAX(0,MIN($W22,MIN($Z22,$AA22))-MAX($V22,$Y22)))-((MAX(0,MIN($U22,MIN(MIN($Z22,$AA22),($B22+0+5/24)))-MAX($T22,MAX($Y22,($B22+-1+22/24))))-MAX(0,MIN($W22,MIN(MIN($Z22,$AA22),($B22+0+5/24)))-MAX($V22,MAX($Y22,($B22+-1+22/24)))))+(MAX(0,MIN($U22,MIN(MIN($Z22,$AA22),($B22+1+5/24)))-MAX($T22,MAX($Y22,($B22+0+22/24))))-MAX(0,MIN($W22,MIN(MIN($Z22,$AA22),($B22+1+5/24)))-MAX($V22,MAX($Y22,($B22+0+22/24)))))+(MAX(0,MIN($U22,MIN(MIN($Z22,$AA22),($B22+2+5/24)))-MAX($T22,MAX($Y22,($B22+1+22/24))))-MAX(0,MIN($W22,MIN(MIN($Z22,$AA22),($B22+2+5/24)))-MAX($V22,MAX($Y22,($B22+1+22/24)))))))*24,4)) | K22: =IF(OR($B22="",$C22="",$D22=""),"",ROUND(((MAX(0,MIN($U22,MIN(MIN($Z22,$AA22),($B22+0+5/24)))-MAX($T22,MAX($Y22,($B22+-1+22/24))))-MAX(0,MIN($W22,MIN(MIN($Z22,$AA22),($B22+0+5/24)))-MAX($V22,MAX($Y22,($B22+-1+22/24)))))+(MAX(0,MIN($U22,MIN(MIN($Z22,$AA22),($B22+1+5/24)))-MAX($T22,MAX($Y22,($B22+0+22/24))))-MAX(0,MIN($W22,MIN(MIN($Z22,$AA22),($B22+1+5/24)))-MAX($V22,MAX($Y22,($B22+0+22/24)))))+(MAX(0,MIN($U22,MIN(MIN($Z22,$AA22),($B22+2+5/24)))-MAX($T22,MAX($Y22,($B22+1+22/24))))-MAX(0,MIN($W22,MIN(MIN($Z22,$AA22),($B22+2+5/24)))-MAX($V22,MAX($Y22,($B22+1+22/24))))))*24,4)) | L22: =IF(OR($B22="",$C22="",$D22=""),"",ROUND(((MAX(0,MIN($U22,$Z22)-MAX($T22,MAX($Y22,$AA22)))-MAX(0,MIN($W22,$Z22)-MAX($V22,MAX($Y22,$AA22))))-((MAX(0,MIN($U22,MIN($Z22,($B22+0+5/24)))-MAX($T22,MAX(MAX($Y22,$AA22),($B22+-1+22/24))))-MAX(0,MIN($W22,MIN($Z22,($B22+0+5/24)))-MAX($V22,MAX(MAX($Y22,$AA22),($B22+-1+22/24)))))+(MAX(0,MIN($U22,MIN($Z22,($B22+1+5/24)))-MAX($T22,MAX(MAX($Y22,$AA22),($B22+0+22/24))))-MAX(0,MIN($W22,MIN($Z22,($B22+1+5/24)))-MAX($V22,MAX(MAX($Y22,$AA22),($B22+0+22/24)))))+(MAX(0,MIN($U22,MIN($Z22,($B22+2+5/24)))-MAX($T22,MAX(MAX($Y22,$AA22),($B22+1+22/24))))-MAX(0,MIN($W22,MIN($Z22,($B22+2+5/24)))-MAX($V22,MAX(MAX($Y22,$AA22),($B22+1+22/24)))))))*24,4)) | M22: =IF(OR($B22="",$C22="",$D22=""),"",ROUND(((MAX(0,MIN($U22,MIN($Z22,($B22+0+5/24)))-MAX($T22,MAX(MAX($Y22,$AA22),($B22+-1+22/24))))-MAX(0,MIN($W22,MIN($Z22,($B22+0+5/24)))-MAX($V22,MAX(MAX($Y22,$AA22),($B22+-1+22/24)))))+(MAX(0,MIN($U22,MIN($Z22,($B22+1+5/24)))-MAX($T22,MAX(MAX($Y22,$AA22),($B22+0+22/24))))-MAX(0,MIN($W22,MIN($Z22,($B22+1+5/24)))-MAX($V22,MAX(MAX($Y22,$AA22),($B22+0+22/24)))))+(MAX(0,MIN($U22,MIN($Z22,($B22+2+5/24)))-MAX($T22,MAX(MAX($Y22,$AA22),($B22+1+22/24))))-MAX(0,MIN($W22,MIN($Z22,($B22+2+5/24)))-MAX($V22,MAX(MAX($Y22,$AA22),($B22+1+22/24))))))*24,4)) | N22: =IF(OR($B22="",$C22="",$D22=""),"",ROUND((IF($G22="はい",(MAX(0,MIN($U22,$X22)-MAX($T22,$T22))-MAX(0,MIN($W22,$X22)-MAX($V22,$T22))),0)+IF($H22="はい",(MAX(0,MIN($U22,$U22)-MAX($T22,$X22))-MAX(0,MIN($W22,$U22)-MAX($V22,$X22))),0)-IF($G22="はい",((MAX(0,MIN($U22,MIN($X22,($B22+0+5/24)))-MAX($T22,MAX($T22,($B22+-1+22/24))))-MAX(0,MIN($W22,MIN($X22,($B22+0+5/24)))-MAX($V22,MAX($T22,($B22+-1+22/24)))))+(MAX(0,MIN($U22,MIN($X22,($B22+1+5/24)))-MAX($T22,MAX($T22,($B22+0+22/24))))-MAX(0,MIN($W22,MIN($X22,($B22+1+5/24)))-MAX($V22,MAX($T22,($B22+0+22/24)))))+(MAX(0,MIN($U22,MIN($X22,($B22+2+5/24)))-MAX($T22,MAX($T22,($B22+1+22/24))))-MAX(0,MIN($W22,MIN($X22,($B22+2+5/24)))-MAX($V22,MAX($T22,($B22+1+22/24)))))),0)-IF($H22="はい",((MAX(0,MIN($U22,MIN($U22,($B22+0+5/24)))-MAX($T22,MAX($X22,($B22+-1+22/24))))-MAX(0,MIN($W22,MIN($U22,($B22+0+5/24)))-MAX($V22,MAX($X22,($B22+-1+22/24)))))+(MAX(0,MIN($U22,MIN($U22,($B22+1+5/24)))-MAX($T22,MAX($X22,($B22+0+22/24))))-MAX(0,MIN($W22,MIN($U22,($B22+1+5/24)))-MAX($V22,MAX($X22,($B22+0+22/24)))))+(MAX(0,MIN($U22,MIN($U22,($B22+2+5/24)))-MAX($T22,MAX($X22,($B22+1+22/24))))-MAX(0,MIN($W22,MIN($U22,($B22+2+5/24)))-MAX($V22,MAX($X22,($B22+1+22/24)))))),0))*24,4)) | O22: =IF(OR($B22="",$C22="",$D22=""),"",ROUND((IF($G22="はい",((MAX(0,MIN($U22,MIN($X22,($B22+0+5/24)))-MAX($T22,MAX($T22,($B22+-1+22/24))))-MAX(0,MIN($W22,MIN($X22,($B22+0+5/24)))-MAX($V22,MAX($T22,($B22+-1+22/24)))))+(MAX(0,MIN($U22,MIN($X22,($B22+1+5/24)))-MAX($T22,MAX($T22,($B22+0+22/24))))-MAX(0,MIN($W22,MIN($X22,($B22+1+5/24)))-MAX($V22,MAX($T22,($B22+0+22/24)))))+(MAX(0,MIN($U22,MIN($X22,($B22+2+5/24)))-MAX($T22,MAX($T22,($B22+1+22/24))))-MAX(0,MIN($W22,MIN($X22,($B22+2+5/24)))-MAX($V22,MAX($T22,($B22+1+22/24)))))),0)+IF($H22="はい",((MAX(0,MIN($U22,MIN($U22,($B22+0+5/24)))-MAX($T22,MAX($X22,($B22+-1+22/24))))-MAX(0,MIN($W22,MIN($U22,($B22+0+5/24)))-MAX($V22,MAX($X22,($B22+-1+22/24)))))+(MAX(0,MIN($U22,MIN($U22,($B22+1+5/24)))-MAX($T22,MAX($X22,($B22+0+22/24))))-MAX(0,MIN($W22,MIN($U22,($B22+1+5/24)))-MAX($V22,MAX($X22,($B22+0+22/24)))))+(MAX(0,MIN($U22,MIN($U22,($B22+2+5/24)))-MAX($T22,MAX($X22,($B22+1+22/24))))-MAX(0,MIN($W22,MIN($U22,($B22+2+5/24)))-MAX($V22,MAX($X22,($B22+1+22/24)))))),0))*24,4)) | P22: =IF(OR($B22="",$C22="",$D22=""),"",ROUND($B$3*SUMPRODUCT($J22:$O22,$J$7:$O$7),0)) | Q22: =IF(OR($B22="",$C22="",$D22=""),"",$P22-ROUND($B$3*$I22,0)) | R22: =IF(OR($B22="",$C22="",$D22=""),"",IF(ABS(SUM($J22:$O22)-$I22)>0.001,"区分の合計がずれた",IF(AND($I22>8,ROUND(($W22-$V22)*24,4)<1),"休憩が1時間に足りない",IF(AND($I22>6,ROUND(($W22-$V22)*24,4)<0.75),"休憩が45分に足りない","")))) | T22: =IF(OR($B22="",$C22="",$D22=""),"",$B22+$C22) | U22: =IF(OR($B22="",$C22="",$D22=""),"",$B22+$D22+IF($D22<=$C22,1,0)) | V22: =IF(OR($B22="",$C22="",$D22=""),"",IF($E22="",$U22,$B22+$E22+IF($E22<$C22,1,0))) | W22: =IF(OR($B22="",$C22="",$D22=""),"",IF(OR($E22="",$F22=""),$V22,$B22+$F22+IF($F22<$C22,1,0))) | X22: =IF(OR($B22="",$C22="",$D22=""),"",$B22+1) | Y22: =IF(OR($B22="",$C22="",$D22=""),"",IF($G22="はい",MAX($T22,$X22),$T22)) | Z22: =IF(OR($B22="",$C22="",$D22=""),"",IF($H22="はい",MIN($U22,$X22),$U22)) | AA22: =IF(OR($B22="",$C22="",$D22=""),"",IF(MAX($V22,$Y22)>=$Y22+8/24,$Y22+8/24,$Y22+8/24+(MAX($W22,$Y22)-MAX($V22,$Y22))))
G23: いいえ | H23: いいえ | I23: =IF(OR($B23="",$C23="",$D23=""),"",ROUND((MAX(0,MIN($U23,$U23)-MAX($T23,$T23))-MAX(0,MIN($W23,$U23)-MAX($V23,$T23)))*24,4)) | J23: =IF(OR($B23="",$C23="",$D23=""),"",ROUND(((MAX(0,MIN($U23,MIN($Z23,$AA23))-MAX($T23,$Y23))-MAX(0,MIN($W23,MIN($Z23,$AA23))-MAX($V23,$Y23)))-((MAX(0,MIN($U23,MIN(MIN($Z23,$AA23),($B23+0+5/24)))-MAX($T23,MAX($Y23,($B23+-1+22/24))))-MAX(0,MIN($W23,MIN(MIN($Z23,$AA23),($B23+0+5/24)))-MAX($V23,MAX($Y23,($B23+-1+22/24)))))+(MAX(0,MIN($U23,MIN(MIN($Z23,$AA23),($B23+1+5/24)))-MAX($T23,MAX($Y23,($B23+0+22/24))))-MAX(0,MIN($W23,MIN(MIN($Z23,$AA23),($B23+1+5/24)))-MAX($V23,MAX($Y23,($B23+0+22/24)))))+(MAX(0,MIN($U23,MIN(MIN($Z23,$AA23),($B23+2+5/24)))-MAX($T23,MAX($Y23,($B23+1+22/24))))-MAX(0,MIN($W23,MIN(MIN($Z23,$AA23),($B23+2+5/24)))-MAX($V23,MAX($Y23,($B23+1+22/24)))))))*24,4)) | K23: =IF(OR($B23="",$C23="",$D23=""),"",ROUND(((MAX(0,MIN($U23,MIN(MIN($Z23,$AA23),($B23+0+5/24)))-MAX($T23,MAX($Y23,($B23+-1+22/24))))-MAX(0,MIN($W23,MIN(MIN($Z23,$AA23),($B23+0+5/24)))-MAX($V23,MAX($Y23,($B23+-1+22/24)))))+(MAX(0,MIN($U23,MIN(MIN($Z23,$AA23),($B23+1+5/24)))-MAX($T23,MAX($Y23,($B23+0+22/24))))-MAX(0,MIN($W23,MIN(MIN($Z23,$AA23),($B23+1+5/24)))-MAX($V23,MAX($Y23,($B23+0+22/24)))))+(MAX(0,MIN($U23,MIN(MIN($Z23,$AA23),($B23+2+5/24)))-MAX($T23,MAX($Y23,($B23+1+22/24))))-MAX(0,MIN($W23,MIN(MIN($Z23,$AA23),($B23+2+5/24)))-MAX($V23,MAX($Y23,($B23+1+22/24))))))*24,4)) | L23: =IF(OR($B23="",$C23="",$D23=""),"",ROUND(((MAX(0,MIN($U23,$Z23)-MAX($T23,MAX($Y23,$AA23)))-MAX(0,MIN($W23,$Z23)-MAX($V23,MAX($Y23,$AA23))))-((MAX(0,MIN($U23,MIN($Z23,($B23+0+5/24)))-MAX($T23,MAX(MAX($Y23,$AA23),($B23+-1+22/24))))-MAX(0,MIN($W23,MIN($Z23,($B23+0+5/24)))-MAX($V23,MAX(MAX($Y23,$AA23),($B23+-1+22/24)))))+(MAX(0,MIN($U23,MIN($Z23,($B23+1+5/24)))-MAX($T23,MAX(MAX($Y23,$AA23),($B23+0+22/24))))-MAX(0,MIN($W23,MIN($Z23,($B23+1+5/24)))-MAX($V23,MAX(MAX($Y23,$AA23),($B23+0+22/24)))))+(MAX(0,MIN($U23,MIN($Z23,($B23+2+5/24)))-MAX($T23,MAX(MAX($Y23,$AA23),($B23+1+22/24))))-MAX(0,MIN($W23,MIN($Z23,($B23+2+5/24)))-MAX($V23,MAX(MAX($Y23,$AA23),($B23+1+22/24)))))))*24,4)) | M23: =IF(OR($B23="",$C23="",$D23=""),"",ROUND(((MAX(0,MIN($U23,MIN($Z23,($B23+0+5/24)))-MAX($T23,MAX(MAX($Y23,$AA23),($B23+-1+22/24))))-MAX(0,MIN($W23,MIN($Z23,($B23+0+5/24)))-MAX($V23,MAX(MAX($Y23,$AA23),($B23+-1+22/24)))))+(MAX(0,MIN($U23,MIN($Z23,($B23+1+5/24)))-MAX($T23,MAX(MAX($Y23,$AA23),($B23+0+22/24))))-MAX(0,MIN($W23,MIN($Z23,($B23+1+5/24)))-MAX($V23,MAX(MAX($Y23,$AA23),($B23+0+22/24)))))+(MAX(0,MIN($U23,MIN($Z23,($B23+2+5/24)))-MAX($T23,MAX(MAX($Y23,$AA23),($B23+1+22/24))))-MAX(0,MIN($W23,MIN($Z23,($B23+2+5/24)))-MAX($V23,MAX(MAX($Y23,$AA23),($B23+1+22/24))))))*24,4)) | N23: =IF(OR($B23="",$C23="",$D23=""),"",ROUND((IF($G23="はい",(MAX(0,MIN($U23,$X23)-MAX($T23,$T23))-MAX(0,MIN($W23,$X23)-MAX($V23,$T23))),0)+IF($H23="はい",(MAX(0,MIN($U23,$U23)-MAX($T23,$X23))-MAX(0,MIN($W23,$U23)-MAX($V23,$X23))),0)-IF($G23="はい",((MAX(0,MIN($U23,MIN($X23,($B23+0+5/24)))-MAX($T23,MAX($T23,($B23+-1+22/24))))-MAX(0,MIN($W23,MIN($X23,($B23+0+5/24)))-MAX($V23,MAX($T23,($B23+-1+22/24)))))+(MAX(0,MIN($U23,MIN($X23,($B23+1+5/24)))-MAX($T23,MAX($T23,($B23+0+22/24))))-MAX(0,MIN($W23,MIN($X23,($B23+1+5/24)))-MAX($V23,MAX($T23,($B23+0+22/24)))))+(MAX(0,MIN($U23,MIN($X23,($B23+2+5/24)))-MAX($T23,MAX($T23,($B23+1+22/24))))-MAX(0,MIN($W23,MIN($X23,($B23+2+5/24)))-MAX($V23,MAX($T23,($B23+1+22/24)))))),0)-IF($H23="はい",((MAX(0,MIN($U23,MIN($U23,($B23+0+5/24)))-MAX($T23,MAX($X23,($B23+-1+22/24))))-MAX(0,MIN($W23,MIN($U23,($B23+0+5/24)))-MAX($V23,MAX($X23,($B23+-1+22/24)))))+(MAX(0,MIN($U23,MIN($U23,($B23+1+5/24)))-MAX($T23,MAX($X23,($B23+0+22/24))))-MAX(0,MIN($W23,MIN($U23,($B23+1+5/24)))-MAX($V23,MAX($X23,($B23+0+22/24)))))+(MAX(0,MIN($U23,MIN($U23,($B23+2+5/24)))-MAX($T23,MAX($X23,($B23+1+22/24))))-MAX(0,MIN($W23,MIN($U23,($B23+2+5/24)))-MAX($V23,MAX($X23,($B23+1+22/24)))))),0))*24,4)) | O23: =IF(OR($B23="",$C23="",$D23=""),"",ROUND((IF($G23="はい",((MAX(0,MIN($U23,MIN($X23,($B23+0+5/24)))-MAX($T23,MAX($T23,($B23+-1+22/24))))-MAX(0,MIN($W23,MIN($X23,($B23+0+5/24)))-MAX($V23,MAX($T23,($B23+-1+22/24)))))+(MAX(0,MIN($U23,MIN($X23,($B23+1+5/24)))-MAX($T23,MAX($T23,($B23+0+22/24))))-MAX(0,MIN($W23,MIN($X23,($B23+1+5/24)))-MAX($V23,MAX($T23,($B23+0+22/24)))))+(MAX(0,MIN($U23,MIN($X23,($B23+2+5/24)))-MAX($T23,MAX($T23,($B23+1+22/24))))-MAX(0,MIN($W23,MIN($X23,($B23+2+5/24)))-MAX($V23,MAX($T23,($B23+1+22/24)))))),0)+IF($H23="はい",((MAX(0,MIN($U23,MIN($U23,($B23+0+5/24)))-MAX($T23,MAX($X23,($B23+-1+22/24))))-MAX(0,MIN($W23,MIN($U23,($B23+0+5/24)))-MAX($V23,MAX($X23,($B23+-1+22/24)))))+(MAX(0,MIN($U23,MIN($U23,($B23+1+5/24)))-MAX($T23,MAX($X23,($B23+0+22/24))))-MAX(0,MIN($W23,MIN($U23,($B23+1+5/24)))-MAX($V23,MAX($X23,($B23+0+22/24)))))+(MAX(0,MIN($U23,MIN($U23,($B23+2+5/24)))-MAX($T23,MAX($X23,($B23+1+22/24))))-MAX(0,MIN($W23,MIN($U23,($B23+2+5/24)))-MAX($V23,MAX($X23,($B23+1+22/24)))))),0))*24,4)) | P23: =IF(OR($B23="",$C23="",$D23=""),"",ROUND($B$3*SUMPRODUCT($J23:$O23,$J$7:$O$7),0)) | Q23: =IF(OR($B23="",$C23="",$D23=""),"",$P23-ROUND($B$3*$I23,0)) | R23: =IF(OR($B23="",$C23="",$D23=""),"",IF(ABS(SUM($J23:$O23)-$I23)>0.001,"区分の合計がずれた",IF(AND($I23>8,ROUND(($W23-$V23)*24,4)<1),"休憩が1時間に足りない",IF(AND($I23>6,ROUND(($W23-$V23)*24,4)<0.75),"休憩が45分に足りない","")))) | T23: =IF(OR($B23="",$C23="",$D23=""),"",$B23+$C23) | U23: =IF(OR($B23="",$C23="",$D23=""),"",$B23+$D23+IF($D23<=$C23,1,0)) | V23: =IF(OR($B23="",$C23="",$D23=""),"",IF($E23="",$U23,$B23+$E23+IF($E23<$C23,1,0))) | W23: =IF(OR($B23="",$C23="",$D23=""),"",IF(OR($E23="",$F23=""),$V23,$B23+$F23+IF($F23<$C23,1,0))) | X23: =IF(OR($B23="",$C23="",$D23=""),"",$B23+1) | Y23: =IF(OR($B23="",$C23="",$D23=""),"",IF($G23="はい",MAX($T23,$X23),$T23)) | Z23: =IF(OR($B23="",$C23="",$D23=""),"",IF($H23="はい",MIN($U23,$X23),$U23)) | AA23: =IF(OR($B23="",$C23="",$D23=""),"",IF(MAX($V23,$Y23)>=$Y23+8/24,$Y23+8/24,$Y23+8/24+(MAX($W23,$Y23)-MAX($V23,$Y23))))
G24: いいえ | H24: いいえ | I24: =IF(OR($B24="",$C24="",$D24=""),"",ROUND((MAX(0,MIN($U24,$U24)-MAX($T24,$T24))-MAX(0,MIN($W24,$U24)-MAX($V24,$T24)))*24,4)) | J24: =IF(OR($B24="",$C24="",$D24=""),"",ROUND(((MAX(0,MIN($U24,MIN($Z24,$AA24))-MAX($T24,$Y24))-MAX(0,MIN($W24,MIN($Z24,$AA24))-MAX($V24,$Y24)))-((MAX(0,MIN($U24,MIN(MIN($Z24,$AA24),($B24+0+5/24)))-MAX($T24,MAX($Y24,($B24+-1+22/24))))-MAX(0,MIN($W24,MIN(MIN($Z24,$AA24),($B24+0+5/24)))-MAX($V24,MAX($Y24,($B24+-1+22/24)))))+(MAX(0,MIN($U24,MIN(MIN($Z24,$AA24),($B24+1+5/24)))-MAX($T24,MAX($Y24,($B24+0+22/24))))-MAX(0,MIN($W24,MIN(MIN($Z24,$AA24),($B24+1+5/24)))-MAX($V24,MAX($Y24,($B24+0+22/24)))))+(MAX(0,MIN($U24,MIN(MIN($Z24,$AA24),($B24+2+5/24)))-MAX($T24,MAX($Y24,($B24+1+22/24))))-MAX(0,MIN($W24,MIN(MIN($Z24,$AA24),($B24+2+5/24)))-MAX($V24,MAX($Y24,($B24+1+22/24)))))))*24,4)) | K24: =IF(OR($B24="",$C24="",$D24=""),"",ROUND(((MAX(0,MIN($U24,MIN(MIN($Z24,$AA24),($B24+0+5/24)))-MAX($T24,MAX($Y24,($B24+-1+22/24))))-MAX(0,MIN($W24,MIN(MIN($Z24,$AA24),($B24+0+5/24)))-MAX($V24,MAX($Y24,($B24+-1+22/24)))))+(MAX(0,MIN($U24,MIN(MIN($Z24,$AA24),($B24+1+5/24)))-MAX($T24,MAX($Y24,($B24+0+22/24))))-MAX(0,MIN($W24,MIN(MIN($Z24,$AA24),($B24+1+5/24)))-MAX($V24,MAX($Y24,($B24+0+22/24)))))+(MAX(0,MIN($U24,MIN(MIN($Z24,$AA24),($B24+2+5/24)))-MAX($T24,MAX($Y24,($B24+1+22/24))))-MAX(0,MIN($W24,MIN(MIN($Z24,$AA24),($B24+2+5/24)))-MAX($V24,MAX($Y24,($B24+1+22/24))))))*24,4)) | L24: =IF(OR($B24="",$C24="",$D24=""),"",ROUND(((MAX(0,MIN($U24,$Z24)-MAX($T24,MAX($Y24,$AA24)))-MAX(0,MIN($W24,$Z24)-MAX($V24,MAX($Y24,$AA24))))-((MAX(0,MIN($U24,MIN($Z24,($B24+0+5/24)))-MAX($T24,MAX(MAX($Y24,$AA24),($B24+-1+22/24))))-MAX(0,MIN($W24,MIN($Z24,($B24+0+5/24)))-MAX($V24,MAX(MAX($Y24,$AA24),($B24+-1+22/24)))))+(MAX(0,MIN($U24,MIN($Z24,($B24+1+5/24)))-MAX($T24,MAX(MAX($Y24,$AA24),($B24+0+22/24))))-MAX(0,MIN($W24,MIN($Z24,($B24+1+5/24)))-MAX($V24,MAX(MAX($Y24,$AA24),($B24+0+22/24)))))+(MAX(0,MIN($U24,MIN($Z24,($B24+2+5/24)))-MAX($T24,MAX(MAX($Y24,$AA24),($B24+1+22/24))))-MAX(0,MIN($W24,MIN($Z24,($B24+2+5/24)))-MAX($V24,MAX(MAX($Y24,$AA24),($B24+1+22/24)))))))*24,4)) | M24: =IF(OR($B24="",$C24="",$D24=""),"",ROUND(((MAX(0,MIN($U24,MIN($Z24,($B24+0+5/24)))-MAX($T24,MAX(MAX($Y24,$AA24),($B24+-1+22/24))))-MAX(0,MIN($W24,MIN($Z24,($B24+0+5/24)))-MAX($V24,MAX(MAX($Y24,$AA24),($B24+-1+22/24)))))+(MAX(0,MIN($U24,MIN($Z24,($B24+1+5/24)))-MAX($T24,MAX(MAX($Y24,$AA24),($B24+0+22/24))))-MAX(0,MIN($W24,MIN($Z24,($B24+1+5/24)))-MAX($V24,MAX(MAX($Y24,$AA24),($B24+0+22/24)))))+(MAX(0,MIN($U24,MIN($Z24,($B24+2+5/24)))-MAX($T24,MAX(MAX($Y24,$AA24),($B24+1+22/24))))-MAX(0,MIN($W24,MIN($Z24,($B24+2+5/24)))-MAX($V24,MAX(MAX($Y24,$AA24),($B24+1+22/24))))))*24,4)) | N24: =IF(OR($B24="",$C24="",$D24=""),"",ROUND((IF($G24="はい",(MAX(0,MIN($U24,$X24)-MAX($T24,$T24))-MAX(0,MIN($W24,$X24)-MAX($V24,$T24))),0)+IF($H24="はい",(MAX(0,MIN($U24,$U24)-MAX($T24,$X24))-MAX(0,MIN($W24,$U24)-MAX($V24,$X24))),0)-IF($G24="はい",((MAX(0,MIN($U24,MIN($X24,($B24+0+5/24)))-MAX($T24,MAX($T24,($B24+-1+22/24))))-MAX(0,MIN($W24,MIN($X24,($B24+0+5/24)))-MAX($V24,MAX($T24,($B24+-1+22/24)))))+(MAX(0,MIN($U24,MIN($X24,($B24+1+5/24)))-MAX($T24,MAX($T24,($B24+0+22/24))))-MAX(0,MIN($W24,MIN($X24,($B24+1+5/24)))-MAX($V24,MAX($T24,($B24+0+22/24)))))+(MAX(0,MIN($U24,MIN($X24,($B24+2+5/24)))-MAX($T24,MAX($T24,($B24+1+22/24))))-MAX(0,MIN($W24,MIN($X24,($B24+2+5/24)))-MAX($V24,MAX($T24,($B24+1+22/24)))))),0)-IF($H24="はい",((MAX(0,MIN($U24,MIN($U24,($B24+0+5/24)))-MAX($T24,MAX($X24,($B24+-1+22/24))))-MAX(0,MIN($W24,MIN($U24,($B24+0+5/24)))-MAX($V24,MAX($X24,($B24+-1+22/24)))))+(MAX(0,MIN($U24,MIN($U24,($B24+1+5/24)))-MAX($T24,MAX($X24,($B24+0+22/24))))-MAX(0,MIN($W24,MIN($U24,($B24+1+5/24)))-MAX($V24,MAX($X24,($B24+0+22/24)))))+(MAX(0,MIN($U24,MIN($U24,($B24+2+5/24)))-MAX($T24,MAX($X24,($B24+1+22/24))))-MAX(0,MIN($W24,MIN($U24,($B24+2+5/24)))-MAX($V24,MAX($X24,($B24+1+22/24)))))),0))*24,4)) | O24: =IF(OR($B24="",$C24="",$D24=""),"",ROUND((IF($G24="はい",((MAX(0,MIN($U24,MIN($X24,($B24+0+5/24)))-MAX($T24,MAX($T24,($B24+-1+22/24))))-MAX(0,MIN($W24,MIN($X24,($B24+0+5/24)))-MAX($V24,MAX($T24,($B24+-1+22/24)))))+(MAX(0,MIN($U24,MIN($X24,($B24+1+5/24)))-MAX($T24,MAX($T24,($B24+0+22/24))))-MAX(0,MIN($W24,MIN($X24,($B24+1+5/24)))-MAX($V24,MAX($T24,($B24+0+22/24)))))+(MAX(0,MIN($U24,MIN($X24,($B24+2+5/24)))-MAX($T24,MAX($T24,($B24+1+22/24))))-MAX(0,MIN($W24,MIN($X24,($B24+2+5/24)))-MAX($V24,MAX($T24,($B24+1+22/24)))))),0)+IF($H24="はい",((MAX(0,MIN($U24,MIN($U24,($B24+0+5/24)))-MAX($T24,MAX($X24,($B24+-1+22/24))))-MAX(0,MIN($W24,MIN($U24,($B24+0+5/24)))-MAX($V24,MAX($X24,($B24+-1+22/24)))))+(MAX(0,MIN($U24,MIN($U24,($B24+1+5/24)))-MAX($T24,MAX($X24,($B24+0+22/24))))-MAX(0,MIN($W24,MIN($U24,($B24+1+5/24)))-MAX($V24,MAX($X24,($B24+0+22/24)))))+(MAX(0,MIN($U24,MIN($U24,($B24+2+5/24)))-MAX($T24,MAX($X24,($B24+1+22/24))))-MAX(0,MIN($W24,MIN($U24,($B24+2+5/24)))-MAX($V24,MAX($X24,($B24+1+22/24)))))),0))*24,4)) | P24: =IF(OR($B24="",$C24="",$D24=""),"",ROUND($B$3*SUMPRODUCT($J24:$O24,$J$7:$O$7),0)) | Q24: =IF(OR($B24="",$C24="",$D24=""),"",$P24-ROUND($B$3*$I24,0)) | R24: =IF(OR($B24="",$C24="",$D24=""),"",IF(ABS(SUM($J24:$O24)-$I24)>0.001,"区分の合計がずれた",IF(AND($I24>8,ROUND(($W24-$V24)*24,4)<1),"休憩が1時間に足りない",IF(AND($I24>6,ROUND(($W24-$V24)*24,4)<0.75),"休憩が45分に足りない","")))) | T24: =IF(OR($B24="",$C24="",$D24=""),"",$B24+$C24) | U24: =IF(OR($B24="",$C24="",$D24=""),"",$B24+$D24+IF($D24<=$C24,1,0)) | V24: =IF(OR($B24="",$C24="",$D24=""),"",IF($E24="",$U24,$B24+$E24+IF($E24<$C24,1,0))) | W24: =IF(OR($B24="",$C24="",$D24=""),"",IF(OR($E24="",$F24=""),$V24,$B24+$F24+IF($F24<$C24,1,0))) | X24: =IF(OR($B24="",$C24="",$D24=""),"",$B24+1) | Y24: =IF(OR($B24="",$C24="",$D24=""),"",IF($G24="はい",MAX($T24,$X24),$T24)) | Z24: =IF(OR($B24="",$C24="",$D24=""),"",IF($H24="はい",MIN($U24,$X24),$U24)) | AA24: =IF(OR($B24="",$C24="",$D24=""),"",IF(MAX($V24,$Y24)>=$Y24+8/24,$Y24+8/24,$Y24+8/24+(MAX($W24,$Y24)-MAX($V24,$Y24))))
G25: いいえ | H25: いいえ | I25: =IF(OR($B25="",$C25="",$D25=""),"",ROUND((MAX(0,MIN($U25,$U25)-MAX($T25,$T25))-MAX(0,MIN($W25,$U25)-MAX($V25,$T25)))*24,4)) | J25: =IF(OR($B25="",$C25="",$D25=""),"",ROUND(((MAX(0,MIN($U25,MIN($Z25,$AA25))-MAX($T25,$Y25))-MAX(0,MIN($W25,MIN($Z25,$AA25))-MAX($V25,$Y25)))-((MAX(0,MIN($U25,MIN(MIN($Z25,$AA25),($B25+0+5/24)))-MAX($T25,MAX($Y25,($B25+-1+22/24))))-MAX(0,MIN($W25,MIN(MIN($Z25,$AA25),($B25+0+5/24)))-MAX($V25,MAX($Y25,($B25+-1+22/24)))))+(MAX(0,MIN($U25,MIN(MIN($Z25,$AA25),($B25+1+5/24)))-MAX($T25,MAX($Y25,($B25+0+22/24))))-MAX(0,MIN($W25,MIN(MIN($Z25,$AA25),($B25+1+5/24)))-MAX($V25,MAX($Y25,($B25+0+22/24)))))+(MAX(0,MIN($U25,MIN(MIN($Z25,$AA25),($B25+2+5/24)))-MAX($T25,MAX($Y25,($B25+1+22/24))))-MAX(0,MIN($W25,MIN(MIN($Z25,$AA25),($B25+2+5/24)))-MAX($V25,MAX($Y25,($B25+1+22/24)))))))*24,4)) | K25: =IF(OR($B25="",$C25="",$D25=""),"",ROUND(((MAX(0,MIN($U25,MIN(MIN($Z25,$AA25),($B25+0+5/24)))-MAX($T25,MAX($Y25,($B25+-1+22/24))))-MAX(0,MIN($W25,MIN(MIN($Z25,$AA25),($B25+0+5/24)))-MAX($V25,MAX($Y25,($B25+-1+22/24)))))+(MAX(0,MIN($U25,MIN(MIN($Z25,$AA25),($B25+1+5/24)))-MAX($T25,MAX($Y25,($B25+0+22/24))))-MAX(0,MIN($W25,MIN(MIN($Z25,$AA25),($B25+1+5/24)))-MAX($V25,MAX($Y25,($B25+0+22/24)))))+(MAX(0,MIN($U25,MIN(MIN($Z25,$AA25),($B25+2+5/24)))-MAX($T25,MAX($Y25,($B25+1+22/24))))-MAX(0,MIN($W25,MIN(MIN($Z25,$AA25),($B25+2+5/24)))-MAX($V25,MAX($Y25,($B25+1+22/24))))))*24,4)) | L25: =IF(OR($B25="",$C25="",$D25=""),"",ROUND(((MAX(0,MIN($U25,$Z25)-MAX($T25,MAX($Y25,$AA25)))-MAX(0,MIN($W25,$Z25)-MAX($V25,MAX($Y25,$AA25))))-((MAX(0,MIN($U25,MIN($Z25,($B25+0+5/24)))-MAX($T25,MAX(MAX($Y25,$AA25),($B25+-1+22/24))))-MAX(0,MIN($W25,MIN($Z25,($B25+0+5/24)))-MAX($V25,MAX(MAX($Y25,$AA25),($B25+-1+22/24)))))+(MAX(0,MIN($U25,MIN($Z25,($B25+1+5/24)))-MAX($T25,MAX(MAX($Y25,$AA25),($B25+0+22/24))))-MAX(0,MIN($W25,MIN($Z25,($B25+1+5/24)))-MAX($V25,MAX(MAX($Y25,$AA25),($B25+0+22/24)))))+(MAX(0,MIN($U25,MIN($Z25,($B25+2+5/24)))-MAX($T25,MAX(MAX($Y25,$AA25),($B25+1+22/24))))-MAX(0,MIN($W25,MIN($Z25,($B25+2+5/24)))-MAX($V25,MAX(MAX($Y25,$AA25),($B25+1+22/24)))))))*24,4)) | M25: =IF(OR($B25="",$C25="",$D25=""),"",ROUND(((MAX(0,MIN($U25,MIN($Z25,($B25+0+5/24)))-MAX($T25,MAX(MAX($Y25,$AA25),($B25+-1+22/24))))-MAX(0,MIN($W25,MIN($Z25,($B25+0+5/24)))-MAX($V25,MAX(MAX($Y25,$AA25),($B25+-1+22/24)))))+(MAX(0,MIN($U25,MIN($Z25,($B25+1+5/24)))-MAX($T25,MAX(MAX($Y25,$AA25),($B25+0+22/24))))-MAX(0,MIN($W25,MIN($Z25,($B25+1+5/24)))-MAX($V25,MAX(MAX($Y25,$AA25),($B25+0+22/24)))))+(MAX(0,MIN($U25,MIN($Z25,($B25+2+5/24)))-MAX($T25,MAX(MAX($Y25,$AA25),($B25+1+22/24))))-MAX(0,MIN($W25,MIN($Z25,($B25+2+5/24)))-MAX($V25,MAX(MAX($Y25,$AA25),($B25+1+22/24))))))*24,4)) | N25: =IF(OR($B25="",$C25="",$D25=""),"",ROUND((IF($G25="はい",(MAX(0,MIN($U25,$X25)-MAX($T25,$T25))-MAX(0,MIN($W25,$X25)-MAX($V25,$T25))),0)+IF($H25="はい",(MAX(0,MIN($U25,$U25)-MAX($T25,$X25))-MAX(0,MIN($W25,$U25)-MAX($V25,$X25))),0)-IF($G25="はい",((MAX(0,MIN($U25,MIN($X25,($B25+0+5/24)))-MAX($T25,MAX($T25,($B25+-1+22/24))))-MAX(0,MIN($W25,MIN($X25,($B25+0+5/24)))-MAX($V25,MAX($T25,($B25+-1+22/24)))))+(MAX(0,MIN($U25,MIN($X25,($B25+1+5/24)))-MAX($T25,MAX($T25,($B25+0+22/24))))-MAX(0,MIN($W25,MIN($X25,($B25+1+5/24)))-MAX($V25,MAX($T25,($B25+0+22/24)))))+(MAX(0,MIN($U25,MIN($X25,($B25+2+5/24)))-MAX($T25,MAX($T25,($B25+1+22/24))))-MAX(0,MIN($W25,MIN($X25,($B25+2+5/24)))-MAX($V25,MAX($T25,($B25+1+22/24)))))),0)-IF($H25="はい",((MAX(0,MIN($U25,MIN($U25,($B25+0+5/24)))-MAX($T25,MAX($X25,($B25+-1+22/24))))-MAX(0,MIN($W25,MIN($U25,($B25+0+5/24)))-MAX($V25,MAX($X25,($B25+-1+22/24)))))+(MAX(0,MIN($U25,MIN($U25,($B25+1+5/24)))-MAX($T25,MAX($X25,($B25+0+22/24))))-MAX(0,MIN($W25,MIN($U25,($B25+1+5/24)))-MAX($V25,MAX($X25,($B25+0+22/24)))))+(MAX(0,MIN($U25,MIN($U25,($B25+2+5/24)))-MAX($T25,MAX($X25,($B25+1+22/24))))-MAX(0,MIN($W25,MIN($U25,($B25+2+5/24)))-MAX($V25,MAX($X25,($B25+1+22/24)))))),0))*24,4)) | O25: =IF(OR($B25="",$C25="",$D25=""),"",ROUND((IF($G25="はい",((MAX(0,MIN($U25,MIN($X25,($B25+0+5/24)))-MAX($T25,MAX($T25,($B25+-1+22/24))))-MAX(0,MIN($W25,MIN($X25,($B25+0+5/24)))-MAX($V25,MAX($T25,($B25+-1+22/24)))))+(MAX(0,MIN($U25,MIN($X25,($B25+1+5/24)))-MAX($T25,MAX($T25,($B25+0+22/24))))-MAX(0,MIN($W25,MIN($X25,($B25+1+5/24)))-MAX($V25,MAX($T25,($B25+0+22/24)))))+(MAX(0,MIN($U25,MIN($X25,($B25+2+5/24)))-MAX($T25,MAX($T25,($B25+1+22/24))))-MAX(0,MIN($W25,MIN($X25,($B25+2+5/24)))-MAX($V25,MAX($T25,($B25+1+22/24)))))),0)+IF($H25="はい",((MAX(0,MIN($U25,MIN($U25,($B25+0+5/24)))-MAX($T25,MAX($X25,($B25+-1+22/24))))-MAX(0,MIN($W25,MIN($U25,($B25+0+5/24)))-MAX($V25,MAX($X25,($B25+-1+22/24)))))+(MAX(0,MIN($U25,MIN($U25,($B25+1+5/24)))-MAX($T25,MAX($X25,($B25+0+22/24))))-MAX(0,MIN($W25,MIN($U25,($B25+1+5/24)))-MAX($V25,MAX($X25,($B25+0+22/24)))))+(MAX(0,MIN($U25,MIN($U25,($B25+2+5/24)))-MAX($T25,MAX($X25,($B25+1+22/24))))-MAX(0,MIN($W25,MIN($U25,($B25+2+5/24)))-MAX($V25,MAX($X25,($B25+1+22/24)))))),0))*24,4)) | P25: =IF(OR($B25="",$C25="",$D25=""),"",ROUND($B$3*SUMPRODUCT($J25:$O25,$J$7:$O$7),0)) | Q25: =IF(OR($B25="",$C25="",$D25=""),"",$P25-ROUND($B$3*$I25,0)) | R25: =IF(OR($B25="",$C25="",$D25=""),"",IF(ABS(SUM($J25:$O25)-$I25)>0.001,"区分の合計がずれた",IF(AND($I25>8,ROUND(($W25-$V25)*24,4)<1),"休憩が1時間に足りない",IF(AND($I25>6,ROUND(($W25-$V25)*24,4)<0.75),"休憩が45分に足りない","")))) | T25: =IF(OR($B25="",$C25="",$D25=""),"",$B25+$C25) | U25: =IF(OR($B25="",$C25="",$D25=""),"",$B25+$D25+IF($D25<=$C25,1,0)) | V25: =IF(OR($B25="",$C25="",$D25=""),"",IF($E25="",$U25,$B25+$E25+IF($E25<$C25,1,0))) | W25: =IF(OR($B25="",$C25="",$D25=""),"",IF(OR($E25="",$F25=""),$V25,$B25+$F25+IF($F25<$C25,1,0))) | X25: =IF(OR($B25="",$C25="",$D25=""),"",$B25+1) | Y25: =IF(OR($B25="",$C25="",$D25=""),"",IF($G25="はい",MAX($T25,$X25),$T25)) | Z25: =IF(OR($B25="",$C25="",$D25=""),"",IF($H25="はい",MIN($U25,$X25),$U25)) | AA25: =IF(OR($B25="",$C25="",$D25=""),"",IF(MAX($V25,$Y25)>=$Y25+8/24,$Y25+8/24,$Y25+8/24+(MAX($W25,$Y25)-MAX($V25,$Y25))))
G26: いいえ | H26: いいえ | I26: =IF(OR($B26="",$C26="",$D26=""),"",ROUND((MAX(0,MIN($U26,$U26)-MAX($T26,$T26))-MAX(0,MIN($W26,$U26)-MAX($V26,$T26)))*24,4)) | J26: =IF(OR($B26="",$C26="",$D26=""),"",ROUND(((MAX(0,MIN($U26,MIN($Z26,$AA26))-MAX($T26,$Y26))-MAX(0,MIN($W26,MIN($Z26,$AA26))-MAX($V26,$Y26)))-((MAX(0,MIN($U26,MIN(MIN($Z26,$AA26),($B26+0+5/24)))-MAX($T26,MAX($Y26,($B26+-1+22/24))))-MAX(0,MIN($W26,MIN(MIN($Z26,$AA26),($B26+0+5/24)))-MAX($V26,MAX($Y26,($B26+-1+22/24)))))+(MAX(0,MIN($U26,MIN(MIN($Z26,$AA26),($B26+1+5/24)))-MAX($T26,MAX($Y26,($B26+0+22/24))))-MAX(0,MIN($W26,MIN(MIN($Z26,$AA26),($B26+1+5/24)))-MAX($V26,MAX($Y26,($B26+0+22/24)))))+(MAX(0,MIN($U26,MIN(MIN($Z26,$AA26),($B26+2+5/24)))-MAX($T26,MAX($Y26,($B26+1+22/24))))-MAX(0,MIN($W26,MIN(MIN($Z26,$AA26),($B26+2+5/24)))-MAX($V26,MAX($Y26,($B26+1+22/24)))))))*24,4)) | K26: =IF(OR($B26="",$C26="",$D26=""),"",ROUND(((MAX(0,MIN($U26,MIN(MIN($Z26,$AA26),($B26+0+5/24)))-MAX($T26,MAX($Y26,($B26+-1+22/24))))-MAX(0,MIN($W26,MIN(MIN($Z26,$AA26),($B26+0+5/24)))-MAX($V26,MAX($Y26,($B26+-1+22/24)))))+(MAX(0,MIN($U26,MIN(MIN($Z26,$AA26),($B26+1+5/24)))-MAX($T26,MAX($Y26,($B26+0+22/24))))-MAX(0,MIN($W26,MIN(MIN($Z26,$AA26),($B26+1+5/24)))-MAX($V26,MAX($Y26,($B26+0+22/24)))))+(MAX(0,MIN($U26,MIN(MIN($Z26,$AA26),($B26+2+5/24)))-MAX($T26,MAX($Y26,($B26+1+22/24))))-MAX(0,MIN($W26,MIN(MIN($Z26,$AA26),($B26+2+5/24)))-MAX($V26,MAX($Y26,($B26+1+22/24))))))*24,4)) | L26: =IF(OR($B26="",$C26="",$D26=""),"",ROUND(((MAX(0,MIN($U26,$Z26)-MAX($T26,MAX($Y26,$AA26)))-MAX(0,MIN($W26,$Z26)-MAX($V26,MAX($Y26,$AA26))))-((MAX(0,MIN($U26,MIN($Z26,($B26+0+5/24)))-MAX($T26,MAX(MAX($Y26,$AA26),($B26+-1+22/24))))-MAX(0,MIN($W26,MIN($Z26,($B26+0+5/24)))-MAX($V26,MAX(MAX($Y26,$AA26),($B26+-1+22/24)))))+(MAX(0,MIN($U26,MIN($Z26,($B26+1+5/24)))-MAX($T26,MAX(MAX($Y26,$AA26),($B26+0+22/24))))-MAX(0,MIN($W26,MIN($Z26,($B26+1+5/24)))-MAX($V26,MAX(MAX($Y26,$AA26),($B26+0+22/24)))))+(MAX(0,MIN($U26,MIN($Z26,($B26+2+5/24)))-MAX($T26,MAX(MAX($Y26,$AA26),($B26+1+22/24))))-MAX(0,MIN($W26,MIN($Z26,($B26+2+5/24)))-MAX($V26,MAX(MAX($Y26,$AA26),($B26+1+22/24)))))))*24,4)) | M26: =IF(OR($B26="",$C26="",$D26=""),"",ROUND(((MAX(0,MIN($U26,MIN($Z26,($B26+0+5/24)))-MAX($T26,MAX(MAX($Y26,$AA26),($B26+-1+22/24))))-MAX(0,MIN($W26,MIN($Z26,($B26+0+5/24)))-MAX($V26,MAX(MAX($Y26,$AA26),($B26+-1+22/24)))))+(MAX(0,MIN($U26,MIN($Z26,($B26+1+5/24)))-MAX($T26,MAX(MAX($Y26,$AA26),($B26+0+22/24))))-MAX(0,MIN($W26,MIN($Z26,($B26+1+5/24)))-MAX($V26,MAX(MAX($Y26,$AA26),($B26+0+22/24)))))+(MAX(0,MIN($U26,MIN($Z26,($B26+2+5/24)))-MAX($T26,MAX(MAX($Y26,$AA26),($B26+1+22/24))))-MAX(0,MIN($W26,MIN($Z26,($B26+2+5/24)))-MAX($V26,MAX(MAX($Y26,$AA26),($B26+1+22/24))))))*24,4)) | N26: =IF(OR($B26="",$C26="",$D26=""),"",ROUND((IF($G26="はい",(MAX(0,MIN($U26,$X26)-MAX($T26,$T26))-MAX(0,MIN($W26,$X26)-MAX($V26,$T26))),0)+IF($H26="はい",(MAX(0,MIN($U26,$U26)-MAX($T26,$X26))-MAX(0,MIN($W26,$U26)-MAX($V26,$X26))),0)-IF($G26="はい",((MAX(0,MIN($U26,MIN($X26,($B26+0+5/24)))-MAX($T26,MAX($T26,($B26+-1+22/24))))-MAX(0,MIN($W26,MIN($X26,($B26+0+5/24)))-MAX($V26,MAX($T26,($B26+-1+22/24)))))+(MAX(0,MIN($U26,MIN($X26,($B26+1+5/24)))-MAX($T26,MAX($T26,($B26+0+22/24))))-MAX(0,MIN($W26,MIN($X26,($B26+1+5/24)))-MAX($V26,MAX($T26,($B26+0+22/24)))))+(MAX(0,MIN($U26,MIN($X26,($B26+2+5/24)))-MAX($T26,MAX($T26,($B26+1+22/24))))-MAX(0,MIN($W26,MIN($X26,($B26+2+5/24)))-MAX($V26,MAX($T26,($B26+1+22/24)))))),0)-IF($H26="はい",((MAX(0,MIN($U26,MIN($U26,($B26+0+5/24)))-MAX($T26,MAX($X26,($B26+-1+22/24))))-MAX(0,MIN($W26,MIN($U26,($B26+0+5/24)))-MAX($V26,MAX($X26,($B26+-1+22/24)))))+(MAX(0,MIN($U26,MIN($U26,($B26+1+5/24)))-MAX($T26,MAX($X26,($B26+0+22/24))))-MAX(0,MIN($W26,MIN($U26,($B26+1+5/24)))-MAX($V26,MAX($X26,($B26+0+22/24)))))+(MAX(0,MIN($U26,MIN($U26,($B26+2+5/24)))-MAX($T26,MAX($X26,($B26+1+22/24))))-MAX(0,MIN($W26,MIN($U26,($B26+2+5/24)))-MAX($V26,MAX($X26,($B26+1+22/24)))))),0))*24,4)) | O26: =IF(OR($B26="",$C26="",$D26=""),"",ROUND((IF($G26="はい",((MAX(0,MIN($U26,MIN($X26,($B26+0+5/24)))-MAX($T26,MAX($T26,($B26+-1+22/24))))-MAX(0,MIN($W26,MIN($X26,($B26+0+5/24)))-MAX($V26,MAX($T26,($B26+-1+22/24)))))+(MAX(0,MIN($U26,MIN($X26,($B26+1+5/24)))-MAX($T26,MAX($T26,($B26+0+22/24))))-MAX(0,MIN($W26,MIN($X26,($B26+1+5/24)))-MAX($V26,MAX($T26,($B26+0+22/24)))))+(MAX(0,MIN($U26,MIN($X26,($B26+2+5/24)))-MAX($T26,MAX($T26,($B26+1+22/24))))-MAX(0,MIN($W26,MIN($X26,($B26+2+5/24)))-MAX($V26,MAX($T26,($B26+1+22/24)))))),0)+IF($H26="はい",((MAX(0,MIN($U26,MIN($U26,($B26+0+5/24)))-MAX($T26,MAX($X26,($B26+-1+22/24))))-MAX(0,MIN($W26,MIN($U26,($B26+0+5/24)))-MAX($V26,MAX($X26,($B26+-1+22/24)))))+(MAX(0,MIN($U26,MIN($U26,($B26+1+5/24)))-MAX($T26,MAX($X26,($B26+0+22/24))))-MAX(0,MIN($W26,MIN($U26,($B26+1+5/24)))-MAX($V26,MAX($X26,($B26+0+22/24)))))+(MAX(0,MIN($U26,MIN($U26,($B26+2+5/24)))-MAX($T26,MAX($X26,($B26+1+22/24))))-MAX(0,MIN($W26,MIN($U26,($B26+2+5/24)))-MAX($V26,MAX($X26,($B26+1+22/24)))))),0))*24,4)) | P26: =IF(OR($B26="",$C26="",$D26=""),"",ROUND($B$3*SUMPRODUCT($J26:$O26,$J$7:$O$7),0)) | Q26: =IF(OR($B26="",$C26="",$D26=""),"",$P26-ROUND($B$3*$I26,0)) | R26: =IF(OR($B26="",$C26="",$D26=""),"",IF(ABS(SUM($J26:$O26)-$I26)>0.001,"区分の合計がずれた",IF(AND($I26>8,ROUND(($W26-$V26)*24,4)<1),"休憩が1時間に足りない",IF(AND($I26>6,ROUND(($W26-$V26)*24,4)<0.75),"休憩が45分に足りない","")))) | T26: =IF(OR($B26="",$C26="",$D26=""),"",$B26+$C26) | U26: =IF(OR($B26="",$C26="",$D26=""),"",$B26+$D26+IF($D26<=$C26,1,0)) | V26: =IF(OR($B26="",$C26="",$D26=""),"",IF($E26="",$U26,$B26+$E26+IF($E26<$C26,1,0))) | W26: =IF(OR($B26="",$C26="",$D26=""),"",IF(OR($E26="",$F26=""),$V26,$B26+$F26+IF($F26<$C26,1,0))) | X26: =IF(OR($B26="",$C26="",$D26=""),"",$B26+1) | Y26: =IF(OR($B26="",$C26="",$D26=""),"",IF($G26="はい",MAX($T26,$X26),$T26)) | Z26: =IF(OR($B26="",$C26="",$D26=""),"",IF($H26="はい",MIN($U26,$X26),$U26)) | AA26: =IF(OR($B26="",$C26="",$D26=""),"",IF(MAX($V26,$Y26)>=$Y26+8/24,$Y26+8/24,$Y26+8/24+(MAX($W26,$Y26)-MAX($V26,$Y26))))
G27: いいえ | H27: いいえ | I27: =IF(OR($B27="",$C27="",$D27=""),"",ROUND((MAX(0,MIN($U27,$U27)-MAX($T27,$T27))-MAX(0,MIN($W27,$U27)-MAX($V27,$T27)))*24,4)) | J27: =IF(OR($B27="",$C27="",$D27=""),"",ROUND(((MAX(0,MIN($U27,MIN($Z27,$AA27))-MAX($T27,$Y27))-MAX(0,MIN($W27,MIN($Z27,$AA27))-MAX($V27,$Y27)))-((MAX(0,MIN($U27,MIN(MIN($Z27,$AA27),($B27+0+5/24)))-MAX($T27,MAX($Y27,($B27+-1+22/24))))-MAX(0,MIN($W27,MIN(MIN($Z27,$AA27),($B27+0+5/24)))-MAX($V27,MAX($Y27,($B27+-1+22/24)))))+(MAX(0,MIN($U27,MIN(MIN($Z27,$AA27),($B27+1+5/24)))-MAX($T27,MAX($Y27,($B27+0+22/24))))-MAX(0,MIN($W27,MIN(MIN($Z27,$AA27),($B27+1+5/24)))-MAX($V27,MAX($Y27,($B27+0+22/24)))))+(MAX(0,MIN($U27,MIN(MIN($Z27,$AA27),($B27+2+5/24)))-MAX($T27,MAX($Y27,($B27+1+22/24))))-MAX(0,MIN($W27,MIN(MIN($Z27,$AA27),($B27+2+5/24)))-MAX($V27,MAX($Y27,($B27+1+22/24)))))))*24,4)) | K27: =IF(OR($B27="",$C27="",$D27=""),"",ROUND(((MAX(0,MIN($U27,MIN(MIN($Z27,$AA27),($B27+0+5/24)))-MAX($T27,MAX($Y27,($B27+-1+22/24))))-MAX(0,MIN($W27,MIN(MIN($Z27,$AA27),($B27+0+5/24)))-MAX($V27,MAX($Y27,($B27+-1+22/24)))))+(MAX(0,MIN($U27,MIN(MIN($Z27,$AA27),($B27+1+5/24)))-MAX($T27,MAX($Y27,($B27+0+22/24))))-MAX(0,MIN($W27,MIN(MIN($Z27,$AA27),($B27+1+5/24)))-MAX($V27,MAX($Y27,($B27+0+22/24)))))+(MAX(0,MIN($U27,MIN(MIN($Z27,$AA27),($B27+2+5/24)))-MAX($T27,MAX($Y27,($B27+1+22/24))))-MAX(0,MIN($W27,MIN(MIN($Z27,$AA27),($B27+2+5/24)))-MAX($V27,MAX($Y27,($B27+1+22/24))))))*24,4)) | L27: =IF(OR($B27="",$C27="",$D27=""),"",ROUND(((MAX(0,MIN($U27,$Z27)-MAX($T27,MAX($Y27,$AA27)))-MAX(0,MIN($W27,$Z27)-MAX($V27,MAX($Y27,$AA27))))-((MAX(0,MIN($U27,MIN($Z27,($B27+0+5/24)))-MAX($T27,MAX(MAX($Y27,$AA27),($B27+-1+22/24))))-MAX(0,MIN($W27,MIN($Z27,($B27+0+5/24)))-MAX($V27,MAX(MAX($Y27,$AA27),($B27+-1+22/24)))))+(MAX(0,MIN($U27,MIN($Z27,($B27+1+5/24)))-MAX($T27,MAX(MAX($Y27,$AA27),($B27+0+22/24))))-MAX(0,MIN($W27,MIN($Z27,($B27+1+5/24)))-MAX($V27,MAX(MAX($Y27,$AA27),($B27+0+22/24)))))+(MAX(0,MIN($U27,MIN($Z27,($B27+2+5/24)))-MAX($T27,MAX(MAX($Y27,$AA27),($B27+1+22/24))))-MAX(0,MIN($W27,MIN($Z27,($B27+2+5/24)))-MAX($V27,MAX(MAX($Y27,$AA27),($B27+1+22/24)))))))*24,4)) | M27: =IF(OR($B27="",$C27="",$D27=""),"",ROUND(((MAX(0,MIN($U27,MIN($Z27,($B27+0+5/24)))-MAX($T27,MAX(MAX($Y27,$AA27),($B27+-1+22/24))))-MAX(0,MIN($W27,MIN($Z27,($B27+0+5/24)))-MAX($V27,MAX(MAX($Y27,$AA27),($B27+-1+22/24)))))+(MAX(0,MIN($U27,MIN($Z27,($B27+1+5/24)))-MAX($T27,MAX(MAX($Y27,$AA27),($B27+0+22/24))))-MAX(0,MIN($W27,MIN($Z27,($B27+1+5/24)))-MAX($V27,MAX(MAX($Y27,$AA27),($B27+0+22/24)))))+(MAX(0,MIN($U27,MIN($Z27,($B27+2+5/24)))-MAX($T27,MAX(MAX($Y27,$AA27),($B27+1+22/24))))-MAX(0,MIN($W27,MIN($Z27,($B27+2+5/24)))-MAX($V27,MAX(MAX($Y27,$AA27),($B27+1+22/24))))))*24,4)) | N27: =IF(OR($B27="",$C27="",$D27=""),"",ROUND((IF($G27="はい",(MAX(0,MIN($U27,$X27)-MAX($T27,$T27))-MAX(0,MIN($W27,$X27)-MAX($V27,$T27))),0)+IF($H27="はい",(MAX(0,MIN($U27,$U27)-MAX($T27,$X27))-MAX(0,MIN($W27,$U27)-MAX($V27,$X27))),0)-IF($G27="はい",((MAX(0,MIN($U27,MIN($X27,($B27+0+5/24)))-MAX($T27,MAX($T27,($B27+-1+22/24))))-MAX(0,MIN($W27,MIN($X27,($B27+0+5/24)))-MAX($V27,MAX($T27,($B27+-1+22/24)))))+(MAX(0,MIN($U27,MIN($X27,($B27+1+5/24)))-MAX($T27,MAX($T27,($B27+0+22/24))))-MAX(0,MIN($W27,MIN($X27,($B27+1+5/24)))-MAX($V27,MAX($T27,($B27+0+22/24)))))+(MAX(0,MIN($U27,MIN($X27,($B27+2+5/24)))-MAX($T27,MAX($T27,($B27+1+22/24))))-MAX(0,MIN($W27,MIN($X27,($B27+2+5/24)))-MAX($V27,MAX($T27,($B27+1+22/24)))))),0)-IF($H27="はい",((MAX(0,MIN($U27,MIN($U27,($B27+0+5/24)))-MAX($T27,MAX($X27,($B27+-1+22/24))))-MAX(0,MIN($W27,MIN($U27,($B27+0+5/24)))-MAX($V27,MAX($X27,($B27+-1+22/24)))))+(MAX(0,MIN($U27,MIN($U27,($B27+1+5/24)))-MAX($T27,MAX($X27,($B27+0+22/24))))-MAX(0,MIN($W27,MIN($U27,($B27+1+5/24)))-MAX($V27,MAX($X27,($B27+0+22/24)))))+(MAX(0,MIN($U27,MIN($U27,($B27+2+5/24)))-MAX($T27,MAX($X27,($B27+1+22/24))))-MAX(0,MIN($W27,MIN($U27,($B27+2+5/24)))-MAX($V27,MAX($X27,($B27+1+22/24)))))),0))*24,4)) | O27: =IF(OR($B27="",$C27="",$D27=""),"",ROUND((IF($G27="はい",((MAX(0,MIN($U27,MIN($X27,($B27+0+5/24)))-MAX($T27,MAX($T27,($B27+-1+22/24))))-MAX(0,MIN($W27,MIN($X27,($B27+0+5/24)))-MAX($V27,MAX($T27,($B27+-1+22/24)))))+(MAX(0,MIN($U27,MIN($X27,($B27+1+5/24)))-MAX($T27,MAX($T27,($B27+0+22/24))))-MAX(0,MIN($W27,MIN($X27,($B27+1+5/24)))-MAX($V27,MAX($T27,($B27+0+22/24)))))+(MAX(0,MIN($U27,MIN($X27,($B27+2+5/24)))-MAX($T27,MAX($T27,($B27+1+22/24))))-MAX(0,MIN($W27,MIN($X27,($B27+2+5/24)))-MAX($V27,MAX($T27,($B27+1+22/24)))))),0)+IF($H27="はい",((MAX(0,MIN($U27,MIN($U27,($B27+0+5/24)))-MAX($T27,MAX($X27,($B27+-1+22/24))))-MAX(0,MIN($W27,MIN($U27,($B27+0+5/24)))-MAX($V27,MAX($X27,($B27+-1+22/24)))))+(MAX(0,MIN($U27,MIN($U27,($B27+1+5/24)))-MAX($T27,MAX($X27,($B27+0+22/24))))-MAX(0,MIN($W27,MIN($U27,($B27+1+5/24)))-MAX($V27,MAX($X27,($B27+0+22/24)))))+(MAX(0,MIN($U27,MIN($U27,($B27+2+5/24)))-MAX($T27,MAX($X27,($B27+1+22/24))))-MAX(0,MIN($W27,MIN($U27,($B27+2+5/24)))-MAX($V27,MAX($X27,($B27+1+22/24)))))),0))*24,4)) | P27: =IF(OR($B27="",$C27="",$D27=""),"",ROUND($B$3*SUMPRODUCT($J27:$O27,$J$7:$O$7),0)) | Q27: =IF(OR($B27="",$C27="",$D27=""),"",$P27-ROUND($B$3*$I27,0)) | R27: =IF(OR($B27="",$C27="",$D27=""),"",IF(ABS(SUM($J27:$O27)-$I27)>0.001,"区分の合計がずれた",IF(AND($I27>8,ROUND(($W27-$V27)*24,4)<1),"休憩が1時間に足りない",IF(AND($I27>6,ROUND(($W27-$V27)*24,4)<0.75),"休憩が45分に足りない","")))) | T27: =IF(OR($B27="",$C27="",$D27=""),"",$B27+$C27) | U27: =IF(OR($B27="",$C27="",$D27=""),"",$B27+$D27+IF($D27<=$C27,1,0)) | V27: =IF(OR($B27="",$C27="",$D27=""),"",IF($E27="",$U27,$B27+$E27+IF($E27<$C27,1,0))) | W27: =IF(OR($B27="",$C27="",$D27=""),"",IF(OR($E27="",$F27=""),$V27,$B27+$F27+IF($F27<$C27,1,0))) | X27: =IF(OR($B27="",$C27="",$D27=""),"",$B27+1) | Y27: =IF(OR($B27="",$C27="",$D27=""),"",IF($G27="はい",MAX($T27,$X27),$T27)) | Z27: =IF(OR($B27="",$C27="",$D27=""),"",IF($H27="はい",MIN($U27,$X27),$U27)) | AA27: =IF(OR($B27="",$C27="",$D27=""),"",IF(MAX($V27,$Y27)>=$Y27+8/24,$Y27+8/24,$Y27+8/24+(MAX($W27,$Y27)-MAX($V27,$Y27))))
G28: いいえ | H28: いいえ | I28: =IF(OR($B28="",$C28="",$D28=""),"",ROUND((MAX(0,MIN($U28,$U28)-MAX($T28,$T28))-MAX(0,MIN($W28,$U28)-MAX($V28,$T28)))*24,4)) | J28: =IF(OR($B28="",$C28="",$D28=""),"",ROUND(((MAX(0,MIN($U28,MIN($Z28,$AA28))-MAX($T28,$Y28))-MAX(0,MIN($W28,MIN($Z28,$AA28))-MAX($V28,$Y28)))-((MAX(0,MIN($U28,MIN(MIN($Z28,$AA28),($B28+0+5/24)))-MAX($T28,MAX($Y28,($B28+-1+22/24))))-MAX(0,MIN($W28,MIN(MIN($Z28,$AA28),($B28+0+5/24)))-MAX($V28,MAX($Y28,($B28+-1+22/24)))))+(MAX(0,MIN($U28,MIN(MIN($Z28,$AA28),($B28+1+5/24)))-MAX($T28,MAX($Y28,($B28+0+22/24))))-MAX(0,MIN($W28,MIN(MIN($Z28,$AA28),($B28+1+5/24)))-MAX($V28,MAX($Y28,($B28+0+22/24)))))+(MAX(0,MIN($U28,MIN(MIN($Z28,$AA28),($B28+2+5/24)))-MAX($T28,MAX($Y28,($B28+1+22/24))))-MAX(0,MIN($W28,MIN(MIN($Z28,$AA28),($B28+2+5/24)))-MAX($V28,MAX($Y28,($B28+1+22/24)))))))*24,4)) | K28: =IF(OR($B28="",$C28="",$D28=""),"",ROUND(((MAX(0,MIN($U28,MIN(MIN($Z28,$AA28),($B28+0+5/24)))-MAX($T28,MAX($Y28,($B28+-1+22/24))))-MAX(0,MIN($W28,MIN(MIN($Z28,$AA28),($B28+0+5/24)))-MAX($V28,MAX($Y28,($B28+-1+22/24)))))+(MAX(0,MIN($U28,MIN(MIN($Z28,$AA28),($B28+1+5/24)))-MAX($T28,MAX($Y28,($B28+0+22/24))))-MAX(0,MIN($W28,MIN(MIN($Z28,$AA28),($B28+1+5/24)))-MAX($V28,MAX($Y28,($B28+0+22/24)))))+(MAX(0,MIN($U28,MIN(MIN($Z28,$AA28),($B28+2+5/24)))-MAX($T28,MAX($Y28,($B28+1+22/24))))-MAX(0,MIN($W28,MIN(MIN($Z28,$AA28),($B28+2+5/24)))-MAX($V28,MAX($Y28,($B28+1+22/24))))))*24,4)) | L28: =IF(OR($B28="",$C28="",$D28=""),"",ROUND(((MAX(0,MIN($U28,$Z28)-MAX($T28,MAX($Y28,$AA28)))-MAX(0,MIN($W28,$Z28)-MAX($V28,MAX($Y28,$AA28))))-((MAX(0,MIN($U28,MIN($Z28,($B28+0+5/24)))-MAX($T28,MAX(MAX($Y28,$AA28),($B28+-1+22/24))))-MAX(0,MIN($W28,MIN($Z28,($B28+0+5/24)))-MAX($V28,MAX(MAX($Y28,$AA28),($B28+-1+22/24)))))+(MAX(0,MIN($U28,MIN($Z28,($B28+1+5/24)))-MAX($T28,MAX(MAX($Y28,$AA28),($B28+0+22/24))))-MAX(0,MIN($W28,MIN($Z28,($B28+1+5/24)))-MAX($V28,MAX(MAX($Y28,$AA28),($B28+0+22/24)))))+(MAX(0,MIN($U28,MIN($Z28,($B28+2+5/24)))-MAX($T28,MAX(MAX($Y28,$AA28),($B28+1+22/24))))-MAX(0,MIN($W28,MIN($Z28,($B28+2+5/24)))-MAX($V28,MAX(MAX($Y28,$AA28),($B28+1+22/24)))))))*24,4)) | M28: =IF(OR($B28="",$C28="",$D28=""),"",ROUND(((MAX(0,MIN($U28,MIN($Z28,($B28+0+5/24)))-MAX($T28,MAX(MAX($Y28,$AA28),($B28+-1+22/24))))-MAX(0,MIN($W28,MIN($Z28,($B28+0+5/24)))-MAX($V28,MAX(MAX($Y28,$AA28),($B28+-1+22/24)))))+(MAX(0,MIN($U28,MIN($Z28,($B28+1+5/24)))-MAX($T28,MAX(MAX($Y28,$AA28),($B28+0+22/24))))-MAX(0,MIN($W28,MIN($Z28,($B28+1+5/24)))-MAX($V28,MAX(MAX($Y28,$AA28),($B28+0+22/24)))))+(MAX(0,MIN($U28,MIN($Z28,($B28+2+5/24)))-MAX($T28,MAX(MAX($Y28,$AA28),($B28+1+22/24))))-MAX(0,MIN($W28,MIN($Z28,($B28+2+5/24)))-MAX($V28,MAX(MAX($Y28,$AA28),($B28+1+22/24))))))*24,4)) | N28: =IF(OR($B28="",$C28="",$D28=""),"",ROUND((IF($G28="はい",(MAX(0,MIN($U28,$X28)-MAX($T28,$T28))-MAX(0,MIN($W28,$X28)-MAX($V28,$T28))),0)+IF($H28="はい",(MAX(0,MIN($U28,$U28)-MAX($T28,$X28))-MAX(0,MIN($W28,$U28)-MAX($V28,$X28))),0)-IF($G28="はい",((MAX(0,MIN($U28,MIN($X28,($B28+0+5/24)))-MAX($T28,MAX($T28,($B28+-1+22/24))))-MAX(0,MIN($W28,MIN($X28,($B28+0+5/24)))-MAX($V28,MAX($T28,($B28+-1+22/24)))))+(MAX(0,MIN($U28,MIN($X28,($B28+1+5/24)))-MAX($T28,MAX($T28,($B28+0+22/24))))-MAX(0,MIN($W28,MIN($X28,($B28+1+5/24)))-MAX($V28,MAX($T28,($B28+0+22/24)))))+(MAX(0,MIN($U28,MIN($X28,($B28+2+5/24)))-MAX($T28,MAX($T28,($B28+1+22/24))))-MAX(0,MIN($W28,MIN($X28,($B28+2+5/24)))-MAX($V28,MAX($T28,($B28+1+22/24)))))),0)-IF($H28="はい",((MAX(0,MIN($U28,MIN($U28,($B28+0+5/24)))-MAX($T28,MAX($X28,($B28+-1+22/24))))-MAX(0,MIN($W28,MIN($U28,($B28+0+5/24)))-MAX($V28,MAX($X28,($B28+-1+22/24)))))+(MAX(0,MIN($U28,MIN($U28,($B28+1+5/24)))-MAX($T28,MAX($X28,($B28+0+22/24))))-MAX(0,MIN($W28,MIN($U28,($B28+1+5/24)))-MAX($V28,MAX($X28,($B28+0+22/24)))))+(MAX(0,MIN($U28,MIN($U28,($B28+2+5/24)))-MAX($T28,MAX($X28,($B28+1+22/24))))-MAX(0,MIN($W28,MIN($U28,($B28+2+5/24)))-MAX($V28,MAX($X28,($B28+1+22/24)))))),0))*24,4)) | O28: =IF(OR($B28="",$C28="",$D28=""),"",ROUND((IF($G28="はい",((MAX(0,MIN($U28,MIN($X28,($B28+0+5/24)))-MAX($T28,MAX($T28,($B28+-1+22/24))))-MAX(0,MIN($W28,MIN($X28,($B28+0+5/24)))-MAX($V28,MAX($T28,($B28+-1+22/24)))))+(MAX(0,MIN($U28,MIN($X28,($B28+1+5/24)))-MAX($T28,MAX($T28,($B28+0+22/24))))-MAX(0,MIN($W28,MIN($X28,($B28+1+5/24)))-MAX($V28,MAX($T28,($B28+0+22/24)))))+(MAX(0,MIN($U28,MIN($X28,($B28+2+5/24)))-MAX($T28,MAX($T28,($B28+1+22/24))))-MAX(0,MIN($W28,MIN($X28,($B28+2+5/24)))-MAX($V28,MAX($T28,($B28+1+22/24)))))),0)+IF($H28="はい",((MAX(0,MIN($U28,MIN($U28,($B28+0+5/24)))-MAX($T28,MAX($X28,($B28+-1+22/24))))-MAX(0,MIN($W28,MIN($U28,($B28+0+5/24)))-MAX($V28,MAX($X28,($B28+-1+22/24)))))+(MAX(0,MIN($U28,MIN($U28,($B28+1+5/24)))-MAX($T28,MAX($X28,($B28+0+22/24))))-MAX(0,MIN($W28,MIN($U28,($B28+1+5/24)))-MAX($V28,MAX($X28,($B28+0+22/24)))))+(MAX(0,MIN($U28,MIN($U28,($B28+2+5/24)))-MAX($T28,MAX($X28,($B28+1+22/24))))-MAX(0,MIN($W28,MIN($U28,($B28+2+5/24)))-MAX($V28,MAX($X28,($B28+1+22/24)))))),0))*24,4)) | P28: =IF(OR($B28="",$C28="",$D28=""),"",ROUND($B$3*SUMPRODUCT($J28:$O28,$J$7:$O$7),0)) | Q28: =IF(OR($B28="",$C28="",$D28=""),"",$P28-ROUND($B$3*$I28,0)) | R28: =IF(OR($B28="",$C28="",$D28=""),"",IF(ABS(SUM($J28:$O28)-$I28)>0.001,"区分の合計がずれた",IF(AND($I28>8,ROUND(($W28-$V28)*24,4)<1),"休憩が1時間に足りない",IF(AND($I28>6,ROUND(($W28-$V28)*24,4)<0.75),"休憩が45分に足りない","")))) | T28: =IF(OR($B28="",$C28="",$D28=""),"",$B28+$C28) | U28: =IF(OR($B28="",$C28="",$D28=""),"",$B28+$D28+IF($D28<=$C28,1,0)) | V28: =IF(OR($B28="",$C28="",$D28=""),"",IF($E28="",$U28,$B28+$E28+IF($E28<$C28,1,0))) | W28: =IF(OR($B28="",$C28="",$D28=""),"",IF(OR($E28="",$F28=""),$V28,$B28+$F28+IF($F28<$C28,1,0))) | X28: =IF(OR($B28="",$C28="",$D28=""),"",$B28+1) | Y28: =IF(OR($B28="",$C28="",$D28=""),"",IF($G28="はい",MAX($T28,$X28),$T28)) | Z28: =IF(OR($B28="",$C28="",$D28=""),"",IF($H28="はい",MIN($U28,$X28),$U28)) | AA28: =IF(OR($B28="",$C28="",$D28=""),"",IF(MAX($V28,$Y28)>=$Y28+8/24,$Y28+8/24,$Y28+8/24+(MAX($W28,$Y28)-MAX($V28,$Y28))))
A30: 合計 | I30: =SUM(I9:I28) | J30: =SUM(J9:J28) | K30: =SUM(K9:K28) | L30: =SUM(L9:L28) | M30: =SUM(M9:M28) | N30: =SUM(N9:N28) | O30: =SUM(O9:O28) | P30: =SUM(P9:P28) | Q30: =SUM(Q9:Q28)
A32: 時間外は1日8時間を超えた分だけを数える。週40時間を超えた分、1か月60時間を超えた分（5割）はこの表では数えない
A33: 2暦日にまたがる勤務は、始業日の1日の勤務として8時間を数える。法定休日の暦日に入った時間は8時間の数に入れない
A34: 法定休日の暦日に入った時間は、深夜でなければ1.35、深夜なら1.60。法定休日の労働に時間外の割増は重ならない
A35: 緑の欄は法定休日の割増が付いた時間。赤い確認欄は、区分の合計がずれたか、休憩が労働基準法第34条の長さに足りない行
A36: 賃金は、6つの区分の時間 × 率 × 1時間あたりの賃金を足して、円未満を四捨五入した額

Sheet 2_取り違え
A1: よくある取り違えで出した額と、正しい額の差（1_割増の計算 の8行の例と同じ勤務）
A3: 取り違え | B3: 取り違えた額 | C3: 正しい額 | D3: 差 | E3: 正しい額の出どころ
A4: 元日が法定休日なのに、勤務全体を始業日（大晦日）の勤務として25%だけ払った | B4: ='1_割増の計算'!P9 | C4: ='1_割増の計算'!P10 | D4: =B4-C4 | E4: 1_割増の計算 10行目
A5: 元日の夜勤を、翌朝5時まで全部法定休日として60%で払った | B5: =ROUND('1_割増の計算'!$B$3*('1_割増の計算'!I11)*'1_割増の計算'!O7,0) | C5: ='1_割増の計算'!P11 | D5: =B5-C5 | E5: 1_割増の計算 11行目
A6: 元日は祝日だから0時から法定休日と思い込んだ（就業規則の法定休日は日曜） | B6: ='1_割増の計算'!P10 | C6: ='1_割増の計算'!P9 | D6: =B6-C6 | E6: 1_割増の計算 9行目
A7: 元日の日勤を、祝日だからと35%で払った（就業規則の法定休日は日曜） | B7: ='1_割増の計算'!P14 | C7: ='1_割増の計算'!P15 | D7: =B7-C7 | E7: 1_割増の計算 15行目
A8: 休憩を取ったのに引かずに7時間で払った（元日は法定休日でない） | B8: ='1_割増の計算'!P16 | C8: ='1_割増の計算'!P9 | D8: =B8-C8 | E8: 1_割増の計算 9行目
A10: 赤は払い足りない額（労働基準法第37条に届かない）。緑は法律より多く払った額（会社の規程で決めているなら違反ではない）
A12: 日付をまたぐ勤務で、終業から始業をそのまま引いた場合
A13: 式 | B13: 結果
A14: 終業 − 始業（22:00から5:00）を時間にした | B14: =('1_割増の計算'!D9-'1_割増の計算'!C9)*24
A15: 日付をまたいだら1日足してから引いた | B15: =ROUND(('1_割増の計算'!D9-'1_割増の計算'!C9+IF('1_割増の計算'!D9<='1_割増の計算'!C9,1,0))*24,2)
A16: MODで24時間の余りにした | B16: =ROUND(MOD('1_割増の計算'!D9-'1_割増の計算'!C9,1)*24,2)
A17: 1行目はマイナス17時間になる。時刻の表示形式のままだと、負の時刻は####と表示される

Sheet 3_使い方
A1: 使い方と前提
A3: 1_割増の計算 のB3に1時間あたりの賃金、9行目から下に勤務を1行ずつ入れる（20行まで）。
A4: 始業日は日付、始業・終業・休憩は時刻（22:00 のように入れる）。終業が始業以前の時刻なら翌日として数える。
A5: G列とH列に、始業日とその翌日が就業規則で決めた法定休日かどうかを「はい」「いいえ」で入れる。
A7: 法定休日の割増（35%）は、法定休日の0時から24時の間に働いた時間だけに付く。前日からの勤務が0時を越えたら、0時からが法定休日の労働。
A8: 法定休日の勤務が翌日の0時を越えたら、0時からは法定休日の労働ではない。
A9: 深夜（22時から5時）は、法定内なら25%、時間外と重なれば50%、法定休日と重なれば60%。
A10: 時間外は、法定休日の暦日に入った時間を除き、始業から数えて8時間を超えた分。
A12: この表で扱わないもの: 週40時間を超えた分、1か月60時間を超えた分の5割、変形労働時間制、
A13: 番方編成による交替制で休日を継続24時間で与えている職場、所定労働時間が8時間より短い職場の法定内残業の扱い、
A14: 会社が独自に決めている年末年始手当や祝日手当。
A16: 出典（どれも2026年10月6日に確認）
... A24: この表は法律の最低の額を出すもの。実際の賃金は勤め先の就業規則と賃金規程で決まる。
