Workbook

Sheet 1_自分の年収
A1: 年齢・男女・雇用形態ごとの年収の中央値と、自分の年収が上位何%か
A2: 黄色の4つを入れる。年収は本業の税込みの年額（賞与を含む）。Microsoft 365のExcel（バージョン16）で確認、2026年10月19日
D3: 所得の階級 | E3: 人数 | F3: 割合 | G3: 累積の割合
A4: 年齢 | B4: 30〜34歳 | D4: 50万円未満 | E4: =INDEX('3_総務省の表'!$E$9:$T$152,$B$8,1) -> 96300 | F4: =E4/$B$11 -> 0.018541338 | G4: =INDEX('3_総務省の表'!$V$9:$AK$152,$B$8,1) -> 0.018541338
A5: 男女 | B5: 計 | D5: 50〜99万円 | E5: =INDEX('3_総務省の表'!$E$9:$T$152,$B$8,2) -> 254500 | F5: =E5/$B$11 -> 0.049000732 | G5: =INDEX('3_総務省の表'!$V$9:$AK$152,$B$8,2) -> 0.067542069
A6: 雇用形態 | B6: 正規と非正規の計 | D6: 100〜149万円 | E6: =INDEX('3_総務省の表'!$E$9:$T$152,$B$8,3) -> 324100 | F6: =E6/$B$11 -> 0.062401325 | G6: =INDEX('3_総務省の表'!$V$9:$AK$152,$B$8,3) -> 0.12994339
A7: 年収（万円、税込み） | B7: 400 | D7: 150〜199万円 | E7: =INDEX('3_総務省の表'!$E$9:$T$152,$B$8,4) -> 286900 | F7: =E7/$B$11 -> 0.055238939 | G7: =INDEX('3_総務省の表'!$V$9:$AK$152,$B$8,4) -> 0.18518233
A8: 表の行 | B8: =MATCH(B4&"|"&B5&"|"&B6,'3_総務省の表'!$A$9:$A$152,0) -> 19 | D8: 200〜249万円 | E8: =INDEX('3_総務省の表'!$E$9:$T$152,$B$8,5) -> 537800 | F8: =E8/$B$11 -> 0.10354654 | G8: =INDEX('3_総務省の表'!$V$9:$AK$152,$B$8,5) -> 0.28872887
D9: 250〜299万円 | E9: =INDEX('3_総務省の表'!$E$9:$T$152,$B$8,6) -> 484700 | F9: =E9/$B$11 -> 0.093322808 | G9: =INDEX('3_総務省の表'!$V$9:$AK$152,$B$8,6) -> 0.38205168
D10: 300〜399万円 | E10: =INDEX('3_総務省の表'!$E$9:$T$152,$B$8,7) -> 1067100 | F10: =E10/$B$11 -> 0.20545651 | G10: =INDEX('3_総務省の表'!$V$9:$AK$152,$B$8,7) -> 0.58750818
A11: この区分の人数 | B11: =INDEX('3_総務省の表'!$U$9:$U$152,$B$8) -> 5193800 | D11: 400〜499万円 | E11: =INDEX('3_総務省の表'!$E$9:$T$152,$B$8,8) -> 924700 | F11: =E11/$B$11 -> 0.1780392 | G11: =INDEX('3_総務省の表'!$V$9:$AK$152,$B$8,8) -> 0.76554738
A12: 年収の中央値 | B12: =INDEX('3_総務省の表'!$AM$9:$AM$152,$B$8) -> 357.40793 | D12: 500〜599万円 | E12: =INDEX('3_総務省の表'!$E$9:$T$152,$B$8,9) -> 648100 | F12: =E12/$B$11 -> 0.1247834 | G12: =INDEX('3_総務省の表'!$V$9:$AK$152,$B$8,9) -> 0.89033078
A13: 下から25%の年収 | B13: =INDEX('3_総務省の表'!$AL$9:$AL$152,$B$8) -> 231.29881 | D13: 600〜699万円 | E13: =INDEX('3_総務省の表'!$E$9:$T$152,$B$8,10) -> 290200 | F13: =E13/$B$11 -> 0.055874312 | G13: =INDEX('3_総務省の表'!$V$9:$AK$152,$B$8,10) -> 0.94620509
A14: 上から25%の年収 | B14: =INDEX('3_総務省の表'!$AN$9:$AN$152,$B$8) -> 491.26744 | D14: 700〜799万円 | E14: =INDEX('3_総務省の表'!$E$9:$T$152,$B$8,11) -> 119300 | F14: =E14/$B$11 -> 0.022969695 | G14: =INDEX('3_総務省の表'!$V$9:$AK$152,$B$8,11) -> 0.96917479
A15: 年収より少ない人の割合 | B15: =IF(AND($B$7<>"",$B$7>=0),IF(COUNTIF('3_総務省の表'!$E$6:$T$6,"<="&$B$7)=1,0,INDEX('3_総務省の表'!$V$9:$AK$152,$B$8,COUNTIF('3_総務省の表'!$E$6:$T$6,"<="&$B$7)-1))+IF(COUNTIF('3_総務省の表'!$E$6:$T$6,"<="&$B$7)=16,0,INDEX('3_総務省の表'!$E$9:$T$152,$B$8,COUNTIF('3_総務省の表'!$E$6:$T$6,"<="&$B$7))/$B$11*($B$7-INDEX('3_総務省の表'!$E$6:$T$6,COUNTIF('3_総務省の表'!$E$6:$T$6,"<="&$B$7)))/INDEX('3_総務省の表'!$E$7:$T$7,COUNTIF('3_総務省の表'!$E$6:$T$6,"<="&$B$7))),"") -> 0.58750818 | D15: 800〜899万円 | E15: =INDEX('3_総務省の表'!$E$9:$T$152,$B$8,12) -> 56800 | F15: =E15/$B$11 -> 0.010936116 | G15: =INDEX('3_総務省の表'!$V$9:$AK$152,$B$8,12) -> 0.9801109
A16: 上位何%か | B16: =IF(B15="","",1-B15) -> 0.41249182 | D16: 900〜999万円 | E16: =INDEX('3_総務省の表'!$E$9:$T$152,$B$8,13) -> 41200 | F16: =E16/$B$11 -> 0.0079325349 | G16: =INDEX('3_総務省の表'!$V$9:$AK$152,$B$8,13) -> 0.98804344
D17: 1,000〜1,249万円 | E17: =INDEX('3_総務省の表'!$E$9:$T$152,$B$8,14) -> 43900 | F17: =E17/$B$11 -> 0.0084523855 | G17: =INDEX('3_総務省の表'!$V$9:$AK$152,$B$8,14) -> 0.99649582
D18: 1,250〜1,499万円 | E18: =INDEX('3_総務省の表'!$E$9:$T$152,$B$8,15) -> 9800 | F18: =E18/$B$11 -> 0.0018868651 | G18: =INDEX('3_総務省の表'!$V$9:$AK$152,$B$8,15) -> 0.99838269
D19: 1,500万円以上 | E19: =INDEX('3_総務省の表'!$E$9:$T$152,$B$8,16) -> 8400 | F19: =E19/$B$11 -> 0.001617313 | G19: =INDEX('3_総務省の表'!$V$9:$AK$152,$B$8,16) -> 1
A21: 1,500万円以上の階級は上限がないので、その中の並びは出さない（その階級より下の人の割合を出す）

Sheet 2_年齢別の中央値
A1: 年齢別・男女別・雇用形態別の年収の中央値（万円、税込み、本業の年間）
A2: 令和4年就業構造基本調査 第40表から計算。正規と非正規の計は、会社などの役員を除く雇用者にあたる
B4: 男女計 | E4: 男性 | H4: 女性
A5: 年齢 | B5: 正規と非正規の計 | C5: 正規 | D5: 非正規 | E5: 正規と非正規の計 | F5: 正規 | G5: 非正規 | H5: 正規と非正規の計 | I5: 正規 | J5: 非正規
A6: 20〜24歳 | B6: =INDEX('3_総務省の表'!$AM$9:$AM$152,MATCH($A6&"|計|正規と非正規の計",'3_総務省の表'!$A$9:$A$152,0)) -> 222.74336 | C6: =INDEX('3_総務省の表'!$AM$9:$AM$152,MATCH($A6&"|計|正規",'3_総務省の表'!$A$9:$A$152,0)) -> 275.36344 | D6: =INDEX('3_総務省の表'!$AM$9:$AM$152,MATCH($A6&"|計|非正規",'3_総務省の表'!$A$9:$A$152,0)) -> 82.72772 | E6: =INDEX('3_総務省の表'!$AM$9:$AM$152,MATCH($A6&"|男|正規と非正規の計",'3_総務省の表'!$A$9:$A$152,0)) -> 233.04174 | F6: =INDEX('3_総務省の表'!$AM$9:$AM$152,MATCH($A6&"|男|正規",'3_総務省の表'!$A$9:$A$152,0)) -> 292.4889 | G6: =INDEX('3_総務省の表'!$AM$9:$AM$152,MATCH($A6&"|男|非正規",'3_総務省の表'!$A$9:$A$152,0)) -> 80.051116 | H6: =INDEX('3_総務省の表'!$AM$9:$AM$152,MATCH($A6&"|女|正規と非正規の計",'3_総務省の表'!$A$9:$A$152,0)) -> 215.5632 | I6: =INDEX('3_総務省の表'!$AM$9:$AM$152,MATCH($A6&"|女|正規",'3_総務省の表'!$A$9:$A$152,0)) -> 259.66176 | J6: =INDEX('3_総務省の表'!$AM$9:$AM$152,MATCH($A6&"|女|非正規",'3_総務省の表'!$A$9:$A$152,0)) -> 85.674323
A7: 25〜29歳 | B7: =INDEX('3_総務省の表'!$AM$9:$AM$152,MATCH($A7&"|計|正規と非正規の計",'3_総務省の表'!$A$9:$A$152,0)) -> 324.16024 | C7: =INDEX('3_総務省の表'!$AM$9:$AM$152,MATCH($A7&"|計|正規",'3_総務省の表'!$A$9:$A$152,0)) -> 355.84388 | D7: =INDEX('3_総務省の表'!$AM$9:$AM$152,MATCH($A7&"|計|非正規",'3_総務省の表'!$A$9:$A$152,0)) -> 171.5532 | E7: =INDEX('3_総務省の表'!$AM$9:$AM$152,MATCH($A7&"|男|正規と非正規の計",'3_総務省の表'!$A$9:$A$152,0)) -> 359.45635 | F7: =INDEX('3_総務省の表'!$AM$9:$AM$152,MATCH($A7&"|男|正規",'3_総務省の表'!$A$9:$A$152,0)) -> 380.80213 | G7: =INDEX('3_総務省の表'!$AM$9:$AM$152,MATCH($A7&"|男|非正規",'3_総務省の表'!$A$9:$A$152,0)) -> 189.10891 | H7: =INDEX('3_総務省の表'!$AM$9:$AM$152,MATCH($A7&"|女|正規と非正規の計",'3_総務省の表'!$A$9:$A$152,0)) -> 282.72944 | I7: =INDEX('3_総務省の表'!$AM$9:$AM$152,MATCH($A7&"|女|正規",'3_総務省の表'!$A$9:$A$152,0)) -> 325.13552 | J7: =INDEX('3_総務省の表'!$AM$9:$AM$152,MATCH($A7&"|女|非正規",'3_総務省の表'!$A$9:$A$152,0)) -> 162.28109
A8: 30〜34歳 | B8: =INDEX('3_総務省の表'!$AM$9:$AM$152,MATCH($A8&"|計|正規と非正規の計",'3_総務省の表'!$A$9:$A$152,0)) -> 357.40793 | C8: =INDEX('3_総務省の表'!$AM$9:$AM$152,MATCH($A8&"|計|正規",'3_総務省の表'!$A$9:$A$152,0)) -> 410.50266 | D8: =INDEX('3_総務省の表'!$AM$9:$AM$152,MATCH($A8&"|計|非正規",'3_総務省の表'!$A$9:$A$152,0)) -> 150.89237 | E8: =INDEX('3_総務省の表'!$AM$9:$AM$152,MATCH($A8&"|男|正規と非正規の計",'3_総務省の表'!$A$9:$A$152,0)) -> 431.12862 | F8: =INDEX('3_総務省の表'!$AM$9:$AM$152,MATCH($A8&"|男|正規",'3_総務省の表'!$A$9:$A$152,0)) -> 453.64422 | G8: =INDEX('3_総務省の表'!$AM$9:$AM$152,MATCH($A8&"|男|非正規",'3_総務省の表'!$A$9:$A$152,0)) -> 194.82609 | H8: =INDEX('3_総務省の表'!$AM$9:$AM$152,MATCH($A8&"|女|正規と非正規の計",'3_総務省の表'!$A$9:$A$152,0)) -> 268.10469 | I8: =INDEX('3_総務省の表'!$AM$9:$AM$152,MATCH($A8&"|女|正規",'3_総務省の表'!$A$9:$A$152,0)) -> 346.27721 | J8: =INDEX('3_総務省の表'!$AM$9:$AM$152,MATCH($A8&"|女|非正規",'3_総務省の表'!$A$9:$A$152,0)) -> 138.95985
A9: 35〜39歳 | B9: =INDEX('3_総務省の表'!$AM$9:$AM$152,MATCH($A9&"|計|正規と非正規の計",'3_総務省の表'!$A$9:$A$152,0)) -> 368.82192 | C9: =INDEX('3_総務省の表'!$AM$9:$AM$152,MATCH($A9&"|計|正規",'3_総務省の表'!$A$9:$A$152,0)) -> 447.04967 | D9: =INDEX('3_総務省の表'!$AM$9:$AM$152,MATCH($A9&"|計|非正規",'3_総務省の表'!$A$9:$A$152,0)) -> 138.59771 | E9: =INDEX('3_総務省の表'!$AM$9:$AM$152,MATCH($A9&"|男|正規と非正規の計",'3_総務省の表'!$A$9:$A$152,0)) -> 476.32069 | F9: =INDEX('3_総務省の表'!$AM$9:$AM$152,MATCH($A9&"|男|正規",'3_総務省の表'!$A$9:$A$152,0)) -> 498.16221 | G9: =INDEX('3_総務省の表'!$AM$9:$AM$152,MATCH($A9&"|男|非正規",'3_総務省の表'!$A$9:$A$152,0)) -> 209.41558 | H9: =INDEX('3_総務省の表'!$AM$9:$AM$152,MATCH($A9&"|女|正規と非正規の計",'3_総務省の表'!$A$9:$A$152,0)) -> 238.11498 | I9: =INDEX('3_総務省の表'!$AM$9:$AM$152,MATCH($A9&"|女|正規",'3_総務省の表'!$A$9:$A$152,0)) -> 350.93549 | J9: =INDEX('3_総務省の表'!$AM$9:$AM$152,MATCH($A9&"|女|非正規",'3_総務省の表'!$A$9:$A$152,0)) -> 127.62457
A10: 40〜44歳 | B10: =INDEX('3_総務省の表'!$AM$9:$AM$152,MATCH($A10&"|計|正規と非正規の計",'3_総務省の表'!$A$9:$A$152,0)) -> 378.19027 | C10: =INDEX('3_総務省の表'!$AM$9:$AM$152,MATCH($A10&"|計|正規",'3_総務省の表'!$A$9:$A$152,0)) -> 477.06361 | D10: =INDEX('3_総務省の表'!$AM$9:$AM$152,MATCH($A10&"|計|非正規",'3_総務省の表'!$A$9:$A$152,0)) -> 130.19473 | E10: =INDEX('3_総務省の表'!$AM$9:$AM$152,MATCH($A10&"|男|正規と非正規の計",'3_総務省の表'!$A$9:$A$152,0)) -> 506.45864 | F10: =INDEX('3_総務省の表'!$AM$9:$AM$152,MATCH($A10&"|男|正規",'3_総務省の表'!$A$9:$A$152,0)) -> 535.18751 | G10: =INDEX('3_総務省の表'!$AM$9:$AM$152,MATCH($A10&"|男|非正規",'3_総務省の表'!$A$9:$A$152,0)) -> 216.69477 | H10: =INDEX('3_総務省の表'!$AM$9:$AM$152,MATCH($A10&"|女|正規と非正規の計",'3_総務省の表'!$A$9:$A$152,0)) -> 225.61658 | I10: =INDEX('3_総務省の表'!$AM$9:$AM$152,MATCH($A10&"|女|正規",'3_総務省の表'!$A$9:$A$152,0)) -> 368.92294 | J10: =INDEX('3_総務省の表'!$AM$9:$AM$152,MATCH($A10&"|女|非正規",'3_総務省の表'!$A$9:$A$152,0)) -> 120.29426
A11: 45〜49歳 | B11: =INDEX('3_総務省の表'!$AM$9:$AM$152,MATCH($A11&"|計|正規と非正規の計",'3_総務省の表'!$A$9:$A$152,0)) -> 384.22107 | C11: =INDEX('3_総務省の表'!$AM$9:$AM$152,MATCH($A11&"|計|正規",'3_総務省の表'!$A$9:$A$152,0)) -> 503.25874 | D11: =INDEX('3_総務省の表'!$AM$9:$AM$152,MATCH($A11&"|計|非正規",'3_総務省の表'!$A$9:$A$152,0)) -> 131.90022 | E11: =INDEX('3_総務省の表'!$AM$9:$AM$152,MATCH($A11&"|男|正規と非正規の計",'3_総務省の表'!$A$9:$A$152,0)) -> 540.64426 | F11: =INDEX('3_総務省の表'!$AM$9:$AM$152,MATCH($A11&"|男|正規",'3_総務省の表'!$A$9:$A$152,0)) -> 567.38555 | G11: =INDEX('3_総務省の表'!$AM$9:$AM$152,MATCH($A11&"|男|非正規",'3_総務省の表'!$A$9:$A$152,0)) -> 218.27257 | H11: =INDEX('3_総務省の表'!$AM$9:$AM$152,MATCH($A11&"|女|正規と非正規の計",'3_総務省の表'!$A$9:$A$152,0)) -> 219.22385 | I11: =INDEX('3_総務省の表'!$AM$9:$AM$152,MATCH($A11&"|女|正規",'3_総務省の表'!$A$9:$A$152,0)) -> 382.50888 | J11: =INDEX('3_総務省の表'!$AM$9:$AM$152,MATCH($A11&"|女|非正規",'3_総務省の表'!$A$9:$A$152,0)) -> 124.49945
A12: 50〜54歳 | B12: =INDEX('3_総務省の表'!$AM$9:$AM$152,MATCH($A12&"|計|正規と非正規の計",'3_総務省の表'!$A$9:$A$152,0)) -> 381.6272 | C12: =INDEX('3_総務省の表'!$AM$9:$AM$152,MATCH($A12&"|計|正規",'3_総務省の表'!$A$9:$A$152,0)) -> 532.25885 | D12: =INDEX('3_総務省の表'!$AM$9:$AM$152,MATCH($A12&"|計|非正規",'3_総務省の表'!$A$9:$A$152,0)) -> 133.59481 | E12: =INDEX('3_総務省の表'!$AM$9:$AM$152,MATCH($A12&"|男|正規と非正規の計",'3_総務省の表'!$A$9:$A$152,0)) -> 568.51249 | F12: =INDEX('3_総務省の表'!$AM$9:$AM$152,MATCH($A12&"|男|正規",'3_総務省の表'!$A$9:$A$152,0)) -> 600.79661 | G12: =INDEX('3_総務省の表'!$AM$9:$AM$152,MATCH($A12&"|男|非正規",'3_総務省の表'!$A$9:$A$152,0)) -> 225.26003 | H12: =INDEX('3_総務省の表'!$AM$9:$AM$152,MATCH($A12&"|女|正規と非正規の計",'3_総務省の表'!$A$9:$A$152,0)) -> 208.89998 | I12: =INDEX('3_総務省の表'!$AM$9:$AM$152,MATCH($A12&"|女|正規",'3_総務省の表'!$A$9:$A$152,0)) -> 387.38754 | J12: =INDEX('3_総務省の表'!$AM$9:$AM$152,MATCH($A12&"|女|非正規",'3_総務省の表'!$A$9:$A$152,0)) -> 125.92322
A13: 55〜59歳 | B13: =INDEX('3_総務省の表'!$AM$9:$AM$152,MATCH($A13&"|計|正規と非正規の計",'3_総務省の表'!$A$9:$A$152,0)) -> 377.23797 | C13: =INDEX('3_総務省の表'!$AM$9:$AM$152,MATCH($A13&"|計|正規",'3_総務省の表'!$A$9:$A$152,0)) -> 553.66644 | D13: =INDEX('3_総務省の表'!$AM$9:$AM$152,MATCH($A13&"|計|非正規",'3_総務省の表'!$A$9:$A$152,0)) -> 136.28737 | E13: =INDEX('3_総務省の表'!$AM$9:$AM$152,MATCH($A13&"|男|正規と非正規の計",'3_総務省の表'!$A$9:$A$152,0)) -> 586.31922 | F13: =INDEX('3_総務省の表'!$AM$9:$AM$152,MATCH($A13&"|男|正規",'3_総務省の表'!$A$9:$A$152,0)) -> 630.45247 | G13: =INDEX('3_総務省の表'!$AM$9:$AM$152,MATCH($A13&"|男|非正規",'3_総務省の表'!$A$9:$A$152,0)) -> 222.5295 | H13: =INDEX('3_総務省の表'!$AM$9:$AM$152,MATCH($A13&"|女|正規と非正規の計",'3_総務省の表'!$A$9:$A$152,0)) -> 205.26042 | I13: =INDEX('3_総務省の表'!$AM$9:$AM$152,MATCH($A13&"|女|正規",'3_総務省の表'!$A$9:$A$152,0)) -> 392.49556 | J13: =INDEX('3_総務省の表'!$AM$9:$AM$152,MATCH($A13&"|女|非正規",'3_総務省の表'!$A$9:$A$152,0)) -> 126.67506
A14: 60〜64歳 | B14: =INDEX('3_総務省の表'!$AM$9:$AM$152,MATCH($A14&"|計|正規と非正規の計",'3_総務省の表'!$A$9:$A$152,0)) -> 251.44219 | C14: =INDEX('3_総務省の表'!$AM$9:$AM$152,MATCH($A14&"|計|正規",'3_総務省の表'!$A$9:$A$152,0)) -> 378.28418 | D14: =INDEX('3_総務省の表'!$AM$9:$AM$152,MATCH($A14&"|計|非正規",'3_総務省の表'!$A$9:$A$152,0)) -> 177.53165 | E14: =INDEX('3_総務省の表'!$AM$9:$AM$152,MATCH($A14&"|男|正規と非正規の計",'3_総務省の表'!$A$9:$A$152,0)) -> 348.3761 | F14: =INDEX('3_総務省の表'!$AM$9:$AM$152,MATCH($A14&"|男|正規",'3_総務省の表'!$A$9:$A$152,0)) -> 410.64026 | G14: =INDEX('3_総務省の表'!$AM$9:$AM$152,MATCH($A14&"|男|非正規",'3_総務省の表'!$A$9:$A$152,0)) -> 272.98444 | H14: =INDEX('3_総務省の表'!$AM$9:$AM$152,MATCH($A14&"|女|正規と非正規の計",'3_総務省の表'!$A$9:$A$152,0)) -> 152.76849 | I14: =INDEX('3_総務省の表'!$AM$9:$AM$152,MATCH($A14&"|女|正規",'3_総務省の表'!$A$9:$A$152,0)) -> 302.98185 | J14: =INDEX('3_総務省の表'!$AM$9:$AM$152,MATCH($A14&"|女|非正規",'3_総務省の表'!$A$9:$A$152,0)) -> 126.72609
A15: 65〜69歳 | B15: =INDEX('3_総務省の表'!$AM$9:$AM$152,MATCH($A15&"|計|正規と非正規の計",'3_総務省の表'!$A$9:$A$152,0)) -> 155.28071 | C15: =INDEX('3_総務省の表'!$AM$9:$AM$152,MATCH($A15&"|計|正規",'3_総務省の表'!$A$9:$A$152,0)) -> 288.30189 | D15: =INDEX('3_総務省の表'!$AM$9:$AM$152,MATCH($A15&"|計|非正規",'3_総務省の表'!$A$9:$A$152,0)) -> 130.35605 | E15: =INDEX('3_総務省の表'!$AM$9:$AM$152,MATCH($A15&"|男|正規と非正規の計",'3_総務省の表'!$A$9:$A$152,0)) -> 213.08301 | F15: =INDEX('3_総務省の表'!$AM$9:$AM$152,MATCH($A15&"|男|正規",'3_総務省の表'!$A$9:$A$152,0)) -> 314.21923 | G15: =INDEX('3_総務省の表'!$AM$9:$AM$152,MATCH($A15&"|男|非正規",'3_総務省の表'!$A$9:$A$152,0)) -> 173.96431 | H15: =INDEX('3_総務省の表'!$AM$9:$AM$152,MATCH($A15&"|女|正規と非正規の計",'3_総務省の表'!$A$9:$A$152,0)) -> 114.33312 | I15: =INDEX('3_総務省の表'!$AM$9:$AM$152,MATCH($A15&"|女|正規",'3_総務省の表'!$A$9:$A$152,0)) -> 235.75499 | J15: =INDEX('3_総務省の表'!$AM$9:$AM$152,MATCH($A15&"|女|非正規",'3_総務省の表'!$A$9:$A$152,0)) -> 103.07571
A16: 20代 | B16: =INDEX('3_総務省の表'!$AM$9:$AM$152,MATCH($A16&"|計|正規と非正規の計",'3_総務省の表'!$A$9:$A$152,0)) -> 272.97691 | C16: =INDEX('3_総務省の表'!$AM$9:$AM$152,MATCH($A16&"|計|正規",'3_総務省の表'!$A$9:$A$152,0)) -> 322.86075 | D16: =INDEX('3_総務省の表'!$AM$9:$AM$152,MATCH($A16&"|計|非正規",'3_総務省の表'!$A$9:$A$152,0)) -> 106.31591 | E16: =INDEX('3_総務省の表'!$AM$9:$AM$152,MATCH($A16&"|男|正規と非正規の計",'3_総務省の表'!$A$9:$A$152,0)) -> 305.31881 | F16: =INDEX('3_総務省の表'!$AM$9:$AM$152,MATCH($A16&"|男|正規",'3_総務省の表'!$A$9:$A$152,0)) -> 349.23959 | G16: =INDEX('3_総務省の表'!$AM$9:$AM$152,MATCH($A16&"|男|非正規",'3_総務省の表'!$A$9:$A$152,0)) -> 97.19681 | H16: =INDEX('3_総務省の表'!$AM$9:$AM$152,MATCH($A16&"|女|正規と非正規の計",'3_総務省の表'!$A$9:$A$152,0)) -> 246.09157 | I16: =INDEX('3_総務省の表'!$AM$9:$AM$152,MATCH($A16&"|女|正規",'3_総務省の表'!$A$9:$A$152,0)) -> 292.19628 | J16: =INDEX('3_総務省の表'!$AM$9:$AM$152,MATCH($A16&"|女|非正規",'3_総務省の表'!$A$9:$A$152,0)) -> 114.71073
A17: 30代 | B17: =INDEX('3_総務省の表'!$AM$9:$AM$152,MATCH($A17&"|計|正規と非正規の計",'3_総務省の表'!$A$9:$A$152,0)) -> 362.66923 | C17: =INDEX('3_総務省の表'!$AM$9:$AM$152,MATCH($A17&"|計|正規",'3_総務省の表'!$A$9:$A$152,0)) -> 428.08487 | D17: =INDEX('3_総務省の表'!$AM$9:$AM$152,MATCH($A17&"|計|非正規",'3_総務省の表'!$A$9:$A$152,0)) -> 143.80911 | E17: =INDEX('3_総務省の表'!$AM$9:$AM$152,MATCH($A17&"|男|正規と非正規の計",'3_総務省の表'!$A$9:$A$152,0)) -> 453.02757 | F17: =INDEX('3_総務省の表'!$AM$9:$AM$152,MATCH($A17&"|男|正規",'3_総務省の表'!$A$9:$A$152,0)) -> 475.27247 | G17: =INDEX('3_総務省の表'!$AM$9:$AM$152,MATCH($A17&"|男|非正規",'3_総務省の表'!$A$9:$A$152,0)) -> 202.39407 | H17: =INDEX('3_総務省の表'!$AM$9:$AM$152,MATCH($A17&"|女|正規と非正規の計",'3_総務省の表'!$A$9:$A$152,0)) -> 251.34779 | I17: =INDEX('3_総務省の表'!$AM$9:$AM$152,MATCH($A17&"|女|正規",'3_総務省の表'!$A$9:$A$152,0)) -> 348.37654 | J17: =INDEX('3_総務省の表'!$AM$9:$AM$152,MATCH($A17&"|女|非正規",'3_総務省の表'!$A$9:$A$152,0)) -> 132.24039
... A21: 全年齢 | B21: =INDEX('3_総務省の表'!$AM$9:$AM$152,MATCH($A21&"|計|正規と非正規の計",'3_総務省の表'!$A$9:$A$152,0)) -> 304.88122 | C21: =INDEX('3_総務省の表'!$AM$9:$AM$152,MATCH($A21&"|計|正規",'3_総務省の表'!$A$9:$A$152,0)) -> 424.27248 | D21: =INDEX('3_総務省の表'!$AM$9:$AM$152,MATCH($A21&"|計|非正規",'3_総務省の表'!$A$9:$A$152,0)) -> 128.08624 | E21: =INDEX('3_総務省の表'!$AM$9:$AM$152,MATCH($A21&"|男|正規と非正規の計",'3_総務省の表'!$A$9:$A$152,0)) -> 416.90152 | F21: =INDEX('3_総務省の表'!$AM$9:$AM$152,MATCH($A21&"|男|正規",'3_総務省の表'!$A$9:$A$152,0)) -> 482.20116 | G21: =INDEX('3_総務省の表'!$AM$9:$AM$152,MATCH($A21&"|男|非正規",'3_総務省の表'!$A$9:$A$152,0)) -> 170.05925 | H21: =INDEX('3_総務省の表'!$AM$9:$AM$152,MATCH($A21&"|女|正規と非正規の計",'3_総務省の表'!$A$9:$A$152,0)) -> 211.24517 | I21: =INDEX('3_総務省の表'!$AM$9:$AM$152,MATCH($A21&"|女|正規",'3_総務省の表'!$A$9:$A$152,0)) -> 337.21999 | J21: =INDEX('3_総務省の表'!$AM$9:$AM$152,MATCH($A21&"|女|非正規",'3_総務省の表'!$A$9:$A$152,0)) -> 117.77772

Sheet 3_総務省の表
A1: 総務省「令和4年就業構造基本調査」第40表の人数。所得は本業の年間の税込み額（雇用者は過去1年間の給与総額）
A2: 出典: e-Stat 令和4年就業構造基本調査 全国結果 第40表 https://www.e-stat.go.jp/stat-search/file-download?statInfId=000040077301&fileKind=0（2026年10月19日に取得）。配偶関係=総数、教育=総数の列。人数は100人単位で丸めてある
A3: 10歳刻みと「正規と非正規の計」は5歳刻みの行を足した。灰色の列は計算。中央値は階級の中に人が均等に並ぶと置いて直線で補った
A5: キー | B5: 年齢 | C5: 男女 | D5: 雇用形態 | E5: 50万円未満 | F5: 50〜99万円 | G5: 100〜149万円 | H5: 150〜199万円 | I5: 200〜249万円 | J5: 250〜299万円 | K5: 300〜399万円 | L5: 400〜499万円 | M5: 500〜599万円 | N5: 600〜699万円 | O5: 700〜799万円 | P5: 800〜899万円 | Q5: 900〜999万円 | R5: 1,000〜1,249万円 | S5: 1,250〜1,499万円 | T5: 1,500万円以上 | U5: 人数の計 | V5: 〜50万円の累積 | W5: 〜100万円の累積 | X5: 〜150万円の累積 | Y5: 〜200万円の累積 | Z5: 〜250万円の累積 | AA5: 〜300万円の累積 | AB5: 〜400万円の累積 | AC5: 〜500万円の累積 | AD5: 〜600万円の累積 | AE5: 〜700万円の累積 | AF5: 〜800万円の累積 | AG5: 〜900万円の累積 | AH5: 〜1000万円の累積 | AI5: 〜1250万円の累積 | AJ5: 〜1500万円の累積 | AK5: 累積（計） | AL5: 下から25% | AM5: 中央値 | AN5: 上から25%
D6: 階級の下限（万円） | E6: 0 | F6: 50 | G6: 100 | H6: 150 | I6: 200 | J6: 250 | K6: 300 | L6: 400 | M6: 500 | N6: 600 | O6: 700 | P6: 800 | Q6: 900 | R6: 1000 | S6: 1250 | T6: 1500
D7: 階級の幅（万円） | E7: 50 | F7: 50 | G7: 50 | H7: 50 | I7: 50 | J7: 50 | K7: 100 | L7: 100 | M7: 100 | N7: 100 | O7: 100 | P7: 100 | Q7: 100 | R7: 250 | S7: 250
A9: =B9&"|"&C9&"|"&D9 -> 20〜24歳|計|正規と非正規の計 | B9: 20〜24歳 | C9: 計 | D9: 正規と非正規の計 | E9: 380200 | F9: 720400 | G9: 272800 | H9: 337400 | I9: 791000 | J9: 661800 | K9: 734900 | L9: 187200 | M9: 42900 | N9: 6900 | O9: 4700 | P9: 300 | Q9: 0 | R9: 400 | S9: 200 | T9: 100 | U9: =SUM(E9:T9) -> 4141200 | V9: =SUM($E9:E9)/$U9 -> 0.091809137 | W9: =SUM($E9:F9)/$U9 -> 0.26576838 | X9: =SUM($E9:G9)/$U9 -> 0.331643 | Y9: =SUM($E9:H9)/$U9 -> 0.41311697 | Z9: =SUM($E9:I9)/$U9 -> 0.60412441 | AA9: =SUM($E9:J9)/$U9 -> 0.76393316 | AB9: =SUM($E9:K9)/$U9 -> 0.9413938 | AC9: =SUM($E9:L9)/$U9 -> 0.98659809 | ... AK9: =SUM($E9:T9)/$U9 -> 1 | AL9: =INDEX($E$6:$T$6,(COUNTIF($V9:$AK9,"<"&0.25)+1))+(0.25-IF((COUNTIF($V9:$AK9,"<"&0.25)+1)=1,0,INDEX($V9:$AK9,(COUNTIF($V9:$AK9,"<"&0.25)+1)-1)))/(INDEX($E9:$T9,(COUNTIF($V9:$AK9,"<"&0.25)+1))/$U9)*INDEX($E$7:$T$7,(COUNTIF($V9:$AK9,"<"&0.25)+1)) -> 95.467796 | AM9: =INDEX($E$6:$T$6,(COUNTIF($V9:$AK9,"<"&0.5)+1))+(0.5-IF((COUNTIF($V9:$AK9,"<"&0.5)+1)=1,0,INDEX($V9:$AK9,(COUNTIF($V9:$AK9,"<"&0.5)+1)-1)))/(INDEX($E9:$T9,(COUNTIF($V9:$AK9,"<"&0.5)+1))/$U9)*INDEX($E$7:$T$7,(COUNTIF($V9:$AK9,"<"&0.5)+1)) -> 222.74336 | AN9: =INDEX($E$6:$T$6,(COUNTIF($V9:$AK9,"<"&0.75)+1))+(0.75-IF((COUNTIF($V9:$AK9,"<"&0.75)+1)=1,0,INDEX($V9:$AK9,(COUNTIF($V9:$AK9,"<"&0.75)+1)-1)))/(INDEX($E9:$T9,(COUNTIF($V9:$AK9,"<"&0.75)+1))/$U9)*INDEX($E$7:$T$7,(COUNTIF($V9:$AK9,"<"&0.75)+1)) -> 295.64068
A10: =B10&"|"&C10&"|"&D10 -> 20〜24歳|計|正規 | B10: 20〜24歳 | C10: 計 | D10: 正規 | E10: 12600 | F10: 9000 | G10: 53800 | H10: 205600 | I10: 645800 | J10: 612200 | K10: 698800 | L10: 183400 | M10: 42000 | N10: 5800 | O10: 4700 | P10: 300 | Q10: 0 | R10: 400 | S10: 200 | T10: 100 | U10: =SUM(E10:T10) -> 2474700 | V10: =SUM($E10:E10)/$U10 -> 0.0050915262 | W10: =SUM($E10:F10)/$U10 -> 0.0087283307 | X10: =SUM($E10:G10)/$U10 -> 0.03046834 | Y10: =SUM($E10:H10)/$U10 -> 0.11354912 | Z10: =SUM($E10:I10)/$U10 -> 0.37451004 | AA10: =SUM($E10:J10)/$U10 -> 0.62189356 | AB10: =SUM($E10:K10)/$U10 -> 0.90427122 | AC10: =SUM($E10:L10)/$U10 -> 0.97838122 | ... AK10: =SUM($E10:T10)/$U10 -> 1 | AL10: =INDEX($E$6:$T$6,(COUNTIF($V10:$AK10,"<"&0.25)+1))+(0.25-IF((COUNTIF($V10:$AK10,"<"&0.25)+1)=1,0,INDEX($V10:$AK10,(COUNTIF($V10:$AK10,"<"&0.25)+1)-1)))/(INDEX($E10:$T10,(COUNTIF($V10:$AK10,"<"&0.25)+1))/$U10)*INDEX($E$7:$T$7,(COUNTIF($V10:$AK10,"<"&0.25)+1)) -> 226.14393 | AM10: =INDEX($E$6:$T$6,(COUNTIF($V10:$AK10,"<"&0.5)+1))+(0.5-IF((COUNTIF($V10:$AK10,"<"&0.5)+1)=1,0,INDEX($V10:$AK10,(COUNTIF($V10:$AK10,"<"&0.5)+1)-1)))/(INDEX($E10:$T10,(COUNTIF($V10:$AK10,"<"&0.5)+1))/$U10)*INDEX($E$7:$T$7,(COUNTIF($V10:$AK10,"<"&0.5)+1)) -> 275.36344 | AN10: =INDEX($E$6:$T$6,(COUNTIF($V10:$AK10,"<"&0.75)+1))+(0.75-IF((COUNTIF($V10:$AK10,"<"&0.75)+1)=1,0,INDEX($V10:$AK10,(COUNTIF($V10:$AK10,"<"&0.75)+1)-1)))/(INDEX($E10:$T10,(COUNTIF($V10:$AK10,"<"&0.75)+1))/$U10)*INDEX($E$7:$T$7,(COUNTIF($V10:$AK10,"<"&0.75)+1)) -> 345.36706
A11: =B11&"|"&C11&"|"&D11 -> 20〜24歳|計|非正規 | B11: 20〜24歳 | C11: 計 | D11: 非正規 | E11: 367600 | F11: 711400 | G11: 219000 | H11: 131800 | I11: 145200 | J11: 49600 | K11: 36100 | L11: 3800 | M11: 900 | N11: 1100 | O11: 0 | P11: 0 | Q11: 0 | R11: 0 | S11: 0 | T11: 0 | U11: =SUM(E11:T11) -> 1666500 | V11: =SUM($E11:E11)/$U11 -> 0.22058206 | W11: =SUM($E11:F11)/$U11 -> 0.64746475 | X11: =SUM($E11:G11)/$U11 -> 0.77887789 | Y11: =SUM($E11:H11)/$U11 -> 0.8579658 | Z11: =SUM($E11:I11)/$U11 -> 0.94509451 | AA11: =SUM($E11:J11)/$U11 -> 0.97485749 | AB11: =SUM($E11:K11)/$U11 -> 0.99651965 | AC11: =SUM($E11:L11)/$U11 -> 0.99879988 | ... AK11: =SUM($E11:T11)/$U11 -> 1 | AL11: =INDEX($E$6:$T$6,(COUNTIF($V11:$AK11,"<"&0.25)+1))+(0.25-IF((COUNTIF($V11:$AK11,"<"&0.25)+1)=1,0,INDEX($V11:$AK11,(COUNTIF($V11:$AK11,"<"&0.25)+1)-1)))/(INDEX($E11:$T11,(COUNTIF($V11:$AK11,"<"&0.25)+1))/$U11)*INDEX($E$7:$T$7,(COUNTIF($V11:$AK11,"<"&0.25)+1)) -> 53.445671 | AM11: =INDEX($E$6:$T$6,(COUNTIF($V11:$AK11,"<"&0.5)+1))+(0.5-IF((COUNTIF($V11:$AK11,"<"&0.5)+1)=1,0,INDEX($V11:$AK11,(COUNTIF($V11:$AK11,"<"&0.5)+1)-1)))/(INDEX($E11:$T11,(COUNTIF($V11:$AK11,"<"&0.5)+1))/$U11)*INDEX($E$7:$T$7,(COUNTIF($V11:$AK11,"<"&0.5)+1)) -> 82.72772 | AN11: =INDEX($E$6:$T$6,(COUNTIF($V11:$AK11,"<"&0.75)+1))+(0.75-IF((COUNTIF($V11:$AK11,"<"&0.75)+1)=1,0,INDEX($V11:$AK11,(COUNTIF($V11:$AK11,"<"&0.75)+1)-1)))/(INDEX($E11:$T11,(COUNTIF($V11:$AK11,"<"&0.75)+1))/$U11)*INDEX($E$7:$T$7,(COUNTIF($V11:$AK11,"<"&0.75)+1)) -> 139.01256
A12: =B12&"|"&C12&"|"&D12 -> 20〜24歳|男|正規と非正規の計 | B12: 20〜24歳 | C12: 男 | D12: 正規と非正規の計 | E12: 189500 | F12: 375300 | G12: 115600 | H12: 127900 | I12: 325800 | J12: 313900 | K12: 427200 | L12: 129800 | M12: 33100 | N12: 5700 | O12: 2500 | P12: 200 | Q12: 0 | R12: 400 | S12: 200 | T12: 100 | U12: =SUM(E12:T12) -> 2047200 | V12: =SUM($E12:E12)/$U12 -> 0.092565455 | W12: =SUM($E12:F12)/$U12 -> 0.27588902 | X12: =SUM($E12:G12)/$U12 -> 0.33235639 | Y12: =SUM($E12:H12)/$U12 -> 0.39483197 | Z12: =SUM($E12:I12)/$U12 -> 0.55397616 | AA12: =SUM($E12:J12)/$U12 -> 0.70730754 | AB12: =SUM($E12:K12)/$U12 -> 0.91598281 | AC12: =SUM($E12:L12)/$U12 -> 0.97938648 | ... AK12: =SUM($E12:T12)/$U12 -> 1 | AL12: =INDEX($E$6:$T$6,(COUNTIF($V12:$AK12,"<"&0.25)+1))+(0.25-IF((COUNTIF($V12:$AK12,"<"&0.25)+1)=1,0,INDEX($V12:$AK12,(COUNTIF($V12:$AK12,"<"&0.25)+1)-1)))/(INDEX($E12:$T12,(COUNTIF($V12:$AK12,"<"&0.25)+1))/$U12)*INDEX($E$7:$T$7,(COUNTIF($V12:$AK12,"<"&0.25)+1)) -> 92.938982 | AM12: =INDEX($E$6:$T$6,(COUNTIF($V12:$AK12,"<"&0.5)+1))+(0.5-IF((COUNTIF($V12:$AK12,"<"&0.5)+1)=1,0,INDEX($V12:$AK12,(COUNTIF($V12:$AK12,"<"&0.5)+1)-1)))/(INDEX($E12:$T12,(COUNTIF($V12:$AK12,"<"&0.5)+1))/$U12)*INDEX($E$7:$T$7,(COUNTIF($V12:$AK12,"<"&0.5)+1)) -> 233.04174 | AN12: =INDEX($E$6:$T$6,(COUNTIF($V12:$AK12,"<"&0.75)+1))+(0.75-IF((COUNTIF($V12:$AK12,"<"&0.75)+1)=1,0,INDEX($V12:$AK12,(COUNTIF($V12:$AK12,"<"&0.75)+1)-1)))/(INDEX($E12:$T12,(COUNTIF($V12:$AK12,"<"&0.75)+1))/$U12)*INDEX($E$7:$T$7,(COUNTIF($V12:$AK12,"<"&0.75)+1)) -> 320.4588
A13: =B13&"|"&C13&"|"&D13 -> 20〜24歳|男|正規 | B13: 20〜24歳 | C13: 男 | D13: 正規 | E13: 6500 | F13: 3600 | G13: 20100 | H13: 75500 | I13: 262600 | J13: 292900 | K13: 405300 | L13: 127600 | M13: 32200 | N13: 4700 | O13: 2500 | P13: 200 | Q13: 0 | R13: 400 | S13: 200 | T13: 100 | U13: =SUM(E13:T13) -> 1234400 | V13: =SUM($E13:E13)/$U13 -> 0.0052657161 | W13: =SUM($E13:F13)/$U13 -> 0.0081821128 | X13: =SUM($E13:G13)/$U13 -> 0.024465327 | Y13: =SUM($E13:H13)/$U13 -> 0.085628645 | Z13: =SUM($E13:I13)/$U13 -> 0.29836358 | AA13: =SUM($E13:J13)/$U13 -> 0.53564485 | AB13: =SUM($E13:K13)/$U13 -> 0.8639825 | AC13: =SUM($E13:L13)/$U13 -> 0.96735256 | ... AK13: =SUM($E13:T13)/$U13 -> 1 | AL13: =INDEX($E$6:$T$6,(COUNTIF($V13:$AK13,"<"&0.25)+1))+(0.25-IF((COUNTIF($V13:$AK13,"<"&0.25)+1)=1,0,INDEX($V13:$AK13,(COUNTIF($V13:$AK13,"<"&0.25)+1)-1)))/(INDEX($E13:$T13,(COUNTIF($V13:$AK13,"<"&0.25)+1))/$U13)*INDEX($E$7:$T$7,(COUNTIF($V13:$AK13,"<"&0.25)+1)) -> 238.6329 | AM13: =INDEX($E$6:$T$6,(COUNTIF($V13:$AK13,"<"&0.5)+1))+(0.5-IF((COUNTIF($V13:$AK13,"<"&0.5)+1)=1,0,INDEX($V13:$AK13,(COUNTIF($V13:$AK13,"<"&0.5)+1)-1)))/(INDEX($E13:$T13,(COUNTIF($V13:$AK13,"<"&0.5)+1))/$U13)*INDEX($E$7:$T$7,(COUNTIF($V13:$AK13,"<"&0.5)+1)) -> 292.4889 | AN13: =INDEX($E$6:$T$6,(COUNTIF($V13:$AK13,"<"&0.75)+1))+(0.75-IF((COUNTIF($V13:$AK13,"<"&0.75)+1)=1,0,INDEX($V13:$AK13,(COUNTIF($V13:$AK13,"<"&0.75)+1)-1)))/(INDEX($E13:$T13,(COUNTIF($V13:$AK13,"<"&0.75)+1))/$U13)*INDEX($E$7:$T$7,(COUNTIF($V13:$AK13,"<"&0.75)+1)) -> 365.28497
A14: =B14&"|"&C14&"|"&D14 -> 20〜24歳|男|非正規 | B14: 20〜24歳 | C14: 男 | D14: 非正規 | E14: 183000 | F14: 371700 | G14: 95500 | H14: 52400 | I14: 63200 | J14: 21000 | K14: 21900 | L14: 2200 | M14: 900 | N14: 1000 | O14: 0 | P14: 0 | Q14: 0 | R14: 0 | S14: 0 | T14: 0 | U14: =SUM(E14:T14) -> 812800 | V14: =SUM($E14:E14)/$U14 -> 0.22514764 | W14: =SUM($E14:F14)/$U14 -> 0.68245571 | X14: =SUM($E14:G14)/$U14 -> 0.79995079 | Y14: =SUM($E14:H14)/$U14 -> 0.86441929 | Z14: =SUM($E14:I14)/$U14 -> 0.9421752 | AA14: =SUM($E14:J14)/$U14 -> 0.96801181 | AB14: =SUM($E14:K14)/$U14 -> 0.99495571 | AC14: =SUM($E14:L14)/$U14 -> 0.9976624 | ... AK14: =SUM($E14:T14)/$U14 -> 1 | AL14: =INDEX($E$6:$T$6,(COUNTIF($V14:$AK14,"<"&0.25)+1))+(0.25-IF((COUNTIF($V14:$AK14,"<"&0.25)+1)=1,0,INDEX($V14:$AK14,(COUNTIF($V14:$AK14,"<"&0.25)+1)-1)))/(INDEX($E14:$T14,(COUNTIF($V14:$AK14,"<"&0.25)+1))/$U14)*INDEX($E$7:$T$7,(COUNTIF($V14:$AK14,"<"&0.25)+1)) -> 52.717245 | AM14: =INDEX($E$6:$T$6,(COUNTIF($V14:$AK14,"<"&0.5)+1))+(0.5-IF((COUNTIF($V14:$AK14,"<"&0.5)+1)=1,0,INDEX($V14:$AK14,(COUNTIF($V14:$AK14,"<"&0.5)+1)-1)))/(INDEX($E14:$T14,(COUNTIF($V14:$AK14,"<"&0.5)+1))/$U14)*INDEX($E$7:$T$7,(COUNTIF($V14:$AK14,"<"&0.5)+1)) -> 80.051116 | AN14: =INDEX($E$6:$T$6,(COUNTIF($V14:$AK14,"<"&0.75)+1))+(0.75-IF((COUNTIF($V14:$AK14,"<"&0.75)+1)=1,0,INDEX($V14:$AK14,(COUNTIF($V14:$AK14,"<"&0.75)+1)-1)))/(INDEX($E14:$T14,(COUNTIF($V14:$AK14,"<"&0.75)+1))/$U14)*INDEX($E$7:$T$7,(COUNTIF($V14:$AK14,"<"&0.75)+1)) -> 128.74346
A15: =B15&"|"&C15&"|"&D15 -> 20〜24歳|女|正規と非正規の計 | B15: 20〜24歳 | C15: 女 | D15: 正規と非正規の計 | E15: 190600 | F15: 345000 | G15: 157200 | H15: 209400 | I15: 465200 | J15: 348000 | K15: 307700 | L15: 57500 | M15: 9800 | N15: 1300 | O15: 2200 | P15: 100 | Q15: 0 | R15: 0 | S15: 0 | T15: 0 | U15: =SUM(E15:T15) -> 2094000 | V15: =SUM($E15:E15)/$U15 -> 0.091021968 | W15: =SUM($E15:F15)/$U15 -> 0.25577841 | X15: =SUM($E15:G15)/$U15 -> 0.33085005 | Y15: =SUM($E15:H15)/$U15 -> 0.43085005 | Z15: =SUM($E15:I15)/$U15 -> 0.6530086 | AA15: =SUM($E15:J15)/$U15 -> 0.81919771 | AB15: =SUM($E15:K15)/$U15 -> 0.96614136 | AC15: =SUM($E15:L15)/$U15 -> 0.99360076 | ... AK15: =SUM($E15:T15)/$U15 -> 1 | AL15: =INDEX($E$6:$T$6,(COUNTIF($V15:$AK15,"<"&0.25)+1))+(0.25-IF((COUNTIF($V15:$AK15,"<"&0.25)+1)=1,0,INDEX($V15:$AK15,(COUNTIF($V15:$AK15,"<"&0.25)+1)-1)))/(INDEX($E15:$T15,(COUNTIF($V15:$AK15,"<"&0.25)+1))/$U15)*INDEX($E$7:$T$7,(COUNTIF($V15:$AK15,"<"&0.25)+1)) -> 98.246377 | AM15: =INDEX($E$6:$T$6,(COUNTIF($V15:$AK15,"<"&0.5)+1))+(0.5-IF((COUNTIF($V15:$AK15,"<"&0.5)+1)=1,0,INDEX($V15:$AK15,(COUNTIF($V15:$AK15,"<"&0.5)+1)-1)))/(INDEX($E15:$T15,(COUNTIF($V15:$AK15,"<"&0.5)+1))/$U15)*INDEX($E$7:$T$7,(COUNTIF($V15:$AK15,"<"&0.5)+1)) -> 215.5632 | AN15: =INDEX($E$6:$T$6,(COUNTIF($V15:$AK15,"<"&0.75)+1))+(0.75-IF((COUNTIF($V15:$AK15,"<"&0.75)+1)=1,0,INDEX($V15:$AK15,(COUNTIF($V15:$AK15,"<"&0.75)+1)-1)))/(INDEX($E15:$T15,(COUNTIF($V15:$AK15,"<"&0.75)+1))/$U15)*INDEX($E$7:$T$7,(COUNTIF($V15:$AK15,"<"&0.75)+1)) -> 279.18103
A16: =B16&"|"&C16&"|"&D16 -> 20〜24歳|女|正規 | B16: 20〜24歳 | C16: 女 | D16: 正規 | E16: 6100 | F16: 5400 | G16: 33700 | H16: 130100 | I16: 383200 | J16: 319300 | K16: 293500 | L16: 55800 | M16: 9800 | N16: 1200 | O16: 2200 | P16: 100 | Q16: 0 | R16: 0 | S16: 0 | T16: 0 | U16: =SUM(E16:T16) -> 1240400 | V16: =SUM($E16:E16)/$U16 -> 0.0049177685 | W16: =SUM($E16:F16)/$U16 -> 0.0092712028 | X16: =SUM($E16:G16)/$U16 -> 0.036439858 | Y16: =SUM($E16:H16)/$U16 -> 0.14132538 | Z16: =SUM($E16:I16)/$U16 -> 0.45025798 | AA16: =SUM($E16:J16)/$U16 -> 0.70767494 | AB16: =SUM($E16:K16)/$U16 -> 0.94429216 | AC16: =SUM($E16:L16)/$U16 -> 0.98927765 | ... AK16: =SUM($E16:T16)/$U16 -> 1 | AL16: =INDEX($E$6:$T$6,(COUNTIF($V16:$AK16,"<"&0.25)+1))+(0.25-IF((COUNTIF($V16:$AK16,"<"&0.25)+1)=1,0,INDEX($V16:$AK16,(COUNTIF($V16:$AK16,"<"&0.25)+1)-1)))/(INDEX($E16:$T16,(COUNTIF($V16:$AK16,"<"&0.25)+1))/$U16)*INDEX($E$7:$T$7,(COUNTIF($V16:$AK16,"<"&0.25)+1)) -> 217.58873 | AM16: =INDEX($E$6:$T$6,(COUNTIF($V16:$AK16,"<"&0.5)+1))+(0.5-IF((COUNTIF($V16:$AK16,"<"&0.5)+1)=1,0,INDEX($V16:$AK16,(COUNTIF($V16:$AK16,"<"&0.5)+1)-1)))/(INDEX($E16:$T16,(COUNTIF($V16:$AK16,"<"&0.5)+1))/$U16)*INDEX($E$7:$T$7,(COUNTIF($V16:$AK16,"<"&0.5)+1)) -> 259.66176 | AN16: =INDEX($E$6:$T$6,(COUNTIF($V16:$AK16,"<"&0.75)+1))+(0.75-IF((COUNTIF($V16:$AK16,"<"&0.75)+1)=1,0,INDEX($V16:$AK16,(COUNTIF($V16:$AK16,"<"&0.75)+1)-1)))/(INDEX($E16:$T16,(COUNTIF($V16:$AK16,"<"&0.75)+1))/$U16)*INDEX($E$7:$T$7,(COUNTIF($V16:$AK16,"<"&0.75)+1)) -> 317.88756
A17: =B17&"|"&C17&"|"&D17 -> 20〜24歳|女|非正規 | B17: 20〜24歳 | C17: 女 | D17: 非正規 | E17: 184500 | F17: 339600 | G17: 123500 | H17: 79300 | I17: 82000 | J17: 28700 | K17: 14200 | L17: 1700 | M17: 0 | N17: 100 | O17: 0 | P17: 0 | Q17: 0 | R17: 0 | S17: 0 | T17: 0 | U17: =SUM(E17:T17) -> 853600 | V17: =SUM($E17:E17)/$U17 -> 0.21614339 | W17: =SUM($E17:F17)/$U17 -> 0.61398782 | X17: =SUM($E17:G17)/$U17 -> 0.75866917 | Y17: =SUM($E17:H17)/$U17 -> 0.85156982 | Z17: =SUM($E17:I17)/$U17 -> 0.94763355 | AA17: =SUM($E17:J17)/$U17 -> 0.98125586 | AB17: =SUM($E17:K17)/$U17 -> 0.99789128 | AC17: =SUM($E17:L17)/$U17 -> 0.99988285 | ... AK17: =SUM($E17:T17)/$U17 -> 1 | AL17: =INDEX($E$6:$T$6,(COUNTIF($V17:$AK17,"<"&0.25)+1))+(0.25-IF((COUNTIF($V17:$AK17,"<"&0.25)+1)=1,0,INDEX($V17:$AK17,(COUNTIF($V17:$AK17,"<"&0.25)+1)-1)))/(INDEX($E17:$T17,(COUNTIF($V17:$AK17,"<"&0.25)+1))/$U17)*INDEX($E$7:$T$7,(COUNTIF($V17:$AK17,"<"&0.25)+1)) -> 54.255006 | AM17: =INDEX($E$6:$T$6,(COUNTIF($V17:$AK17,"<"&0.5)+1))+(0.5-IF((COUNTIF($V17:$AK17,"<"&0.5)+1)=1,0,INDEX($V17:$AK17,(COUNTIF($V17:$AK17,"<"&0.5)+1)-1)))/(INDEX($E17:$T17,(COUNTIF($V17:$AK17,"<"&0.5)+1))/$U17)*INDEX($E$7:$T$7,(COUNTIF($V17:$AK17,"<"&0.5)+1)) -> 85.674323 | AN17: =INDEX($E$6:$T$6,(COUNTIF($V17:$AK17,"<"&0.75)+1))+(0.75-IF((COUNTIF($V17:$AK17,"<"&0.75)+1)=1,0,INDEX($V17:$AK17,(COUNTIF($V17:$AK17,"<"&0.75)+1)-1)))/(INDEX($E17:$T17,(COUNTIF($V17:$AK17,"<"&0.75)+1))/$U17)*INDEX($E$7:$T$7,(COUNTIF($V17:$AK17,"<"&0.75)+1)) -> 147.00405
A18: =B18&"|"&C18&"|"&D18 -> 25〜29歳|計|正規と非正規の計 | B18: 25〜29歳 | C18: 計 | D18: 正規と非正規の計 | E18: 86600 | F18: 182700 | G18: 272800 | H18: 306000 | I18: 756900 | J18: 693800 | K18: 1491500 | L18: 972000 | M18: 354100 | N18: 122200 | O18: 41100 | P18: 17400 | Q18: 6900 | R18: 9400 | S18: 2700 | T18: 2200 | U18: =SUM(E18:T18) -> 5318300 | V18: =SUM($E18:E18)/$U18 -> 0.016283399 | W18: =SUM($E18:F18)/$U18 -> 0.050636482 | X18: =SUM($E18:G18)/$U18 -> 0.10193107 | Y18: =SUM($E18:H18)/$U18 -> 0.15946825 | Z18: =SUM($E18:I18)/$U18 -> 0.30178817 | AA18: =SUM($E18:J18)/$U18 -> 0.43224339 | AB18: =SUM($E18:K18)/$U18 -> 0.71269015 | AC18: =SUM($E18:L18)/$U18 -> 0.89545531 | ... AK18: =SUM($E18:T18)/$U18 -> 1 | AL18: =INDEX($E$6:$T$6,(COUNTIF($V18:$AK18,"<"&0.25)+1))+(0.25-IF((COUNTIF($V18:$AK18,"<"&0.25)+1)=1,0,INDEX($V18:$AK18,(COUNTIF($V18:$AK18,"<"&0.25)+1)-1)))/(INDEX($E18:$T18,(COUNTIF($V18:$AK18,"<"&0.25)+1))/$U18)*INDEX($E$7:$T$7,(COUNTIF($V18:$AK18,"<"&0.25)+1)) -> 231.80572 | AM18: =INDEX($E$6:$T$6,(COUNTIF($V18:$AK18,"<"&0.5)+1))+(0.5-IF((COUNTIF($V18:$AK18,"<"&0.5)+1)=1,0,INDEX($V18:$AK18,(COUNTIF($V18:$AK18,"<"&0.5)+1)-1)))/(INDEX($E18:$T18,(COUNTIF($V18:$AK18,"<"&0.5)+1))/$U18)*INDEX($E$7:$T$7,(COUNTIF($V18:$AK18,"<"&0.5)+1)) -> 324.16024 | AN18: =INDEX($E$6:$T$6,(COUNTIF($V18:$AK18,"<"&0.75)+1))+(0.75-IF((COUNTIF($V18:$AK18,"<"&0.75)+1)=1,0,INDEX($V18:$AK18,(COUNTIF($V18:$AK18,"<"&0.75)+1)-1)))/(INDEX($E18:$T18,(COUNTIF($V18:$AK18,"<"&0.75)+1))/$U18)*INDEX($E$7:$T$7,(COUNTIF($V18:$AK18,"<"&0.75)+1)) -> 420.41409
A19: =B19&"|"&C19&"|"&D19 -> 25〜29歳|計|正規 | B19: 25〜29歳 | C19: 計 | D19: 正規 | E19: 15400 | F19: 13400 | G19: 46100 | H19: 131200 | I19: 533600 | J19: 595700 | K19: 1398900 | L19: 952000 | M19: 349800 | N19: 120600 | O19: 40300 | P19: 16800 | Q19: 6600 | R19: 9200 | S19: 2700 | T19: 900 | U19: =SUM(E19:T19) -> 4233200 | V19: =SUM($E19:E19)/$U19 -> 0.0036379099 | W19: =SUM($E19:F19)/$U19 -> 0.0068033639 | X19: =SUM($E19:G19)/$U19 -> 0.017693471 | Y19: =SUM($E19:H19)/$U19 -> 0.048686573 | Z19: =SUM($E19:I19)/$U19 -> 0.17473779 | AA19: =SUM($E19:J19)/$U19 -> 0.31545875 | AB19: =SUM($E19:K19)/$U19 -> 0.64591798 | AC19: =SUM($E19:L19)/$U19 -> 0.87080695 | ... AK19: =SUM($E19:T19)/$U19 -> 1 | AL19: =INDEX($E$6:$T$6,(COUNTIF($V19:$AK19,"<"&0.25)+1))+(0.25-IF((COUNTIF($V19:$AK19,"<"&0.25)+1)=1,0,INDEX($V19:$AK19,(COUNTIF($V19:$AK19,"<"&0.25)+1)-1)))/(INDEX($E19:$T19,(COUNTIF($V19:$AK19,"<"&0.25)+1))/$U19)*INDEX($E$7:$T$7,(COUNTIF($V19:$AK19,"<"&0.25)+1)) -> 276.74165 | AM19: =INDEX($E$6:$T$6,(COUNTIF($V19:$AK19,"<"&0.5)+1))+(0.5-IF((COUNTIF($V19:$AK19,"<"&0.5)+1)=1,0,INDEX($V19:$AK19,(COUNTIF($V19:$AK19,"<"&0.5)+1)-1)))/(INDEX($E19:$T19,(COUNTIF($V19:$AK19,"<"&0.5)+1))/$U19)*INDEX($E$7:$T$7,(COUNTIF($V19:$AK19,"<"&0.5)+1)) -> 355.84388 | AN19: =INDEX($E$6:$T$6,(COUNTIF($V19:$AK19,"<"&0.75)+1))+(0.75-IF((COUNTIF($V19:$AK19,"<"&0.75)+1)=1,0,INDEX($V19:$AK19,(COUNTIF($V19:$AK19,"<"&0.75)+1)-1)))/(INDEX($E19:$T19,(COUNTIF($V19:$AK19,"<"&0.75)+1))/$U19)*INDEX($E$7:$T$7,(COUNTIF($V19:$AK19,"<"&0.75)+1)) -> 446.28151
A20: =B20&"|"&C20&"|"&D20 -> 25〜29歳|計|非正規 | B20: 25〜29歳 | C20: 計 | D20: 非正規 | E20: 71200 | F20: 169300 | G20: 226700 | H20: 174800 | I20: 223300 | J20: 98100 | K20: 92600 | L20: 20000 | M20: 4300 | N20: 1600 | O20: 800 | P20: 600 | Q20: 300 | R20: 200 | S20: 0 | T20: 1300 | U20: =SUM(E20:T20) -> 1085100 | V20: =SUM($E20:E20)/$U20 -> 0.065616072 | W20: =SUM($E20:F20)/$U20 -> 0.22163856 | X20: =SUM($E20:G20)/$U20 -> 0.4305594 | Y20: =SUM($E20:H20)/$U20 -> 0.59165054 | Z20: =SUM($E20:I20)/$U20 -> 0.79743802 | AA20: =SUM($E20:J20)/$U20 -> 0.88784444 | AB20: =SUM($E20:K20)/$U20 -> 0.9731822 | AC20: =SUM($E20:L20)/$U20 -> 0.99161368 | ... AK20: =SUM($E20:T20)/$U20 -> 1 | AL20: =INDEX($E$6:$T$6,(COUNTIF($V20:$AK20,"<"&0.25)+1))+(0.25-IF((COUNTIF($V20:$AK20,"<"&0.25)+1)=1,0,INDEX($V20:$AK20,(COUNTIF($V20:$AK20,"<"&0.25)+1)-1)))/(INDEX($E20:$T20,(COUNTIF($V20:$AK20,"<"&0.25)+1))/$U20)*INDEX($E$7:$T$7,(COUNTIF($V20:$AK20,"<"&0.25)+1)) -> 106.7876 | AM20: =INDEX($E$6:$T$6,(COUNTIF($V20:$AK20,"<"&0.5)+1))+(0.5-IF((COUNTIF($V20:$AK20,"<"&0.5)+1)=1,0,INDEX($V20:$AK20,(COUNTIF($V20:$AK20,"<"&0.5)+1)-1)))/(INDEX($E20:$T20,(COUNTIF($V20:$AK20,"<"&0.5)+1))/$U20)*INDEX($E$7:$T$7,(COUNTIF($V20:$AK20,"<"&0.5)+1)) -> 171.5532 | AN20: =INDEX($E$6:$T$6,(COUNTIF($V20:$AK20,"<"&0.75)+1))+(0.75-IF((COUNTIF($V20:$AK20,"<"&0.75)+1)=1,0,INDEX($V20:$AK20,(COUNTIF($V20:$AK20,"<"&0.75)+1)-1)))/(INDEX($E20:$T20,(COUNTIF($V20:$AK20,"<"&0.75)+1))/$U20)*INDEX($E$7:$T$7,(COUNTIF($V20:$AK20,"<"&0.75)+1)) -> 238.47403
... A152: =B152&"|"&C152&"|"&D152 -> 全年齢|女|非正規 | B152: 全年齢 | C152: 女 | D152: 非正規 | E152: 1421300 | F152: 4367700 | G152: 3700700 | H152: 1698400 | I152: 1695900 | J152: 671400 | K152: 464600 | L152: 109100 | M152: 45200 | N152: 13300 | O152: 7000 | P152: 6000 | Q152: 2900 | R152: 2800 | S152: 1400 | T152: 1900 | U152: =SUM(E152:T152) -> 14209600 | V152: =SUM($E152:E152)/$U152 -> 0.10002393 | W152: =SUM($E152:F152)/$U152 -> 0.40740063 | X152: =SUM($E152:G152)/$U152 -> 0.66783724 | Y152: =SUM($E152:H152)/$U152 -> 0.78736207 | Z152: =SUM($E152:I152)/$U152 -> 0.90671096 | AA152: =SUM($E152:J152)/$U152 -> 0.9539607 | AB152: =SUM($E152:K152)/$U152 -> 0.98665691 | AC152: =SUM($E152:L152)/$U152 -> 0.99433482 | ... AK152: =SUM($E152:T152)/$U152 -> 1 | AL152: =INDEX($E$6:$T$6,(COUNTIF($V152:$AK152,"<"&0.25)+1))+(0.25-IF((COUNTIF($V152:$AK152,"<"&0.25)+1)=1,0,INDEX($V152:$AK152,(COUNTIF($V152:$AK152,"<"&0.25)+1)-1)))/(INDEX($E152:$T152,(COUNTIF($V152:$AK152,"<"&0.25)+1))/$U152)*INDEX($E$7:$T$7,(COUNTIF($V152:$AK152,"<"&0.25)+1)) -> 74.396135 | AM152: =INDEX($E$6:$T$6,(COUNTIF($V152:$AK152,"<"&0.5)+1))+(0.5-IF((COUNTIF($V152:$AK152,"<"&0.5)+1)=1,0,INDEX($V152:$AK152,(COUNTIF($V152:$AK152,"<"&0.5)+1)-1)))/(INDEX($E152:$T152,(COUNTIF($V152:$AK152,"<"&0.5)+1))/$U152)*INDEX($E$7:$T$7,(COUNTIF($V152:$AK152,"<"&0.5)+1)) -> 117.77772 | AN152: =INDEX($E$6:$T$6,(COUNTIF($V152:$AK152,"<"&0.75)+1))+(0.75-IF((COUNTIF($V152:$AK152,"<"&0.75)+1)=1,0,INDEX($V152:$AK152,(COUNTIF($V152:$AK152,"<"&0.75)+1)-1)))/(INDEX($E152:$T152,(COUNTIF($V152:$AK152,"<"&0.75)+1))/$U152)*INDEX($E$7:$T$7,(COUNTIF($V152:$AK152,"<"&0.75)+1)) -> 184.37058

Sheet 4_使い方
A1: 使い方
A2: 1. 「1_自分の年収」の黄色の欄で、年齢、男女、雇用形態を選び、年収（万円）を入れる。
A3: 2. その区分の中央値、下から25%と上から25%の年収、自分の年収より少ない人の割合が出る。右の表で、入れた年収の階級が緑になる。
A4: 3. 「2_年齢別の中央値」に、16の年齢区分と男女、雇用形態ごとの中央値を並べてある。
A6: 数字の出どころ
A7: 総務省「令和4年就業構造基本調査」全国結果の第40表。調査日は2022年10月1日。
A8: 所得は本業から通常得ている年間の税込み額で、雇用者は過去1年間（2021年10月〜2022年9月）の給与総額（賞与を含む）。
A9: 途中で仕事を変えた人や新しく就いた人は、1年間働いたときの見積りの額。副業の収入は入らない。
A10: 官公庁の職員も入る。会社などの役員は「正規」にも「非正規」にも入らない。
A12: 中央値の出し方
A13: 人数を年収の低い階級から足していき、半分に届く階級を探す。その階級の中では人が均等に並ぶと置き、直線で補う。
A14: 例: 中央値 = 階級の下限 + （0.5 - その階級より下の割合）÷ その階級の割合 × 階級の幅
A15: 国税庁の民間給与実態統計調査には、年齢と給与階級を掛け合わせた表がないので、この調査を使った。
