Workbook

Sheet 1_入力
A1: 部署を選ぶと、担当の候補がその部署の人だけになる
A2: 日付 | B2: 部署 | C2: 担当 | D2: 件名 | E2: 組み合わせ | G2: 検査
A3: 46266 | B3: 営業 1課 | C3: 佐藤 花子 | D3: 見積の送付 | E3: =IF($B3="","",IF($C3="","担当が空",IF(COUNTIFS('2_一覧'!$A$2:$A$201,$B3,'2_一覧'!$B$2:$B$201,$C3)=0,"合っていない","合っている"))) | G3: 入っている行数 | H3: =COUNTA($B$3:$B$202)
A4: 46267 | B4: R&D | C4: 清水 一六 | D4: 試作の依頼 | E4: =IF($B4="","",IF($C4="","担当が空",IF(COUNTIFS('2_一覧'!$A$2:$A$201,$B4,'2_一覧'!$B$2:$B$201,$C4)=0,"合っていない","合っている"))) | G4: 合っていない行 | H4: =COUNTIF($E$3:$E$202,"合っていない")
A5: 46268 | B5: 経理 | C5: 山田 太郎 | D5: 請求の確認 | E5: =IF($B5="","",IF($C5="","担当が空",IF(COUNTIFS('2_一覧'!$A$2:$A$201,$B5,'2_一覧'!$B$2:$B$201,$C5)=0,"合っていない","合っている"))) | G5: 担当が空の行 | H5: =COUNTIF($E$3:$E$202,"担当が空")
A6: 46269 | B6: 1課 | C6: 森 一八 | D6: 棚卸の連絡 | E6: =IF($B6="","",IF($C6="","担当が空",IF(COUNTIFS('2_一覧'!$A$2:$A$201,$B6,'2_一覧'!$B$2:$B$201,$C6)=0,"合っていない","合っている")))
A7: 46272 | B7: 製造部 | D7: 出荷の調整 | E7: =IF($B7="","",IF($C7="","担当が空",IF(COUNTIFS('2_一覧'!$A$2:$A$201,$B7,'2_一覧'!$B$2:$B$201,$C7)=0,"合っていない","合っている")))
A8: 46273 | B8: 営業-2課 | C8: 高橋 次郎 | D8: 納期の回答 | E8: =IF($B8="","",IF($C8="","担当が空",IF(COUNTIFS('2_一覧'!$A$2:$A$201,$B8,'2_一覧'!$B$2:$B$201,$C8)=0,"合っていない","合っている")))
E9: =IF($B9="","",IF($C9="","担当が空",IF(COUNTIFS('2_一覧'!$A$2:$A$201,$B9,'2_一覧'!$B$2:$B$201,$C9)=0,"合っていない","合っている")))
E10: =IF($B10="","",IF($C10="","担当が空",IF(COUNTIFS('2_一覧'!$A$2:$A$201,$B10,'2_一覧'!$B$2:$B$201,$C10)=0,"合っていない","合っている")))
E11: =IF($B11="","",IF($C11="","担当が空",IF(COUNTIFS('2_一覧'!$A$2:$A$201,$B11,'2_一覧'!$B$2:$B$201,$C11)=0,"合っていない","合っている")))
E12: =IF($B12="","",IF($C12="","担当が空",IF(COUNTIFS('2_一覧'!$A$2:$A$201,$B12,'2_一覧'!$B$2:$B$201,$C12)=0,"合っていない","合っている")))
E13: =IF($B13="","",IF($C13="","担当が空",IF(COUNTIFS('2_一覧'!$A$2:$A$201,$B13,'2_一覧'!$B$2:$B$201,$C13)=0,"合っていない","合っている")))
E14: =IF($B14="","",IF($C14="","担当が空",IF(COUNTIFS('2_一覧'!$A$2:$A$201,$B14,'2_一覧'!$B$2:$B$201,$C14)=0,"合っていない","合っている")))
E15: =IF($B15="","",IF($C15="","担当が空",IF(COUNTIFS('2_一覧'!$A$2:$A$201,$B15,'2_一覧'!$B$2:$B$201,$C15)=0,"合っていない","合っている")))
E16: =IF($B16="","",IF($C16="","担当が空",IF(COUNTIFS('2_一覧'!$A$2:$A$201,$B16,'2_一覧'!$B$2:$B$201,$C16)=0,"合っていない","合っている")))
E17: =IF($B17="","",IF($C17="","担当が空",IF(COUNTIFS('2_一覧'!$A$2:$A$201,$B17,'2_一覧'!$B$2:$B$201,$C17)=0,"合っていない","合っている")))
E18: =IF($B18="","",IF($C18="","担当が空",IF(COUNTIFS('2_一覧'!$A$2:$A$201,$B18,'2_一覧'!$B$2:$B$201,$C18)=0,"合っていない","合っている")))
E19: =IF($B19="","",IF($C19="","担当が空",IF(COUNTIFS('2_一覧'!$A$2:$A$201,$B19,'2_一覧'!$B$2:$B$201,$C19)=0,"合っていない","合っている")))
E20: =IF($B20="","",IF($C20="","担当が空",IF(COUNTIFS('2_一覧'!$A$2:$A$201,$B20,'2_一覧'!$B$2:$B$201,$C20)=0,"合っていない","合っている")))
... E202: =IF($B202="","",IF($C202="","担当が空",IF(COUNTIFS('2_一覧'!$A$2:$A$201,$B202,'2_一覧'!$B$2:$B$201,$C202)=0,"合っていない","合っている")))

Sheet 2_一覧
A1: 部署 | B1: 担当 | D1: 最初の行 | E1: 最後の行 | F1: 件数 | G1: 並び | H1: 部署の一覧
A2: 営業 1課 | B2: 山田 太郎 | D2: =IF($A2="","",MATCH($A2,$A$2:$A$201,0)) | E2: =IF($A2="","",LOOKUP(2,1/($A$2:$A$201=$A2),ROW($A$2:$A$201))-ROW($A$2)+1) | F2: =IF($A2="","",COUNTIF($A$2:$A$201,$A2)) | G2: =IF($A2="","",IF($E2-$D2+1=$F2,"まとまっている","散らばっている")) | H2: =IFERROR(INDEX($A$2:$A$201,MATCH(0,INDEX(COUNTIF($H$1:$H1,$A$2:$A$201)+($A$2:$A$201=""),0),0)),"")
A3: 営業 1課 | B3: 佐藤 花子 | D3: =IF($A3="","",MATCH($A3,$A$2:$A$201,0)) | E3: =IF($A3="","",LOOKUP(2,1/($A$2:$A$201=$A3),ROW($A$2:$A$201))-ROW($A$2)+1) | F3: =IF($A3="","",COUNTIF($A$2:$A$201,$A3)) | G3: =IF($A3="","",IF($E3-$D3+1=$F3,"まとまっている","散らばっている")) | H3: =IFERROR(INDEX($A$2:$A$201,MATCH(0,INDEX(COUNTIF($H$1:$H2,$A$2:$A$201)+($A$2:$A$201=""),0),0)),"")
A4: 営業 1課 | B4: 鈴木 一郎 | D4: =IF($A4="","",MATCH($A4,$A$2:$A$201,0)) | E4: =IF($A4="","",LOOKUP(2,1/($A$2:$A$201=$A4),ROW($A$2:$A$201))-ROW($A$2)+1) | F4: =IF($A4="","",COUNTIF($A$2:$A$201,$A4)) | G4: =IF($A4="","",IF($E4-$D4+1=$F4,"まとまっている","散らばっている")) | H4: =IFERROR(INDEX($A$2:$A$201,MATCH(0,INDEX(COUNTIF($H$1:$H3,$A$2:$A$201)+($A$2:$A$201=""),0),0)),"")
A5: 営業-2課 | B5: 高橋 次郎 | D5: =IF($A5="","",MATCH($A5,$A$2:$A$201,0)) | E5: =IF($A5="","",LOOKUP(2,1/($A$2:$A$201=$A5),ROW($A$2:$A$201))-ROW($A$2)+1) | F5: =IF($A5="","",COUNTIF($A$2:$A$201,$A5)) | G5: =IF($A5="","",IF($E5-$D5+1=$F5,"まとまっている","散らばっている")) | H5: =IFERROR(INDEX($A$2:$A$201,MATCH(0,INDEX(COUNTIF($H$1:$H4,$A$2:$A$201)+($A$2:$A$201=""),0),0)),"")
A6: 営業-2課 | B6: 田中 三郎 | D6: =IF($A6="","",MATCH($A6,$A$2:$A$201,0)) | E6: =IF($A6="","",LOOKUP(2,1/($A$2:$A$201=$A6),ROW($A$2:$A$201))-ROW($A$2)+1) | F6: =IF($A6="","",COUNTIF($A$2:$A$201,$A6)) | G6: =IF($A6="","",IF($E6-$D6+1=$F6,"まとまっている","散らばっている")) | H6: =IFERROR(INDEX($A$2:$A$201,MATCH(0,INDEX(COUNTIF($H$1:$H5,$A$2:$A$201)+($A$2:$A$201=""),0),0)),"")
A7: 総務部 | B7: 伊藤 四郎 | D7: =IF($A7="","",MATCH($A7,$A$2:$A$201,0)) | E7: =IF($A7="","",LOOKUP(2,1/($A$2:$A$201=$A7),ROW($A$2:$A$201))-ROW($A$2)+1) | F7: =IF($A7="","",COUNTIF($A$2:$A$201,$A7)) | G7: =IF($A7="","",IF($E7-$D7+1=$F7,"まとまっている","散らばっている")) | H7: =IFERROR(INDEX($A$2:$A$201,MATCH(0,INDEX(COUNTIF($H$1:$H6,$A$2:$A$201)+($A$2:$A$201=""),0),0)),"")
A8: 総務部 | B8: 渡辺 五郎 | D8: =IF($A8="","",MATCH($A8,$A$2:$A$201,0)) | E8: =IF($A8="","",LOOKUP(2,1/($A$2:$A$201=$A8),ROW($A$2:$A$201))-ROW($A$2)+1) | F8: =IF($A8="","",COUNTIF($A$2:$A$201,$A8)) | G8: =IF($A8="","",IF($E8-$D8+1=$F8,"まとまっている","散らばっている")) | H8: =IFERROR(INDEX($A$2:$A$201,MATCH(0,INDEX(COUNTIF($H$1:$H7,$A$2:$A$201)+($A$2:$A$201=""),0),0)),"")
A9: 総務部 | B9: 中村 六郎 | D9: =IF($A9="","",MATCH($A9,$A$2:$A$201,0)) | E9: =IF($A9="","",LOOKUP(2,1/($A$2:$A$201=$A9),ROW($A$2:$A$201))-ROW($A$2)+1) | F9: =IF($A9="","",COUNTIF($A$2:$A$201,$A9)) | G9: =IF($A9="","",IF($E9-$D9+1=$F9,"まとまっている","散らばっている")) | H9: =IFERROR(INDEX($A$2:$A$201,MATCH(0,INDEX(COUNTIF($H$1:$H8,$A$2:$A$201)+($A$2:$A$201=""),0),0)),"")
A10: 総務部 | B10: 小林 七子 | D10: =IF($A10="","",MATCH($A10,$A$2:$A$201,0)) | E10: =IF($A10="","",LOOKUP(2,1/($A$2:$A$201=$A10),ROW($A$2:$A$201))-ROW($A$2)+1) | F10: =IF($A10="","",COUNTIF($A$2:$A$201,$A10)) | G10: =IF($A10="","",IF($E10-$D10+1=$F10,"まとまっている","散らばっている")) | H10: =IFERROR(INDEX($A$2:$A$201,MATCH(0,INDEX(COUNTIF($H$1:$H9,$A$2:$A$201)+($A$2:$A$201=""),0),0)),"")
A11: 経理 | B11: 加藤 八郎 | D11: =IF($A11="","",MATCH($A11,$A$2:$A$201,0)) | E11: =IF($A11="","",LOOKUP(2,1/($A$2:$A$201=$A11),ROW($A$2:$A$201))-ROW($A$2)+1) | F11: =IF($A11="","",COUNTIF($A$2:$A$201,$A11)) | G11: =IF($A11="","",IF($E11-$D11+1=$F11,"まとまっている","散らばっている")) | H11: =IFERROR(INDEX($A$2:$A$201,MATCH(0,INDEX(COUNTIF($H$1:$H10,$A$2:$A$201)+($A$2:$A$201=""),0),0)),"")
A12: 経理 | B12: 吉田 九郎 | D12: =IF($A12="","",MATCH($A12,$A$2:$A$201,0)) | E12: =IF($A12="","",LOOKUP(2,1/($A$2:$A$201=$A12),ROW($A$2:$A$201))-ROW($A$2)+1) | F12: =IF($A12="","",COUNTIF($A$2:$A$201,$A12)) | G12: =IF($A12="","",IF($E12-$D12+1=$F12,"まとまっている","散らばっている")) | H12: =IFERROR(INDEX($A$2:$A$201,MATCH(0,INDEX(COUNTIF($H$1:$H11,$A$2:$A$201)+($A$2:$A$201=""),0),0)),"")
A13: 製造部 | B13: 山本 十郎 | D13: =IF($A13="","",MATCH($A13,$A$2:$A$201,0)) | E13: =IF($A13="","",LOOKUP(2,1/($A$2:$A$201=$A13),ROW($A$2:$A$201))-ROW($A$2)+1) | F13: =IF($A13="","",COUNTIF($A$2:$A$201,$A13)) | G13: =IF($A13="","",IF($E13-$D13+1=$F13,"まとまっている","散らばっている")) | H13: =IFERROR(INDEX($A$2:$A$201,MATCH(0,INDEX(COUNTIF($H$1:$H12,$A$2:$A$201)+($A$2:$A$201=""),0),0)),"")
... A21: 1課 | B21: 池田 一九 | D21: =IF($A21="","",MATCH($A21,$A$2:$A$201,0)) | E21: =IF($A21="","",LOOKUP(2,1/($A$2:$A$201=$A21),ROW($A$2:$A$201))-ROW($A$2)+1) | F21: =IF($A21="","",COUNTIF($A$2:$A$201,$A21)) | G21: =IF($A21="","",IF($E21-$D21+1=$F21,"まとまっている","散らばっている")) | H21: =IFERROR(INDEX($A$2:$A$201,MATCH(0,INDEX(COUNTIF($H$1:$H20,$A$2:$A$201)+($A$2:$A$201=""),0),0)),"")
D22: =IF($A22="","",MATCH($A22,$A$2:$A$201,0)) | E22: =IF($A22="","",LOOKUP(2,1/($A$2:$A$201=$A22),ROW($A$2:$A$201))-ROW($A$2)+1) | F22: =IF($A22="","",COUNTIF($A$2:$A$201,$A22)) | G22: =IF($A22="","",IF($E22-$D22+1=$F22,"まとまっている","散らばっている")) | H22: =IFERROR(INDEX($A$2:$A$201,MATCH(0,INDEX(COUNTIF($H$1:$H21,$A$2:$A$201)+($A$2:$A$201=""),0),0)),"")
D23: =IF($A23="","",MATCH($A23,$A$2:$A$201,0)) | E23: =IF($A23="","",LOOKUP(2,1/($A$2:$A$201=$A23),ROW($A$2:$A$201))-ROW($A$2)+1) | F23: =IF($A23="","",COUNTIF($A$2:$A$201,$A23)) | G23: =IF($A23="","",IF($E23-$D23+1=$F23,"まとまっている","散らばっている")) | H23: =IFERROR(INDEX($A$2:$A$201,MATCH(0,INDEX(COUNTIF($H$1:$H22,$A$2:$A$201)+($A$2:$A$201=""),0),0)),"")
D24: =IF($A24="","",MATCH($A24,$A$2:$A$201,0)) | E24: =IF($A24="","",LOOKUP(2,1/($A$2:$A$201=$A24),ROW($A$2:$A$201))-ROW($A$2)+1) | F24: =IF($A24="","",COUNTIF($A$2:$A$201,$A24)) | G24: =IF($A24="","",IF($E24-$D24+1=$F24,"まとまっている","散らばっている")) | H24: =IFERROR(INDEX($A$2:$A$201,MATCH(0,INDEX(COUNTIF($H$1:$H23,$A$2:$A$201)+($A$2:$A$201=""),0),0)),"")
D25: =IF($A25="","",MATCH($A25,$A$2:$A$201,0)) | E25: =IF($A25="","",LOOKUP(2,1/($A$2:$A$201=$A25),ROW($A$2:$A$201))-ROW($A$2)+1) | F25: =IF($A25="","",COUNTIF($A$2:$A$201,$A25)) | G25: =IF($A25="","",IF($E25-$D25+1=$F25,"まとまっている","散らばっている")) | H25: =IFERROR(INDEX($A$2:$A$201,MATCH(0,INDEX(COUNTIF($H$1:$H24,$A$2:$A$201)+($A$2:$A$201=""),0),0)),"")
D26: =IF($A26="","",MATCH($A26,$A$2:$A$201,0)) | E26: =IF($A26="","",LOOKUP(2,1/($A$2:$A$201=$A26),ROW($A$2:$A$201))-ROW($A$2)+1) | F26: =IF($A26="","",COUNTIF($A$2:$A$201,$A26)) | G26: =IF($A26="","",IF($E26-$D26+1=$F26,"まとまっている","散らばっている")) | H26: =IFERROR(INDEX($A$2:$A$201,MATCH(0,INDEX(COUNTIF($H$1:$H25,$A$2:$A$201)+($A$2:$A$201=""),0),0)),"")
D27: =IF($A27="","",MATCH($A27,$A$2:$A$201,0)) | E27: =IF($A27="","",LOOKUP(2,1/($A$2:$A$201=$A27),ROW($A$2:$A$201))-ROW($A$2)+1) | F27: =IF($A27="","",COUNTIF($A$2:$A$201,$A27)) | G27: =IF($A27="","",IF($E27-$D27+1=$F27,"まとまっている","散らばっている")) | H27: =IFERROR(INDEX($A$2:$A$201,MATCH(0,INDEX(COUNTIF($H$1:$H26,$A$2:$A$201)+($A$2:$A$201=""),0),0)),"")
D28: =IF($A28="","",MATCH($A28,$A$2:$A$201,0)) | E28: =IF($A28="","",LOOKUP(2,1/($A$2:$A$201=$A28),ROW($A$2:$A$201))-ROW($A$2)+1) | F28: =IF($A28="","",COUNTIF($A$2:$A$201,$A28)) | G28: =IF($A28="","",IF($E28-$D28+1=$F28,"まとまっている","散らばっている")) | H28: =IFERROR(INDEX($A$2:$A$201,MATCH(0,INDEX(COUNTIF($H$1:$H27,$A$2:$A$201)+($A$2:$A$201=""),0),0)),"")
D29: =IF($A29="","",MATCH($A29,$A$2:$A$201,0)) | E29: =IF($A29="","",LOOKUP(2,1/($A$2:$A$201=$A29),ROW($A$2:$A$201))-ROW($A$2)+1) | F29: =IF($A29="","",COUNTIF($A$2:$A$201,$A29)) | G29: =IF($A29="","",IF($E29-$D29+1=$F29,"まとまっている","散らばっている")) | H29: =IFERROR(INDEX($A$2:$A$201,MATCH(0,INDEX(COUNTIF($H$1:$H28,$A$2:$A$201)+($A$2:$A$201=""),0),0)),"")
D30: =IF($A30="","",MATCH($A30,$A$2:$A$201,0)) | E30: =IF($A30="","",LOOKUP(2,1/($A$2:$A$201=$A30),ROW($A$2:$A$201))-ROW($A$2)+1) | F30: =IF($A30="","",COUNTIF($A$2:$A$201,$A30)) | G30: =IF($A30="","",IF($E30-$D30+1=$F30,"まとまっている","散らばっている")) | H30: =IFERROR(INDEX($A$2:$A$201,MATCH(0,INDEX(COUNTIF($H$1:$H29,$A$2:$A$201)+($A$2:$A$201=""),0),0)),"")
D31: =IF($A31="","",MATCH($A31,$A$2:$A$201,0)) | E31: =IF($A31="","",LOOKUP(2,1/($A$2:$A$201=$A31),ROW($A$2:$A$201))-ROW($A$2)+1) | F31: =IF($A31="","",COUNTIF($A$2:$A$201,$A31)) | G31: =IF($A31="","",IF($E31-$D31+1=$F31,"まとまっている","散らばっている")) | H31: =IFERROR(INDEX($A$2:$A$201,MATCH(0,INDEX(COUNTIF($H$1:$H30,$A$2:$A$201)+($A$2:$A$201=""),0),0)),"")
D32: =IF($A32="","",MATCH($A32,$A$2:$A$201,0)) | E32: =IF($A32="","",LOOKUP(2,1/($A$2:$A$201=$A32),ROW($A$2:$A$201))-ROW($A$2)+1) | F32: =IF($A32="","",COUNTIF($A$2:$A$201,$A32)) | G32: =IF($A32="","",IF($E32-$D32+1=$F32,"まとまっている","散らばっている")) | H32: =IFERROR(INDEX($A$2:$A$201,MATCH(0,INDEX(COUNTIF($H$1:$H31,$A$2:$A$201)+($A$2:$A$201=""),0),0)),"")
D33: =IF($A33="","",MATCH($A33,$A$2:$A$201,0)) | E33: =IF($A33="","",LOOKUP(2,1/($A$2:$A$201=$A33),ROW($A$2:$A$201))-ROW($A$2)+1) | F33: =IF($A33="","",COUNTIF($A$2:$A$201,$A33)) | G33: =IF($A33="","",IF($E33-$D33+1=$F33,"まとまっている","散らばっている")) | H33: =IFERROR(INDEX($A$2:$A$201,MATCH(0,INDEX(COUNTIF($H$1:$H32,$A$2:$A$201)+($A$2:$A$201=""),0),0)),"")
... D201: =IF($A201="","",MATCH($A201,$A$2:$A$201,0)) | E201: =IF($A201="","",LOOKUP(2,1/($A$2:$A$201=$A201),ROW($A$2:$A$201))-ROW($A$2)+1) | F201: =IF($A201="","",COUNTIF($A$2:$A$201,$A201)) | G201: =IF($A201="","",IF($E201-$D201+1=$F201,"まとまっている","散らばっている")) | H201: =IFERROR(INDEX($A$2:$A$201,MATCH(0,INDEX(COUNTIF($H$1:$H200,$A$2:$A$201)+($A$2:$A$201=""),0),0)),"")

Sheet 3_使い方
A1: 使い方
A3: 2_一覧 のA列に部署、B列に担当を縦に並べる。同じ部署の行はまとめて置く。
A4: G列の並びの欄が散らばっていると出たら、その部署の行が離れた場所にある。
A5: A列で並べ替えるか、その部署の行の続きに足し直す。
A7: H列は部署の重複を除いた一覧で、1_入力 の部署の候補になる。式が入っているので触らない。
A9: 1_入力 のB列で部署を選ぶと、C列の候補がその部署の担当だけになる。
A10: E列に組み合わせが合っているかが出る。赤くなった行を直す。
A12: 名前の定義とINDIRECTは使っていない。部署名に空白や記号や数字始まりがあっても動く。
A13: 営業 1課、営業-2課、R&D、1課は名前として登録できないので、INDIRECTのやり方では作れない。
A15: 部署を選び直しても、担当は前のまま残る。入力規則は入れるときにしか効かない。
A16: E列の検査はこのために置いてある。あとから貼り付けた値も、ここで拾える。
A18: 行を足すときはB列とC列の式を下にコピーする。範囲は200行で作ってある。
A19: 200行を超えるときは、2_一覧 の式の中の200を書き換える。
