Workbook

Sheet 1_いくら減るか
A1: 生命保険料控除で1年に減る所得税と住民税。黄色を埋める（給与だけの会社員）
A2: 入れるもの | B2: 値 | C2: メモ | E2: 区分 | F2: 払った保険料 | G2: 所得税の控除 | H2: 住民税の控除 | I2: 所得税が頭打ちになる保険料 | J2: 住民税が頭打ちになる保険料
A3: 給与の年収（税引き前の総支給） | B3: 5000000 | C3: 源泉徴収票の支払金額 | E3: 一般 | F3: =B8+B9 | G3: =IF($B$9<=0,IF(AND($B$7="はい",$B$6>=2026,$B$6<=2027),IF($B$8<=0,0,IF($B$8<=30000,$B$8,IF($B$8<=60000,ROUNDUP($B$8/2,0)+15000,IF($B$8<=120000,ROUNDUP($B$8/4,0)+30000,60000)))),IF($B$8<=0,0,IF($B$8<=20000,$B$8,IF($B$8<=40000,ROUNDUP($B$8/2,0)+10000,IF($B$8<=80000,ROUNDUP($B$8/4,0)+20000,40000))))),IF($B$8<=0,IF($B$9<=0,0,IF($B$9<=25000,$B$9,IF($B$9<=50000,ROUNDUP($B$9/2,0)+12500,IF($B$9<=100000,ROUNDUP($B$9/4,0)+25000,50000)))),MAX(IF($B$9<=0,0,IF($B$9<=25000,$B$9,IF($B$9<=50000,ROUNDUP($B$9/2,0)+12500,IF($B$9<=100000,ROUNDUP($B$9/4,0)+25000,50000)))),MIN(IF(AND($B$7="はい",$B$6>=2026,$B$6<=2027),IF($B$8<=0,0,IF($B$8<=30000,$B$8,IF($B$8<=60000,ROUNDUP($B$8/2,0)+15000,IF($B$8<=120000,ROUNDUP($B$8/4,0)+30000,60000)))),IF($B$8<=0,0,IF($B$8<=20000,$B$8,IF($B$8<=40000,ROUNDUP($B$8/2,0)+10000,IF($B$8<=80000,ROUNDUP($B$8/4,0)+20000,40000)))))+IF($B$9<=0,0,IF($B$9<=25000,$B$9,IF($B$9<=50000,ROUNDUP($B$9/2,0)+12500,IF($B$9<=100000,ROUNDUP($B$9/4,0)+25000,50000)))),IF(AND($B$7="はい",$B$6>=2026,$B$6<=2027),60000,40000))))) | H3: =IF($B$9<=0,IF($B$8<=0,0,IF($B$8<=12000,$B$8,IF($B$8<=32000,ROUNDUP($B$8/2,0)+6000,IF($B$8<=56000,ROUNDUP($B$8/4,0)+14000,28000)))),IF($B$8<=0,IF($B$9<=0,0,IF($B$9<=15000,$B$9,IF($B$9<=40000,ROUNDUP($B$9/2,0)+7500,IF($B$9<=70000,ROUNDUP($B$9/4,0)+17500,35000)))),MAX(IF($B$9<=0,0,IF($B$9<=15000,$B$9,IF($B$9<=40000,ROUNDUP($B$9/2,0)+7500,IF($B$9<=70000,ROUNDUP($B$9/4,0)+17500,35000)))),MIN(IF($B$8<=0,0,IF($B$8<=12000,$B$8,IF($B$8<=32000,ROUNDUP($B$8/2,0)+6000,IF($B$8<=56000,ROUNDUP($B$8/4,0)+14000,28000))))+IF($B$9<=0,0,IF($B$9<=15000,$B$9,IF($B$9<=40000,ROUNDUP($B$9/2,0)+7500,IF($B$9<=70000,ROUNDUP($B$9/4,0)+17500,35000)))),28000)))) | I3: =IF(AND(B9>0,B8<=0),"10万円（旧）",IF(AND($B$7="はい",$B$6>=2026,$B$6<=2027),"12万円","8万円")) | J3: =IF(AND(B9>0,B8<=0),"7万円（旧）","5万6,000円")
A4: 社会保険料（空欄なら見積もり） | C4: 源泉徴収票の社会保険料等の金額 | E4: 介護医療 | F4: =B10 | G4: =IF($B$10<=0,0,IF($B$10<=20000,$B$10,IF($B$10<=40000,ROUNDUP($B$10/2,0)+10000,IF($B$10<=80000,ROUNDUP($B$10/4,0)+20000,40000)))) | H4: =IF($B$10<=0,0,IF($B$10<=12000,$B$10,IF($B$10<=32000,ROUNDUP($B$10/2,0)+6000,IF($B$10<=56000,ROUNDUP($B$10/4,0)+14000,28000)))) | I4: ="8万円" | J4: ="5万6,000円"
A5: 40歳から64歳か | B5: いいえ | C5: 見積もりのときだけ使う | E5: 個人年金 | F5: =B11+B12 | G5: =IF($B$12<=0,IF($B$11<=0,0,IF($B$11<=20000,$B$11,IF($B$11<=40000,ROUNDUP($B$11/2,0)+10000,IF($B$11<=80000,ROUNDUP($B$11/4,0)+20000,40000)))),IF($B$11<=0,IF($B$12<=0,0,IF($B$12<=25000,$B$12,IF($B$12<=50000,ROUNDUP($B$12/2,0)+12500,IF($B$12<=100000,ROUNDUP($B$12/4,0)+25000,50000)))),MAX(IF($B$12<=0,0,IF($B$12<=25000,$B$12,IF($B$12<=50000,ROUNDUP($B$12/2,0)+12500,IF($B$12<=100000,ROUNDUP($B$12/4,0)+25000,50000)))),MIN(IF($B$11<=0,0,IF($B$11<=20000,$B$11,IF($B$11<=40000,ROUNDUP($B$11/2,0)+10000,IF($B$11<=80000,ROUNDUP($B$11/4,0)+20000,40000))))+IF($B$12<=0,0,IF($B$12<=25000,$B$12,IF($B$12<=50000,ROUNDUP($B$12/2,0)+12500,IF($B$12<=100000,ROUNDUP($B$12/4,0)+25000,50000)))),40000)))) | H5: =IF($B$12<=0,IF($B$11<=0,0,IF($B$11<=12000,$B$11,IF($B$11<=32000,ROUNDUP($B$11/2,0)+6000,IF($B$11<=56000,ROUNDUP($B$11/4,0)+14000,28000)))),IF($B$11<=0,IF($B$12<=0,0,IF($B$12<=15000,$B$12,IF($B$12<=40000,ROUNDUP($B$12/2,0)+7500,IF($B$12<=70000,ROUNDUP($B$12/4,0)+17500,35000)))),MAX(IF($B$12<=0,0,IF($B$12<=15000,$B$12,IF($B$12<=40000,ROUNDUP($B$12/2,0)+7500,IF($B$12<=70000,ROUNDUP($B$12/4,0)+17500,35000)))),MIN(IF($B$11<=0,0,IF($B$11<=12000,$B$11,IF($B$11<=32000,ROUNDUP($B$11/2,0)+6000,IF($B$11<=56000,ROUNDUP($B$11/4,0)+14000,28000))))+IF($B$12<=0,0,IF($B$12<=15000,$B$12,IF($B$12<=40000,ROUNDUP($B$12/2,0)+7500,IF($B$12<=70000,ROUNDUP($B$12/4,0)+17500,35000)))),28000)))) | I5: =IF(AND(B12>0,B11<=0),"10万円（旧）","8万円") | J5: =IF(AND(B12>0,B11<=0),"7万円（旧）","5万6,000円")
A6: 年分（2025・2026・2027） | B6: 2026 | C6: 1月1日から12月31日に払った保険料 | E6: 合計 | F6: =SUM(F3:F5) | G6: =MIN(120000,G3+G4+G5) | H6: =MIN(70000,H3+H4+H5) | I6: 上限12万円 | J6: 上限7万円
A7: 12月31日に23歳未満の扶養親族がいるか | B7: いいえ | C7: 16歳未満の子も入る。2026・2027年分の所得税だけ | E7: 区分の控除を足した額 | G7: =G3+G4+G5 | H7: =H3+H4+H5 | I7: 超えた分は控除にならない
A8: 一般の生命保険料 新契約（2012年以後） | B8: 80000 | C8: 控除証明書の「一般」「新」の欄。年額 | E8: 税の計算 | F8: 控除なし | G8: 控除あり
A9: 一般の生命保険料 旧契約（2011年以前） | B9: 0 | C9: 旧契約の医療保険もここ | E9: 給与所得 | F9: =ROUND(IF($B$6>=2026,IF($B$3<741000,0,IF($B$3<2191000,$B$3-740000,IF($B$3<2193000,1451000,IF($B$3<2196000,1453000,IF($B$3<2200000,1456000,IF($B$3<3600000,ROUNDDOWN($B$3/4,-3)*2.8-80000,IF($B$3<6600000,ROUNDDOWN($B$3/4,-3)*3.2-440000,IF($B$3<8500000,ROUNDDOWN($B$3*0.9,0)-1100000,$B$3-1950000)))))))),IF($B$3<651000,0,IF($B$3<1900000,$B$3-650000,IF($B$3<3600000,ROUNDDOWN($B$3/4,-3)*2.8-80000,IF($B$3<6600000,ROUNDDOWN($B$3/4,-3)*3.2-440000,IF($B$3<8500000,ROUNDDOWN($B$3*0.9,0)-1100000,$B$3-1950000)))))),0)
A10: 介護医療保険料 | B10: 80000 | C10: 2012年以後の医療保険、がん保険など | E10: 基礎控除（所得税） | F10: =IF(F9>23500000,NA(),IF($B$6>=2026,IF(F9<=4890000,1040000,IF(F9<=6550000,670000,620000)),IF(F9<=1320000,950000,IF(F9<=3360000,880000,IF(F9<=4890000,680000,IF(F9<=6550000,630000,580000))))))
A11: 個人年金保険料 新契約（2012年以後） | B11: 80000 | C11: 税制適格特約の付いたもの | E11: 所得税の課税所得 | F11: =MAX(0,ROUNDDOWN(F9-$B$16-F10-$B$13-0,-3)) | G11: =MAX(0,ROUNDDOWN(F9-$B$16-F10-$B$13-G6,-3))
A12: 個人年金保険料 旧契約（2011年以前） | B12: 0 | E12: 所得税（復興税込み） | F12: =IF(F11<=0,0,ROUNDDOWN((F11*LOOKUP(F11,{0,1950001,3300001,6950001,9000001,18000001,40000001},{0.05,0.1,0.2,0.23,0.33,0.4,0.45})-LOOKUP(F11,{0,1950001,3300001,6950001,9000001,18000001,40000001},{0,97500,427500,636000,1536000,2796000,4796000}))*1.021,-2)) | G12: =IF(G11<=0,0,ROUNDDOWN((G11*LOOKUP(G11,{0,1950001,3300001,6950001,9000001,18000001,40000001},{0.05,0.1,0.2,0.23,0.33,0.4,0.45})-LOOKUP(G11,{0,1950001,3300001,6950001,9000001,18000001,40000001},{0,97500,427500,636000,1536000,2796000,4796000}))*1.021,-2))
A13: 他の所得控除（所得税） | B13: 0 | C13: 扶養控除、iDeCo、医療費控除など | E13: 住民税の課税所得 | F13: =MAX(0,ROUNDDOWN(F9-$B$16-430000-$B$14-0,-3)) | G13: =MAX(0,ROUNDDOWN(F9-$B$16-430000-$B$14-H6,-3))
A14: 他の所得控除（住民税） | B14: 0 | C14: 住民税の扶養控除は33万円など、額が違う | E14: 住民税の所得割 | F14: =IF(F9<=450000,0,MAX(0,ROUNDDOWN(F13*0.06-MIN(50000,F13)*0.03,-2))+MAX(0,ROUNDDOWN(F13*0.04-MIN(50000,F13)*0.02,-2))) | G14: =IF(F9<=450000,0,MAX(0,ROUNDDOWN(G13*0.06-MIN(50000,G13)*0.03,-2))+MAX(0,ROUNDDOWN(G13*0.04-MIN(50000,G13)*0.02,-2)))
E15: 減る所得税 | G15: =F12-G12
A16: 社会保険料（計算に使う額） | B16: =IF(B4="",ROUND(MIN(B3/12,650000)*12*0.0915+MIN(B3/12,1390000)*12*(0.0504+IF(B5="はい",0.0081,0))+B3*0.005,0),B4) | C16: 見積もりは協会けんぽ東京支部・賞与なし | E16: 減る住民税 | G16: =F14-G14
E17: 減る税の合計 | G17: =G15+G16
E18: 控除なしの所得税率 | F18: =IF(F11<=0,0,LOOKUP(F11,{0,1950001,3300001,6950001,9000001,18000001,40000001},{0.05,0.1,0.2,0.23,0.33,0.4,0.45}))
E19: 保険料に対する減る税の割合 | G19: =IF(F6=0,0,G17/F6)
E20: 注意 | F20: =IF(B3<1000000,"年収100万円未満は対象外",IF(AND(B7="はい",B6=2025),"23歳未満の特例は2026年分から",IF(AND(B9>60000,B8>0),"旧契約が6万円を超えると、新契約を足しても一般の控除は増えない（特例なしのとき）",IF(G7>G6,"所得税の控除が上限12万円で切られている",""))))

Sheet 2_控除額の表
A1: 1つの区分の保険料と控除額。橙は頭打ちで、それ以上払っても控除は増えない
A2: 年間の保険料 | B2: 所得税 新契約 | C2: 所得税 新契約（23歳未満の扶養親族あり） | D2: 所得税 旧契約 | E2: 住民税 新契約 | F2: 住民税 旧契約
A3: 0 | B3: =IF($A3<=0,0,IF($A3<=20000,$A3,IF($A3<=40000,ROUNDUP($A3/2,0)+10000,IF($A3<=80000,ROUNDUP($A3/4,0)+20000,40000)))) | C3: =IF($A3<=0,0,IF($A3<=30000,$A3,IF($A3<=60000,ROUNDUP($A3/2,0)+15000,IF($A3<=120000,ROUNDUP($A3/4,0)+30000,60000)))) | D3: =IF($A3<=0,0,IF($A3<=25000,$A3,IF($A3<=50000,ROUNDUP($A3/2,0)+12500,IF($A3<=100000,ROUNDUP($A3/4,0)+25000,50000)))) | E3: =IF($A3<=0,0,IF($A3<=12000,$A3,IF($A3<=32000,ROUNDUP($A3/2,0)+6000,IF($A3<=56000,ROUNDUP($A3/4,0)+14000,28000)))) | F3: =IF($A3<=0,0,IF($A3<=15000,$A3,IF($A3<=40000,ROUNDUP($A3/2,0)+7500,IF($A3<=70000,ROUNDUP($A3/4,0)+17500,35000))))
A4: 5000 | B4: =IF($A4<=0,0,IF($A4<=20000,$A4,IF($A4<=40000,ROUNDUP($A4/2,0)+10000,IF($A4<=80000,ROUNDUP($A4/4,0)+20000,40000)))) | C4: =IF($A4<=0,0,IF($A4<=30000,$A4,IF($A4<=60000,ROUNDUP($A4/2,0)+15000,IF($A4<=120000,ROUNDUP($A4/4,0)+30000,60000)))) | D4: =IF($A4<=0,0,IF($A4<=25000,$A4,IF($A4<=50000,ROUNDUP($A4/2,0)+12500,IF($A4<=100000,ROUNDUP($A4/4,0)+25000,50000)))) | E4: =IF($A4<=0,0,IF($A4<=12000,$A4,IF($A4<=32000,ROUNDUP($A4/2,0)+6000,IF($A4<=56000,ROUNDUP($A4/4,0)+14000,28000)))) | F4: =IF($A4<=0,0,IF($A4<=15000,$A4,IF($A4<=40000,ROUNDUP($A4/2,0)+7500,IF($A4<=70000,ROUNDUP($A4/4,0)+17500,35000))))
A5: 10000 | B5: =IF($A5<=0,0,IF($A5<=20000,$A5,IF($A5<=40000,ROUNDUP($A5/2,0)+10000,IF($A5<=80000,ROUNDUP($A5/4,0)+20000,40000)))) | C5: =IF($A5<=0,0,IF($A5<=30000,$A5,IF($A5<=60000,ROUNDUP($A5/2,0)+15000,IF($A5<=120000,ROUNDUP($A5/4,0)+30000,60000)))) | D5: =IF($A5<=0,0,IF($A5<=25000,$A5,IF($A5<=50000,ROUNDUP($A5/2,0)+12500,IF($A5<=100000,ROUNDUP($A5/4,0)+25000,50000)))) | E5: =IF($A5<=0,0,IF($A5<=12000,$A5,IF($A5<=32000,ROUNDUP($A5/2,0)+6000,IF($A5<=56000,ROUNDUP($A5/4,0)+14000,28000)))) | F5: =IF($A5<=0,0,IF($A5<=15000,$A5,IF($A5<=40000,ROUNDUP($A5/2,0)+7500,IF($A5<=70000,ROUNDUP($A5/4,0)+17500,35000))))
A6: 15000 | B6: =IF($A6<=0,0,IF($A6<=20000,$A6,IF($A6<=40000,ROUNDUP($A6/2,0)+10000,IF($A6<=80000,ROUNDUP($A6/4,0)+20000,40000)))) | C6: =IF($A6<=0,0,IF($A6<=30000,$A6,IF($A6<=60000,ROUNDUP($A6/2,0)+15000,IF($A6<=120000,ROUNDUP($A6/4,0)+30000,60000)))) | D6: =IF($A6<=0,0,IF($A6<=25000,$A6,IF($A6<=50000,ROUNDUP($A6/2,0)+12500,IF($A6<=100000,ROUNDUP($A6/4,0)+25000,50000)))) | E6: =IF($A6<=0,0,IF($A6<=12000,$A6,IF($A6<=32000,ROUNDUP($A6/2,0)+6000,IF($A6<=56000,ROUNDUP($A6/4,0)+14000,28000)))) | F6: =IF($A6<=0,0,IF($A6<=15000,$A6,IF($A6<=40000,ROUNDUP($A6/2,0)+7500,IF($A6<=70000,ROUNDUP($A6/4,0)+17500,35000))))
A7: 20000 | B7: =IF($A7<=0,0,IF($A7<=20000,$A7,IF($A7<=40000,ROUNDUP($A7/2,0)+10000,IF($A7<=80000,ROUNDUP($A7/4,0)+20000,40000)))) | C7: =IF($A7<=0,0,IF($A7<=30000,$A7,IF($A7<=60000,ROUNDUP($A7/2,0)+15000,IF($A7<=120000,ROUNDUP($A7/4,0)+30000,60000)))) | D7: =IF($A7<=0,0,IF($A7<=25000,$A7,IF($A7<=50000,ROUNDUP($A7/2,0)+12500,IF($A7<=100000,ROUNDUP($A7/4,0)+25000,50000)))) | E7: =IF($A7<=0,0,IF($A7<=12000,$A7,IF($A7<=32000,ROUNDUP($A7/2,0)+6000,IF($A7<=56000,ROUNDUP($A7/4,0)+14000,28000)))) | F7: =IF($A7<=0,0,IF($A7<=15000,$A7,IF($A7<=40000,ROUNDUP($A7/2,0)+7500,IF($A7<=70000,ROUNDUP($A7/4,0)+17500,35000))))
A8: 25000 | B8: =IF($A8<=0,0,IF($A8<=20000,$A8,IF($A8<=40000,ROUNDUP($A8/2,0)+10000,IF($A8<=80000,ROUNDUP($A8/4,0)+20000,40000)))) | C8: =IF($A8<=0,0,IF($A8<=30000,$A8,IF($A8<=60000,ROUNDUP($A8/2,0)+15000,IF($A8<=120000,ROUNDUP($A8/4,0)+30000,60000)))) | D8: =IF($A8<=0,0,IF($A8<=25000,$A8,IF($A8<=50000,ROUNDUP($A8/2,0)+12500,IF($A8<=100000,ROUNDUP($A8/4,0)+25000,50000)))) | E8: =IF($A8<=0,0,IF($A8<=12000,$A8,IF($A8<=32000,ROUNDUP($A8/2,0)+6000,IF($A8<=56000,ROUNDUP($A8/4,0)+14000,28000)))) | F8: =IF($A8<=0,0,IF($A8<=15000,$A8,IF($A8<=40000,ROUNDUP($A8/2,0)+7500,IF($A8<=70000,ROUNDUP($A8/4,0)+17500,35000))))
A9: 30000 | B9: =IF($A9<=0,0,IF($A9<=20000,$A9,IF($A9<=40000,ROUNDUP($A9/2,0)+10000,IF($A9<=80000,ROUNDUP($A9/4,0)+20000,40000)))) | C9: =IF($A9<=0,0,IF($A9<=30000,$A9,IF($A9<=60000,ROUNDUP($A9/2,0)+15000,IF($A9<=120000,ROUNDUP($A9/4,0)+30000,60000)))) | D9: =IF($A9<=0,0,IF($A9<=25000,$A9,IF($A9<=50000,ROUNDUP($A9/2,0)+12500,IF($A9<=100000,ROUNDUP($A9/4,0)+25000,50000)))) | E9: =IF($A9<=0,0,IF($A9<=12000,$A9,IF($A9<=32000,ROUNDUP($A9/2,0)+6000,IF($A9<=56000,ROUNDUP($A9/4,0)+14000,28000)))) | F9: =IF($A9<=0,0,IF($A9<=15000,$A9,IF($A9<=40000,ROUNDUP($A9/2,0)+7500,IF($A9<=70000,ROUNDUP($A9/4,0)+17500,35000))))
A10: 35000 | B10: =IF($A10<=0,0,IF($A10<=20000,$A10,IF($A10<=40000,ROUNDUP($A10/2,0)+10000,IF($A10<=80000,ROUNDUP($A10/4,0)+20000,40000)))) | C10: =IF($A10<=0,0,IF($A10<=30000,$A10,IF($A10<=60000,ROUNDUP($A10/2,0)+15000,IF($A10<=120000,ROUNDUP($A10/4,0)+30000,60000)))) | D10: =IF($A10<=0,0,IF($A10<=25000,$A10,IF($A10<=50000,ROUNDUP($A10/2,0)+12500,IF($A10<=100000,ROUNDUP($A10/4,0)+25000,50000)))) | E10: =IF($A10<=0,0,IF($A10<=12000,$A10,IF($A10<=32000,ROUNDUP($A10/2,0)+6000,IF($A10<=56000,ROUNDUP($A10/4,0)+14000,28000)))) | F10: =IF($A10<=0,0,IF($A10<=15000,$A10,IF($A10<=40000,ROUNDUP($A10/2,0)+7500,IF($A10<=70000,ROUNDUP($A10/4,0)+17500,35000))))
A11: 40000 | B11: =IF($A11<=0,0,IF($A11<=20000,$A11,IF($A11<=40000,ROUNDUP($A11/2,0)+10000,IF($A11<=80000,ROUNDUP($A11/4,0)+20000,40000)))) | C11: =IF($A11<=0,0,IF($A11<=30000,$A11,IF($A11<=60000,ROUNDUP($A11/2,0)+15000,IF($A11<=120000,ROUNDUP($A11/4,0)+30000,60000)))) | D11: =IF($A11<=0,0,IF($A11<=25000,$A11,IF($A11<=50000,ROUNDUP($A11/2,0)+12500,IF($A11<=100000,ROUNDUP($A11/4,0)+25000,50000)))) | E11: =IF($A11<=0,0,IF($A11<=12000,$A11,IF($A11<=32000,ROUNDUP($A11/2,0)+6000,IF($A11<=56000,ROUNDUP($A11/4,0)+14000,28000)))) | F11: =IF($A11<=0,0,IF($A11<=15000,$A11,IF($A11<=40000,ROUNDUP($A11/2,0)+7500,IF($A11<=70000,ROUNDUP($A11/4,0)+17500,35000))))
A12: 45000 | B12: =IF($A12<=0,0,IF($A12<=20000,$A12,IF($A12<=40000,ROUNDUP($A12/2,0)+10000,IF($A12<=80000,ROUNDUP($A12/4,0)+20000,40000)))) | C12: =IF($A12<=0,0,IF($A12<=30000,$A12,IF($A12<=60000,ROUNDUP($A12/2,0)+15000,IF($A12<=120000,ROUNDUP($A12/4,0)+30000,60000)))) | D12: =IF($A12<=0,0,IF($A12<=25000,$A12,IF($A12<=50000,ROUNDUP($A12/2,0)+12500,IF($A12<=100000,ROUNDUP($A12/4,0)+25000,50000)))) | E12: =IF($A12<=0,0,IF($A12<=12000,$A12,IF($A12<=32000,ROUNDUP($A12/2,0)+6000,IF($A12<=56000,ROUNDUP($A12/4,0)+14000,28000)))) | F12: =IF($A12<=0,0,IF($A12<=15000,$A12,IF($A12<=40000,ROUNDUP($A12/2,0)+7500,IF($A12<=70000,ROUNDUP($A12/4,0)+17500,35000))))
A13: 50000 | B13: =IF($A13<=0,0,IF($A13<=20000,$A13,IF($A13<=40000,ROUNDUP($A13/2,0)+10000,IF($A13<=80000,ROUNDUP($A13/4,0)+20000,40000)))) | C13: =IF($A13<=0,0,IF($A13<=30000,$A13,IF($A13<=60000,ROUNDUP($A13/2,0)+15000,IF($A13<=120000,ROUNDUP($A13/4,0)+30000,60000)))) | D13: =IF($A13<=0,0,IF($A13<=25000,$A13,IF($A13<=50000,ROUNDUP($A13/2,0)+12500,IF($A13<=100000,ROUNDUP($A13/4,0)+25000,50000)))) | E13: =IF($A13<=0,0,IF($A13<=12000,$A13,IF($A13<=32000,ROUNDUP($A13/2,0)+6000,IF($A13<=56000,ROUNDUP($A13/4,0)+14000,28000)))) | F13: =IF($A13<=0,0,IF($A13<=15000,$A13,IF($A13<=40000,ROUNDUP($A13/2,0)+7500,IF($A13<=70000,ROUNDUP($A13/4,0)+17500,35000))))
A14: 55000 | B14: =IF($A14<=0,0,IF($A14<=20000,$A14,IF($A14<=40000,ROUNDUP($A14/2,0)+10000,IF($A14<=80000,ROUNDUP($A14/4,0)+20000,40000)))) | C14: =IF($A14<=0,0,IF($A14<=30000,$A14,IF($A14<=60000,ROUNDUP($A14/2,0)+15000,IF($A14<=120000,ROUNDUP($A14/4,0)+30000,60000)))) | D14: =IF($A14<=0,0,IF($A14<=25000,$A14,IF($A14<=50000,ROUNDUP($A14/2,0)+12500,IF($A14<=100000,ROUNDUP($A14/4,0)+25000,50000)))) | E14: =IF($A14<=0,0,IF($A14<=12000,$A14,IF($A14<=32000,ROUNDUP($A14/2,0)+6000,IF($A14<=56000,ROUNDUP($A14/4,0)+14000,28000)))) | F14: =IF($A14<=0,0,IF($A14<=15000,$A14,IF($A14<=40000,ROUNDUP($A14/2,0)+7500,IF($A14<=70000,ROUNDUP($A14/4,0)+17500,35000))))
... A33: 150000 | B33: =IF($A33<=0,0,IF($A33<=20000,$A33,IF($A33<=40000,ROUNDUP($A33/2,0)+10000,IF($A33<=80000,ROUNDUP($A33/4,0)+20000,40000)))) | C33: =IF($A33<=0,0,IF($A33<=30000,$A33,IF($A33<=60000,ROUNDUP($A33/2,0)+15000,IF($A33<=120000,ROUNDUP($A33/4,0)+30000,60000)))) | D33: =IF($A33<=0,0,IF($A33<=25000,$A33,IF($A33<=50000,ROUNDUP($A33/2,0)+12500,IF($A33<=100000,ROUNDUP($A33/4,0)+25000,50000)))) | E33: =IF($A33<=0,0,IF($A33<=12000,$A33,IF($A33<=32000,ROUNDUP($A33/2,0)+6000,IF($A33<=56000,ROUNDUP($A33/4,0)+14000,28000)))) | F33: =IF($A33<=0,0,IF($A33<=15000,$A33,IF($A33<=40000,ROUNDUP($A33/2,0)+7500,IF($A33<=70000,ROUNDUP($A33/4,0)+17500,35000))))
A35: 控除の上限: 所得税は3区分の合計で12万円、住民税は7万円。住民税は2.8万円×3＝8.4万円にならない。
A36: 23歳未満の扶養親族がいる特例は、2026年分と2027年分の所得税の一般の新契約だけ。住民税には無い。

Sheet 3_早見表
A1: 年収ごとに、生命保険料控除で1年に減る所得税と住民税の合計（2026年分、給与だけ、他の控除なし）
A2: 年収 | B2: 所得税率 | C2: 一般8万円 | D2: 一般と介護医療8万円ずつ | E2: 3区分8万円ずつ（年24万円） | F2: 特例あり 一般8万円 | G2: 特例あり 一般12万円 | H2: 特例あり 3区分（一般12万円） | I2: 3区分のうち所得税 | J2: 3区分のうち住民税
A3: 1500000 | B3: =計算!AH3 | C3: =計算!AG3 | D3: =計算!AG4 | E3: =計算!AG5 | F3: =計算!AG6 | G3: =計算!AG7 | H3: =計算!AG8 | I3: =計算!AE5 | J3: =計算!AF5
A4: 2000000 | B4: =計算!AH9 | C4: =計算!AG9 | D4: =計算!AG10 | E4: =計算!AG11 | F4: =計算!AG12 | G4: =計算!AG13 | H4: =計算!AG14 | I4: =計算!AE11 | J4: =計算!AF11
A5: 2500000 | B5: =計算!AH15 | C5: =計算!AG15 | D5: =計算!AG16 | E5: =計算!AG17 | F5: =計算!AG18 | G5: =計算!AG19 | H5: =計算!AG20 | I5: =計算!AE17 | J5: =計算!AF17
A6: 3000000 | B6: =計算!AH21 | C6: =計算!AG21 | D6: =計算!AG22 | E6: =計算!AG23 | F6: =計算!AG24 | G6: =計算!AG25 | H6: =計算!AG26 | I6: =計算!AE23 | J6: =計算!AF23
A7: 4000000 | B7: =計算!AH27 | C7: =計算!AG27 | D7: =計算!AG28 | E7: =計算!AG29 | F7: =計算!AG30 | G7: =計算!AG31 | H7: =計算!AG32 | I7: =計算!AE29 | J7: =計算!AF29
A8: 5000000 | B8: =計算!AH33 | C8: =計算!AG33 | D8: =計算!AG34 | E8: =計算!AG35 | F8: =計算!AG36 | G8: =計算!AG37 | H8: =計算!AG38 | I8: =計算!AE35 | J8: =計算!AF35
A9: 5250000 | B9: =計算!AH39 | C9: =計算!AG39 | D9: =計算!AG40 | E9: =計算!AG41 | F9: =計算!AG42 | G9: =計算!AG43 | H9: =計算!AG44 | I9: =計算!AE41 | J9: =計算!AF41
A10: 5260000 | B10: =計算!AH45 | C10: =計算!AG45 | D10: =計算!AG46 | E10: =計算!AG47 | F10: =計算!AG48 | G10: =計算!AG49 | H10: =計算!AG50 | I10: =計算!AE47 | J10: =計算!AF47
A11: 6000000 | B11: =計算!AH51 | C11: =計算!AG51 | D11: =計算!AG52 | E11: =計算!AG53 | F11: =計算!AG54 | G11: =計算!AG55 | H11: =計算!AG56 | I11: =計算!AE53 | J11: =計算!AF53
A12: 7000000 | B12: =計算!AH57 | C12: =計算!AG57 | D12: =計算!AG58 | E12: =計算!AG59 | F12: =計算!AG60 | G12: =計算!AG61 | H12: =計算!AG62 | I12: =計算!AE59 | J12: =計算!AF59
A13: 8000000 | B13: =計算!AH63 | C13: =計算!AG63 | D13: =計算!AG64 | E13: =計算!AG65 | F13: =計算!AG66 | G13: =計算!AG67 | H13: =計算!AG68 | I13: =計算!AE65 | J13: =計算!AF65
A14: 10000000 | B14: =計算!AH69 | C14: =計算!AG69 | D14: =計算!AG70 | E14: =計算!AG71 | F14: =計算!AG72 | G14: =計算!AG73 | H14: =計算!AG74 | I14: =計算!AE71 | J14: =計算!AF71
A15: 12000000 | B15: =計算!AH75 | C15: =計算!AG75 | D15: =計算!AG76 | E15: =計算!AG77 | F15: =計算!AG78 | G15: =計算!AG79 | H15: =計算!AG80 | I15: =計算!AE77 | J15: =計算!AF77
A16: 15000000 | B16: =計算!AH81 | C16: =計算!AG81 | D16: =計算!AG82 | E16: =計算!AG83 | F16: =計算!AG84 | G16: =計算!AG85 | H16: =計算!AG86 | I16: =計算!AE83 | J16: =計算!AF83
A18: 特例ありは、12月31日に23歳未満の扶養親族がいる人。扶養控除は入れていない（16歳未満の子なら扶養控除は無い）。
A19: 緑は、住民税のほうが所得税より多く減る年収。3区分に8万円ずつ払うと、特例があってもなくても減る税は同じになる。

Sheet 4_1万円刻み
A1: 年収150万〜1,200万円を1万円ずつ動かした、生命保険料控除で減る税（2026年分）
A2: 年収 | B2: 所得税率 | C2: 3区分 減る税 | D2: 3区分 所得税 | E2: 3区分 住民税 | F2: 一般8万円 減る税 | G2: 特例あり一般12万円 減る税 | H2: 特例で増える分 | J2: 集計 | K2: 値
A3: 1500000 | B3: =計算!AH87 | C3: =計算!AG87 | D3: =計算!AE87 | E3: =計算!AF87 | F3: =計算!AG88 | G3: =計算!AG89 | H3: =G3-F3 | J3: 行数 | K3: =COUNT(A3:A1053)
A4: 1510000 | B4: =計算!AH90 | C4: =計算!AG90 | D4: =計算!AE90 | E4: =計算!AF90 | F4: =計算!AG91 | G4: =計算!AG92 | H4: =G4-F4 | J4: 3区分で、住民税のほうが多く減る行数 | K4: =SUMPRODUCT(--(E3:E1053>D3:D1053))
A5: 1520000 | B5: =計算!AH93 | C5: =計算!AG93 | D5: =計算!AE93 | E5: =計算!AF93 | F5: =計算!AG94 | G5: =計算!AG95 | H5: =G5-F5 | J5: 3区分で、住民税のほうが多く減る年収の下限 | K5: =_xlfn.AGGREGATE(15,6,A3:A1053/(E3:E1053>D3:D1053),1)
A6: 1530000 | B6: =計算!AH96 | C6: =計算!AG96 | D6: =計算!AE96 | E6: =計算!AF96 | F6: =計算!AG97 | G6: =計算!AG98 | H6: =G6-F6 | J6: 3区分で、住民税のほうが多く減る年収の上限 | K6: =_xlfn.AGGREGATE(14,6,A3:A1053/(E3:E1053>D3:D1053),1)
A7: 1540000 | B7: =計算!AH99 | C7: =計算!AG99 | D7: =計算!AE99 | E7: =計算!AF99 | F7: =計算!AG100 | G7: =計算!AG101 | H7: =G7-F7 | J7: 3区分で、減る税の最小 | K7: =MIN(C3:C1053)
A8: 1550000 | B8: =計算!AH102 | C8: =計算!AG102 | D8: =計算!AE102 | E8: =計算!AF102 | F8: =計算!AG103 | G8: =計算!AG104 | H8: =G8-F8 | J8: 3区分で、減る税の最大 | K8: =MAX(C3:C1053)
A9: 1560000 | B9: =計算!AH105 | C9: =計算!AG105 | D9: =計算!AE105 | E9: =計算!AF105 | F9: =計算!AG106 | G9: =計算!AG107 | H9: =G9-F9 | J9: 所得税率5%の行で、3区分の減る税の最大 | K9: =_xlfn.MAXIFS(C3:C1053,B3:B1053,0.05)
A10: 1570000 | B10: =計算!AH108 | C10: =計算!AG108 | D10: =計算!AE108 | E10: =計算!AF108 | F10: =計算!AG109 | G10: =計算!AG110 | H10: =G10-F10 | J10: 所得税率5%の行で、3区分の減る税の最小 | K10: =_xlfn.MINIFS(C3:C1053,B3:B1053,0.05,C3:C1053,">"&0)
A11: 1580000 | B11: =計算!AH111 | C11: =計算!AG111 | D11: =計算!AE111 | E11: =計算!AF111 | F11: =計算!AG112 | G11: =計算!AG113 | H11: =G11-F11 | J11: 所得税率5%の行で、特例で増える分の最大 | K11: =_xlfn.MAXIFS(H3:H1053,B3:B1053,0.05)
A12: 1590000 | B12: =計算!AH114 | C12: =計算!AG114 | D12: =計算!AE114 | E12: =計算!AF114 | F12: =計算!AG115 | G12: =計算!AG116 | H12: =G12-F12 | J12: 所得税率20%の行で、特例で増える分の最大 | K12: =_xlfn.MAXIFS(H3:H1053,B3:B1053,0.2)
A13: 1600000 | B13: =計算!AH117 | C13: =計算!AG117 | D13: =計算!AE117 | E13: =計算!AF117 | F13: =計算!AG118 | G13: =計算!AG119 | H13: =G13-F13 | J13: 所得税率5%の年収の上限 | K13: =_xlfn.MAXIFS(A3:A1053,B3:B1053,0.05)
A14: 1610000 | B14: =計算!AH120 | C14: =計算!AG120 | D14: =計算!AE120 | E14: =計算!AF120 | F14: =計算!AG121 | G14: =計算!AG122 | H14: =G14-F14
A15: 1620000 | B15: =計算!AH123 | C15: =計算!AG123 | D15: =計算!AE123 | E15: =計算!AF123 | F15: =計算!AG124 | G15: =計算!AG125 | H15: =G15-F15
A16: 1630000 | B16: =計算!AH126 | C16: =計算!AG126 | D16: =計算!AE126 | E16: =計算!AF126 | F16: =計算!AG127 | G16: =計算!AG128 | H16: =G16-F16
A17: 1640000 | B17: =計算!AH129 | C17: =計算!AG129 | D17: =計算!AE129 | E17: =計算!AF129 | F17: =計算!AG130 | G17: =計算!AG131 | H17: =G17-F17
A18: 1650000 | B18: =計算!AH132 | C18: =計算!AG132 | D18: =計算!AE132 | E18: =計算!AF132 | F18: =計算!AG133 | G18: =計算!AG134 | H18: =G18-F18
A19: 1660000 | B19: =計算!AH135 | C19: =計算!AG135 | D19: =計算!AE135 | E19: =計算!AF135 | F19: =計算!AG136 | G19: =計算!AG137 | H19: =G19-F19
A20: 1670000 | B20: =計算!AH138 | C20: =計算!AG138 | D20: =計算!AE138 | E20: =計算!AF138 | F20: =計算!AG139 | G20: =計算!AG140 | H20: =G20-F20
A21: 1680000 | B21: =計算!AH141 | C21: =計算!AG141 | D21: =計算!AE141 | E21: =計算!AF141 | F21: =計算!AG142 | G21: =計算!AG143 | H21: =G21-F21
A22: 1690000 | B22: =計算!AH144 | C22: =計算!AG144 | D22: =計算!AE144 | E22: =計算!AF144 | F22: =計算!AG145 | G22: =計算!AG146 | H22: =G22-F22
A23: 1700000 | B23: =計算!AH147 | C23: =計算!AG147 | D23: =計算!AE147 | E23: =計算!AF147 | F23: =計算!AG148 | G23: =計算!AG149 | H23: =G23-F23
A24: 1710000 | B24: =計算!AH150 | C24: =計算!AG150 | D24: =計算!AE150 | E24: =計算!AF150 | F24: =計算!AG151 | G24: =計算!AG152 | H24: =G24-F24
A25: 1720000 | B25: =計算!AH153 | C25: =計算!AG153 | D25: =計算!AE153 | E25: =計算!AF153 | F25: =計算!AG154 | G25: =計算!AG155 | H25: =G25-F25
A26: 1730000 | B26: =計算!AH156 | C26: =計算!AG156 | D26: =計算!AE156 | E26: =計算!AF156 | F26: =計算!AG157 | G26: =計算!AG158 | H26: =G26-F26
A27: 1740000 | B27: =計算!AH159 | C27: =計算!AG159 | D27: =計算!AE159 | E27: =計算!AF159 | F27: =計算!AG160 | G27: =計算!AG161 | H27: =G27-F27
A28: 1750000 | B28: =計算!AH162 | C28: =計算!AG162 | D28: =計算!AE162 | E28: =計算!AF162 | F28: =計算!AG163 | G28: =計算!AG164 | H28: =G28-F28
A29: 1760000 | B29: =計算!AH165 | C29: =計算!AG165 | D29: =計算!AE165 | E29: =計算!AF165 | F29: =計算!AG166 | G29: =計算!AG167 | H29: =G29-F29
A30: 1770000 | B30: =計算!AH168 | C30: =計算!AG168 | D30: =計算!AE168 | E30: =計算!AF168 | F30: =計算!AG169 | G30: =計算!AG170 | H30: =G30-F30
A31: 1780000 | B31: =計算!AH171 | C31: =計算!AG171 | D31: =計算!AE171 | E31: =計算!AF171 | F31: =計算!AG172 | G31: =計算!AG173 | H31: =G31-F31
A32: 1790000 | B32: =計算!AH174 | C32: =計算!AG174 | D32: =計算!AE174 | E32: =計算!AF174 | F32: =計算!AG175 | G32: =計算!AG176 | H32: =G32-F32
A33: 1800000 | B33: =計算!AH177 | C33: =計算!AG177 | D33: =計算!AE177 | E33: =計算!AF177 | F33: =計算!AG178 | G33: =計算!AG179 | H33: =G33-F33
A34: 1810000 | B34: =計算!AH180 | C34: =計算!AG180 | D34: =計算!AE180 | E34: =計算!AF180 | F34: =計算!AG181 | G34: =計算!AG182 | H34: =G34-F34
A35: 1820000 | B35: =計算!AH183 | C35: =計算!AG183 | D35: =計算!AE183 | E35: =計算!AF183 | F35: =計算!AG184 | G35: =計算!AG185 | H35: =G35-F35
A36: 1830000 | B36: =計算!AH186 | C36: =計算!AG186 | D36: =計算!AE186 | E36: =計算!AF186 | F36: =計算!AG187 | G36: =計算!AG188 | H36: =G36-F36
A37: 1840000 | B37: =計算!AH189 | C37: =計算!AG189 | D37: =計算!AE189 | E37: =計算!AF189 | F37: =計算!AG190 | G37: =計算!AG191 | H37: =G37-F37
A38: 1850000 | B38: =計算!AH192 | C38: =計算!AG192 | D38: =計算!AE192 | E38: =計算!AF192 | F38: =計算!AG193 | G38: =計算!AG194 | H38: =G38-F38
A39: 1860000 | B39: =計算!AH195 | C39: =計算!AG195 | D39: =計算!AE195 | E39: =計算!AF195 | F39: =計算!AG196 | G39: =計算!AG197 | H39: =G39-F39
A40: 1870000 | B40: =計算!AH198 | C40: =計算!AG198 | D40: =計算!AE198 | E40: =計算!AF198 | F40: =計算!AG199 | G40: =計算!AG200 | H40: =G40-F40
...

Sheet 5_使い方
A1: 使い方
A3: 1_いくら減るか の黄色いセルを埋める。B3に給与の年収、B4に社会保険料（源泉徴収票の額。空欄なら見積もり）、
A4: B8〜B12に生命保険料控除証明書の「年間の申告額」を区分ごとに入れる。G17に1年に減る所得税と住民税の合計が出る。
A5: 所得税は年末調整か確定申告で、住民税は翌年6月からの税額で減る。
A7: 計算のしかた: 控除なしと控除ありで所得税と住民税を出し、差をとる。
A8: 所得税の控除（新契約）: 保険料2万円以下は全額、4万円以下は1/2＋1万円、8万円以下は1/4＋2万円、8万円超は4万円。
A9: 所得税の控除（旧契約）: 2.5万円以下は全額、5万円以下は1/2＋1.25万円、10万円以下は1/4＋2.5万円、10万円超は5万円。
A10: 23歳未満の扶養親族がいる場合の一般の新契約（2026・2027年分）: 3万円以下は全額、6万円以下は1/2＋1.5万円、
A11: 12万円以下は1/4＋3万円、12万円超は6万円。3区分の合計の上限12万円は変わらない。
A12: 住民税の控除（新契約）: 1.2万円以下は全額、3.2万円以下は1/2＋6,000円、5.6万円以下は1/4＋1.4万円、5.6万円超は2.8万円。
A13: 住民税の控除（旧契約）: 1.5万円以下は全額、4万円以下は1/2＋7,500円、7万円以下は1/4＋1.75万円、7万円超は3.5万円。合計の上限7万円。
A14: 新と旧の両方がある区分は、旧だけで計算した額と、新と旧の合計（所得税4万円、特例6万円、住民税2.8万円まで）の大きいほう。
... A36: 特定の保険を勧めるものではない。保険料を増やしたときに税がいくら変わるかだけを数えている。

Sheet 計算
A1: 1行で1人分を計算する。3_早見表と4_1万円刻みはここを参照している。社会保険料は年収から見積もり（40歳未満）。保険料は1年に払った額（剰余金・割戻金を引いた後）
A2: 用途 | B2: 年収 | C2: 年分 | D2: 23歳未満の扶養親族 | E2: 一般 新契約 | F2: 一般 旧契約 | G2: 介護医療 | H2: 個人年金 新契約 | I2: 個人年金 旧契約 | J2: 社会保険料 | K2: 他の控除（所得税） | L2: 他の控除（住民税） | M2: 給与所得 | N2: 基礎控除（所得税） | O2: 所得税 一般の控除 | P2: 所得税 介護医療の控除 | Q2: 所得税 個人年金の控除 | R2: 所得税の控除 合計 | S2: 住民税 一般の控除 | T2: 住民税 介護医療の控除 | U2: 住民税 個人年金の控除 | V2: 住民税の控除 合計 | W2: 所得税の課税所得 控除なし | X2: 所得税の課税所得 控除あり | Y2: 所得税 控除なし | Z2: 所得税 控除あり | AA2: 住民税の課税所得 控除なし | AB2: 住民税の課税所得 控除あり | AC2: 住民税所得割 控除なし | AD2: 住民税所得割 控除あり | AE2: 減る所得税 | AF2: 減る住民税 | AG2: 減る税の合計 | AH2: 控除なしの所得税率
A3: 早見表 一般8万円 | B3: ='3_早見表'!$A$3 | C3: 2026 | D3: いいえ | E3: 80000 | F3: 0 | G3: 0 | H3: 0 | I3: 0 | J3: =ROUND(MIN(B3/12,650000)*12*0.0915+MIN(B3/12,1390000)*12*(0.0504+0)+B3*0.005,0) | K3: 0 | L3: 0 | M3: =ROUND(IF(C3>=2026,IF(B3<741000,0,IF(B3<2191000,B3-740000,IF(B3<2193000,1451000,IF(B3<2196000,1453000,IF(B3<2200000,1456000,IF(B3<3600000,ROUNDDOWN(B3/4,-3)*2.8-80000,IF(B3<6600000,ROUNDDOWN(B3/4,-3)*3.2-440000,IF(B3<8500000,ROUNDDOWN(B3*0.9,0)-1100000,B3-1950000)))))))),IF(B3<651000,0,IF(B3<1900000,B3-650000,IF(B3<3600000,ROUNDDOWN(B3/4,-3)*2.8-80000,IF(B3<6600000,ROUNDDOWN(B3/4,-3)*3.2-440000,IF(B3<8500000,ROUNDDOWN(B3*0.9,0)-1100000,B3-1950000)))))),0) | N3: =IF(M3>23500000,NA(),IF(C3>=2026,IF(M3<=4890000,1040000,IF(M3<=6550000,670000,620000)),IF(M3<=1320000,950000,IF(M3<=3360000,880000,IF(M3<=4890000,680000,IF(M3<=6550000,630000,580000)))))) | O3: =IF(F3<=0,IF(AND(D3="はい",C3>=2026,C3<=2027),IF(E3<=0,0,IF(E3<=30000,E3,IF(E3<=60000,ROUNDUP(E3/2,0)+15000,IF(E3<=120000,ROUNDUP(E3/4,0)+30000,60000)))),IF(E3<=0,0,IF(E3<=20000,E3,IF(E3<=40000,ROUNDUP(E3/2,0)+10000,IF(E3<=80000,ROUNDUP(E3/4,0)+20000,40000))))),IF(E3<=0,IF(F3<=0,0,IF(F3<=25000,F3,IF(F3<=50000,ROUNDUP(F3/2,0)+12500,IF(F3<=100000,ROUNDUP(F3/4,0)+25000,50000)))),MAX(IF(F3<=0,0,IF(F3<=25000,F3,IF(F3<=50000,ROUNDUP(F3/2,0)+12500,IF(F3<=100000,ROUNDUP(F3/4,0)+25000,50000)))),MIN(IF(AND(D3="はい",C3>=2026,C3<=2027),IF(E3<=0,0,IF(E3<=30000,E3,IF(E3<=60000,ROUNDUP(E3/2,0)+15000,IF(E3<=120000,ROUNDUP(E3/4,0)+30000,60000)))),IF(E3<=0,0,IF(E3<=20000,E3,IF(E3<=40000,ROUNDUP(E3/2,0)+10000,IF(E3<=80000,ROUNDUP(E3/4,0)+20000,40000)))))+IF(F3<=0,0,IF(F3<=25000,F3,IF(F3<=50000,ROUNDUP(F3/2,0)+12500,IF(F3<=100000,ROUNDUP(F3/4,0)+25000,50000)))),IF(AND(D3="はい",C3>=2026,C3<=2027),60000,40000))))) | P3: =IF(G3<=0,0,IF(G3<=20000,G3,IF(G3<=40000,ROUNDUP(G3/2,0)+10000,IF(G3<=80000,ROUNDUP(G3/4,0)+20000,40000)))) | Q3: =IF(I3<=0,IF(H3<=0,0,IF(H3<=20000,H3,IF(H3<=40000,ROUNDUP(H3/2,0)+10000,IF(H3<=80000,ROUNDUP(H3/4,0)+20000,40000)))),IF(H3<=0,IF(I3<=0,0,IF(I3<=25000,I3,IF(I3<=50000,ROUNDUP(I3/2,0)+12500,IF(I3<=100000,ROUNDUP(I3/4,0)+25000,50000)))),MAX(IF(I3<=0,0,IF(I3<=25000,I3,IF(I3<=50000,ROUNDUP(I3/2,0)+12500,IF(I3<=100000,ROUNDUP(I3/4,0)+25000,50000)))),MIN(IF(H3<=0,0,IF(H3<=20000,H3,IF(H3<=40000,ROUNDUP(H3/2,0)+10000,IF(H3<=80000,ROUNDUP(H3/4,0)+20000,40000))))+IF(I3<=0,0,IF(I3<=25000,I3,IF(I3<=50000,ROUNDUP(I3/2,0)+12500,IF(I3<=100000,ROUNDUP(I3/4,0)+25000,50000)))),40000)))) | R3: =MIN(120000,O3+P3+Q3) | S3: =IF(F3<=0,IF(E3<=0,0,IF(E3<=12000,E3,IF(E3<=32000,ROUNDUP(E3/2,0)+6000,IF(E3<=56000,ROUNDUP(E3/4,0)+14000,28000)))),IF(E3<=0,IF(F3<=0,0,IF(F3<=15000,F3,IF(F3<=40000,ROUNDUP(F3/2,0)+7500,IF(F3<=70000,ROUNDUP(F3/4,0)+17500,35000)))),MAX(IF(F3<=0,0,IF(F3<=15000,F3,IF(F3<=40000,ROUNDUP(F3/2,0)+7500,IF(F3<=70000,ROUNDUP(F3/4,0)+17500,35000)))),MIN(IF(E3<=0,0,IF(E3<=12000,E3,IF(E3<=32000,ROUNDUP(E3/2,0)+6000,IF(E3<=56000,ROUNDUP(E3/4,0)+14000,28000))))+IF(F3<=0,0,IF(F3<=15000,F3,IF(F3<=40000,ROUNDUP(F3/2,0)+7500,IF(F3<=70000,ROUNDUP(F3/4,0)+17500,35000)))),28000)))) | T3: =IF(G3<=0,0,IF(G3<=12000,G3,IF(G3<=32000,ROUNDUP(G3/2,0)+6000,IF(G3<=56000,ROUNDUP(G3/4,0)+14000,28000)))) | U3: =IF(I3<=0,IF(H3<=0,0,IF(H3<=12000,H3,IF(H3<=32000,ROUNDUP(H3/2,0)+6000,IF(H3<=56000,ROUNDUP(H3/4,0)+14000,28000)))),IF(H3<=0,IF(I3<=0,0,IF(I3<=15000,I3,IF(I3<=40000,ROUNDUP(I3/2,0)+7500,IF(I3<=70000,ROUNDUP(I3/4,0)+17500,35000)))),MAX(IF(I3<=0,0,IF(I3<=15000,I3,IF(I3<=40000,ROUNDUP(I3/2,0)+7500,IF(I3<=70000,ROUNDUP(I3/4,0)+17500,35000)))),MIN(IF(H3<=0,0,IF(H3<=12000,H3,IF(H3<=32000,ROUNDUP(H3/2,0)+6000,IF(H3<=56000,ROUNDUP(H3/4,0)+14000,28000))))+IF(I3<=0,0,IF(I3<=15000,I3,IF(I3<=40000,ROUNDUP(I3/2,0)+7500,IF(I3<=70000,ROUNDUP(I3/4,0)+17500,35000)))),28000)))) | V3: =MIN(70000,S3+T3+U3) | W3: =MAX(0,ROUNDDOWN(M3-J3-N3-K3-0,-3)) | X3: =MAX(0,ROUNDDOWN(M3-J3-N3-K3-R3,-3)) | Y3: =IF(W3<=0,0,ROUNDDOWN((W3*LOOKUP(W3,{0,1950001,3300001,6950001,9000001,18000001,40000001},{0.05,0.1,0.2,0.23,0.33,0.4,0.45})-LOOKUP(W3,{0,1950001,3300001,6950001,9000001,18000001,40000001},{0,97500,427500,636000,1536000,2796000,4796000}))*1.021,-2)) | Z3: =IF(X3<=0,0,ROUNDDOWN((X3*LOOKUP(X3,{0,1950001,3300001,6950001,9000001,18000001,40000001},{0.05,0.1,0.2,0.23,0.33,0.4,0.45})-LOOKUP(X3,{0,1950001,3300001,6950001,9000001,18000001,40000001},{0,97500,427500,636000,1536000,2796000,4796000}))*1.021,-2)) | AA3: =MAX(0,ROUNDDOWN(M3-J3-430000-L3-0,-3)) | AB3: =MAX(0,ROUNDDOWN(M3-J3-430000-L3-V3,-3)) | AC3: =IF(M3<=450000,0,MAX(0,ROUNDDOWN(AA3*0.06-MIN(50000,AA3)*0.03,-2))+MAX(0,ROUNDDOWN(AA3*0.04-MIN(50000,AA3)*0.02,-2))) | AD3: =IF(M3<=450000,0,MAX(0,ROUNDDOWN(AB3*0.06-MIN(50000,AB3)*0.03,-2))+MAX(0,ROUNDDOWN(AB3*0.04-MIN(50000,AB3)*0.02,-2))) | AE3: =Y3-Z3 | AF3: =AC3-AD3 | AG3: =AE3+AF3 | AH3: =IF(W3<=0,0,LOOKUP(W3,{0,1950001,3300001,6950001,9000001,18000001,40000001},{0.05,0.1,0.2,0.23,0.33,0.4,0.45}))
A4: 早見表 一般と介護医療8万円ずつ | B4: ='3_早見表'!$A$3 | C4: 2026 | D4: いいえ | E4: 80000 | F4: 0 | G4: 80000 | H4: 0 | I4: 0 | J4: =ROUND(MIN(B4/12,650000)*12*0.0915+MIN(B4/12,1390000)*12*(0.0504+0)+B4*0.005,0) | K4: 0 | L4: 0 | M4: =ROUND(IF(C4>=2026,IF(B4<741000,0,IF(B4<2191000,B4-740000,IF(B4<2193000,1451000,IF(B4<2196000,1453000,IF(B4<2200000,1456000,IF(B4<3600000,ROUNDDOWN(B4/4,-3)*2.8-80000,IF(B4<6600000,ROUNDDOWN(B4/4,-3)*3.2-440000,IF(B4<8500000,ROUNDDOWN(B4*0.9,0)-1100000,B4-1950000)))))))),IF(B4<651000,0,IF(B4<1900000,B4-650000,IF(B4<3600000,ROUNDDOWN(B4/4,-3)*2.8-80000,IF(B4<6600000,ROUNDDOWN(B4/4,-3)*3.2-440000,IF(B4<8500000,ROUNDDOWN(B4*0.9,0)-1100000,B4-1950000)))))),0) | N4: =IF(M4>23500000,NA(),IF(C4>=2026,IF(M4<=4890000,1040000,IF(M4<=6550000,670000,620000)),IF(M4<=1320000,950000,IF(M4<=3360000,880000,IF(M4<=4890000,680000,IF(M4<=6550000,630000,580000)))))) | O4: =IF(F4<=0,IF(AND(D4="はい",C4>=2026,C4<=2027),IF(E4<=0,0,IF(E4<=30000,E4,IF(E4<=60000,ROUNDUP(E4/2,0)+15000,IF(E4<=120000,ROUNDUP(E4/4,0)+30000,60000)))),IF(E4<=0,0,IF(E4<=20000,E4,IF(E4<=40000,ROUNDUP(E4/2,0)+10000,IF(E4<=80000,ROUNDUP(E4/4,0)+20000,40000))))),IF(E4<=0,IF(F4<=0,0,IF(F4<=25000,F4,IF(F4<=50000,ROUNDUP(F4/2,0)+12500,IF(F4<=100000,ROUNDUP(F4/4,0)+25000,50000)))),MAX(IF(F4<=0,0,IF(F4<=25000,F4,IF(F4<=50000,ROUNDUP(F4/2,0)+12500,IF(F4<=100000,ROUNDUP(F4/4,0)+25000,50000)))),MIN(IF(AND(D4="はい",C4>=2026,C4<=2027),IF(E4<=0,0,IF(E4<=30000,E4,IF(E4<=60000,ROUNDUP(E4/2,0)+15000,IF(E4<=120000,ROUNDUP(E4/4,0)+30000,60000)))),IF(E4<=0,0,IF(E4<=20000,E4,IF(E4<=40000,ROUNDUP(E4/2,0)+10000,IF(E4<=80000,ROUNDUP(E4/4,0)+20000,40000)))))+IF(F4<=0,0,IF(F4<=25000,F4,IF(F4<=50000,ROUNDUP(F4/2,0)+12500,IF(F4<=100000,ROUNDUP(F4/4,0)+25000,50000)))),IF(AND(D4="はい",C4>=2026,C4<=2027),60000,40000))))) | P4: =IF(G4<=0,0,IF(G4<=20000,G4,IF(G4<=40000,ROUNDUP(G4/2,0)+10000,IF(G4<=80000,ROUNDUP(G4/4,0)+20000,40000)))) | Q4: =IF(I4<=0,IF(H4<=0,0,IF(H4<=20000,H4,IF(H4<=40000,ROUNDUP(H4/2,0)+10000,IF(H4<=80000,ROUNDUP(H4/4,0)+20000,40000)))),IF(H4<=0,IF(I4<=0,0,IF(I4<=25000,I4,IF(I4<=50000,ROUNDUP(I4/2,0)+12500,IF(I4<=100000,ROUNDUP(I4/4,0)+25000,50000)))),MAX(IF(I4<=0,0,IF(I4<=25000,I4,IF(I4<=50000,ROUNDUP(I4/2,0)+12500,IF(I4<=100000,ROUNDUP(I4/4,0)+25000,50000)))),MIN(IF(H4<=0,0,IF(H4<=20000,H4,IF(H4<=40000,ROUNDUP(H4/2,0)+10000,IF(H4<=80000,ROUNDUP(H4/4,0)+20000,40000))))+IF(I4<=0,0,IF(I4<=25000,I4,IF(I4<=50000,ROUNDUP(I4/2,0)+12500,IF(I4<=100000,ROUNDUP(I4/4,0)+25000,50000)))),40000)))) | R4: =MIN(120000,O4+P4+Q4) | S4: =IF(F4<=0,IF(E4<=0,0,IF(E4<=12000,E4,IF(E4<=32000,ROUNDUP(E4/2,0)+6000,IF(E4<=56000,ROUNDUP(E4/4,0)+14000,28000)))),IF(E4<=0,IF(F4<=0,0,IF(F4<=15000,F4,IF(F4<=40000,ROUNDUP(F4/2,0)+7500,IF(F4<=70000,ROUNDUP(F4/4,0)+17500,35000)))),MAX(IF(F4<=0,0,IF(F4<=15000,F4,IF(F4<=40000,ROUNDUP(F4/2,0)+7500,IF(F4<=70000,ROUNDUP(F4/4,0)+17500,35000)))),MIN(IF(E4<=0,0,IF(E4<=12000,E4,IF(E4<=32000,ROUNDUP(E4/2,0)+6000,IF(E4<=56000,ROUNDUP(E4/4,0)+14000,28000))))+IF(F4<=0,0,IF(F4<=15000,F4,IF(F4<=40000,ROUNDUP(F4/2,0)+7500,IF(F4<=70000,ROUNDUP(F4/4,0)+17500,35000)))),28000)))) | T4: =IF(G4<=0,0,IF(G4<=12000,G4,IF(G4<=32000,ROUNDUP(G4/2,0)+6000,IF(G4<=56000,ROUNDUP(G4/4,0)+14000,28000)))) | U4: =IF(I4<=0,IF(H4<=0,0,IF(H4<=12000,H4,IF(H4<=32000,ROUNDUP(H4/2,0)+6000,IF(H4<=56000,ROUNDUP(H4/4,0)+14000,28000)))),IF(H4<=0,IF(I4<=0,0,IF(I4<=15000,I4,IF(I4<=40000,ROUNDUP(I4/2,0)+7500,IF(I4<=70000,ROUNDUP(I4/4,0)+17500,35000)))),MAX(IF(I4<=0,0,IF(I4<=15000,I4,IF(I4<=40000,ROUNDUP(I4/2,0)+7500,IF(I4<=70000,ROUNDUP(I4/4,0)+17500,35000)))),MIN(IF(H4<=0,0,IF(H4<=12000,H4,IF(H4<=32000,ROUNDUP(H4/2,0)+6000,IF(H4<=56000,ROUNDUP(H4/4,0)+14000,28000))))+IF(I4<=0,0,IF(I4<=15000,I4,IF(I4<=40000,ROUNDUP(I4/2,0)+7500,IF(I4<=70000,ROUNDUP(I4/4,0)+17500,35000)))),28000)))) | V4: =MIN(70000,S4+T4+U4) | W4: =MAX(0,ROUNDDOWN(M4-J4-N4-K4-0,-3)) | X4: =MAX(0,ROUNDDOWN(M4-J4-N4-K4-R4,-3)) | Y4: =IF(W4<=0,0,ROUNDDOWN((W4*LOOKUP(W4,{0,1950001,3300001,6950001,9000001,18000001,40000001},{0.05,0.1,0.2,0.23,0.33,0.4,0.45})-LOOKUP(W4,{0,1950001,3300001,6950001,9000001,18000001,40000001},{0,97500,427500,636000,1536000,2796000,4796000}))*1.021,-2)) | Z4: =IF(X4<=0,0,ROUNDDOWN((X4*LOOKUP(X4,{0,1950001,3300001,6950001,9000001,18000001,40000001},{0.05,0.1,0.2,0.23,0.33,0.4,0.45})-LOOKUP(X4,{0,1950001,3300001,6950001,9000001,18000001,40000001},{0,97500,427500,636000,1536000,2796000,4796000}))*1.021,-2)) | AA4: =MAX(0,ROUNDDOWN(M4-J4-430000-L4-0,-3)) | AB4: =MAX(0,ROUNDDOWN(M4-J4-430000-L4-V4,-3)) | AC4: =IF(M4<=450000,0,MAX(0,ROUNDDOWN(AA4*0.06-MIN(50000,AA4)*0.03,-2))+MAX(0,ROUNDDOWN(AA4*0.04-MIN(50000,AA4)*0.02,-2))) | AD4: =IF(M4<=450000,0,MAX(0,ROUNDDOWN(AB4*0.06-MIN(50000,AB4)*0.03,-2))+MAX(0,ROUNDDOWN(AB4*0.04-MIN(50000,AB4)*0.02,-2))) | AE4: =Y4-Z4 | AF4: =AC4-AD4 | AG4: =AE4+AF4 | AH4: =IF(W4<=0,0,LOOKUP(W4,{0,1950001,3300001,6950001,9000001,18000001,40000001},{0.05,0.1,0.2,0.23,0.33,0.4,0.45}))
A5: 早見表 3区分8万円ずつ（年24万円） | B5: ='3_早見表'!$A$3 | C5: 2026 | D5: いいえ | E5: 80000 | F5: 0 | G5: 80000 | H5: 80000 | I5: 0 | J5: =ROUND(MIN(B5/12,650000)*12*0.0915+MIN(B5/12,1390000)*12*(0.0504+0)+B5*0.005,0) | K5: 0 | L5: 0 | M5: =ROUND(IF(C5>=2026,IF(B5<741000,0,IF(B5<2191000,B5-740000,IF(B5<2193000,1451000,IF(B5<2196000,1453000,IF(B5<2200000,1456000,IF(B5<3600000,ROUNDDOWN(B5/4,-3)*2.8-80000,IF(B5<6600000,ROUNDDOWN(B5/4,-3)*3.2-440000,IF(B5<8500000,ROUNDDOWN(B5*0.9,0)-1100000,B5-1950000)))))))),IF(B5<651000,0,IF(B5<1900000,B5-650000,IF(B5<3600000,ROUNDDOWN(B5/4,-3)*2.8-80000,IF(B5<6600000,ROUNDDOWN(B5/4,-3)*3.2-440000,IF(B5<8500000,ROUNDDOWN(B5*0.9,0)-1100000,B5-1950000)))))),0) | N5: =IF(M5>23500000,NA(),IF(C5>=2026,IF(M5<=4890000,1040000,IF(M5<=6550000,670000,620000)),IF(M5<=1320000,950000,IF(M5<=3360000,880000,IF(M5<=4890000,680000,IF(M5<=6550000,630000,580000)))))) | O5: =IF(F5<=0,IF(AND(D5="はい",C5>=2026,C5<=2027),IF(E5<=0,0,IF(E5<=30000,E5,IF(E5<=60000,ROUNDUP(E5/2,0)+15000,IF(E5<=120000,ROUNDUP(E5/4,0)+30000,60000)))),IF(E5<=0,0,IF(E5<=20000,E5,IF(E5<=40000,ROUNDUP(E5/2,0)+10000,IF(E5<=80000,ROUNDUP(E5/4,0)+20000,40000))))),IF(E5<=0,IF(F5<=0,0,IF(F5<=25000,F5,IF(F5<=50000,ROUNDUP(F5/2,0)+12500,IF(F5<=100000,ROUNDUP(F5/4,0)+25000,50000)))),MAX(IF(F5<=0,0,IF(F5<=25000,F5,IF(F5<=50000,ROUNDUP(F5/2,0)+12500,IF(F5<=100000,ROUNDUP(F5/4,0)+25000,50000)))),MIN(IF(AND(D5="はい",C5>=2026,C5<=2027),IF(E5<=0,0,IF(E5<=30000,E5,IF(E5<=60000,ROUNDUP(E5/2,0)+15000,IF(E5<=120000,ROUNDUP(E5/4,0)+30000,60000)))),IF(E5<=0,0,IF(E5<=20000,E5,IF(E5<=40000,ROUNDUP(E5/2,0)+10000,IF(E5<=80000,ROUNDUP(E5/4,0)+20000,40000)))))+IF(F5<=0,0,IF(F5<=25000,F5,IF(F5<=50000,ROUNDUP(F5/2,0)+12500,IF(F5<=100000,ROUNDUP(F5/4,0)+25000,50000)))),IF(AND(D5="はい",C5>=2026,C5<=2027),60000,40000))))) | P5: =IF(G5<=0,0,IF(G5<=20000,G5,IF(G5<=40000,ROUNDUP(G5/2,0)+10000,IF(G5<=80000,ROUNDUP(G5/4,0)+20000,40000)))) | Q5: =IF(I5<=0,IF(H5<=0,0,IF(H5<=20000,H5,IF(H5<=40000,ROUNDUP(H5/2,0)+10000,IF(H5<=80000,ROUNDUP(H5/4,0)+20000,40000)))),IF(H5<=0,IF(I5<=0,0,IF(I5<=25000,I5,IF(I5<=50000,ROUNDUP(I5/2,0)+12500,IF(I5<=100000,ROUNDUP(I5/4,0)+25000,50000)))),MAX(IF(I5<=0,0,IF(I5<=25000,I5,IF(I5<=50000,ROUNDUP(I5/2,0)+12500,IF(I5<=100000,ROUNDUP(I5/4,0)+25000,50000)))),MIN(IF(H5<=0,0,IF(H5<=20000,H5,IF(H5<=40000,ROUNDUP(H5/2,0)+10000,IF(H5<=80000,ROUNDUP(H5/4,0)+20000,40000))))+IF(I5<=0,0,IF(I5<=25000,I5,IF(I5<=50000,ROUNDUP(I5/2,0)+12500,IF(I5<=100000,ROUNDUP(I5/4,0)+25000,50000)))),40000)))) | R5: =MIN(120000,O5+P5+Q5) | S5: =IF(F5<=0,IF(E5<=0,0,IF(E5<=12000,E5,IF(E5<=32000,ROUNDUP(E5/2,0)+6000,IF(E5<=56000,ROUNDUP(E5/4,0)+14000,28000)))),IF(E5<=0,IF(F5<=0,0,IF(F5<=15000,F5,IF(F5<=40000,ROUNDUP(F5/2,0)+7500,IF(F5<=70000,ROUNDUP(F5/4,0)+17500,35000)))),MAX(IF(F5<=0,0,IF(F5<=15000,F5,IF(F5<=40000,ROUNDUP(F5/2,0)+7500,IF(F5<=70000,ROUNDUP(F5/4,0)+17500,35000)))),MIN(IF(E5<=0,0,IF(E5<=12000,E5,IF(E5<=32000,ROUNDUP(E5/2,0)+6000,IF(E5<=56000,ROUNDUP(E5/4,0)+14000,28000))))+IF(F5<=0,0,IF(F5<=15000,F5,IF(F5<=40000,ROUNDUP(F5/2,0)+7500,IF(F5<=70000,ROUNDUP(F5/4,0)+17500,35000)))),28000)))) | T5: =IF(G5<=0,0,IF(G5<=12000,G5,IF(G5<=32000,ROUNDUP(G5/2,0)+6000,IF(G5<=56000,ROUNDUP(G5/4,0)+14000,28000)))) | U5: =IF(I5<=0,IF(H5<=0,0,IF(H5<=12000,H5,IF(H5<=32000,ROUNDUP(H5/2,0)+6000,IF(H5<=56000,ROUNDUP(H5/4,0)+14000,28000)))),IF(H5<=0,IF(I5<=0,0,IF(I5<=15000,I5,IF(I5<=40000,ROUNDUP(I5/2,0)+7500,IF(I5<=70000,ROUNDUP(I5/4,0)+17500,35000)))),MAX(IF(I5<=0,0,IF(I5<=15000,I5,IF(I5<=40000,ROUNDUP(I5/2,0)+7500,IF(I5<=70000,ROUNDUP(I5/4,0)+17500,35000)))),MIN(IF(H5<=0,0,IF(H5<=12000,H5,IF(H5<=32000,ROUNDUP(H5/2,0)+6000,IF(H5<=56000,ROUNDUP(H5/4,0)+14000,28000))))+IF(I5<=0,0,IF(I5<=15000,I5,IF(I5<=40000,ROUNDUP(I5/2,0)+7500,IF(I5<=70000,ROUNDUP(I5/4,0)+17500,35000)))),28000)))) | V5: =MIN(70000,S5+T5+U5) | W5: =MAX(0,ROUNDDOWN(M5-J5-N5-K5-0,-3)) | X5: =MAX(0,ROUNDDOWN(M5-J5-N5-K5-R5,-3)) | Y5: =IF(W5<=0,0,ROUNDDOWN((W5*LOOKUP(W5,{0,1950001,3300001,6950001,9000001,18000001,40000001},{0.05,0.1,0.2,0.23,0.33,0.4,0.45})-LOOKUP(W5,{0,1950001,3300001,6950001,9000001,18000001,40000001},{0,97500,427500,636000,1536000,2796000,4796000}))*1.021,-2)) | Z5: =IF(X5<=0,0,ROUNDDOWN((X5*LOOKUP(X5,{0,1950001,3300001,6950001,9000001,18000001,40000001},{0.05,0.1,0.2,0.23,0.33,0.4,0.45})-LOOKUP(X5,{0,1950001,3300001,6950001,9000001,18000001,40000001},{0,97500,427500,636000,1536000,2796000,4796000}))*1.021,-2)) | AA5: =MAX(0,ROUNDDOWN(M5-J5-430000-L5-0,-3)) | AB5: =MAX(0,ROUNDDOWN(M5-J5-430000-L5-V5,-3)) | AC5: =IF(M5<=450000,0,MAX(0,ROUNDDOWN(AA5*0.06-MIN(50000,AA5)*0.03,-2))+MAX(0,ROUNDDOWN(AA5*0.04-MIN(50000,AA5)*0.02,-2))) | AD5: =IF(M5<=450000,0,MAX(0,ROUNDDOWN(AB5*0.06-MIN(50000,AB5)*0.03,-2))+MAX(0,ROUNDDOWN(AB5*0.04-MIN(50000,AB5)*0.02,-2))) | AE5: =Y5-Z5 | AF5: =AC5-AD5 | AG5: =AE5+AF5 | AH5: =IF(W5<=0,0,LOOKUP(W5,{0,1950001,3300001,6950001,9000001,18000001,40000001},{0.05,0.1,0.2,0.23,0.33,0.4,0.45}))
A6: 早見表 特例あり 一般8万円 | B6: ='3_早見表'!$A$3 | C6: 2026 | D6: はい | E6: 80000 | F6: 0 | G6: 0 | H6: 0 | I6: 0 | J6: =ROUND(MIN(B6/12,650000)*12*0.0915+MIN(B6/12,1390000)*12*(0.0504+0)+B6*0.005,0) | K6: 0 | L6: 0 | M6: =ROUND(IF(C6>=2026,IF(B6<741000,0,IF(B6<2191000,B6-740000,IF(B6<2193000,1451000,IF(B6<2196000,1453000,IF(B6<2200000,1456000,IF(B6<3600000,ROUNDDOWN(B6/4,-3)*2.8-80000,IF(B6<6600000,ROUNDDOWN(B6/4,-3)*3.2-440000,IF(B6<8500000,ROUNDDOWN(B6*0.9,0)-1100000,B6-1950000)))))))),IF(B6<651000,0,IF(B6<1900000,B6-650000,IF(B6<3600000,ROUNDDOWN(B6/4,-3)*2.8-80000,IF(B6<6600000,ROUNDDOWN(B6/4,-3)*3.2-440000,IF(B6<8500000,ROUNDDOWN(B6*0.9,0)-1100000,B6-1950000)))))),0) | N6: =IF(M6>23500000,NA(),IF(C6>=2026,IF(M6<=4890000,1040000,IF(M6<=6550000,670000,620000)),IF(M6<=1320000,950000,IF(M6<=3360000,880000,IF(M6<=4890000,680000,IF(M6<=6550000,630000,580000)))))) | O6: =IF(F6<=0,IF(AND(D6="はい",C6>=2026,C6<=2027),IF(E6<=0,0,IF(E6<=30000,E6,IF(E6<=60000,ROUNDUP(E6/2,0)+15000,IF(E6<=120000,ROUNDUP(E6/4,0)+30000,60000)))),IF(E6<=0,0,IF(E6<=20000,E6,IF(E6<=40000,ROUNDUP(E6/2,0)+10000,IF(E6<=80000,ROUNDUP(E6/4,0)+20000,40000))))),IF(E6<=0,IF(F6<=0,0,IF(F6<=25000,F6,IF(F6<=50000,ROUNDUP(F6/2,0)+12500,IF(F6<=100000,ROUNDUP(F6/4,0)+25000,50000)))),MAX(IF(F6<=0,0,IF(F6<=25000,F6,IF(F6<=50000,ROUNDUP(F6/2,0)+12500,IF(F6<=100000,ROUNDUP(F6/4,0)+25000,50000)))),MIN(IF(AND(D6="はい",C6>=2026,C6<=2027),IF(E6<=0,0,IF(E6<=30000,E6,IF(E6<=60000,ROUNDUP(E6/2,0)+15000,IF(E6<=120000,ROUNDUP(E6/4,0)+30000,60000)))),IF(E6<=0,0,IF(E6<=20000,E6,IF(E6<=40000,ROUNDUP(E6/2,0)+10000,IF(E6<=80000,ROUNDUP(E6/4,0)+20000,40000)))))+IF(F6<=0,0,IF(F6<=25000,F6,IF(F6<=50000,ROUNDUP(F6/2,0)+12500,IF(F6<=100000,ROUNDUP(F6/4,0)+25000,50000)))),IF(AND(D6="はい",C6>=2026,C6<=2027),60000,40000))))) | P6: =IF(G6<=0,0,IF(G6<=20000,G6,IF(G6<=40000,ROUNDUP(G6/2,0)+10000,IF(G6<=80000,ROUNDUP(G6/4,0)+20000,40000)))) | Q6: =IF(I6<=0,IF(H6<=0,0,IF(H6<=20000,H6,IF(H6<=40000,ROUNDUP(H6/2,0)+10000,IF(H6<=80000,ROUNDUP(H6/4,0)+20000,40000)))),IF(H6<=0,IF(I6<=0,0,IF(I6<=25000,I6,IF(I6<=50000,ROUNDUP(I6/2,0)+12500,IF(I6<=100000,ROUNDUP(I6/4,0)+25000,50000)))),MAX(IF(I6<=0,0,IF(I6<=25000,I6,IF(I6<=50000,ROUNDUP(I6/2,0)+12500,IF(I6<=100000,ROUNDUP(I6/4,0)+25000,50000)))),MIN(IF(H6<=0,0,IF(H6<=20000,H6,IF(H6<=40000,ROUNDUP(H6/2,0)+10000,IF(H6<=80000,ROUNDUP(H6/4,0)+20000,40000))))+IF(I6<=0,0,IF(I6<=25000,I6,IF(I6<=50000,ROUNDUP(I6/2,0)+12500,IF(I6<=100000,ROUNDUP(I6/4,0)+25000,50000)))),40000)))) | R6: =MIN(120000,O6+P6+Q6) | S6: =IF(F6<=0,IF(E6<=0,0,IF(E6<=12000,E6,IF(E6<=32000,ROUNDUP(E6/2,0)+6000,IF(E6<=56000,ROUNDUP(E6/4,0)+14000,28000)))),IF(E6<=0,IF(F6<=0,0,IF(F6<=15000,F6,IF(F6<=40000,ROUNDUP(F6/2,0)+7500,IF(F6<=70000,ROUNDUP(F6/4,0)+17500,35000)))),MAX(IF(F6<=0,0,IF(F6<=15000,F6,IF(F6<=40000,ROUNDUP(F6/2,0)+7500,IF(F6<=70000,ROUNDUP(F6/4,0)+17500,35000)))),MIN(IF(E6<=0,0,IF(E6<=12000,E6,IF(E6<=32000,ROUNDUP(E6/2,0)+6000,IF(E6<=56000,ROUNDUP(E6/4,0)+14000,28000))))+IF(F6<=0,0,IF(F6<=15000,F6,IF(F6<=40000,ROUNDUP(F6/2,0)+7500,IF(F6<=70000,ROUNDUP(F6/4,0)+17500,35000)))),28000)))) | T6: =IF(G6<=0,0,IF(G6<=12000,G6,IF(G6<=32000,ROUNDUP(G6/2,0)+6000,IF(G6<=56000,ROUNDUP(G6/4,0)+14000,28000)))) | U6: =IF(I6<=0,IF(H6<=0,0,IF(H6<=12000,H6,IF(H6<=32000,ROUNDUP(H6/2,0)+6000,IF(H6<=56000,ROUNDUP(H6/4,0)+14000,28000)))),IF(H6<=0,IF(I6<=0,0,IF(I6<=15000,I6,IF(I6<=40000,ROUNDUP(I6/2,0)+7500,IF(I6<=70000,ROUNDUP(I6/4,0)+17500,35000)))),MAX(IF(I6<=0,0,IF(I6<=15000,I6,IF(I6<=40000,ROUNDUP(I6/2,0)+7500,IF(I6<=70000,ROUNDUP(I6/4,0)+17500,35000)))),MIN(IF(H6<=0,0,IF(H6<=12000,H6,IF(H6<=32000,ROUNDUP(H6/2,0)+6000,IF(H6<=56000,ROUNDUP(H6/4,0)+14000,28000))))+IF(I6<=0,0,IF(I6<=15000,I6,IF(I6<=40000,ROUNDUP(I6/2,0)+7500,IF(I6<=70000,ROUNDUP(I6/4,0)+17500,35000)))),28000)))) | V6: =MIN(70000,S6+T6+U6) | W6: =MAX(0,ROUNDDOWN(M6-J6-N6-K6-0,-3)) | X6: =MAX(0,ROUNDDOWN(M6-J6-N6-K6-R6,-3)) | Y6: =IF(W6<=0,0,ROUNDDOWN((W6*LOOKUP(W6,{0,1950001,3300001,6950001,9000001,18000001,40000001},{0.05,0.1,0.2,0.23,0.33,0.4,0.45})-LOOKUP(W6,{0,1950001,3300001,6950001,9000001,18000001,40000001},{0,97500,427500,636000,1536000,2796000,4796000}))*1.021,-2)) | Z6: =IF(X6<=0,0,ROUNDDOWN((X6*LOOKUP(X6,{0,1950001,3300001,6950001,9000001,18000001,40000001},{0.05,0.1,0.2,0.23,0.33,0.4,0.45})-LOOKUP(X6,{0,1950001,3300001,6950001,9000001,18000001,40000001},{0,97500,427500,636000,1536000,2796000,4796000}))*1.021,-2)) | AA6: =MAX(0,ROUNDDOWN(M6-J6-430000-L6-0,-3)) | AB6: =MAX(0,ROUNDDOWN(M6-J6-430000-L6-V6,-3)) | AC6: =IF(M6<=450000,0,MAX(0,ROUNDDOWN(AA6*0.06-MIN(50000,AA6)*0.03,-2))+MAX(0,ROUNDDOWN(AA6*0.04-MIN(50000,AA6)*0.02,-2))) | AD6: =IF(M6<=450000,0,MAX(0,ROUNDDOWN(AB6*0.06-MIN(50000,AB6)*0.03,-2))+MAX(0,ROUNDDOWN(AB6*0.04-MIN(50000,AB6)*0.02,-2))) | AE6: =Y6-Z6 | AF6: =AC6-AD6 | AG6: =AE6+AF6 | AH6: =IF(W6<=0,0,LOOKUP(W6,{0,1950001,3300001,6950001,9000001,18000001,40000001},{0.05,0.1,0.2,0.23,0.33,0.4,0.45}))
A7: 早見表 特例あり 一般12万円 | B7: ='3_早見表'!$A$3 | C7: 2026 | D7: はい | E7: 120000 | F7: 0 | G7: 0 | H7: 0 | I7: 0 | J7: =ROUND(MIN(B7/12,650000)*12*0.0915+MIN(B7/12,1390000)*12*(0.0504+0)+B7*0.005,0) | K7: 0 | L7: 0 | M7: =ROUND(IF(C7>=2026,IF(B7<741000,0,IF(B7<2191000,B7-740000,IF(B7<2193000,1451000,IF(B7<2196000,1453000,IF(B7<2200000,1456000,IF(B7<3600000,ROUNDDOWN(B7/4,-3)*2.8-80000,IF(B7<6600000,ROUNDDOWN(B7/4,-3)*3.2-440000,IF(B7<8500000,ROUNDDOWN(B7*0.9,0)-1100000,B7-1950000)))))))),IF(B7<651000,0,IF(B7<1900000,B7-650000,IF(B7<3600000,ROUNDDOWN(B7/4,-3)*2.8-80000,IF(B7<6600000,ROUNDDOWN(B7/4,-3)*3.2-440000,IF(B7<8500000,ROUNDDOWN(B7*0.9,0)-1100000,B7-1950000)))))),0) | N7: =IF(M7>23500000,NA(),IF(C7>=2026,IF(M7<=4890000,1040000,IF(M7<=6550000,670000,620000)),IF(M7<=1320000,950000,IF(M7<=3360000,880000,IF(M7<=4890000,680000,IF(M7<=6550000,630000,580000)))))) | O7: =IF(F7<=0,IF(AND(D7="はい",C7>=2026,C7<=2027),IF(E7<=0,0,IF(E7<=30000,E7,IF(E7<=60000,ROUNDUP(E7/2,0)+15000,IF(E7<=120000,ROUNDUP(E7/4,0)+30000,60000)))),IF(E7<=0,0,IF(E7<=20000,E7,IF(E7<=40000,ROUNDUP(E7/2,0)+10000,IF(E7<=80000,ROUNDUP(E7/4,0)+20000,40000))))),IF(E7<=0,IF(F7<=0,0,IF(F7<=25000,F7,IF(F7<=50000,ROUNDUP(F7/2,0)+12500,IF(F7<=100000,ROUNDUP(F7/4,0)+25000,50000)))),MAX(IF(F7<=0,0,IF(F7<=25000,F7,IF(F7<=50000,ROUNDUP(F7/2,0)+12500,IF(F7<=100000,ROUNDUP(F7/4,0)+25000,50000)))),MIN(IF(AND(D7="はい",C7>=2026,C7<=2027),IF(E7<=0,0,IF(E7<=30000,E7,IF(E7<=60000,ROUNDUP(E7/2,0)+15000,IF(E7<=120000,ROUNDUP(E7/4,0)+30000,60000)))),IF(E7<=0,0,IF(E7<=20000,E7,IF(E7<=40000,ROUNDUP(E7/2,0)+10000,IF(E7<=80000,ROUNDUP(E7/4,0)+20000,40000)))))+IF(F7<=0,0,IF(F7<=25000,F7,IF(F7<=50000,ROUNDUP(F7/2,0)+12500,IF(F7<=100000,ROUNDUP(F7/4,0)+25000,50000)))),IF(AND(D7="はい",C7>=2026,C7<=2027),60000,40000))))) | P7: =IF(G7<=0,0,IF(G7<=20000,G7,IF(G7<=40000,ROUNDUP(G7/2,0)+10000,IF(G7<=80000,ROUNDUP(G7/4,0)+20000,40000)))) | Q7: =IF(I7<=0,IF(H7<=0,0,IF(H7<=20000,H7,IF(H7<=40000,ROUNDUP(H7/2,0)+10000,IF(H7<=80000,ROUNDUP(H7/4,0)+20000,40000)))),IF(H7<=0,IF(I7<=0,0,IF(I7<=25000,I7,IF(I7<=50000,ROUNDUP(I7/2,0)+12500,IF(I7<=100000,ROUNDUP(I7/4,0)+25000,50000)))),MAX(IF(I7<=0,0,IF(I7<=25000,I7,IF(I7<=50000,ROUNDUP(I7/2,0)+12500,IF(I7<=100000,ROUNDUP(I7/4,0)+25000,50000)))),MIN(IF(H7<=0,0,IF(H7<=20000,H7,IF(H7<=40000,ROUNDUP(H7/2,0)+10000,IF(H7<=80000,ROUNDUP(H7/4,0)+20000,40000))))+IF(I7<=0,0,IF(I7<=25000,I7,IF(I7<=50000,ROUNDUP(I7/2,0)+12500,IF(I7<=100000,ROUNDUP(I7/4,0)+25000,50000)))),40000)))) | R7: =MIN(120000,O7+P7+Q7) | S7: =IF(F7<=0,IF(E7<=0,0,IF(E7<=12000,E7,IF(E7<=32000,ROUNDUP(E7/2,0)+6000,IF(E7<=56000,ROUNDUP(E7/4,0)+14000,28000)))),IF(E7<=0,IF(F7<=0,0,IF(F7<=15000,F7,IF(F7<=40000,ROUNDUP(F7/2,0)+7500,IF(F7<=70000,ROUNDUP(F7/4,0)+17500,35000)))),MAX(IF(F7<=0,0,IF(F7<=15000,F7,IF(F7<=40000,ROUNDUP(F7/2,0)+7500,IF(F7<=70000,ROUNDUP(F7/4,0)+17500,35000)))),MIN(IF(E7<=0,0,IF(E7<=12000,E7,IF(E7<=32000,ROUNDUP(E7/2,0)+6000,IF(E7<=56000,ROUNDUP(E7/4,0)+14000,28000))))+IF(F7<=0,0,IF(F7<=15000,F7,IF(F7<=40000,ROUNDUP(F7/2,0)+7500,IF(F7<=70000,ROUNDUP(F7/4,0)+17500,35000)))),28000)))) | T7: =IF(G7<=0,0,IF(G7<=12000,G7,IF(G7<=32000,ROUNDUP(G7/2,0)+6000,IF(G7<=56000,ROUNDUP(G7/4,0)+14000,28000)))) | U7: =IF(I7<=0,IF(H7<=0,0,IF(H7<=12000,H7,IF(H7<=32000,ROUNDUP(H7/2,0)+6000,IF(H7<=56000,ROUNDUP(H7/4,0)+14000,28000)))),IF(H7<=0,IF(I7<=0,0,IF(I7<=15000,I7,IF(I7<=40000,ROUNDUP(I7/2,0)+7500,IF(I7<=70000,ROUNDUP(I7/4,0)+17500,35000)))),MAX(IF(I7<=0,0,IF(I7<=15000,I7,IF(I7<=40000,ROUNDUP(I7/2,0)+7500,IF(I7<=70000,ROUNDUP(I7/4,0)+17500,35000)))),MIN(IF(H7<=0,0,IF(H7<=12000,H7,IF(H7<=32000,ROUNDUP(H7/2,0)+6000,IF(H7<=56000,ROUNDUP(H7/4,0)+14000,28000))))+IF(I7<=0,0,IF(I7<=15000,I7,IF(I7<=40000,ROUNDUP(I7/2,0)+7500,IF(I7<=70000,ROUNDUP(I7/4,0)+17500,35000)))),28000)))) | V7: =MIN(70000,S7+T7+U7) | W7: =MAX(0,ROUNDDOWN(M7-J7-N7-K7-0,-3)) | X7: =MAX(0,ROUNDDOWN(M7-J7-N7-K7-R7,-3)) | Y7: =IF(W7<=0,0,ROUNDDOWN((W7*LOOKUP(W7,{0,1950001,3300001,6950001,9000001,18000001,40000001},{0.05,0.1,0.2,0.23,0.33,0.4,0.45})-LOOKUP(W7,{0,1950001,3300001,6950001,9000001,18000001,40000001},{0,97500,427500,636000,1536000,2796000,4796000}))*1.021,-2)) | Z7: =IF(X7<=0,0,ROUNDDOWN((X7*LOOKUP(X7,{0,1950001,3300001,6950001,9000001,18000001,40000001},{0.05,0.1,0.2,0.23,0.33,0.4,0.45})-LOOKUP(X7,{0,1950001,3300001,6950001,9000001,18000001,40000001},{0,97500,427500,636000,1536000,2796000,4796000}))*1.021,-2)) | AA7: =MAX(0,ROUNDDOWN(M7-J7-430000-L7-0,-3)) | AB7: =MAX(0,ROUNDDOWN(M7-J7-430000-L7-V7,-3)) | AC7: =IF(M7<=450000,0,MAX(0,ROUNDDOWN(AA7*0.06-MIN(50000,AA7)*0.03,-2))+MAX(0,ROUNDDOWN(AA7*0.04-MIN(50000,AA7)*0.02,-2))) | AD7: =IF(M7<=450000,0,MAX(0,ROUNDDOWN(AB7*0.06-MIN(50000,AB7)*0.03,-2))+MAX(0,ROUNDDOWN(AB7*0.04-MIN(50000,AB7)*0.02,-2))) | AE7: =Y7-Z7 | AF7: =AC7-AD7 | AG7: =AE7+AF7 | AH7: =IF(W7<=0,0,LOOKUP(W7,{0,1950001,3300001,6950001,9000001,18000001,40000001},{0.05,0.1,0.2,0.23,0.33,0.4,0.45}))
A8: 早見表 特例あり 3区分（一般12万円） | B8: ='3_早見表'!$A$3 | C8: 2026 | D8: はい | E8: 120000 | F8: 0 | G8: 80000 | H8: 80000 | I8: 0 | J8: =ROUND(MIN(B8/12,650000)*12*0.0915+MIN(B8/12,1390000)*12*(0.0504+0)+B8*0.005,0) | K8: 0 | L8: 0 | M8: =ROUND(IF(C8>=2026,IF(B8<741000,0,IF(B8<2191000,B8-740000,IF(B8<2193000,1451000,IF(B8<2196000,1453000,IF(B8<2200000,1456000,IF(B8<3600000,ROUNDDOWN(B8/4,-3)*2.8-80000,IF(B8<6600000,ROUNDDOWN(B8/4,-3)*3.2-440000,IF(B8<8500000,ROUNDDOWN(B8*0.9,0)-1100000,B8-1950000)))))))),IF(B8<651000,0,IF(B8<1900000,B8-650000,IF(B8<3600000,ROUNDDOWN(B8/4,-3)*2.8-80000,IF(B8<6600000,ROUNDDOWN(B8/4,-3)*3.2-440000,IF(B8<8500000,ROUNDDOWN(B8*0.9,0)-1100000,B8-1950000)))))),0) | N8: =IF(M8>23500000,NA(),IF(C8>=2026,IF(M8<=4890000,1040000,IF(M8<=6550000,670000,620000)),IF(M8<=1320000,950000,IF(M8<=3360000,880000,IF(M8<=4890000,680000,IF(M8<=6550000,630000,580000)))))) | O8: =IF(F8<=0,IF(AND(D8="はい",C8>=2026,C8<=2027),IF(E8<=0,0,IF(E8<=30000,E8,IF(E8<=60000,ROUNDUP(E8/2,0)+15000,IF(E8<=120000,ROUNDUP(E8/4,0)+30000,60000)))),IF(E8<=0,0,IF(E8<=20000,E8,IF(E8<=40000,ROUNDUP(E8/2,0)+10000,IF(E8<=80000,ROUNDUP(E8/4,0)+20000,40000))))),IF(E8<=0,IF(F8<=0,0,IF(F8<=25000,F8,IF(F8<=50000,ROUNDUP(F8/2,0)+12500,IF(F8<=100000,ROUNDUP(F8/4,0)+25000,50000)))),MAX(IF(F8<=0,0,IF(F8<=25000,F8,IF(F8<=50000,ROUNDUP(F8/2,0)+12500,IF(F8<=100000,ROUNDUP(F8/4,0)+25000,50000)))),MIN(IF(AND(D8="はい",C8>=2026,C8<=2027),IF(E8<=0,0,IF(E8<=30000,E8,IF(E8<=60000,ROUNDUP(E8/2,0)+15000,IF(E8<=120000,ROUNDUP(E8/4,0)+30000,60000)))),IF(E8<=0,0,IF(E8<=20000,E8,IF(E8<=40000,ROUNDUP(E8/2,0)+10000,IF(E8<=80000,ROUNDUP(E8/4,0)+20000,40000)))))+IF(F8<=0,0,IF(F8<=25000,F8,IF(F8<=50000,ROUNDUP(F8/2,0)+12500,IF(F8<=100000,ROUNDUP(F8/4,0)+25000,50000)))),IF(AND(D8="はい",C8>=2026,C8<=2027),60000,40000))))) | P8: =IF(G8<=0,0,IF(G8<=20000,G8,IF(G8<=40000,ROUNDUP(G8/2,0)+10000,IF(G8<=80000,ROUNDUP(G8/4,0)+20000,40000)))) | Q8: =IF(I8<=0,IF(H8<=0,0,IF(H8<=20000,H8,IF(H8<=40000,ROUNDUP(H8/2,0)+10000,IF(H8<=80000,ROUNDUP(H8/4,0)+20000,40000)))),IF(H8<=0,IF(I8<=0,0,IF(I8<=25000,I8,IF(I8<=50000,ROUNDUP(I8/2,0)+12500,IF(I8<=100000,ROUNDUP(I8/4,0)+25000,50000)))),MAX(IF(I8<=0,0,IF(I8<=25000,I8,IF(I8<=50000,ROUNDUP(I8/2,0)+12500,IF(I8<=100000,ROUNDUP(I8/4,0)+25000,50000)))),MIN(IF(H8<=0,0,IF(H8<=20000,H8,IF(H8<=40000,ROUNDUP(H8/2,0)+10000,IF(H8<=80000,ROUNDUP(H8/4,0)+20000,40000))))+IF(I8<=0,0,IF(I8<=25000,I8,IF(I8<=50000,ROUNDUP(I8/2,0)+12500,IF(I8<=100000,ROUNDUP(I8/4,0)+25000,50000)))),40000)))) | R8: =MIN(120000,O8+P8+Q8) | S8: =IF(F8<=0,IF(E8<=0,0,IF(E8<=12000,E8,IF(E8<=32000,ROUNDUP(E8/2,0)+6000,IF(E8<=56000,ROUNDUP(E8/4,0)+14000,28000)))),IF(E8<=0,IF(F8<=0,0,IF(F8<=15000,F8,IF(F8<=40000,ROUNDUP(F8/2,0)+7500,IF(F8<=70000,ROUNDUP(F8/4,0)+17500,35000)))),MAX(IF(F8<=0,0,IF(F8<=15000,F8,IF(F8<=40000,ROUNDUP(F8/2,0)+7500,IF(F8<=70000,ROUNDUP(F8/4,0)+17500,35000)))),MIN(IF(E8<=0,0,IF(E8<=12000,E8,IF(E8<=32000,ROUNDUP(E8/2,0)+6000,IF(E8<=56000,ROUNDUP(E8/4,0)+14000,28000))))+IF(F8<=0,0,IF(F8<=15000,F8,IF(F8<=40000,ROUNDUP(F8/2,0)+7500,IF(F8<=70000,ROUNDUP(F8/4,0)+17500,35000)))),28000)))) | T8: =IF(G8<=0,0,IF(G8<=12000,G8,IF(G8<=32000,ROUNDUP(G8/2,0)+6000,IF(G8<=56000,ROUNDUP(G8/4,0)+14000,28000)))) | U8: =IF(I8<=0,IF(H8<=0,0,IF(H8<=12000,H8,IF(H8<=32000,ROUNDUP(H8/2,0)+6000,IF(H8<=56000,ROUNDUP(H8/4,0)+14000,28000)))),IF(H8<=0,IF(I8<=0,0,IF(I8<=15000,I8,IF(I8<=40000,ROUNDUP(I8/2,0)+7500,IF(I8<=70000,ROUNDUP(I8/4,0)+17500,35000)))),MAX(IF(I8<=0,0,IF(I8<=15000,I8,IF(I8<=40000,ROUNDUP(I8/2,0)+7500,IF(I8<=70000,ROUNDUP(I8/4,0)+17500,35000)))),MIN(IF(H8<=0,0,IF(H8<=12000,H8,IF(H8<=32000,ROUNDUP(H8/2,0)+6000,IF(H8<=56000,ROUNDUP(H8/4,0)+14000,28000))))+IF(I8<=0,0,IF(I8<=15000,I8,IF(I8<=40000,ROUNDUP(I8/2,0)+7500,IF(I8<=70000,ROUNDUP(I8/4,0)+17500,35000)))),28000)))) | V8: =MIN(70000,S8+T8+U8) | W8: =MAX(0,ROUNDDOWN(M8-J8-N8-K8-0,-3)) | X8: =MAX(0,ROUNDDOWN(M8-J8-N8-K8-R8,-3)) | Y8: =IF(W8<=0,0,ROUNDDOWN((W8*LOOKUP(W8,{0,1950001,3300001,6950001,9000001,18000001,40000001},{0.05,0.1,0.2,0.23,0.33,0.4,0.45})-LOOKUP(W8,{0,1950001,3300001,6950001,9000001,18000001,40000001},{0,97500,427500,636000,1536000,2796000,4796000}))*1.021,-2)) | Z8: =IF(X8<=0,0,ROUNDDOWN((X8*LOOKUP(X8,{0,1950001,3300001,6950001,9000001,18000001,40000001},{0.05,0.1,0.2,0.23,0.33,0.4,0.45})-LOOKUP(X8,{0,1950001,3300001,6950001,9000001,18000001,40000001},{0,97500,427500,636000,1536000,2796000,4796000}))*1.021,-2)) | AA8: =MAX(0,ROUNDDOWN(M8-J8-430000-L8-0,-3)) | AB8: =MAX(0,ROUNDDOWN(M8-J8-430000-L8-V8,-3)) | AC8: =IF(M8<=450000,0,MAX(0,ROUNDDOWN(AA8*0.06-MIN(50000,AA8)*0.03,-2))+MAX(0,ROUNDDOWN(AA8*0.04-MIN(50000,AA8)*0.02,-2))) | AD8: =IF(M8<=450000,0,MAX(0,ROUNDDOWN(AB8*0.06-MIN(50000,AB8)*0.03,-2))+MAX(0,ROUNDDOWN(AB8*0.04-MIN(50000,AB8)*0.02,-2))) | AE8: =Y8-Z8 | AF8: =AC8-AD8 | AG8: =AE8+AF8 | AH8: =IF(W8<=0,0,LOOKUP(W8,{0,1950001,3300001,6950001,9000001,18000001,40000001},{0.05,0.1,0.2,0.23,0.33,0.4,0.45}))
A9: 早見表 一般8万円 | B9: ='3_早見表'!$A$4 | C9: 2026 | D9: いいえ | E9: 80000 | F9: 0 | G9: 0 | H9: 0 | I9: 0 | J9: =ROUND(MIN(B9/12,650000)*12*0.0915+MIN(B9/12,1390000)*12*(0.0504+0)+B9*0.005,0) | K9: 0 | L9: 0 | M9: =ROUND(IF(C9>=2026,IF(B9<741000,0,IF(B9<2191000,B9-740000,IF(B9<2193000,1451000,IF(B9<2196000,1453000,IF(B9<2200000,1456000,IF(B9<3600000,ROUNDDOWN(B9/4,-3)*2.8-80000,IF(B9<6600000,ROUNDDOWN(B9/4,-3)*3.2-440000,IF(B9<8500000,ROUNDDOWN(B9*0.9,0)-1100000,B9-1950000)))))))),IF(B9<651000,0,IF(B9<1900000,B9-650000,IF(B9<3600000,ROUNDDOWN(B9/4,-3)*2.8-80000,IF(B9<6600000,ROUNDDOWN(B9/4,-3)*3.2-440000,IF(B9<8500000,ROUNDDOWN(B9*0.9,0)-1100000,B9-1950000)))))),0) | N9: =IF(M9>23500000,NA(),IF(C9>=2026,IF(M9<=4890000,1040000,IF(M9<=6550000,670000,620000)),IF(M9<=1320000,950000,IF(M9<=3360000,880000,IF(M9<=4890000,680000,IF(M9<=6550000,630000,580000)))))) | O9: =IF(F9<=0,IF(AND(D9="はい",C9>=2026,C9<=2027),IF(E9<=0,0,IF(E9<=30000,E9,IF(E9<=60000,ROUNDUP(E9/2,0)+15000,IF(E9<=120000,ROUNDUP(E9/4,0)+30000,60000)))),IF(E9<=0,0,IF(E9<=20000,E9,IF(E9<=40000,ROUNDUP(E9/2,0)+10000,IF(E9<=80000,ROUNDUP(E9/4,0)+20000,40000))))),IF(E9<=0,IF(F9<=0,0,IF(F9<=25000,F9,IF(F9<=50000,ROUNDUP(F9/2,0)+12500,IF(F9<=100000,ROUNDUP(F9/4,0)+25000,50000)))),MAX(IF(F9<=0,0,IF(F9<=25000,F9,IF(F9<=50000,ROUNDUP(F9/2,0)+12500,IF(F9<=100000,ROUNDUP(F9/4,0)+25000,50000)))),MIN(IF(AND(D9="はい",C9>=2026,C9<=2027),IF(E9<=0,0,IF(E9<=30000,E9,IF(E9<=60000,ROUNDUP(E9/2,0)+15000,IF(E9<=120000,ROUNDUP(E9/4,0)+30000,60000)))),IF(E9<=0,0,IF(E9<=20000,E9,IF(E9<=40000,ROUNDUP(E9/2,0)+10000,IF(E9<=80000,ROUNDUP(E9/4,0)+20000,40000)))))+IF(F9<=0,0,IF(F9<=25000,F9,IF(F9<=50000,ROUNDUP(F9/2,0)+12500,IF(F9<=100000,ROUNDUP(F9/4,0)+25000,50000)))),IF(AND(D9="はい",C9>=2026,C9<=2027),60000,40000))))) | P9: =IF(G9<=0,0,IF(G9<=20000,G9,IF(G9<=40000,ROUNDUP(G9/2,0)+10000,IF(G9<=80000,ROUNDUP(G9/4,0)+20000,40000)))) | Q9: =IF(I9<=0,IF(H9<=0,0,IF(H9<=20000,H9,IF(H9<=40000,ROUNDUP(H9/2,0)+10000,IF(H9<=80000,ROUNDUP(H9/4,0)+20000,40000)))),IF(H9<=0,IF(I9<=0,0,IF(I9<=25000,I9,IF(I9<=50000,ROUNDUP(I9/2,0)+12500,IF(I9<=100000,ROUNDUP(I9/4,0)+25000,50000)))),MAX(IF(I9<=0,0,IF(I9<=25000,I9,IF(I9<=50000,ROUNDUP(I9/2,0)+12500,IF(I9<=100000,ROUNDUP(I9/4,0)+25000,50000)))),MIN(IF(H9<=0,0,IF(H9<=20000,H9,IF(H9<=40000,ROUNDUP(H9/2,0)+10000,IF(H9<=80000,ROUNDUP(H9/4,0)+20000,40000))))+IF(I9<=0,0,IF(I9<=25000,I9,IF(I9<=50000,ROUNDUP(I9/2,0)+12500,IF(I9<=100000,ROUNDUP(I9/4,0)+25000,50000)))),40000)))) | R9: =MIN(120000,O9+P9+Q9) | S9: =IF(F9<=0,IF(E9<=0,0,IF(E9<=12000,E9,IF(E9<=32000,ROUNDUP(E9/2,0)+6000,IF(E9<=56000,ROUNDUP(E9/4,0)+14000,28000)))),IF(E9<=0,IF(F9<=0,0,IF(F9<=15000,F9,IF(F9<=40000,ROUNDUP(F9/2,0)+7500,IF(F9<=70000,ROUNDUP(F9/4,0)+17500,35000)))),MAX(IF(F9<=0,0,IF(F9<=15000,F9,IF(F9<=40000,ROUNDUP(F9/2,0)+7500,IF(F9<=70000,ROUNDUP(F9/4,0)+17500,35000)))),MIN(IF(E9<=0,0,IF(E9<=12000,E9,IF(E9<=32000,ROUNDUP(E9/2,0)+6000,IF(E9<=56000,ROUNDUP(E9/4,0)+14000,28000))))+IF(F9<=0,0,IF(F9<=15000,F9,IF(F9<=40000,ROUNDUP(F9/2,0)+7500,IF(F9<=70000,ROUNDUP(F9/4,0)+17500,35000)))),28000)))) | T9: =IF(G9<=0,0,IF(G9<=12000,G9,IF(G9<=32000,ROUNDUP(G9/2,0)+6000,IF(G9<=56000,ROUNDUP(G9/4,0)+14000,28000)))) | U9: =IF(I9<=0,IF(H9<=0,0,IF(H9<=12000,H9,IF(H9<=32000,ROUNDUP(H9/2,0)+6000,IF(H9<=56000,ROUNDUP(H9/4,0)+14000,28000)))),IF(H9<=0,IF(I9<=0,0,IF(I9<=15000,I9,IF(I9<=40000,ROUNDUP(I9/2,0)+7500,IF(I9<=70000,ROUNDUP(I9/4,0)+17500,35000)))),MAX(IF(I9<=0,0,IF(I9<=15000,I9,IF(I9<=40000,ROUNDUP(I9/2,0)+7500,IF(I9<=70000,ROUNDUP(I9/4,0)+17500,35000)))),MIN(IF(H9<=0,0,IF(H9<=12000,H9,IF(H9<=32000,ROUNDUP(H9/2,0)+6000,IF(H9<=56000,ROUNDUP(H9/4,0)+14000,28000))))+IF(I9<=0,0,IF(I9<=15000,I9,IF(I9<=40000,ROUNDUP(I9/2,0)+7500,IF(I9<=70000,ROUNDUP(I9/4,0)+17500,35000)))),28000)))) | V9: =MIN(70000,S9+T9+U9) | W9: =MAX(0,ROUNDDOWN(M9-J9-N9-K9-0,-3)) | X9: =MAX(0,ROUNDDOWN(M9-J9-N9-K9-R9,-3)) | Y9: =IF(W9<=0,0,ROUNDDOWN((W9*LOOKUP(W9,{0,1950001,3300001,6950001,9000001,18000001,40000001},{0.05,0.1,0.2,0.23,0.33,0.4,0.45})-LOOKUP(W9,{0,1950001,3300001,6950001,9000001,18000001,40000001},{0,97500,427500,636000,1536000,2796000,4796000}))*1.021,-2)) | Z9: =IF(X9<=0,0,ROUNDDOWN((X9*LOOKUP(X9,{0,1950001,3300001,6950001,9000001,18000001,40000001},{0.05,0.1,0.2,0.23,0.33,0.4,0.45})-LOOKUP(X9,{0,1950001,3300001,6950001,9000001,18000001,40000001},{0,97500,427500,636000,1536000,2796000,4796000}))*1.021,-2)) | AA9: =MAX(0,ROUNDDOWN(M9-J9-430000-L9-0,-3)) | AB9: =MAX(0,ROUNDDOWN(M9-J9-430000-L9-V9,-3)) | AC9: =IF(M9<=450000,0,MAX(0,ROUNDDOWN(AA9*0.06-MIN(50000,AA9)*0.03,-2))+MAX(0,ROUNDDOWN(AA9*0.04-MIN(50000,AA9)*0.02,-2))) | AD9: =IF(M9<=450000,0,MAX(0,ROUNDDOWN(AB9*0.06-MIN(50000,AB9)*0.03,-2))+MAX(0,ROUNDDOWN(AB9*0.04-MIN(50000,AB9)*0.02,-2))) | AE9: =Y9-Z9 | AF9: =AC9-AD9 | AG9: =AE9+AF9 | AH9: =IF(W9<=0,0,LOOKUP(W9,{0,1950001,3300001,6950001,9000001,18000001,40000001},{0.05,0.1,0.2,0.23,0.33,0.4,0.45}))
