Workbook

Sheet 1_いくら減るか
A1: 生命保険料控除で1年に減る所得税と住民税。黄色を埋める（給与だけの会社員）
A2: 入れるもの | B2: 値 | C2: メモ | E2: 区分 | F2: 払った保険料 | G2: 所得税の控除 | H2: 住民税の控除 | I2: 所得税が頭打ちになる保険料 | J2: 住民税が頭打ちになる保険料
A3: 給与の年収（税引き前の総支給） | B3: 5000000 | C3: 源泉徴収票の支払金額 | E3: 一般 | F3: =B8+B9 | G3: =IF($B$9<=0,IF(AND($B$7="はい",$B$6>=2026,$B$6<=2027),IF($B$8<=0,0,IF($B$8<=30000,$B$8,IF($B$8<=60000,ROUNDUP($B$8/2,0)+15000,IF($B$8<=120000,ROUNDUP($B$8/4,0)+30000,60000)))),IF($B$8<=0,0,IF($B$8<=20000,$B$8,IF($B$8<=40000,ROUNDUP($B$8/2,0)+10000,IF($B$8<=80000,ROUNDUP($B$8/4,0)+20000,40000))))),IF($B$8<=0,IF($B$9<=0,0,IF($B$9<=25000,$B$9,IF($B$9<=50000,ROUNDUP($B$9/2,0)+12500,IF($B$9<=100000,ROUNDUP($B$9/4,0)+25000,50000)))),MAX(IF($B$9<=0,0,IF($B$9<=25000,$B$9,IF($B$9<=50000,ROUNDUP($B$9/2,0)+12500,IF($B$9<=100000,ROUNDUP($B$9/4,0)+25000,50000)))),MIN(IF(AND($B$7="はい",$B$6>=2026,$B$6<=2027),IF($B$8<=0,0,IF($B$8<=30000,$B$8,IF($B$8<=60000,ROUNDUP($B$8/2,0)+15000,IF($B$8<=120000,ROUNDUP($B$8/4,0)+30000,60000)))),IF($B$8<=0,0,IF($B$8<=20000,$B$8,IF($B$8<=40000,ROUNDUP($B$8/2,0)+10000,IF($B$8<=80000,ROUNDUP($B$8/4,0)+20000,40000)))))+IF($B$9<=0,0,IF($B$9<=25000,$B$9,IF($B$9<=50000,ROUNDUP($B$9/2,0)+12500,IF($B$9<=100000,ROUNDUP($B$9/4,0)+25000,50000)))),IF(AND($B$7="はい",$B$6>=2026,$B$6<=2027),60000,40000))))) | H3: =IF($B$9<=0,IF($B$8<=0,0,IF($B$8<=12000,$B$8,IF($B$8<=32000,ROUNDUP($B$8/2,0)+6000,IF($B$8<=56000,ROUNDUP($B$8/4,0)+14000,28000)))),IF($B$8<=0,IF($B$9<=0,0,IF($B$9<=15000,$B$9,IF($B$9<=40000,ROUNDUP($B$9/2,0)+7500,IF($B$9<=70000,ROUNDUP($B$9/4,0)+17500,35000)))),MAX(IF($B$9<=0,0,IF($B$9<=15000,$B$9,IF($B$9<=40000,ROUNDUP($B$9/2,0)+7500,IF($B$9<=70000,ROUNDUP($B$9/4,0)+17500,35000)))),MIN(IF($B$8<=0,0,IF($B$8<=12000,$B$8,IF($B$8<=32000,ROUNDUP($B$8/2,0)+6000,IF($B$8<=56000,ROUNDUP($B$8/4,0)+14000,28000))))+IF($B$9<=0,0,IF($B$9<=15000,$B$9,IF($B$9<=40000,ROUNDUP($B$9/2,0)+7500,IF($B$9<=70000,ROUNDUP($B$9/4,0)+17500,35000)))),28000)))) | I3: =IF(AND(B9>0,B8<=0),"10万円（旧）",IF(AND($B$7="はい",$B$6>=2026,$B$6<=2027),"12万円","8万円")) | J3: =IF(AND(B9>0,B8<=0),"7万円（旧）","5万6,000円")
A4: 社会保険料（空欄なら見積もり） | C4: 源泉徴収票の社会保険料等の金額 | E4: 介護医療 | F4: =B10 | G4: =IF($B$10<=0,0,IF($B$10<=20000,$B$10,IF($B$10<=40000,ROUNDUP($B$10/2,0)+10000,IF($B$10<=80000,ROUNDUP($B$10/4,0)+20000,40000)))) | H4: =IF($B$10<=0,0,IF($B$10<=12000,$B$10,IF($B$10<=32000,ROUNDUP($B$10/2,0)+6000,IF($B$10<=56000,ROUNDUP($B$10/4,0)+14000,28000)))) | I4: ="8万円" | J4: ="5万6,000円"
A5: 40歳から64歳か | B5: いいえ | C5: 見積もりのときだけ使う | E5: 個人年金 | F5: =B11+B12 | G5: =IF($B$12<=0,IF($B$11<=0,0,IF($B$11<=20000,$B$11,IF($B$11<=40000,ROUNDUP($B$11/2,0)+10000,IF($B$11<=80000,ROUNDUP($B$11/4,0)+20000,40000)))),IF($B$11<=0,IF($B$12<=0,0,IF($B$12<=25000,$B$12,IF($B$12<=50000,ROUNDUP($B$12/2,0)+12500,IF($B$12<=100000,ROUNDUP($B$12/4,0)+25000,50000)))),MAX(IF($B$12<=0,0,IF($B$12<=25000,$B$12,IF($B$12<=50000,ROUNDUP($B$12/2,0)+12500,IF($B$12<=100000,ROUNDUP($B$12/4,0)+25000,50000)))),MIN(IF($B$11<=0,0,IF($B$11<=20000,$B$11,IF($B$11<=40000,ROUNDUP($B$11/2,0)+10000,IF($B$11<=80000,ROUNDUP($B$11/4,0)+20000,40000))))+IF($B$12<=0,0,IF($B$12<=25000,$B$12,IF($B$12<=50000,ROUNDUP($B$12/2,0)+12500,IF($B$12<=100000,ROUNDUP($B$12/4,0)+25000,50000)))),40000)))) | H5: =IF($B$12<=0,IF($B$11<=0,0,IF($B$11<=12000,$B$11,IF($B$11<=32000,ROUNDUP($B$11/2,0)+6000,IF($B$11<=56000,ROUNDUP($B$11/4,0)+14000,28000)))),IF($B$11<=0,IF($B$12<=0,0,IF($B$12<=15000,$B$12,IF($B$12<=40000,ROUNDUP($B$12/2,0)+7500,IF($B$12<=70000,ROUNDUP($B$12/4,0)+17500,35000)))),MAX(IF($B$12<=0,0,IF($B$12<=15000,$B$12,IF($B$12<=40000,ROUNDUP($B$12/2,0)+7500,IF($B$12<=70000,ROUNDUP($B$12/4,0)+17500,35000)))),MIN(IF($B$11<=0,0,IF($B$11<=12000,$B$11,IF($B$11<=32000,ROUNDUP($B$11/2,0)+6000,IF($B$11<=56000,ROUNDUP($B$11/4,0)+14000,28000))))+IF($B$12<=0,0,IF($B$12<=15000,$B$12,IF($B$12<=40000,ROUNDUP($B$12/2,0)+7500,IF($B$12<=70000,ROUNDUP($B$12/4,0)+17500,35000)))),28000)))) | I5: =IF(AND(B12>0,B11<=0),"10万円（旧）","8万円") | J5: =IF(AND(B12>0,B11<=0),"7万円（旧）","5万6,000円")
A6: 年分（2025・2026・2027） | B6: 2026 | C6: 1月1日から12月31日に払った保険料 | E6: 合計 | F6: =SUM(F3:F5) | G6: =MIN(120000,G3+G4+G5) | H6: =MIN(70000,H3+H4+H5) | I6: 上限12万円 | J6: 上限7万円
A7: 12月31日に23歳未満の扶養親族がいるか | B7: いいえ | C7: 16歳未満の子も入る。2026・2027年分の所得税だけ | E7: 区分の控除を足した額 | G7: =G3+G4+G5 | H7: =H3+H4+H5 | I7: 超えた分は控除にならない
A8: 一般の生命保険料 新契約（2012年以後） | B8: 80000 | C8: 控除証明書の「一般」「新」の欄。年額 | E8: 税の計算 | F8: 控除なし | G8: 控除あり
A9: 一般の生命保険料 旧契約（2011年以前） | B9: 0 | C9: 旧契約の医療保険もここ | E9: 給与所得 | F9: =ROUND(IF($B$6>=2026,IF($B$3<741000,0,IF($B$3<2191000,$B$3-740000,IF($B$3<2193000,1451000,IF($B$3<2196000,1453000,IF($B$3<2200000,1456000,IF($B$3<3600000,ROUNDDOWN($B$3/4,-3)*2.8-80000,IF($B$3<6600000,ROUNDDOWN($B$3/4,-3)*3.2-440000,IF($B$3<8500000,ROUNDDOWN($B$3*0.9,0)-1100000,$B$3-1950000)))))))),IF($B$3<651000,0,IF($B$3<1900000,$B$3-650000,IF($B$3<3600000,ROUNDDOWN($B$3/4,-3)*2.8-80000,IF($B$3<6600000,ROUNDDOWN($B$3/4,-3)*3.2-440000,IF($B$3<8500000,ROUNDDOWN($B$3*0.9,0)-1100000,$B$3-1950000)))))),0)
A10: 介護医療保険料 | B10: 80000 | C10: 2012年以後の医療保険、がん保険など | E10: 基礎控除（所得税） | F10: =IF(F9>23500000,NA(),IF($B$6>=2026,IF(F9<=4890000,1040000,IF(F9<=6550000,670000,620000)),IF(F9<=1320000,950000,IF(F9<=3360000,880000,IF(F9<=4890000,680000,IF(F9<=6550000,630000,580000))))))
A11: 個人年金保険料 新契約（2012年以後） | B11: 80000 | C11: 税制適格特約の付いたもの | E11: 所得税の課税所得 | F11: =MAX(0,ROUNDDOWN(F9-$B$16-F10-$B$13-0,-3)) | G11: =MAX(0,ROUNDDOWN(F9-$B$16-F10-$B$13-G6,-3))
A12: 個人年金保険料 旧契約（2011年以前） | B12: 0 | E12: 所得税（復興税込み） | F12: =IF(F11<=0,0,ROUNDDOWN((F11*LOOKUP(F11,{0,1950001,3300001,6950001,9000001,18000001,40000001},{0.05,0.1,0.2,0.23,0.33,0.4,0.45})-LOOKUP(F11,{0,1950001,3300001,6950001,9000001,18000001,40000001},{0,97500,427500,636000,1536000,2796000,4796000}))*1.021,-2)) | G12: =IF(G11<=0,0,ROUNDDOWN((G11*LOOKUP(G11,{0,1950001,3300001,6950001,9000001,18000001,40000001},{0.05,0.1,0.2,0.23,0.33,0.4,0.45})-LOOKUP(G11,{0,1950001,3300001,6950001,9000001,18000001,40000001},{0,97500,427500,636000,1536000,2796000,4796000}))*1.021,-2))
A13: 他の所得控除（所得税） | B13: 0 | C13: 扶養控除、iDeCo、医療費控除など | E13: 住民税の課税所得 | F13: =MAX(0,ROUNDDOWN(F9-$B$16-430000-$B$14-0,-3)) | G13: =MAX(0,ROUNDDOWN(F9-$B$16-430000-$B$14-H6,-3))
A14: 他の所得控除（住民税） | B14: 0 | C14: 住民税の扶養控除は33万円など、額が違う | E14: 住民税の所得割 | F14: =IF(F9<=450000,0,MAX(0,ROUNDDOWN(F13*0.06-MIN(50000,F13)*0.03,-2))+MAX(0,ROUNDDOWN(F13*0.04-MIN(50000,F13)*0.02,-2))) | G14: =IF(F9<=450000,0,MAX(0,ROUNDDOWN(G13*0.06-MIN(50000,G13)*0.03,-2))+MAX(0,ROUNDDOWN(G13*0.04-MIN(50000,G13)*0.02,-2)))
E15: 減る所得税 | G15: =F12-G12
A16: 社会保険料（計算に使う額） | B16: =IF(B4="",ROUND(MIN(B3/12,650000)*12*0.0915+MIN(B3/12,1390000)*12*(0.0504+IF(B5="はい",0.0081,0))+B3*0.005,0),B4) | C16: 見積もりは協会けんぽ東京支部・賞与なし | E16: 減る住民税 | G16: =F14-G14
E17: 減る税の合計 | G17: =G15+G16
E18: 控除なしの所得税率 | F18: =IF(F11<=0,0,LOOKUP(F11,{0,1950001,3300001,6950001,9000001,18000001,40000001},{0.05,0.1,0.2,0.23,0.33,0.4,0.45}))
E19: 保険料に対する減る税の割合 | G19: =IF(F6=0,0,G17/F6)
E20: 注意 | F20: =IF(B3<1000000,"年収100万円未満は対象外",IF(AND(B7="はい",B6=2025),"23歳未満の特例は2026年分から",IF(AND(B9>60000,B8>0),"旧契約が6万円を超えると、新契約を足しても一般の控除は増えない（特例なしのとき）",IF(G7>G6,"所得税の控除が上限12万円で切られている",""))))

Sheet 2_控除額の表
A1: 1つの区分の保険料と控除額。橙は頭打ちで、それ以上払っても控除は増えない
A2: 年間の保険料 | B2: 所得税 新契約 | C2: 所得税 新契約（23歳未満の扶養親族あり） | D2: 所得税 旧契約 | E2: 住民税 新契約 | F2: 住民税 旧契約
A3: 0 | B3: =IF($A3<=0,0,IF($A3<=20000,$A3,IF($A3<=40000,ROUNDUP($A3/2,0)+10000,IF($A3<=80000,ROUNDUP($A3/4,0)+20000,40000)))) | C3: =IF($A3<=0,0,IF($A3<=30000,$A3,IF($A3<=60000,ROUNDUP($A3/2,0)+15000,IF($A3<=120000,ROUNDUP($A3/4,0)+30000,60000)))) | D3: =IF($A3<=0,0,IF($A3<=25000,$A3,IF($A3<=50000,ROUNDUP($A3/2,0)+12500,IF($A3<=100000,ROUNDUP($A3/4,0)+25000,50000)))) | E3: =IF($A3<=0,0,IF($A3<=12000,$A3,IF($A3<=32000,ROUNDUP($A3/2,0)+6000,IF($A3<=56000,ROUNDUP($A3/4,0)+14000,28000)))) | F3: =IF($A3<=0,0,IF($A3<=15000,$A3,IF($A3<=40000,ROUNDUP($A3/2,0)+7500,IF($A3<=70000,ROUNDUP($A3/4,0)+17500,35000))))
A4: 5000 | B4: =IF($A4<=0,0,IF($A4<=20000,$A4,IF($A4<=40000,ROUNDUP($A4/2,0)+10000,IF($A4<=80000,ROUNDUP($A4/4,0)+20000,40000)))) | C4: =IF($A4<=0,0,IF($A4<=30000,$A4,IF($A4<=60000,ROUNDUP($A4/2,0)+15000,IF($A4<=120000,ROUNDUP($A4/4,0)+30000,60000)))) | D4: =IF($A4<=0,0,IF($A4<=25000,$A4,IF($A4<=50000,ROUNDUP($A4/2,0)+12500,IF($A4<=100000,ROUNDUP($A4/4,0)+25000,50000)))) | E4: =IF($A4<=0,0,IF($A4<=12000,$A4,IF($A4<=32000,ROUNDUP($A4/2,0)+6000,IF($A4<=56000,ROUNDUP($A4/4,0)+14000,28000)))) | F4: =IF($A4<=0,0,IF($A4<=15000,$A4,IF($A4<=40000,ROUNDUP($A4/2,0)+7500,IF($A4<=70000,ROUNDUP($A4/4,0)+17500,35000))))
A5: 10000 | B5: =IF($A5<=0,0,IF($A5<=20000,$A5,IF($A5<=40000,ROUNDUP($A5/2,0)+10000,IF($A5<=80000,ROUNDUP($A5/4,0)+20000,40000)))) | C5: =IF($A5<=0,0,IF($A5<=30000,$A5,IF($A5<=60000,ROUNDUP($A5/2,0)+15000,IF($A5<=120000,ROUNDUP($A5/4,0)+30000,60000)))) | D5: =IF($A5<=0,0,IF($A5<=25000,$A5,IF($A5<=50000,ROUNDUP($A5/2,0)+12500,IF($A5<=100000,ROUNDUP($A5/4,0)+25000,50000)))) | E5: =IF($A5<=0,0,IF($A5<=12000,$A5,IF($A5<=32000,ROUNDUP($A5/2,0)+6000,IF($A5<=56000,ROUNDUP($A5/4,0)+14000,28000)))) | F5: =IF($A5<=0,0,IF($A5<=15000,$A5,IF($A5<=40000,ROUNDUP($A5/2,0)+7500,IF($A5<=70000,ROUNDUP($A5/4,0)+17500,35000))))
A6: 15000 | B6: =IF($A6<=0,0,IF($A6<=20000,$A6,IF($A6<=40000,ROUNDUP($A6/2,0)+10000,IF($A6<=80000,ROUNDUP($A6/4,0)+20000,40000)))) | C6: =IF($A6<=0,0,IF($A6<=30000,$A6,IF($A6<=60000,ROUNDUP($A6/2,0)+15000,IF($A6<=120000,ROUNDUP($A6/4,0)+30000,60000)))) | D6: =IF($A6<=0,0,IF($A6<=25000,$A6,IF($A6<=50000,ROUNDUP($A6/2,0)+12500,IF($A6<=100000,ROUNDUP($A6/4,0)+25000,50000)))) | E6: =IF($A6<=0,0,IF($A6<=12000,$A6,IF($A6<=32000,ROUNDUP($A6/2,0)+6000,IF($A6<=56000,ROUNDUP($A6/4,0)+14000,28000)))) | F6: =IF($A6<=0,0,IF($A6<=15000,$A6,IF($A6<=40000,ROUNDUP($A6/2,0)+7500,IF($A6<=70000,ROUNDUP($A6/4,0)+17500,35000))))
A7: 20000 | B7: =IF($A7<=0,0,IF($A7<=20000,$A7,IF($A7<=40000,ROUNDUP($A7/2,0)+10000,IF($A7<=80000,ROUNDUP($A7/4,0)+20000,40000)))) | C7: =IF($A7<=0,0,IF($A7<=30000,$A7,IF($A7<=60000,ROUNDUP($A7/2,0)+15000,IF($A7<=120000,ROUNDUP($A7/4,0)+30000,60000)))) | D7: =IF($A7<=0,0,IF($A7<=25000,$A7,IF($A7<=50000,ROUNDUP($A7/2,0)+12500,IF($A7<=100000,ROUNDUP($A7/4,0)+25000,50000)))) | E7: =IF($A7<=0,0,IF($A7<=12000,$A7,IF($A7<=32000,ROUNDUP($A7/2,0)+6000,IF($A7<=56000,ROUNDUP($A7/4,0)+14000,28000)))) | F7: =IF($A7<=0,0,IF($A7<=15000,$A7,IF($A7<=40000,ROUNDUP($A7/2,0)+7500,IF($A7<=70000,ROUNDUP($A7/4,0)+17500,35000))))
A8: 25000 | B8: =IF($A8<=0,0,IF($A8<=20000,$A8,IF($A8<=40000,ROUNDUP($A8/2,0)+10000,IF($A8<=80000,ROUNDUP($A8/4,0)+20000,40000)))) | C8: =IF($A8<=0,0,IF($A8<=30000,$A8,IF($A8<=60000,ROUNDUP($A8/2,0)+15000,IF($A8<=120000,ROUNDUP($A8/4,0)+30000,60000)))) | D8: =IF($A8<=0,0,IF($A8<=25000,$A8,IF($A8<=50000,ROUNDUP($A8/2,0)+12500,IF($A8<=100000,ROUNDUP($A8/4,0)+25000,50000)))) | E8: =IF($A8<=0,0,IF($A8<=12000,$A8,IF($A8<=32000,ROUNDUP($A8/2,0)+6000,IF($A8<=56000,ROUNDUP($A8/4,0)+14000,28000)))) | F8: =IF($A8<=0,0,IF($A8<=15000,$A8,IF($A8<=40000,ROUNDUP($A8/2,0)+7500,IF($A8<=70000,ROUNDUP($A8/4,0)+17500,35000))))
A9: 30000 | B9: =IF($A9<=0,0,IF($A9<=20000,$A9,IF($A9<=40000,ROUNDUP($A9/2,0)+10000,IF($A9<=80000,ROUNDUP($A9/4,0)+20000,40000)))) | C9: =IF($A9<=0,0,IF($A9<=30000,$A9,IF($A9<=60000,ROUNDUP($A9/2,0)+15000,IF($A9<=120000,ROUNDUP($A9/4,0)+30000,60000)))) | D9: =IF($A9<=0,0,IF($A9<=25000,$A9,IF($A9<=50000,ROUNDUP($A9/2,0)+12500,IF($A9<=100000,ROUNDUP($A9/4,0)+25000,50000)))) | E9: =IF($A9<=0,0,IF($A9<=12000,$A9,IF($A9<=32000,ROUNDUP($A9/2,0)+6000,IF($A9<=56000,ROUNDUP($A9/4,0)+14000,28000)))) | F9: =IF($A9<=0,0,IF($A9<=15000,$A9,IF($A9<=40000,ROUNDUP($A9/2,0)+7500,IF($A9<=70000,ROUNDUP($A9/4,0)+17500,35000))))
A10: 35000 | B10: =IF($A10<=0,0,IF($A10<=20000,$A10,IF($A10<=40000,ROUNDUP($A10/2,0)+10000,IF($A10<=80000,ROUNDUP($A10/4,0)+20000,40000)))) | C10: =IF($A10<=0,0,IF($A10<=30000,$A10,IF($A10<=60000,ROUNDUP($A10/2,0)+15000,IF($A10<=120000,ROUNDUP($A10/4,0)+30000,60000)))) | D10: =IF($A10<=0,0,IF($A10<=25000,$A10,IF($A10<=50000,ROUNDUP($A10/2,0)+12500,IF($A10<=100000,ROUNDUP($A10/4,0)+25000,50000)))) | E10: =IF($A10<=0,0,IF($A10<=12000,$A10,IF($A10<=32000,ROUNDUP($A10/2,0)+6000,IF($A10<=56000,ROUNDUP($A10/4,0)+14000,28000)))) | F10: =IF($A10<=0,0,IF($A10<=15000,$A10,IF($A10<=40000,ROUNDUP($A10/2,0)+7500,IF($A10<=70000,ROUNDUP($A10/4,0)+17500,35000))))
A11: 40000 | B11: =IF($A11<=0,0,IF($A11<=20000,$A11,IF($A11<=40000,ROUNDUP($A11/2,0)+10000,IF($A11<=80000,ROUNDUP($A11/4,0)+20000,40000)))) | C11: =IF($A11<=0,0,IF($A11<=30000,$A11,IF($A11<=60000,ROUNDUP($A11/2,0)+15000,IF($A11<=120000,ROUNDUP($A11/4,0)+30000,60000)))) | D11: =IF($A11<=0,0,IF($A11<=25000,$A11,IF($A11<=50000,ROUNDUP($A11/2,0)+12500,IF($A11<=100000,ROUNDUP($A11/4,0)+25000,50000)))) | E11: =IF($A11<=0,0,IF($A11<=12000,$A11,IF($A11<=32000,ROUNDUP($A11/2,0)+6000,IF($A11<=56000,ROUNDUP($A11/4,0)+14000,28000)))) | F11: =IF($A11<=0,0,IF($A11<=15000,$A11,IF($A11<=40000,ROUNDUP($A11/2,0)+7500,IF($A11<=70000,ROUNDUP($A11/4,0)+17500,35000))))
A12: 45000 | B12: =IF($A12<=0,0,IF($A12<=20000,$A12,IF($A12<=40000,ROUNDUP($A12/2,0)+10000,IF($A12<=80000,ROUNDUP($A12/4,0)+20000,40000)))) | C12: =IF($A12<=0,0,IF($A12<=30000,$A12,IF($A12<=60000,ROUNDUP($A12/2,0)+15000,IF($A12<=120000,ROUNDUP($A12/4,0)+30000,60000)))) | D12: =IF($A12<=0,0,IF($A12<=25000,$A12,IF($A12<=50000,ROUNDUP($A12/2,0)+12500,IF($A12<=100000,ROUNDUP($A12/4,0)+25000,50000)))) | E12: =IF($A12<=0,0,IF($A12<=12000,$A12,IF($A12<=32000,ROUNDUP($A12/2,0)+6000,IF($A12<=56000,ROUNDUP($A12/4,0)+14000,28000)))) | F12: =IF($A12<=0,0,IF($A12<=15000,$A12,IF($A12<=40000,ROUNDUP($A12/2,0)+7500,IF($A12<=70000,ROUNDUP($A12/4,0)+17500,35000))))
A13: 50000 | B13: =IF($A13<=0,0,IF($A13<=20000,$A13,IF($A13<=40000,ROUNDUP($A13/2,0)+10000,IF($A13<=80000,ROUNDUP($A13/4,0)+20000,40000)))) | C13: =IF($A13<=0,0,IF($A13<=30000,$A13,IF($A13<=60000,ROUNDUP($A13/2,0)+15000,IF($A13<=120000,ROUNDUP($A13/4,0)+30000,60000)))) | D13: =IF($A13<=0,0,IF($A13<=25000,$A13,IF($A13<=50000,ROUNDUP($A13/2,0)+12500,IF($A13<=100000,ROUNDUP($A13/4,0)+25000,50000)))) | E13: =IF($A13<=0,0,IF($A13<=12000,$A13,IF($A13<=32000,ROUNDUP($A13/2,0)+6000,IF($A13<=56000,ROUNDUP($A13/4,0)+14000,28000)))) | F13: =IF($A13<=0,0,IF($A13<=15000,$A13,IF($A13<=40000,ROUNDUP($A13/2,0)+7500,IF($A13<=70000,ROUNDUP($A13/4,0)+17500,35000))))
A14: 55000 | B14: =IF($A14<=0,0,IF($A14<=20000,$A14,IF($A14<=40000,ROUNDUP($A14/2,0)+10000,IF($A14<=80000,ROUNDUP($A14/4,0)+20000,40000)))) | C14: =IF($A14<=0,0,IF($A14<=30000,$A14,IF($A14<=60000,ROUNDUP($A14/2,0)+15000,IF($A14<=120000,ROUNDUP($A14/4,0)+30000,60000)))) | D14: =IF($A14<=0,0,IF($A14<=25000,$A14,IF($A14<=50000,ROUNDUP($A14/2,0)+12500,IF($A14<=100000,ROUNDUP($A14/4,0)+25000,50000)))) | E14: =IF($A14<=0,0,IF($A14<=12000,$A14,IF($A14<=32000,ROUNDUP($A14/2,0)+6000,IF($A14<=56000,ROUNDUP($A14/4,0)+14000,28000)))) | F14: =IF($A14<=0,0,IF($A14<=15000,$A14,IF($A14<=40000,ROUNDUP($A14/2,0)+7500,IF($A14<=70000,ROUNDUP($A14/4,0)+17500,35000))))
... A33: 150000 | B33: =IF($A33<=0,0,IF($A33<=20000,$A33,IF($A33<=40000,ROUNDUP($A33/2,0)+10000,IF($A33<=80000,ROUNDUP($A33/4,0)+20000,40000)))) | C33: =IF($A33<=0,0,IF($A33<=30000,$A33,IF($A33<=60000,ROUNDUP($A33/2,0)+15000,IF($A33<=120000,ROUNDUP($A33/4,0)+30000,60000)))) | D33: =IF($A33<=0,0,IF($A33<=25000,$A33,IF($A33<=50000,ROUNDUP($A33/2,0)+12500,IF($A33<=100000,ROUNDUP($A33/4,0)+25000,50000)))) | E33: =IF($A33<=0,0,IF($A33<=12000,$A33,IF($A33<=32000,ROUNDUP($A33/2,0)+6000,IF($A33<=56000,ROUNDUP($A33/4,0)+14000,28000)))) | F33: =IF($A33<=0,0,IF($A33<=15000,$A33,IF($A33<=40000,ROUNDUP($A33/2,0)+7500,IF($A33<=70000,ROUNDUP($A33/4,0)+17500,35000))))
A35: 控除の上限: 所得税は3区分の合計で12万円、住民税は7万円。住民税は2.8万円×3＝8.4万円にならない。
A36: 23歳未満の扶養親族がいる特例は、2026年分と2027年分の所得税の一般の新契約だけ。住民税には無い。

Sheet 3_早見表
A1: 年収ごとに、生命保険料控除で1年に減る所得税と住民税の合計（2026年分、給与だけ、他の控除なし）
A2: 年収 | B2: 所得税率 | C2: 一般8万円 | D2: 一般と介護医療8万円ずつ | E2: 3区分8万円ずつ（年24万円） | F2: 特例あり 一般8万円 | G2: 特例あり 一般12万円 | H2: 特例あり 3区分（一般12万円） | I2: 3区分のうち所得税 | J2: 3区分のうち住民税
A3: 1500000 | B3: =計算!AH3 | C3: =計算!AG3 | D3: =計算!AG4 | E3: =計算!AG5 | F3: =計算!AG6 | G3: =計算!AG7 | H3: =計算!AG8 | I3: =計算!AE5 | J3: =計算!AF5
A4: 2000000 | B4: =計算!AH9 | C4: =計算!AG9 | D4: =計算!AG10 | E4: =計算!AG11 | F4: =計算!AG12 | G4: =計算!AG13 | H4: =計算!AG14 | I4: =計算!AE11 | J4: =計算!AF11
A5: 2500000 | B5: =計算!AH15 | C5: =計算!AG15 | D5: =計算!AG16 | E5: =計算!AG17 | F5: =計算!AG18 | G5: =計算!AG19 | H5: =計算!AG20 | I5: =計算!AE17 | J5: =計算!AF17
A6: 3000000 | B6: =計算!AH21 | C6: =計算!AG21 | D6: =計算!AG22 | E6: =計算!AG23 | F6: =計算!AG24 | G6: =計算!AG25 | H6: =計算!AG26 | I6: =計算!AE23 | J6: =計算!AF23
A7: 4000000 | B7: =計算!AH27 | C7: =計算!AG27 | D7: =計算!AG28 | E7: =計算!AG29 | F7: =計算!AG30 | G7: =計算!AG31 | H7: =計算!AG32 | I7: =計算!AE29 | J7: =計算!AF29
A8: 5000000 | B8: =計算!AH33 | C8: =計算!AG33 | D8: =計算!AG34 | E8: =計算!AG35 | F8: =計算!AG36 | G8: =計算!AG37 | H8: =計算!AG38 | I8: =計算!AE35 | J8: =計算!AF35
A9: 5250000 | B9: =計算!AH39 | C9: =計算!AG39 | D9: =計算!AG40 | E9: =計算!AG41 | F9: =計算!AG42 | G9: =計算!AG43 | H9: =計算!AG44 | I9: =計算!AE41 | J9: =計算!AF41
A10: 5260000 | B10: =計算!AH45 | C10: =計算!AG45 | D10: =計算!AG46 | E10: =計算!AG47 | F10: =計算!AG48 | G10: =計算!AG49 | H10: =計算!AG50 | I10: =計算!AE47 | J10: =計算!AF47
A11: 6000000 | B11: =計算!AH51 | C11: =計算!AG51 | D11: =計算!AG52 | E11: =計算!AG53 | F11: =計算!AG54 | G11: =計算!AG55 | H11: =計算!AG56 | I11: =計算!AE53 | J11: =計算!AF53
A12: 7000000 | B12: =計算!AH57 | C12: =計算!AG57 | D12: =計算!AG58 | E12: =計算!AG59 | F12: =計算!AG60 | G12: =計算!AG61 | H12: =計算!AG62 | I12: =計算!AE59 | J12: =計算!AF59
A13: 8000000 | B13: =計算!AH63 | C13: =計算!AG63 | D13: =計算!AG64 | E13: =計算!AG65 | F13: =計算!AG66 | G13: =計算!AG67 | H13: =計算!AG68 | I13: =計算!AE65 | J13: =計算!AF65
A14: 10000000 | B14: =計算!AH69 | C14: =計算!AG69 | D14: =計算!AG70 | E14: =計算!AG71 | F14: =計算!AG72 | G14: =計算!AG73 | H14: =計算!AG74 | I14: =計算!AE71 | J14: =計算!AF71
A15: 12000000 | B15: =計算!AH75 | C15: =計算!AG75 | D15: =計算!AG76 | E15: =計算!AG77 | F15: =計算!AG78 | G15: =計算!AG79 | H15: =計算!AG80 | I15: =計算!AE77 | J15: =計算!AF77
A16: 15000000 | B16: =計算!AH81 | C16: =計算!AG81 | D16: =計算!AG82 | E16: =計算!AG83 | F16: =計算!AG84 | G16: =計算!AG85 | H16: =計算!AG86 | I16: =計算!AE83 | J16: =計算!AF83
A18: 特例ありは、12月31日に23歳未満の扶養親族がいる人。扶養控除は入れていない（16歳未満の子なら扶養控除は無い）。
A19: 緑は、住民税のほうが所得税より多く減る年収。3区分に8万円ずつ払うと、特例があってもなくても減る税は同じになる。

Sheet 4_1万円刻み
A1: 年収150万〜1,200万円を1万円ずつ動かした、生命保険料控除で減る税（2026年分）
A2: 年収 | B2: 所得税率 | C2: 3区分 減る税 | D2: 3区分 所得税 | E2: 3区分 住民税 | F2: 一般8万円 減る税 | G2: 特例あり一般12万円 減る税 | H2: 特例で増える分 | J2: 集計 | K2: 値
A3: 1500000 | B3: =計算!AH87 | C3: =計算!AG87 | D3: =計算!AE87 | E3: =計算!AF87 | F3: =計算!AG88 | G3: =計算!AG89 | H3: =G3-F3 | J3: 行数 | K3: =COUNT(A3:A1053)
A4: 1510000 | B4: =計算!AH90 | C4: =計算!AG90 | D4: =計算!AE90 | E4: =計算!AF90 | F4: =計算!AG91 | G4: =計算!AG92 | H4: =G4-F4 | J4: 3区分で、住民税のほうが多く減る行数 | K4: =SUMPRODUCT(--(E3:E1053>D3:D1053))
A5: 1520000 | B5: =計算!AH93 | C5: =計算!AG93 | D5: =計算!AE93 | E5: =計算!AF93 | F5: =計算!AG94 | G5: =計算!AG95 | H5: =G5-F5 | J5: 3区分で、住民税のほうが多く減る年収の下限 | K5: =_xlfn.AGGREGATE(15,6,A3:A1053/(E3:E1053>D3:D1053),1)
A6: 1530000 | B6: =計算!AH96 | C6: =計算!AG96 | D6: =計算!AE96 | E6: =計算!AF96 | F6: =計算!AG97 | G6: =計算!AG98 | H6: =G6-F6 | J6: 3区分で、住民税のほうが多く減る年収の上限 | K6: =_xlfn.AGGREGATE(14,6,A3:A1053/(E3:E1053>D3:D1053),1)
A7: 1540000 | B7: =計算!AH99 | C7: =計算!AG99 | D7: =計算!AE99 | E7: =計算!AF99 | F7: =計算!AG100 | G7: =計算!AG101 | H7: =G7-F7 | J7: 3区分で、減る税の最小 | K7: =MIN(C3:C1053)
A8: 1550000 | B8: =計算!AH102 | C8: =計算!AG102 | D8: =計算!AE102 | E8: =計算!AF102 | F8: =計算!AG103 | G8: =計算!AG104 | H8: =G8-F8 | J8: 3区分で、減る税の最大 | K8: =MAX(C3:C1053)
A9: 1560000 | B9: =計算!AH105 | C9: =計算!AG105 | D9: =計算!AE105 | E9: =計算!AF105 | F9: =計算!AG106 | G9: =計算!AG107 | H9: =G9-F9 | J9: 所得税率5%の行で、3区分の減る税の最大 | K9: =_xlfn.MAXIFS(C3:C1053,B3:B1053,0.05)
A10: 1570000 | B10: =計算!AH108 | C10: =計算!AG108 | D10: =計算!AE108 | E10: =計算!AF108 | F10: =計算!AG109 | G10: =計算!AG110 | H10: =G10-F10 | J10: 所得税率5%の行で、3区分の減る税の最小 | K10: =_xlfn.MINIFS(C3:C1053,B3:B1053,0.05,C3:C1053,">"&0)
A11: 1580000 | B11: =計算!AH111 | C11: =計算!AG111 | D11: =計算!AE111 | E11: =計算!AF111 | F11: =計算!AG112 | G11: =計算!AG113 | H11: =G11-F11 | J11: 所得税率5%の行で、特例で増える分の最大 | K11: =_xlfn.MAXIFS(H3:H1053,B3:B1053,0.05)
A12: 1590000 | B12: =計算!AH114 | C12: =計算!AG114 | D12: =計算!AE114 | E12: =計算!AF114 | F12: =計算!AG115 | G12: =計算!AG116 | H12: =G12-F12 | J12: 所得税率20%の行で、特例で増える分の最大 | K12: =_xlfn.MAXIFS(H3:H1053,B3:B1053,0.2)
A13: 1600000 | B13: =計算!AH117 | C13: =計算!AG117 | D13: =計算!AE117 | E13: =計算!AF117 | F13: =計算!AG118 | G13: =計算!AG119 | H13: =G13-F13 | J13: 所得税率5%の年収の上限 | K13: =_xlfn.MAXIFS(A3:A1053,B3:B1053,0.05)
A14: 1610000 | B14: =計算!AH120 | C14: =計算!AG120 | D14: =計算!AE120 | E14: =計算!AF120 | F14: =計算!AG121 | G14: =計算!AG122 | H14: =G14-F14
A15: 1620000 | B15: =計算!AH123 | C15: =計算!AG123 | D15: =計算!AE123 | E15: =計算!AF123 | F15: =計算!AG124 | G15: =計算!AG125 | H15: =G15-F15
A16: 1630000 | B16: =計算!AH126 | C16: =計算!AG126 | D16: =計算!AE126 | E16: =計算!AF126 | F16: =計算!AG127 | G16: =計算!AG128 | H16: =G16-F16
A17: 1640000 | B17: =計算!AH129 | C17: =計算!AG129 | D17: =計算!AE129 | E17: =計算!AF129 | F17: =計算!AG130 | G17: =計算!AG131 | H17: =G17-F17
A18: 1650000 | B18: =計算!AH132 | C18: =計算!AG132 | D18: =計算!AE132 | E18: =計算!AF132 | F18: =計算!AG133 | G18: =計算!AG134 | H18: =G18-F18
A19: 1660000 | B19: =計算!AH135 | C19: =計算!AG135 | D19: =計算!AE135 | E19: =計算!AF135 | F19: =計算!AG136 | G19: =計算!AG137 | H19: =G19-F19
A20: 1670000 | B20: =計算!AH138 | C20: =計算!AG138 | D20: =計算!AE138 | E20: =計算!AF138 | F20: =計算!AG139 | G20: =計算!AG140 | H20: =G20-F20
A21: 1680000 | B21: =計算!AH141 | C21: =計算!AG141 | D21: =計算!AE141 | E21: =計算!AF141 | F21: =計算!AG142 | G21: =計算!AG143 | H21: =G21-F21
A22: 1690000 | B22: =計算!AH144 | C22: =計算!AG144 | D22: =計算!AE144 | E22: =計算!AF144 | F22: =計算!AG145 | G22: =計算!AG146 | H22: =G22-F22
A23: 1700000 | B23: =計算!AH147 | C23: =計算!AG147 | D23: =計算!AE147 | E23: =計算!AF147 | F23: =計算!AG148 | G23: =計算!AG149 | H23: =G23-F23
A24: 1710000 | B24: =計算!AH150 | C24: =計算!AG150 | D24: =計算!AE150 | E24: =計算!AF150 | F24: =計算!AG151 | G24: =計算!AG152 | H24: =G24-F24
A25: 1720000 | B25: =計算!AH153 | C25: =計算!AG153 | D25: =計算!AE153 | E25: =計算!AF153 | F25: =計算!AG154 | G25: =計算!AG155 | H25: =G25-F25
A26: 1730000 | B26: =計算!AH156 | C26: =計算!AG156 | D26: =計算!AE156 | E26: =計算!AF156 | F26: =計算!AG157 | G26: =計算!AG158 | H26: =G26-F26
A27: 1740000 | B27: =計算!AH159 | C27: =計算!AG159 | D27: =計算!AE159 | E27: =計算!AF159 | F27: =計算!AG160 | G27: =計算!AG161 | H27: =G27-F27
A28: 1750000 | B28: =計算!AH162 | C28: =計算!AG162 | D28: =計算!AE162 | E28: =計算!AF162 | F28: =計算!AG163 | G28: =計算!AG164 | H28: =G28-F28
A29: 1760000 | B29: =計算!AH165 | C29: =計算!AG165 | D29: =計算!AE165 | E29: =計算!AF165 | F29: =計算!AG166 | G29: =計算!AG167 | H29: =G29-F29
A30: 1770000 | B30: =計算!AH168 | C30: =計算!AG168 | D30: =計算!AE168 | E30: =計算!AF168 | F30: =計算!AG169 | G30: =計算!AG170 | H30: =G30-F30
A31: 1780000 | B31: =計算!AH171 | C31: =計算!AG171 | D31: =計算!AE171 | E31: =計算!AF171 | F31: =計算!AG172 | G31: =計算!AG173 | H31: =G31-F31
A32: 1790000 | B32: =計算!AH174 | C32: =計算!AG174 | D32: =計算!AE174 | E32: =計算!AF174 | F32: =計算!AG175 | G32: =計算!AG176 | H32: =G32-F32
A33: 1800000 | B33: =計算!AH177 | C33: =計算!AG177 | D33: =計算!AE177 | E33: =計算!AF177 | F33: =計算!AG178 | G33: =計算!AG179 | H33: =G33-F33
A34: 1810000 | B34: =計算!AH180 | C34: =計算!AG180 | D34: =計算!AE180 | E34: =計算!AF180 | F34: =計算!AG181 | G34: =計算!AG182 | H34: =G34-F34
A35: 1820000 | B35: =計算!AH183 | C35: =計算!AG183 | D35: =計算!AE183 | E35: =計算!AF183 | F35: =計算!AG184 | G35: =計算!AG185 | H35: =G35-F35
A36: 1830000 | B36: =計算!AH186 | C36: =計算!AG186 | D36: =計算!AE186 | E36: =計算!AF186 | F36: =計算!AG187 | G36: =計算!AG188 | H36: =G36-F36
A37: 1840000 | B37: =計算!AH189 | C37: =計算!AG189 | D37: =計算!AE189 | E37: =計算!AF189 | F37: =計算!AG190 | G37: =計算!AG191 | H37: =G37-F37
A38: 1850000 | B38: =計算!AH192 | C38: =計算!AG192 | D38: =計算!AE192 | E38: =計算!AF192 | F38: =計算!AG193 | G38: =計算!AG194 | H38: =G38-F38
A39: 1860000 | B39: =計算!AH195 | C39: =計算!AG195 | D39: =計算!AE195 | E39: =計算!AF195 | F39: =計算!AG196 | G39: =計算!AG197 | H39: =G39-F39
A40: 1870000 | B40: =計算!AH198 | C40: =計算!AG198 | D40: =計算!AE198 | E40: =計算!AF198 | F40: =計算!AG199 | G40: =計算!AG200 | H40: =G40-F40
A41: 1880000 | B41: =計算!AH201 | C41: =計算!AG201 | D41: =計算!AE201 | E41: =計算!AF201 | F41: =計算!AG202 | G41: =計算!AG203 | H41: =G41-F41
A42: 1890000 | B42: =計算!AH204 | C42: =計算!AG204 | D42: =計算!AE204 | E42: =計算!AF204 | F42: =計算!AG205 | G42: =計算!AG206 | H42: =G42-F42
A43: 1900000 | B43: =計算!AH207 | C43: =計算!AG207 | D43: =計算!AE207 | E43: =計算!AF207 | F43: =計算!AG208 | G43: =計算!AG209 | H43: =G43-F43
A44: 1910000 | B44: =計算!AH210 | C44: =計算!AG210 | D44: =計算!AE210 | E44: =計算!AF210 | F44: =計算!AG211 | G44: =計算!AG212 | H44: =G44-F44
A45: 1920000 | B45: =計算!AH213 | C45: =計算!AG213 | D45: =計算!AE213 | E45: =計算!AF213 | F45: =計算!AG214 | G45: =計算!AG215 | H45: =G45-F45
A46: 1930000 | B46: =計算!AH216 | C46: =計算!AG216 | D46: =計算!AE216 | E46: =計算!AF216 | F46: =計算!AG217 | G46: =計算!AG218 | H46: =G46-F46
A47: 1940000 | B47: =計算!AH219 | C47: =計算!AG219 | D47: =計算!AE219 | E47: =計算!AF219 | F47: =計算!AG220 | G47: =計算!AG221 | H47: =G47-F47
A48: 1950000 | B48: =計算!AH222 | C48: =計算!AG222 | D48: =計算!AE222 | E48: =計算!AF222 | F48: =計算!AG223 | G48: =計算!AG224 | H48: =G48-F48
A49: 1960000 | B49: =計算!AH225 | C49: =計算!AG225 | D49: =計算!AE225 | E49: =計算!AF225 | F49: =計算!AG226 | G49: =計算!AG227 | H49: =G49-F49
A50: 1970000 | B50: =計算!AH228 | C50: =計算!AG228 | D50: =計算!AE228 | E50: =計算!AF228 | F50: =計算!AG229 | G50: =計算!AG230 | H50: =G50-F50
A51: 1980000 | B51: =計算!AH231 | C51: =計算!AG231 | D51: =計算!AE231 | E51: =計算!AF231 | F51: =計算!AG232 | G51: =計算!AG233 | H51: =G51-F51
A52: 1990000 | B52: =計算!AH234 | C52: =計算!AG234 | D52: =計算!AE234 | E52: =計算!AF234 | F52: =計算!AG235 | G52: =計算!AG236 | H52: =G52-F52
A53: 2000000 | B53: =計算!AH237 | C53: =計算!AG237 | D53: =計算!AE237 | E53: =計算!AF237 | F53: =計算!AG238 | G53: =計算!AG239 | H53: =G53-F53
A54: 2010000 | B54: =計算!AH240 | C54: =計算!AG240 | D54: =計算!AE240 | E54: =計算!AF240 | F54: =計算!AG241 | G54: =計算!AG242 | H54: =G54-F54
A55: 2020000 | B55: =計算!AH243 | C55: =計算!AG243 | D55: =計算!AE243 | E55: =計算!AF243 | F55: =計算!AG244 | G55: =計算!AG245 | H55: =G55-F55
A56: 2030000 | B56: =計算!AH246 | C56: =計算!AG246 | D56: =計算!AE246 | E56: =計算!AF246 | F56: =計算!AG247 | G56: =計算!AG248 | H56: =G56-F56
A57: 2040000 | B57: =計算!AH249 | C57: =計算!AG249 | D57: =計算!AE249 | E57: =計算!AF249 | F57: =計算!AG250 | G57: =計算!AG251 | H57: =G57-F57
A58: 2050000 | B58: =計算!AH252 | C58: =計算!AG252 | D58: =計算!AE252 | E58: =計算!AF252 | F58: =計算!AG253 | G58: =計算!AG254 | H58: =G58-F58
A59: 2060000 | B59: =計算!AH255 | C59: =計算!AG255 | D59: =計算!AE255 | E59: =計算!AF255 | F59: =計算!AG256 | G59: =計算!AG257 | H59: =G59-F59
A60: 2070000 | B60: =計算!AH258 | C60: =計算!AG258 | D60: =計算!AE258 | E60: =計算!AF258 | F60: =計算!AG259 | G60: =計算!AG260 | H60: =G60-F60
A61: 2080000 | B61: =計算!AH261 | C61: =計算!AG261 | D61: =計算!AE261 | E61: =計算!AF261 | F61: =計算!AG262 | G61: =計算!AG263 | H61: =G61-F61
A62: 2090000 | B62: =計算!AH264 | C62: =計算!AG264 | D62: =計算!AE264 | E62: =計算!AF264 | F62: =計算!AG265 | G62: =計算!AG266 | H62: =G62-F62
A63: 2100000 | B63: =計算!AH267 | C63: =計算!AG267 | D63: =計算!AE267 | E63: =計算!AF267 | F63: =計算!AG268 | G63: =計算!AG269 | H63: =G63-F63
A64: 2110000 | B64: =計算!AH270 | C64: =計算!AG270 | D64: =計算!AE270 | E64: =計算!AF270 | F64: =計算!AG271 | G64: =計算!AG272 | H64: =G64-F64
A65: 2120000 | B65: =計算!AH273 | C65: =計算!AG273 | D65: =計算!AE273 | E65: =計算!AF273 | F65: =計算!AG274 | G65: =計算!AG275 | H65: =G65-F65
A66: 2130000 | B66: =計算!AH276 | C66: =計算!AG276 | D66: =計算!AE276 | E66: =計算!AF276 | F66: =計算!AG277 | G66: =計算!AG278 | H66: =G66-F66
A67: 2140000 | B67: =計算!AH279 | C67: =計算!AG279 | D67: =計算!AE279 | E67: =計算!AF279 | F67: =計算!AG280 | G67: =計算!AG281 | H67: =G67-F67
A68: 2150000 | B68: =計算!AH282 | C68: =計算!AG282 | D68: =計算!AE282 | E68: =計算!AF282 | F68: =計算!AG283 | G68: =計算!AG284 | H68: =G68-F68
A69: 2160000 | B69: =計算!AH285 | C69: =計算!AG285 | D69: =計算!AE285 | E69: =計算!AF285 | F69: =計算!AG286 | G69: =計算!AG287 | H69: =G69-F69
A70: 2170000 | B70: =計算!AH288 | C70: =計算!AG288 | D70: =計算!AE288 | E70: =計算!AF288 | F70: =計算!AG289 | G70: =計算!AG290 | H70: =G70-F70
A71: 2180000 | B71: =計算!AH291 | C71: =計算!AG291 | D71: =計算!AE291 | E71: =計算!AF291 | F71: =計算!AG292 | G71: =計算!AG293 | H71: =G71-F71
A72: 2190000 | B72: =計算!AH294 | C72: =計算!AG294 | D72: =計算!AE294 | E72: =計算!AF294 | F72: =計算!AG295 | G72: =計算!AG296 | H72: =G72-F72
A73: 2200000 | B73: =計算!AH297 | C73: =計算!AG297 | D73: =計算!AE297 | E73: =計算!AF297 | F73: =計算!AG298 | G73: =計算!AG299 | H73: =G73-F73
A74: 2210000 | B74: =計算!AH300 | C74: =計算!AG300 | D74: =計算!AE300 | E74: =計算!AF300 | F74: =計算!AG301 | G74: =計算!AG302 | H74: =G74-F74
A75: 2220000 | B75: =計算!AH303 | C75: =計算!AG303 | D75: =計算!AE303 | E75: =計算!AF303 | F75: =計算!AG304 | G75: =計算!AG305 | H75: =G75-F75
A76: 2230000 | B76: =計算!AH306 | C76: =計算!AG306 | D76: =計算!AE306 | E76: =計算!AF306 | F76: =計算!AG307 | G76: =計算!AG308 | H76: =G76-F76
A77: 2240000 | B77: =計算!AH309 | C77: =計算!AG309 | D77: =計算!AE309 | E77: =計算!AF309 | F77: =計算!AG310 | G77: =計算!AG311 | H77: =G77-F77
A78: 2250000 | B78: =計算!AH312 | C78: =計算!AG312 | D78: =計算!AE312 | E78: =計算!AF312 | F78: =計算!AG313 | G78: =計算!AG314 | H78: =G78-F78
A79: 2260000 | B79: =計算!AH315 | C79: =計算!AG315 | D79: =計算!AE315 | E79: =計算!AF315 | F79: =計算!AG316 | G79: =計算!AG317 | H79: =G79-F79
A80: 2270000 | B80: =計算!AH318 | C80: =計算!AG318 | D80: =計算!AE318 | E80: =計算!AF318 | F80: =計算!AG319 | G80: =計算!AG320 | H80: =G80-F80
A81: 2280000 | B81: =計算!AH321 | C81: =計算!AG321 | D81: =計算!AE321 | E81: =計算!AF321 | F81: =計算!AG322 | G81: =計算!AG323 | H81: =G81-F81
A82: 2290000 | B82: =計算!AH324 | C82: =計算!AG324 | D82: =計算!AE324 | E82: =計算!AF324 | F82: =計算!AG325 | G82: =計算!AG326 | H82: =G82-F82
A83: 2300000 | B83: =計算!AH327 | C83: =計算!AG327 | D83: =計算!AE327 | E83: =計算!AF327 | F83: =計算!AG328 | G83: =計算!AG329 | H83: =G83-F83
A84: 2310000 | B84: =計算!AH330 | C84: =計算!AG330 | D84: =計算!AE330 | E84: =計算!AF330 | F84: =計算!AG331 | G84: =計算!AG332 | H84: =G84-F84
A85: 2320000 | B85: =計算!AH333 | C85: =計算!AG333 | D85: =計算!AE333 | E85: =計算!AF333 | F85: =計算!AG334 | G85: =計算!AG335 | H85: =G85-F85
A86: 2330000 | B86: =計算!AH336 | C86: =計算!AG336 | D86: =計算!AE336 | E86: =計算!AF336 | F86: =計算!AG337 | G86: =計算!AG338 | H86: =G86-F86
A87: 2340000 | B87: =計算!AH339 | C87: =計算!AG339 | D87: =計算!AE339 | E87: =計算!AF339 | F87: =計算!AG340 | G87: =計算!AG341 | H87: =G87-F87
A88: 2350000 | B88: =計算!AH342 | C88: =計算!AG342 | D88: =計算!AE342 | E88: =計算!AF342 | F88: =計算!AG343 | G88: =計算!AG344 | H88: =G88-F88
A89: 2360000 | B89: =計算!AH345 | C89: =計算!AG345 | D89: =計算!AE345 | E89: =計算!AF345 | F89: =計算!AG346 | G89: =計算!AG347 | H89: =G89-F89
A90: 2370000 | B90: =計算!AH348 | C90: =計算!AG348 | D90: =計算!AE348 | E90: =計算!AF348 | F90: =計算!AG349 | G90: =計算!AG350 | H90: =G90-F90
A91: 2380000 | B91: =計算!AH351 | C91: =計算!AG351 | D91: =計算!AE351 | E91: =計算!AF351 | F91: =計算!AG352 | G91: =計算!AG353 | H91: =G91-F91
A92: 2390000 | B92: =計算!AH354 | C92: =計算!AG354 | D92: =計算!AE354 | E92: =計算!AF354 | F92: =計算!AG355 | G92: =計算!AG356 | H92: =G92-F92
A93: 2400000 | B93: =計算!AH357 | C93: =計算!AG357 | D93: =計算!AE357 | E93: =計算!AF357 | F93: =計算!AG358 | G93: =計算!AG359 | H93: =G93-F93
A94: 2410000 | B94: =計算!AH360 | C94: =計算!AG360 | D94: =計算!AE360 | E94: =計算!AF360 | F94: =計算!AG361 | G94: =計算!AG362 | H94: =G94-F94
A95: 2420000 | B95: =計算!AH363 | C95: =計算!AG363 | D95: =計算!AE363 | E95: =計算!AF363 | F95: =計算!AG364 | G95: =計算!AG365 | H95: =G95-F95
A96: 2430000 | B96: =計算!AH366 | C96: =計算!AG366 | D96: =計算!AE366 | E96: =計算!AF366 | F96: =計算!AG367 | G96: =計算!AG368 | H96: =G96-F96
A97: 2440000 | B97: =計算!AH369 | C97: =計算!AG369 | D97: =計算!AE369 | E97: =計算!AF369 | F97: =計算!AG370 | G97: =計算!AG371 | H97: =G97-F97
A98: 2450000 | B98: =計算!AH372 | C98: =計算!AG372 | D98: =計算!AE372 | E98: =計算!AF372 | F98: =計算!AG373 | G98: =計算!AG374 | H98: =G98-F98
A99: 2460000 | B99: =計算!AH375 | C99: =計算!AG375 | D99: =計算!AE375 | E99: =計算!AF375 | F99: =計算!AG376 | G99: =計算!AG377 | H99: =G99-F99
A100: 2470000 | B100: =計算!AH378 | C100: =計算!AG378 | D100: =計算!AE378 | E100: =計算!AF378 | F100: =計算!AG379 | G100: =計算!AG380 | H100: =G100-F100
...

Sheet 5_使い方
A1: 使い方
A3: 1_いくら減るか の黄色いセルを埋める。B3に給与の年収、B4に社会保険料（源泉徴収票の額。空欄なら見積もり）、
A4: B8〜B12に生命保険料控除証明書の「年間の申告額」を区分ごとに入れる。G17に1年に減る所得税と住民税の合計が出る。
A5: 所得税は年末調整か確定申告で、住民税は翌年6月からの税額で減る。
A7: 計算のしかた: 控除なしと控除ありで所得税と住民税を出し、差をとる。
A8: 所得税の控除（新契約）: 保険料2万円以下は全額、4万円以下は1/2＋1万円、8万円以下は1/4＋2万円、8万円超は4万円。
A9: 所得税の控除（旧契約）: 2.5万円以下は全額、5万円以下は1/2＋1.25万円、10万円以下は1/4＋2.5万円、10万円超は5万円。
A10: 23歳未満の扶養親族がいる場合の一般の新契約（2026・2027年分）: 3万円以下は全額、6万円以下は1/2＋1.5万円、
A11: 12万円以下は1/4＋3万円、12万円超は6万円。3区分の合計の上限12万円は変わらない。
A12: 住民税の控除（新契約）: 1.2万円以下は全額、3.2万円以下は1/2＋6,000円、5.6万円以下は1/4＋1.4万円、5.6万円超は2.8万円。
A13: 住民税の控除（旧契約）: 1.5万円以下は全額、4万円以下は1/2＋7,500円、7万円以下は1/4＋1.75万円、7万円超は3.5万円。合計の上限7万円。
A14: 新と旧の両方がある区分は、旧だけで計算した額と、新と旧の合計（所得税4万円、特例6万円、住民税2.8万円まで）の大きいほう。
... A36: 特定の保険を勧めるものではない。保険料を増やしたときに税がいくら変わるかだけを数えている。

Sheet 計算
A1: 1行で1人分を計算する。3_早見表と4_1万円刻みはここを参照している。社会保険料は年収から見積もり（40歳未満）。保険料は1年に払った額（剰余金・割戻金を引いた後）
A2: 用途 | B2: 年収 | C2: 年分 | D2: 23歳未満の扶養親族 | E2: 一般 新契約 | F2: 一般 旧契約 | G2: 介護医療 | H2: 個人年金 新契約 | I2: 個人年金 旧契約 | J2: 社会保険料 | K2: 他の控除（所得税） | L2: 他の控除（住民税） | M2: 給与所得 | N2: 基礎控除（所得税） | O2: 所得税 一般の控除 | P2: 所得税 介護医療の控除 | Q2: 所得税 個人年金の控除 | R2: 所得税の控除 合計 | S2: 住民税 一般の控除 | T2: 住民税 介護医療の控除 | U2: 住民税 個人年金の控除 | V2: 住民税の控除 合計 | W2: 所得税の課税所得 控除なし | X2: 所得税の課税所得 控除あり | Y2: 所得税 控除なし | Z2: 所得税 控除あり | AA2: 住民税の課税所得 控除なし | AB2: 住民税の課税所得 控除あり | AC2: 住民税所得割 控除なし | AD2: 住民税所得割 控除あり | AE2: 減る所得税 | AF2: 減る住民税 | AG2: 減る税の合計 | AH2: 控除なしの所得税率
A3: 早見表 一般8万円 | B3: ='3_早見表'!$A$3 | C3: 2026 | D3: いいえ | E3: 80000 | F3: 0 | G3: 0 | H3: 0 | I3: 0 | J3: =ROUND(MIN(B3/12,650000)*12*0.0915+MIN(B3/12,1390000)*12*(0.0504+0)+B3*0.005,0) | K3: 0 | L3: 0 | M3: =ROUND(IF(C3>=2026,IF(B3<741000,0,IF(B3<2191000,B3-740000,IF(B3<2193000,1451000,IF(B3<2196000,1453000,IF(B3<2200000,1456000,IF(B3<3600000,ROUNDDOWN(B3/4,-3)*2.8-80000,IF(B3<6600000,ROUNDDOWN(B3/4,-3)*3.2-440000,IF(B3<8500000,ROUNDDOWN(B3*0.9,0)-1100000,B3-1950000)))))))),IF(B3<651000,0,IF(B3<1900000,B3-650000,IF(B3<3600000,ROUNDDOWN(B3/4,-3)*2.8-80000,IF(B3<6600000,ROUNDDOWN(B3/4,-3)*3.2-440000,IF(B3<8500000,ROUNDDOWN(B3*0.9,0)-1100000,B3-1950000)))))),0) | N3: =IF(M3>23500000,NA(),IF(C3>=2026,IF(M3<=4890000,1040000,IF(M3<=6550000,670000,620000)),IF(M3<=1320000,950000,IF(M3<=3360000,880000,IF(M3<=4890000,680000,IF(M3<=6550000,630000,580000)))))) | O3: =IF(F3<=0,IF(AND(D3="はい",C3>=2026,C3<=2027),IF(E3<=0,0,IF(E3<=30000,E3,IF(E3<=60000,ROUNDUP(E3/2,0)+15000,IF(E3<=120000,ROUNDUP(E3/4,0)+30000,60000)))),IF(E3<=0,0,IF(E3<=20000,E3,IF(E3<=40000,ROUNDUP(E3/2,0)+10000,IF(E3<=80000,ROUNDUP(E3/4,0)+20000,40000))))),IF(E3<=0,IF(F3<=0,0,IF(F3<=25000,F3,IF(F3<=50000,ROUNDUP(F3/2,0)+12500,IF(F3<=100000,ROUNDUP(F3/4,0)+25000,50000)))),MAX(IF(F3<=0,0,IF(F3<=25000,F3,IF(F3<=50000,ROUNDUP(F3/2,0)+12500,IF(F3<=100000,ROUNDUP(F3/4,0)+25000,50000)))),MIN(IF(AND(D3="はい",C3>=2026,C3<=2027),IF(E3<=0,0,IF(E3<=30000,E3,IF(E3<=60000,ROUNDUP(E3/2,0)+15000,IF(E3<=120000,ROUNDUP(E3/4,0)+30000,60000)))),IF(E3<=0,0,IF(E3<=20000,E3,IF(E3<=40000,ROUNDUP(E3/2,0)+10000,IF(E3<=80000,ROUNDUP(E3/4,0)+20000,40000)))))+IF(F3<=0,0,IF(F3<=25000,F3,IF(F3<=50000,ROUNDUP(F3/2,0)+12500,IF(F3<=100000,ROUNDUP(F3/4,0)+25000,50000)))),IF(AND(D3="はい",C3>=2026,C3<=2027),60000,40000))))) | P3: =IF(G3<=0,0,IF(G3<=20000,G3,IF(G3<=40000,ROUNDUP(G3/2,0)+10000,IF(G3<=80000,ROUNDUP(G3/4,0)+20000,40000)))) | Q3: =IF(I3<=0,IF(H3<=0,0,IF(H3<=20000,H3,IF(H3<=40000,ROUNDUP(H3/2,0)+10000,IF(H3<=80000,ROUNDUP(H3/4,0)+20000,40000)))),IF(H3<=0,IF(I3<=0,0,IF(I3<=25000,I3,IF(I3<=50000,ROUNDUP(I3/2,0)+12500,IF(I3<=100000,ROUNDUP(I3/4,0)+25000,50000)))),MAX(IF(I3<=0,0,IF(I3<=25000,I3,IF(I3<=50000,ROUNDUP(I3/2,0)+12500,IF(I3<=100000,ROUNDUP(I3/4,0)+25000,50000)))),MIN(IF(H3<=0,0,IF(H3<=20000,H3,IF(H3<=40000,ROUNDUP(H3/2,0)+10000,IF(H3<=80000,ROUNDUP(H3/4,0)+20000,40000))))+IF(I3<=0,0,IF(I3<=25000,I3,IF(I3<=50000,ROUNDUP(I3/2,0)+12500,IF(I3<=100000,ROUNDUP(I3/4,0)+25000,50000)))),40000)))) | R3: =MIN(120000,O3+P3+Q3) | S3: =IF(F3<=0,IF(E3<=0,0,IF(E3<=12000,E3,IF(E3<=32000,ROUNDUP(E3/2,0)+6000,IF(E3<=56000,ROUNDUP(E3/4,0)+14000,28000)))),IF(E3<=0,IF(F3<=0,0,IF(F3<=15000,F3,IF(F3<=40000,ROUNDUP(F3/2,0)+7500,IF(F3<=70000,ROUNDUP(F3/4,0)+17500,35000)))),MAX(IF(F3<=0,0,IF(F3<=15000,F3,IF(F3<=40000,ROUNDUP(F3/2,0)+7500,IF(F3<=70000,ROUNDUP(F3/4,0)+17500,35000)))),MIN(IF(E3<=0,0,IF(E3<=12000,E3,IF(E3<=32000,ROUNDUP(E3/2,0)+6000,IF(E3<=56000,ROUNDUP(E3/4,0)+14000,28000))))+IF(F3<=0,0,IF(F3<=15000,F3,IF(F3<=40000,ROUNDUP(F3/2,0)+7500,IF(F3<=70000,ROUNDUP(F3/4,0)+17500,35000)))),28000)))) | T3: =IF(G3<=0,0,IF(G3<=12000,G3,IF(G3<=32000,ROUNDUP(G3/2,0)+6000,IF(G3<=56000,ROUNDUP(G3/4,0)+14000,28000)))) | U3: =IF(I3<=0,IF(H3<=0,0,IF(H3<=12000,H3,IF(H3<=32000,ROUNDUP(H3/2,0)+6000,IF(H3<=56000,ROUNDUP(H3/4,0)+14000,28000)))),IF(H3<=0,IF(I3<=0,0,IF(I3<=15000,I3,IF(I3<=40000,ROUNDUP(I3/2,0)+7500,IF(I3<=70000,ROUNDUP(I3/4,0)+17500,35000)))),MAX(IF(I3<=0,0,IF(I3<=15000,I3,IF(I3<=40000,ROUNDUP(I3/2,0)+7500,IF(I3<=70000,ROUNDUP(I3/4,0)+17500,35000)))),MIN(IF(H3<=0,0,IF(H3<=12000,H3,IF(H3<=32000,ROUNDUP(H3/2,0)+6000,IF(H3<=56000,ROUNDUP(H3/4,0)+14000,28000))))+IF(I3<=0,0,IF(I3<=15000,I3,IF(I3<=40000,ROUNDUP(I3/2,0)+7500,IF(I3<=70000,ROUNDUP(I3/4,0)+17500,35000)))),28000)))) | V3: =MIN(70000,S3+T3+U3) | W3: =MAX(0,ROUNDDOWN(M3-J3-N3-K3-0,-3)) | X3: =MAX(0,ROUNDDOWN(M3-J3-N3-K3-R3,-3)) | Y3: =IF(W3<=0,0,ROUNDDOWN((W3*LOOKUP(W3,{0,1950001,3300001,6950001,9000001,18000001,40000001},{0.05,0.1,0.2,0.23,0.33,0.4,0.45})-LOOKUP(W3,{0,1950001,3300001,6950001,9000001,18000001,40000001},{0,97500,427500,636000,1536000,2796000,4796000}))*1.021,-2)) | Z3: =IF(X3<=0,0,ROUNDDOWN((X3*LOOKUP(X3,{0,1950001,3300001,6950001,9000001,18000001,40000001},{0.05,0.1,0.2,0.23,0.33,0.4,0.45})-LOOKUP(X3,{0,1950001,3300001,6950001,9000001,18000001,40000001},{0,97500,427500,636000,1536000,2796000,4796000}))*1.021,-2)) | AA3: =MAX(0,ROUNDDOWN(M3-J3-430000-L3-0,-3)) | AB3: =MAX(0,ROUNDDOWN(M3-J3-430000-L3-V3,-3)) | AC3: =IF(M3<=450000,0,MAX(0,ROUNDDOWN(AA3*0.06-MIN(50000,AA3)*0.03,-2))+MAX(0,ROUNDDOWN(AA3*0.04-MIN(50000,AA3)*0.02,-2))) | AD3: =IF(M3<=450000,0,MAX(0,ROUNDDOWN(AB3*0.06-MIN(50000,AB3)*0.03,-2))+MAX(0,ROUNDDOWN(AB3*0.04-MIN(50000,AB3)*0.02,-2))) | AE3: =Y3-Z3 | AF3: =AC3-AD3 | AG3: =AE3+AF3 | AH3: =IF(W3<=0,0,LOOKUP(W3,{0,1950001,3300001,6950001,9000001,18000001,40000001},{0.05,0.1,0.2,0.23,0.33,0.4,0.45}))
A4: 早見表 一般と介護医療8万円ずつ | B4: ='3_早見表'!$A$3 | C4: 2026 | D4: いいえ | E4: 80000 | F4: 0 | G4: 80000 | H4: 0 | I4: 0 | J4: =ROUND(MIN(B4/12,650000)*12*0.0915+MIN(B4/12,1390000)*12*(0.0504+0)+B4*0.005,0) | K4: 0 | L4: 0 | M4: =ROUND(IF(C4>=2026,IF(B4<741000,0,IF(B4<2191000,B4-740000,IF(B4<2193000,1451000,IF(B4<2196000,1453000,IF(B4<2200000,1456000,IF(B4<3600000,ROUNDDOWN(B4/4,-3)*2.8-80000,IF(B4<6600000,ROUNDDOWN(B4/4,-3)*3.2-440000,IF(B4<8500000,ROUNDDOWN(B4*0.9,0)-1100000,B4-1950000)))))))),IF(B4<651000,0,IF(B4<1900000,B4-650000,IF(B4<3600000,ROUNDDOWN(B4/4,-3)*2.8-80000,IF(B4<6600000,ROUNDDOWN(B4/4,-3)*3.2-440000,IF(B4<8500000,ROUNDDOWN(B4*0.9,0)-1100000,B4-1950000)))))),0) | N4: =IF(M4>23500000,NA(),IF(C4>=2026,IF(M4<=4890000,1040000,IF(M4<=6550000,670000,620000)),IF(M4<=1320000,950000,IF(M4<=3360000,880000,IF(M4<=4890000,680000,IF(M4<=6550000,630000,580000)))))) | O4: =IF(F4<=0,IF(AND(D4="はい",C4>=2026,C4<=2027),IF(E4<=0,0,IF(E4<=30000,E4,IF(E4<=60000,ROUNDUP(E4/2,0)+15000,IF(E4<=120000,ROUNDUP(E4/4,0)+30000,60000)))),IF(E4<=0,0,IF(E4<=20000,E4,IF(E4<=40000,ROUNDUP(E4/2,0)+10000,IF(E4<=80000,ROUNDUP(E4/4,0)+20000,40000))))),IF(E4<=0,IF(F4<=0,0,IF(F4<=25000,F4,IF(F4<=50000,ROUNDUP(F4/2,0)+12500,IF(F4<=100000,ROUNDUP(F4/4,0)+25000,50000)))),MAX(IF(F4<=0,0,IF(F4<=25000,F4,IF(F4<=50000,ROUNDUP(F4/2,0)+12500,IF(F4<=100000,ROUNDUP(F4/4,0)+25000,50000)))),MIN(IF(AND(D4="はい",C4>=2026,C4<=2027),IF(E4<=0,0,IF(E4<=30000,E4,IF(E4<=60000,ROUNDUP(E4/2,0)+15000,IF(E4<=120000,ROUNDUP(E4/4,0)+30000,60000)))),IF(E4<=0,0,IF(E4<=20000,E4,IF(E4<=40000,ROUNDUP(E4/2,0)+10000,IF(E4<=80000,ROUNDUP(E4/4,0)+20000,40000)))))+IF(F4<=0,0,IF(F4<=25000,F4,IF(F4<=50000,ROUNDUP(F4/2,0)+12500,IF(F4<=100000,ROUNDUP(F4/4,0)+25000,50000)))),IF(AND(D4="はい",C4>=2026,C4<=2027),60000,40000))))) | P4: =IF(G4<=0,0,IF(G4<=20000,G4,IF(G4<=40000,ROUNDUP(G4/2,0)+10000,IF(G4<=80000,ROUNDUP(G4/4,0)+20000,40000)))) | Q4: =IF(I4<=0,IF(H4<=0,0,IF(H4<=20000,H4,IF(H4<=40000,ROUNDUP(H4/2,0)+10000,IF(H4<=80000,ROUNDUP(H4/4,0)+20000,40000)))),IF(H4<=0,IF(I4<=0,0,IF(I4<=25000,I4,IF(I4<=50000,ROUNDUP(I4/2,0)+12500,IF(I4<=100000,ROUNDUP(I4/4,0)+25000,50000)))),MAX(IF(I4<=0,0,IF(I4<=25000,I4,IF(I4<=50000,ROUNDUP(I4/2,0)+12500,IF(I4<=100000,ROUNDUP(I4/4,0)+25000,50000)))),MIN(IF(H4<=0,0,IF(H4<=20000,H4,IF(H4<=40000,ROUNDUP(H4/2,0)+10000,IF(H4<=80000,ROUNDUP(H4/4,0)+20000,40000))))+IF(I4<=0,0,IF(I4<=25000,I4,IF(I4<=50000,ROUNDUP(I4/2,0)+12500,IF(I4<=100000,ROUNDUP(I4/4,0)+25000,50000)))),40000)))) | R4: =MIN(120000,O4+P4+Q4) | S4: =IF(F4<=0,IF(E4<=0,0,IF(E4<=12000,E4,IF(E4<=32000,ROUNDUP(E4/2,0)+6000,IF(E4<=56000,ROUNDUP(E4/4,0)+14000,28000)))),IF(E4<=0,IF(F4<=0,0,IF(F4<=15000,F4,IF(F4<=40000,ROUNDUP(F4/2,0)+7500,IF(F4<=70000,ROUNDUP(F4/4,0)+17500,35000)))),MAX(IF(F4<=0,0,IF(F4<=15000,F4,IF(F4<=40000,ROUNDUP(F4/2,0)+7500,IF(F4<=70000,ROUNDUP(F4/4,0)+17500,35000)))),MIN(IF(E4<=0,0,IF(E4<=12000,E4,IF(E4<=32000,ROUNDUP(E4/2,0)+6000,IF(E4<=56000,ROUNDUP(E4/4,0)+14000,28000))))+IF(F4<=0,0,IF(F4<=15000,F4,IF(F4<=40000,ROUNDUP(F4/2,0)+7500,IF(F4<=70000,ROUNDUP(F4/4,0)+17500,35000)))),28000)))) | T4: =IF(G4<=0,0,IF(G4<=12000,G4,IF(G4<=32000,ROUNDUP(G4/2,0)+6000,IF(G4<=56000,ROUNDUP(G4/4,0)+14000,28000)))) | U4: =IF(I4<=0,IF(H4<=0,0,IF(H4<=12000,H4,IF(H4<=32000,ROUNDUP(H4/2,0)+6000,IF(H4<=56000,ROUNDUP(H4/4,0)+14000,28000)))),IF(H4<=0,IF(I4<=0,0,IF(I4<=15000,I4,IF(I4<=40000,ROUNDUP(I4/2,0)+7500,IF(I4<=70000,ROUNDUP(I4/4,0)+17500,35000)))),MAX(IF(I4<=0,0,IF(I4<=15000,I4,IF(I4<=40000,ROUNDUP(I4/2,0)+7500,IF(I4<=70000,ROUNDUP(I4/4,0)+17500,35000)))),MIN(IF(H4<=0,0,IF(H4<=12000,H4,IF(H4<=32000,ROUNDUP(H4/2,0)+6000,IF(H4<=56000,ROUNDUP(H4/4,0)+14000,28000))))+IF(I4<=0,0,IF(I4<=15000,I4,IF(I4<=40000,ROUNDUP(I4/2,0)+7500,IF(I4<=70000,ROUNDUP(I4/4,0)+17500,35000)))),28000)))) | V4: =MIN(70000,S4+T4+U4) | W4: =MAX(0,ROUNDDOWN(M4-J4-N4-K4-0,-3)) | X4: =MAX(0,ROUNDDOWN(M4-J4-N4-K4-R4,-3)) | Y4: =IF(W4<=0,0,ROUNDDOWN((W4*LOOKUP(W4,{0,1950001,3300001,6950001,9000001,18000001,40000001},{0.05,0.1,0.2,0.23,0.33,0.4,0.45})-LOOKUP(W4,{0,1950001,3300001,6950001,9000001,18000001,40000001},{0,97500,427500,636000,1536000,2796000,4796000}))*1.021,-2)) | Z4: =IF(X4<=0,0,ROUNDDOWN((X4*LOOKUP(X4,{0,1950001,3300001,6950001,9000001,18000001,40000001},{0.05,0.1,0.2,0.23,0.33,0.4,0.45})-LOOKUP(X4,{0,1950001,3300001,6950001,9000001,18000001,40000001},{0,97500,427500,636000,1536000,2796000,4796000}))*1.021,-2)) | AA4: =MAX(0,ROUNDDOWN(M4-J4-430000-L4-0,-3)) | AB4: =MAX(0,ROUNDDOWN(M4-J4-430000-L4-V4,-3)) | AC4: =IF(M4<=450000,0,MAX(0,ROUNDDOWN(AA4*0.06-MIN(50000,AA4)*0.03,-2))+MAX(0,ROUNDDOWN(AA4*0.04-MIN(50000,AA4)*0.02,-2))) | AD4: =IF(M4<=450000,0,MAX(0,ROUNDDOWN(AB4*0.06-MIN(50000,AB4)*0.03,-2))+MAX(0,ROUNDDOWN(AB4*0.04-MIN(50000,AB4)*0.02,-2))) | AE4: =Y4-Z4 | AF4: =AC4-AD4 | AG4: =AE4+AF4 | AH4: =IF(W4<=0,0,LOOKUP(W4,{0,1950001,3300001,6950001,9000001,18000001,40000001},{0.05,0.1,0.2,0.23,0.33,0.4,0.45}))
A5: 早見表 3区分8万円ずつ（年24万円） | B5: ='3_早見表'!$A$3 | C5: 2026 | D5: いいえ | E5: 80000 | F5: 0 | G5: 80000 | H5: 80000 | I5: 0 | J5: =ROUND(MIN(B5/12,650000)*12*0.0915+MIN(B5/12,1390000)*12*(0.0504+0)+B5*0.005,0) | K5: 0 | L5: 0 | M5: =ROUND(IF(C5>=2026,IF(B5<741000,0,IF(B5<2191000,B5-740000,IF(B5<2193000,1451000,IF(B5<2196000,1453000,IF(B5<2200000,1456000,IF(B5<3600000,ROUNDDOWN(B5/4,-3)*2.8-80000,IF(B5<6600000,ROUNDDOWN(B5/4,-3)*3.2-440000,IF(B5<8500000,ROUNDDOWN(B5*0.9,0)-1100000,B5-1950000)))))))),IF(B5<651000,0,IF(B5<1900000,B5-650000,IF(B5<3600000,ROUNDDOWN(B5/4,-3)*2.8-80000,IF(B5<6600000,ROUNDDOWN(B5/4,-3)*3.2-440000,IF(B5<8500000,ROUNDDOWN(B5*0.9,0)-1100000,B5-1950000)))))),0) | N5: =IF(M5>23500000,NA(),IF(C5>=2026,IF(M5<=4890000,1040000,IF(M5<=6550000,670000,620000)),IF(M5<=1320000,950000,IF(M5<=3360000,880000,IF(M5<=4890000,680000,IF(M5<=6550000,630000,580000)))))) | O5: =IF(F5<=0,IF(AND(D5="はい",C5>=2026,C5<=2027),IF(E5<=0,0,IF(E5<=30000,E5,IF(E5<=60000,ROUNDUP(E5/2,0)+15000,IF(E5<=120000,ROUNDUP(E5/4,0)+30000,60000)))),IF(E5<=0,0,IF(E5<=20000,E5,IF(E5<=40000,ROUNDUP(E5/2,0)+10000,IF(E5<=80000,ROUNDUP(E5/4,0)+20000,40000))))),IF(E5<=0,IF(F5<=0,0,IF(F5<=25000,F5,IF(F5<=50000,ROUNDUP(F5/2,0)+12500,IF(F5<=100000,ROUNDUP(F5/4,0)+25000,50000)))),MAX(IF(F5<=0,0,IF(F5<=25000,F5,IF(F5<=50000,ROUNDUP(F5/2,0)+12500,IF(F5<=100000,ROUNDUP(F5/4,0)+25000,50000)))),MIN(IF(AND(D5="はい",C5>=2026,C5<=2027),IF(E5<=0,0,IF(E5<=30000,E5,IF(E5<=60000,ROUNDUP(E5/2,0)+15000,IF(E5<=120000,ROUNDUP(E5/4,0)+30000,60000)))),IF(E5<=0,0,IF(E5<=20000,E5,IF(E5<=40000,ROUNDUP(E5/2,0)+10000,IF(E5<=80000,ROUNDUP(E5/4,0)+20000,40000)))))+IF(F5<=0,0,IF(F5<=25000,F5,IF(F5<=50000,ROUNDUP(F5/2,0)+12500,IF(F5<=100000,ROUNDUP(F5/4,0)+25000,50000)))),IF(AND(D5="はい",C5>=2026,C5<=2027),60000,40000))))) | P5: =IF(G5<=0,0,IF(G5<=20000,G5,IF(G5<=40000,ROUNDUP(G5/2,0)+10000,IF(G5<=80000,ROUNDUP(G5/4,0)+20000,40000)))) | Q5: =IF(I5<=0,IF(H5<=0,0,IF(H5<=20000,H5,IF(H5<=40000,ROUNDUP(H5/2,0)+10000,IF(H5<=80000,ROUNDUP(H5/4,0)+20000,40000)))),IF(H5<=0,IF(I5<=0,0,IF(I5<=25000,I5,IF(I5<=50000,ROUNDUP(I5/2,0)+12500,IF(I5<=100000,ROUNDUP(I5/4,0)+25000,50000)))),MAX(IF(I5<=0,0,IF(I5<=25000,I5,IF(I5<=50000,ROUNDUP(I5/2,0)+12500,IF(I5<=100000,ROUNDUP(I5/4,0)+25000,50000)))),MIN(IF(H5<=0,0,IF(H5<=20000,H5,IF(H5<=40000,ROUNDUP(H5/2,0)+10000,IF(H5<=80000,ROUNDUP(H5/4,0)+20000,40000))))+IF(I5<=0,0,IF(I5<=25000,I5,IF(I5<=50000,ROUNDUP(I5/2,0)+12500,IF(I5<=100000,ROUNDUP(I5/4,0)+25000,50000)))),40000)))) | R5: =MIN(120000,O5+P5+Q5) | S5: =IF(F5<=0,IF(E5<=0,0,IF(E5<=12000,E5,IF(E5<=32000,ROUNDUP(E5/2,0)+6000,IF(E5<=56000,ROUNDUP(E5/4,0)+14000,28000)))),IF(E5<=0,IF(F5<=0,0,IF(F5<=15000,F5,IF(F5<=40000,ROUNDUP(F5/2,0)+7500,IF(F5<=70000,ROUNDUP(F5/4,0)+17500,35000)))),MAX(IF(F5<=0,0,IF(F5<=15000,F5,IF(F5<=40000,ROUNDUP(F5/2,0)+7500,IF(F5<=70000,ROUNDUP(F5/4,0)+17500,35000)))),MIN(IF(E5<=0,0,IF(E5<=12000,E5,IF(E5<=32000,ROUNDUP(E5/2,0)+6000,IF(E5<=56000,ROUNDUP(E5/4,0)+14000,28000))))+IF(F5<=0,0,IF(F5<=15000,F5,IF(F5<=40000,ROUNDUP(F5/2,0)+7500,IF(F5<=70000,ROUNDUP(F5/4,0)+17500,35000)))),28000)))) | T5: =IF(G5<=0,0,IF(G5<=12000,G5,IF(G5<=32000,ROUNDUP(G5/2,0)+6000,IF(G5<=56000,ROUNDUP(G5/4,0)+14000,28000)))) | U5: =IF(I5<=0,IF(H5<=0,0,IF(H5<=12000,H5,IF(H5<=32000,ROUNDUP(H5/2,0)+6000,IF(H5<=56000,ROUNDUP(H5/4,0)+14000,28000)))),IF(H5<=0,IF(I5<=0,0,IF(I5<=15000,I5,IF(I5<=40000,ROUNDUP(I5/2,0)+7500,IF(I5<=70000,ROUNDUP(I5/4,0)+17500,35000)))),MAX(IF(I5<=0,0,IF(I5<=15000,I5,IF(I5<=40000,ROUNDUP(I5/2,0)+7500,IF(I5<=70000,ROUNDUP(I5/4,0)+17500,35000)))),MIN(IF(H5<=0,0,IF(H5<=12000,H5,IF(H5<=32000,ROUNDUP(H5/2,0)+6000,IF(H5<=56000,ROUNDUP(H5/4,0)+14000,28000))))+IF(I5<=0,0,IF(I5<=15000,I5,IF(I5<=40000,ROUNDUP(I5/2,0)+7500,IF(I5<=70000,ROUNDUP(I5/4,0)+17500,35000)))),28000)))) | V5: =MIN(70000,S5+T5+U5) | W5: =MAX(0,ROUNDDOWN(M5-J5-N5-K5-0,-3)) | X5: =MAX(0,ROUNDDOWN(M5-J5-N5-K5-R5,-3)) | Y5: =IF(W5<=0,0,ROUNDDOWN((W5*LOOKUP(W5,{0,1950001,3300001,6950001,9000001,18000001,40000001},{0.05,0.1,0.2,0.23,0.33,0.4,0.45})-LOOKUP(W5,{0,1950001,3300001,6950001,9000001,18000001,40000001},{0,97500,427500,636000,1536000,2796000,4796000}))*1.021,-2)) | Z5: =IF(X5<=0,0,ROUNDDOWN((X5*LOOKUP(X5,{0,1950001,3300001,6950001,9000001,18000001,40000001},{0.05,0.1,0.2,0.23,0.33,0.4,0.45})-LOOKUP(X5,{0,1950001,3300001,6950001,9000001,18000001,40000001},{0,97500,427500,636000,1536000,2796000,4796000}))*1.021,-2)) | AA5: =MAX(0,ROUNDDOWN(M5-J5-430000-L5-0,-3)) | AB5: =MAX(0,ROUNDDOWN(M5-J5-430000-L5-V5,-3)) | AC5: =IF(M5<=450000,0,MAX(0,ROUNDDOWN(AA5*0.06-MIN(50000,AA5)*0.03,-2))+MAX(0,ROUNDDOWN(AA5*0.04-MIN(50000,AA5)*0.02,-2))) | AD5: =IF(M5<=450000,0,MAX(0,ROUNDDOWN(AB5*0.06-MIN(50000,AB5)*0.03,-2))+MAX(0,ROUNDDOWN(AB5*0.04-MIN(50000,AB5)*0.02,-2))) | AE5: =Y5-Z5 | AF5: =AC5-AD5 | AG5: =AE5+AF5 | AH5: =IF(W5<=0,0,LOOKUP(W5,{0,1950001,3300001,6950001,9000001,18000001,40000001},{0.05,0.1,0.2,0.23,0.33,0.4,0.45}))
A6: 早見表 特例あり 一般8万円 | B6: ='3_早見表'!$A$3 | C6: 2026 | D6: はい | E6: 80000 | F6: 0 | G6: 0 | H6: 0 | I6: 0 | J6: =ROUND(MIN(B6/12,650000)*12*0.0915+MIN(B6/12,1390000)*12*(0.0504+0)+B6*0.005,0) | K6: 0 | L6: 0 | M6: =ROUND(IF(C6>=2026,IF(B6<741000,0,IF(B6<2191000,B6-740000,IF(B6<2193000,1451000,IF(B6<2196000,1453000,IF(B6<2200000,1456000,IF(B6<3600000,ROUNDDOWN(B6/4,-3)*2.8-80000,IF(B6<6600000,ROUNDDOWN(B6/4,-3)*3.2-440000,IF(B6<8500000,ROUNDDOWN(B6*0.9,0)-1100000,B6-1950000)))))))),IF(B6<651000,0,IF(B6<1900000,B6-650000,IF(B6<3600000,ROUNDDOWN(B6/4,-3)*2.8-80000,IF(B6<6600000,ROUNDDOWN(B6/4,-3)*3.2-440000,IF(B6<8500000,ROUNDDOWN(B6*0.9,0)-1100000,B6-1950000)))))),0) | N6: =IF(M6>23500000,NA(),IF(C6>=2026,IF(M6<=4890000,1040000,IF(M6<=6550000,670000,620000)),IF(M6<=1320000,950000,IF(M6<=3360000,880000,IF(M6<=4890000,680000,IF(M6<=6550000,630000,580000)))))) | O6: =IF(F6<=0,IF(AND(D6="はい",C6>=2026,C6<=2027),IF(E6<=0,0,IF(E6<=30000,E6,IF(E6<=60000,ROUNDUP(E6/2,0)+15000,IF(E6<=120000,ROUNDUP(E6/4,0)+30000,60000)))),IF(E6<=0,0,IF(E6<=20000,E6,IF(E6<=40000,ROUNDUP(E6/2,0)+10000,IF(E6<=80000,ROUNDUP(E6/4,0)+20000,40000))))),IF(E6<=0,IF(F6<=0,0,IF(F6<=25000,F6,IF(F6<=50000,ROUNDUP(F6/2,0)+12500,IF(F6<=100000,ROUNDUP(F6/4,0)+25000,50000)))),MAX(IF(F6<=0,0,IF(F6<=25000,F6,IF(F6<=50000,ROUNDUP(F6/2,0)+12500,IF(F6<=100000,ROUNDUP(F6/4,0)+25000,50000)))),MIN(IF(AND(D6="はい",C6>=2026,C6<=2027),IF(E6<=0,0,IF(E6<=30000,E6,IF(E6<=60000,ROUNDUP(E6/2,0)+15000,IF(E6<=120000,ROUNDUP(E6/4,0)+30000,60000)))),IF(E6<=0,0,IF(E6<=20000,E6,IF(E6<=40000,ROUNDUP(E6/2,0)+10000,IF(E6<=80000,ROUNDUP(E6/4,0)+20000,40000)))))+IF(F6<=0,0,IF(F6<=25000,F6,IF(F6<=50000,ROUNDUP(F6/2,0)+12500,IF(F6<=100000,ROUNDUP(F6/4,0)+25000,50000)))),IF(AND(D6="はい",C6>=2026,C6<=2027),60000,40000))))) | P6: =IF(G6<=0,0,IF(G6<=20000,G6,IF(G6<=40000,ROUNDUP(G6/2,0)+10000,IF(G6<=80000,ROUNDUP(G6/4,0)+20000,40000)))) | Q6: =IF(I6<=0,IF(H6<=0,0,IF(H6<=20000,H6,IF(H6<=40000,ROUNDUP(H6/2,0)+10000,IF(H6<=80000,ROUNDUP(H6/4,0)+20000,40000)))),IF(H6<=0,IF(I6<=0,0,IF(I6<=25000,I6,IF(I6<=50000,ROUNDUP(I6/2,0)+12500,IF(I6<=100000,ROUNDUP(I6/4,0)+25000,50000)))),MAX(IF(I6<=0,0,IF(I6<=25000,I6,IF(I6<=50000,ROUNDUP(I6/2,0)+12500,IF(I6<=100000,ROUNDUP(I6/4,0)+25000,50000)))),MIN(IF(H6<=0,0,IF(H6<=20000,H6,IF(H6<=40000,ROUNDUP(H6/2,0)+10000,IF(H6<=80000,ROUNDUP(H6/4,0)+20000,40000))))+IF(I6<=0,0,IF(I6<=25000,I6,IF(I6<=50000,ROUNDUP(I6/2,0)+12500,IF(I6<=100000,ROUNDUP(I6/4,0)+25000,50000)))),40000)))) | R6: =MIN(120000,O6+P6+Q6) | S6: =IF(F6<=0,IF(E6<=0,0,IF(E6<=12000,E6,IF(E6<=32000,ROUNDUP(E6/2,0)+6000,IF(E6<=56000,ROUNDUP(E6/4,0)+14000,28000)))),IF(E6<=0,IF(F6<=0,0,IF(F6<=15000,F6,IF(F6<=40000,ROUNDUP(F6/2,0)+7500,IF(F6<=70000,ROUNDUP(F6/4,0)+17500,35000)))),MAX(IF(F6<=0,0,IF(F6<=15000,F6,IF(F6<=40000,ROUNDUP(F6/2,0)+7500,IF(F6<=70000,ROUNDUP(F6/4,0)+17500,35000)))),MIN(IF(E6<=0,0,IF(E6<=12000,E6,IF(E6<=32000,ROUNDUP(E6/2,0)+6000,IF(E6<=56000,ROUNDUP(E6/4,0)+14000,28000))))+IF(F6<=0,0,IF(F6<=15000,F6,IF(F6<=40000,ROUNDUP(F6/2,0)+7500,IF(F6<=70000,ROUNDUP(F6/4,0)+17500,35000)))),28000)))) | T6: =IF(G6<=0,0,IF(G6<=12000,G6,IF(G6<=32000,ROUNDUP(G6/2,0)+6000,IF(G6<=56000,ROUNDUP(G6/4,0)+14000,28000)))) | U6: =IF(I6<=0,IF(H6<=0,0,IF(H6<=12000,H6,IF(H6<=32000,ROUNDUP(H6/2,0)+6000,IF(H6<=56000,ROUNDUP(H6/4,0)+14000,28000)))),IF(H6<=0,IF(I6<=0,0,IF(I6<=15000,I6,IF(I6<=40000,ROUNDUP(I6/2,0)+7500,IF(I6<=70000,ROUNDUP(I6/4,0)+17500,35000)))),MAX(IF(I6<=0,0,IF(I6<=15000,I6,IF(I6<=40000,ROUNDUP(I6/2,0)+7500,IF(I6<=70000,ROUNDUP(I6/4,0)+17500,35000)))),MIN(IF(H6<=0,0,IF(H6<=12000,H6,IF(H6<=32000,ROUNDUP(H6/2,0)+6000,IF(H6<=56000,ROUNDUP(H6/4,0)+14000,28000))))+IF(I6<=0,0,IF(I6<=15000,I6,IF(I6<=40000,ROUNDUP(I6/2,0)+7500,IF(I6<=70000,ROUNDUP(I6/4,0)+17500,35000)))),28000)))) | V6: =MIN(70000,S6+T6+U6) | W6: =MAX(0,ROUNDDOWN(M6-J6-N6-K6-0,-3)) | X6: =MAX(0,ROUNDDOWN(M6-J6-N6-K6-R6,-3)) | Y6: =IF(W6<=0,0,ROUNDDOWN((W6*LOOKUP(W6,{0,1950001,3300001,6950001,9000001,18000001,40000001},{0.05,0.1,0.2,0.23,0.33,0.4,0.45})-LOOKUP(W6,{0,1950001,3300001,6950001,9000001,18000001,40000001},{0,97500,427500,636000,1536000,2796000,4796000}))*1.021,-2)) | Z6: =IF(X6<=0,0,ROUNDDOWN((X6*LOOKUP(X6,{0,1950001,3300001,6950001,9000001,18000001,40000001},{0.05,0.1,0.2,0.23,0.33,0.4,0.45})-LOOKUP(X6,{0,1950001,3300001,6950001,9000001,18000001,40000001},{0,97500,427500,636000,1536000,2796000,4796000}))*1.021,-2)) | AA6: =MAX(0,ROUNDDOWN(M6-J6-430000-L6-0,-3)) | AB6: =MAX(0,ROUNDDOWN(M6-J6-430000-L6-V6,-3)) | AC6: =IF(M6<=450000,0,MAX(0,ROUNDDOWN(AA6*0.06-MIN(50000,AA6)*0.03,-2))+MAX(0,ROUNDDOWN(AA6*0.04-MIN(50000,AA6)*0.02,-2))) | AD6: =IF(M6<=450000,0,MAX(0,ROUNDDOWN(AB6*0.06-MIN(50000,AB6)*0.03,-2))+MAX(0,ROUNDDOWN(AB6*0.04-MIN(50000,AB6)*0.02,-2))) | AE6: =Y6-Z6 | AF6: =AC6-AD6 | AG6: =AE6+AF6 | AH6: =IF(W6<=0,0,LOOKUP(W6,{0,1950001,3300001,6950001,9000001,18000001,40000001},{0.05,0.1,0.2,0.23,0.33,0.4,0.45}))
A7: 早見表 特例あり 一般12万円 | B7: ='3_早見表'!$A$3 | C7: 2026 | D7: はい | E7: 120000 | F7: 0 | G7: 0 | H7: 0 | I7: 0 | J7: =ROUND(MIN(B7/12,650000)*12*0.0915+MIN(B7/12,1390000)*12*(0.0504+0)+B7*0.005,0) | K7: 0 | L7: 0 | M7: =ROUND(IF(C7>=2026,IF(B7<741000,0,IF(B7<2191000,B7-740000,IF(B7<2193000,1451000,IF(B7<2196000,1453000,IF(B7<2200000,1456000,IF(B7<3600000,ROUNDDOWN(B7/4,-3)*2.8-80000,IF(B7<6600000,ROUNDDOWN(B7/4,-3)*3.2-440000,IF(B7<8500000,ROUNDDOWN(B7*0.9,0)-1100000,B7-1950000)))))))),IF(B7<651000,0,IF(B7<1900000,B7-650000,IF(B7<3600000,ROUNDDOWN(B7/4,-3)*2.8-80000,IF(B7<6600000,ROUNDDOWN(B7/4,-3)*3.2-440000,IF(B7<8500000,ROUNDDOWN(B7*0.9,0)-1100000,B7-1950000)))))),0) | N7: =IF(M7>23500000,NA(),IF(C7>=2026,IF(M7<=4890000,1040000,IF(M7<=6550000,670000,620000)),IF(M7<=1320000,950000,IF(M7<=3360000,880000,IF(M7<=4890000,680000,IF(M7<=6550000,630000,580000)))))) | O7: =IF(F7<=0,IF(AND(D7="はい",C7>=2026,C7<=2027),IF(E7<=0,0,IF(E7<=30000,E7,IF(E7<=60000,ROUNDUP(E7/2,0)+15000,IF(E7<=120000,ROUNDUP(E7/4,0)+30000,60000)))),IF(E7<=0,0,IF(E7<=20000,E7,IF(E7<=40000,ROUNDUP(E7/2,0)+10000,IF(E7<=80000,ROUNDUP(E7/4,0)+20000,40000))))),IF(E7<=0,IF(F7<=0,0,IF(F7<=25000,F7,IF(F7<=50000,ROUNDUP(F7/2,0)+12500,IF(F7<=100000,ROUNDUP(F7/4,0)+25000,50000)))),MAX(IF(F7<=0,0,IF(F7<=25000,F7,IF(F7<=50000,ROUNDUP(F7/2,0)+12500,IF(F7<=100000,ROUNDUP(F7/4,0)+25000,50000)))),MIN(IF(AND(D7="はい",C7>=2026,C7<=2027),IF(E7<=0,0,IF(E7<=30000,E7,IF(E7<=60000,ROUNDUP(E7/2,0)+15000,IF(E7<=120000,ROUNDUP(E7/4,0)+30000,60000)))),IF(E7<=0,0,IF(E7<=20000,E7,IF(E7<=40000,ROUNDUP(E7/2,0)+10000,IF(E7<=80000,ROUNDUP(E7/4,0)+20000,40000)))))+IF(F7<=0,0,IF(F7<=25000,F7,IF(F7<=50000,ROUNDUP(F7/2,0)+12500,IF(F7<=100000,ROUNDUP(F7/4,0)+25000,50000)))),IF(AND(D7="はい",C7>=2026,C7<=2027),60000,40000))))) | P7: =IF(G7<=0,0,IF(G7<=20000,G7,IF(G7<=40000,ROUNDUP(G7/2,0)+10000,IF(G7<=80000,ROUNDUP(G7/4,0)+20000,40000)))) | Q7: =IF(I7<=0,IF(H7<=0,0,IF(H7<=20000,H7,IF(H7<=40000,ROUNDUP(H7/2,0)+10000,IF(H7<=80000,ROUNDUP(H7/4,0)+20000,40000)))),IF(H7<=0,IF(I7<=0,0,IF(I7<=25000,I7,IF(I7<=50000,ROUNDUP(I7/2,0)+12500,IF(I7<=100000,ROUNDUP(I7/4,0)+25000,50000)))),MAX(IF(I7<=0,0,IF(I7<=25000,I7,IF(I7<=50000,ROUNDUP(I7/2,0)+12500,IF(I7<=100000,ROUNDUP(I7/4,0)+25000,50000)))),MIN(IF(H7<=0,0,IF(H7<=20000,H7,IF(H7<=40000,ROUNDUP(H7/2,0)+10000,IF(H7<=80000,ROUNDUP(H7/4,0)+20000,40000))))+IF(I7<=0,0,IF(I7<=25000,I7,IF(I7<=50000,ROUNDUP(I7/2,0)+12500,IF(I7<=100000,ROUNDUP(I7/4,0)+25000,50000)))),40000)))) | R7: =MIN(120000,O7+P7+Q7) | S7: =IF(F7<=0,IF(E7<=0,0,IF(E7<=12000,E7,IF(E7<=32000,ROUNDUP(E7/2,0)+6000,IF(E7<=56000,ROUNDUP(E7/4,0)+14000,28000)))),IF(E7<=0,IF(F7<=0,0,IF(F7<=15000,F7,IF(F7<=40000,ROUNDUP(F7/2,0)+7500,IF(F7<=70000,ROUNDUP(F7/4,0)+17500,35000)))),MAX(IF(F7<=0,0,IF(F7<=15000,F7,IF(F7<=40000,ROUNDUP(F7/2,0)+7500,IF(F7<=70000,ROUNDUP(F7/4,0)+17500,35000)))),MIN(IF(E7<=0,0,IF(E7<=12000,E7,IF(E7<=32000,ROUNDUP(E7/2,0)+6000,IF(E7<=56000,ROUNDUP(E7/4,0)+14000,28000))))+IF(F7<=0,0,IF(F7<=15000,F7,IF(F7<=40000,ROUNDUP(F7/2,0)+7500,IF(F7<=70000,ROUNDUP(F7/4,0)+17500,35000)))),28000)))) | T7: =IF(G7<=0,0,IF(G7<=12000,G7,IF(G7<=32000,ROUNDUP(G7/2,0)+6000,IF(G7<=56000,ROUNDUP(G7/4,0)+14000,28000)))) | U7: =IF(I7<=0,IF(H7<=0,0,IF(H7<=12000,H7,IF(H7<=32000,ROUNDUP(H7/2,0)+6000,IF(H7<=56000,ROUNDUP(H7/4,0)+14000,28000)))),IF(H7<=0,IF(I7<=0,0,IF(I7<=15000,I7,IF(I7<=40000,ROUNDUP(I7/2,0)+7500,IF(I7<=70000,ROUNDUP(I7/4,0)+17500,35000)))),MAX(IF(I7<=0,0,IF(I7<=15000,I7,IF(I7<=40000,ROUNDUP(I7/2,0)+7500,IF(I7<=70000,ROUNDUP(I7/4,0)+17500,35000)))),MIN(IF(H7<=0,0,IF(H7<=12000,H7,IF(H7<=32000,ROUNDUP(H7/2,0)+6000,IF(H7<=56000,ROUNDUP(H7/4,0)+14000,28000))))+IF(I7<=0,0,IF(I7<=15000,I7,IF(I7<=40000,ROUNDUP(I7/2,0)+7500,IF(I7<=70000,ROUNDUP(I7/4,0)+17500,35000)))),28000)))) | V7: =MIN(70000,S7+T7+U7) | W7: =MAX(0,ROUNDDOWN(M7-J7-N7-K7-0,-3)) | X7: =MAX(0,ROUNDDOWN(M7-J7-N7-K7-R7,-3)) | Y7: =IF(W7<=0,0,ROUNDDOWN((W7*LOOKUP(W7,{0,1950001,3300001,6950001,9000001,18000001,40000001},{0.05,0.1,0.2,0.23,0.33,0.4,0.45})-LOOKUP(W7,{0,1950001,3300001,6950001,9000001,18000001,40000001},{0,97500,427500,636000,1536000,2796000,4796000}))*1.021,-2)) | Z7: =IF(X7<=0,0,ROUNDDOWN((X7*LOOKUP(X7,{0,1950001,3300001,6950001,9000001,18000001,40000001},{0.05,0.1,0.2,0.23,0.33,0.4,0.45})-LOOKUP(X7,{0,1950001,3300001,6950001,9000001,18000001,40000001},{0,97500,427500,636000,1536000,2796000,4796000}))*1.021,-2)) | AA7: =MAX(0,ROUNDDOWN(M7-J7-430000-L7-0,-3)) | AB7: =MAX(0,ROUNDDOWN(M7-J7-430000-L7-V7,-3)) | AC7: =IF(M7<=450000,0,MAX(0,ROUNDDOWN(AA7*0.06-MIN(50000,AA7)*0.03,-2))+MAX(0,ROUNDDOWN(AA7*0.04-MIN(50000,AA7)*0.02,-2))) | AD7: =IF(M7<=450000,0,MAX(0,ROUNDDOWN(AB7*0.06-MIN(50000,AB7)*0.03,-2))+MAX(0,ROUNDDOWN(AB7*0.04-MIN(50000,AB7)*0.02,-2))) | AE7: =Y7-Z7 | AF7: =AC7-AD7 | AG7: =AE7+AF7 | AH7: =IF(W7<=0,0,LOOKUP(W7,{0,1950001,3300001,6950001,9000001,18000001,40000001},{0.05,0.1,0.2,0.23,0.33,0.4,0.45}))
A8: 早見表 特例あり 3区分（一般12万円） | B8: ='3_早見表'!$A$3 | C8: 2026 | D8: はい | E8: 120000 | F8: 0 | G8: 80000 | H8: 80000 | I8: 0 | J8: =ROUND(MIN(B8/12,650000)*12*0.0915+MIN(B8/12,1390000)*12*(0.0504+0)+B8*0.005,0) | K8: 0 | L8: 0 | M8: =ROUND(IF(C8>=2026,IF(B8<741000,0,IF(B8<2191000,B8-740000,IF(B8<2193000,1451000,IF(B8<2196000,1453000,IF(B8<2200000,1456000,IF(B8<3600000,ROUNDDOWN(B8/4,-3)*2.8-80000,IF(B8<6600000,ROUNDDOWN(B8/4,-3)*3.2-440000,IF(B8<8500000,ROUNDDOWN(B8*0.9,0)-1100000,B8-1950000)))))))),IF(B8<651000,0,IF(B8<1900000,B8-650000,IF(B8<3600000,ROUNDDOWN(B8/4,-3)*2.8-80000,IF(B8<6600000,ROUNDDOWN(B8/4,-3)*3.2-440000,IF(B8<8500000,ROUNDDOWN(B8*0.9,0)-1100000,B8-1950000)))))),0) | N8: =IF(M8>23500000,NA(),IF(C8>=2026,IF(M8<=4890000,1040000,IF(M8<=6550000,670000,620000)),IF(M8<=1320000,950000,IF(M8<=3360000,880000,IF(M8<=4890000,680000,IF(M8<=6550000,630000,580000)))))) | O8: =IF(F8<=0,IF(AND(D8="はい",C8>=2026,C8<=2027),IF(E8<=0,0,IF(E8<=30000,E8,IF(E8<=60000,ROUNDUP(E8/2,0)+15000,IF(E8<=120000,ROUNDUP(E8/4,0)+30000,60000)))),IF(E8<=0,0,IF(E8<=20000,E8,IF(E8<=40000,ROUNDUP(E8/2,0)+10000,IF(E8<=80000,ROUNDUP(E8/4,0)+20000,40000))))),IF(E8<=0,IF(F8<=0,0,IF(F8<=25000,F8,IF(F8<=50000,ROUNDUP(F8/2,0)+12500,IF(F8<=100000,ROUNDUP(F8/4,0)+25000,50000)))),MAX(IF(F8<=0,0,IF(F8<=25000,F8,IF(F8<=50000,ROUNDUP(F8/2,0)+12500,IF(F8<=100000,ROUNDUP(F8/4,0)+25000,50000)))),MIN(IF(AND(D8="はい",C8>=2026,C8<=2027),IF(E8<=0,0,IF(E8<=30000,E8,IF(E8<=60000,ROUNDUP(E8/2,0)+15000,IF(E8<=120000,ROUNDUP(E8/4,0)+30000,60000)))),IF(E8<=0,0,IF(E8<=20000,E8,IF(E8<=40000,ROUNDUP(E8/2,0)+10000,IF(E8<=80000,ROUNDUP(E8/4,0)+20000,40000)))))+IF(F8<=0,0,IF(F8<=25000,F8,IF(F8<=50000,ROUNDUP(F8/2,0)+12500,IF(F8<=100000,ROUNDUP(F8/4,0)+25000,50000)))),IF(AND(D8="はい",C8>=2026,C8<=2027),60000,40000))))) | P8: =IF(G8<=0,0,IF(G8<=20000,G8,IF(G8<=40000,ROUNDUP(G8/2,0)+10000,IF(G8<=80000,ROUNDUP(G8/4,0)+20000,40000)))) | Q8: =IF(I8<=0,IF(H8<=0,0,IF(H8<=20000,H8,IF(H8<=40000,ROUNDUP(H8/2,0)+10000,IF(H8<=80000,ROUNDUP(H8/4,0)+20000,40000)))),IF(H8<=0,IF(I8<=0,0,IF(I8<=25000,I8,IF(I8<=50000,ROUNDUP(I8/2,0)+12500,IF(I8<=100000,ROUNDUP(I8/4,0)+25000,50000)))),MAX(IF(I8<=0,0,IF(I8<=25000,I8,IF(I8<=50000,ROUNDUP(I8/2,0)+12500,IF(I8<=100000,ROUNDUP(I8/4,0)+25000,50000)))),MIN(IF(H8<=0,0,IF(H8<=20000,H8,IF(H8<=40000,ROUNDUP(H8/2,0)+10000,IF(H8<=80000,ROUNDUP(H8/4,0)+20000,40000))))+IF(I8<=0,0,IF(I8<=25000,I8,IF(I8<=50000,ROUNDUP(I8/2,0)+12500,IF(I8<=100000,ROUNDUP(I8/4,0)+25000,50000)))),40000)))) | R8: =MIN(120000,O8+P8+Q8) | S8: =IF(F8<=0,IF(E8<=0,0,IF(E8<=12000,E8,IF(E8<=32000,ROUNDUP(E8/2,0)+6000,IF(E8<=56000,ROUNDUP(E8/4,0)+14000,28000)))),IF(E8<=0,IF(F8<=0,0,IF(F8<=15000,F8,IF(F8<=40000,ROUNDUP(F8/2,0)+7500,IF(F8<=70000,ROUNDUP(F8/4,0)+17500,35000)))),MAX(IF(F8<=0,0,IF(F8<=15000,F8,IF(F8<=40000,ROUNDUP(F8/2,0)+7500,IF(F8<=70000,ROUNDUP(F8/4,0)+17500,35000)))),MIN(IF(E8<=0,0,IF(E8<=12000,E8,IF(E8<=32000,ROUNDUP(E8/2,0)+6000,IF(E8<=56000,ROUNDUP(E8/4,0)+14000,28000))))+IF(F8<=0,0,IF(F8<=15000,F8,IF(F8<=40000,ROUNDUP(F8/2,0)+7500,IF(F8<=70000,ROUNDUP(F8/4,0)+17500,35000)))),28000)))) | T8: =IF(G8<=0,0,IF(G8<=12000,G8,IF(G8<=32000,ROUNDUP(G8/2,0)+6000,IF(G8<=56000,ROUNDUP(G8/4,0)+14000,28000)))) | U8: =IF(I8<=0,IF(H8<=0,0,IF(H8<=12000,H8,IF(H8<=32000,ROUNDUP(H8/2,0)+6000,IF(H8<=56000,ROUNDUP(H8/4,0)+14000,28000)))),IF(H8<=0,IF(I8<=0,0,IF(I8<=15000,I8,IF(I8<=40000,ROUNDUP(I8/2,0)+7500,IF(I8<=70000,ROUNDUP(I8/4,0)+17500,35000)))),MAX(IF(I8<=0,0,IF(I8<=15000,I8,IF(I8<=40000,ROUNDUP(I8/2,0)+7500,IF(I8<=70000,ROUNDUP(I8/4,0)+17500,35000)))),MIN(IF(H8<=0,0,IF(H8<=12000,H8,IF(H8<=32000,ROUNDUP(H8/2,0)+6000,IF(H8<=56000,ROUNDUP(H8/4,0)+14000,28000))))+IF(I8<=0,0,IF(I8<=15000,I8,IF(I8<=40000,ROUNDUP(I8/2,0)+7500,IF(I8<=70000,ROUNDUP(I8/4,0)+17500,35000)))),28000)))) | V8: =MIN(70000,S8+T8+U8) | W8: =MAX(0,ROUNDDOWN(M8-J8-N8-K8-0,-3)) | X8: =MAX(0,ROUNDDOWN(M8-J8-N8-K8-R8,-3)) | Y8: =IF(W8<=0,0,ROUNDDOWN((W8*LOOKUP(W8,{0,1950001,3300001,6950001,9000001,18000001,40000001},{0.05,0.1,0.2,0.23,0.33,0.4,0.45})-LOOKUP(W8,{0,1950001,3300001,6950001,9000001,18000001,40000001},{0,97500,427500,636000,1536000,2796000,4796000}))*1.021,-2)) | Z8: =IF(X8<=0,0,ROUNDDOWN((X8*LOOKUP(X8,{0,1950001,3300001,6950001,9000001,18000001,40000001},{0.05,0.1,0.2,0.23,0.33,0.4,0.45})-LOOKUP(X8,{0,1950001,3300001,6950001,9000001,18000001,40000001},{0,97500,427500,636000,1536000,2796000,4796000}))*1.021,-2)) | AA8: =MAX(0,ROUNDDOWN(M8-J8-430000-L8-0,-3)) | AB8: =MAX(0,ROUNDDOWN(M8-J8-430000-L8-V8,-3)) | AC8: =IF(M8<=450000,0,MAX(0,ROUNDDOWN(AA8*0.06-MIN(50000,AA8)*0.03,-2))+MAX(0,ROUNDDOWN(AA8*0.04-MIN(50000,AA8)*0.02,-2))) | AD8: =IF(M8<=450000,0,MAX(0,ROUNDDOWN(AB8*0.06-MIN(50000,AB8)*0.03,-2))+MAX(0,ROUNDDOWN(AB8*0.04-MIN(50000,AB8)*0.02,-2))) | AE8: =Y8-Z8 | AF8: =AC8-AD8 | AG8: =AE8+AF8 | AH8: =IF(W8<=0,0,LOOKUP(W8,{0,1950001,3300001,6950001,9000001,18000001,40000001},{0.05,0.1,0.2,0.23,0.33,0.4,0.45}))
A9: 早見表 一般8万円 | B9: ='3_早見表'!$A$4 | C9: 2026 | D9: いいえ | E9: 80000 | F9: 0 | G9: 0 | H9: 0 | I9: 0 | J9: =ROUND(MIN(B9/12,650000)*12*0.0915+MIN(B9/12,1390000)*12*(0.0504+0)+B9*0.005,0) | K9: 0 | L9: 0 | M9: =ROUND(IF(C9>=2026,IF(B9<741000,0,IF(B9<2191000,B9-740000,IF(B9<2193000,1451000,IF(B9<2196000,1453000,IF(B9<2200000,1456000,IF(B9<3600000,ROUNDDOWN(B9/4,-3)*2.8-80000,IF(B9<6600000,ROUNDDOWN(B9/4,-3)*3.2-440000,IF(B9<8500000,ROUNDDOWN(B9*0.9,0)-1100000,B9-1950000)))))))),IF(B9<651000,0,IF(B9<1900000,B9-650000,IF(B9<3600000,ROUNDDOWN(B9/4,-3)*2.8-80000,IF(B9<6600000,ROUNDDOWN(B9/4,-3)*3.2-440000,IF(B9<8500000,ROUNDDOWN(B9*0.9,0)-1100000,B9-1950000)))))),0) | N9: =IF(M9>23500000,NA(),IF(C9>=2026,IF(M9<=4890000,1040000,IF(M9<=6550000,670000,620000)),IF(M9<=1320000,950000,IF(M9<=3360000,880000,IF(M9<=4890000,680000,IF(M9<=6550000,630000,580000)))))) | O9: =IF(F9<=0,IF(AND(D9="はい",C9>=2026,C9<=2027),IF(E9<=0,0,IF(E9<=30000,E9,IF(E9<=60000,ROUNDUP(E9/2,0)+15000,IF(E9<=120000,ROUNDUP(E9/4,0)+30000,60000)))),IF(E9<=0,0,IF(E9<=20000,E9,IF(E9<=40000,ROUNDUP(E9/2,0)+10000,IF(E9<=80000,ROUNDUP(E9/4,0)+20000,40000))))),IF(E9<=0,IF(F9<=0,0,IF(F9<=25000,F9,IF(F9<=50000,ROUNDUP(F9/2,0)+12500,IF(F9<=100000,ROUNDUP(F9/4,0)+25000,50000)))),MAX(IF(F9<=0,0,IF(F9<=25000,F9,IF(F9<=50000,ROUNDUP(F9/2,0)+12500,IF(F9<=100000,ROUNDUP(F9/4,0)+25000,50000)))),MIN(IF(AND(D9="はい",C9>=2026,C9<=2027),IF(E9<=0,0,IF(E9<=30000,E9,IF(E9<=60000,ROUNDUP(E9/2,0)+15000,IF(E9<=120000,ROUNDUP(E9/4,0)+30000,60000)))),IF(E9<=0,0,IF(E9<=20000,E9,IF(E9<=40000,ROUNDUP(E9/2,0)+10000,IF(E9<=80000,ROUNDUP(E9/4,0)+20000,40000)))))+IF(F9<=0,0,IF(F9<=25000,F9,IF(F9<=50000,ROUNDUP(F9/2,0)+12500,IF(F9<=100000,ROUNDUP(F9/4,0)+25000,50000)))),IF(AND(D9="はい",C9>=2026,C9<=2027),60000,40000))))) | P9: =IF(G9<=0,0,IF(G9<=20000,G9,IF(G9<=40000,ROUNDUP(G9/2,0)+10000,IF(G9<=80000,ROUNDUP(G9/4,0)+20000,40000)))) | Q9: =IF(I9<=0,IF(H9<=0,0,IF(H9<=20000,H9,IF(H9<=40000,ROUNDUP(H9/2,0)+10000,IF(H9<=80000,ROUNDUP(H9/4,0)+20000,40000)))),IF(H9<=0,IF(I9<=0,0,IF(I9<=25000,I9,IF(I9<=50000,ROUNDUP(I9/2,0)+12500,IF(I9<=100000,ROUNDUP(I9/4,0)+25000,50000)))),MAX(IF(I9<=0,0,IF(I9<=25000,I9,IF(I9<=50000,ROUNDUP(I9/2,0)+12500,IF(I9<=100000,ROUNDUP(I9/4,0)+25000,50000)))),MIN(IF(H9<=0,0,IF(H9<=20000,H9,IF(H9<=40000,ROUNDUP(H9/2,0)+10000,IF(H9<=80000,ROUNDUP(H9/4,0)+20000,40000))))+IF(I9<=0,0,IF(I9<=25000,I9,IF(I9<=50000,ROUNDUP(I9/2,0)+12500,IF(I9<=100000,ROUNDUP(I9/4,0)+25000,50000)))),40000)))) | R9: =MIN(120000,O9+P9+Q9) | S9: =IF(F9<=0,IF(E9<=0,0,IF(E9<=12000,E9,IF(E9<=32000,ROUNDUP(E9/2,0)+6000,IF(E9<=56000,ROUNDUP(E9/4,0)+14000,28000)))),IF(E9<=0,IF(F9<=0,0,IF(F9<=15000,F9,IF(F9<=40000,ROUNDUP(F9/2,0)+7500,IF(F9<=70000,ROUNDUP(F9/4,0)+17500,35000)))),MAX(IF(F9<=0,0,IF(F9<=15000,F9,IF(F9<=40000,ROUNDUP(F9/2,0)+7500,IF(F9<=70000,ROUNDUP(F9/4,0)+17500,35000)))),MIN(IF(E9<=0,0,IF(E9<=12000,E9,IF(E9<=32000,ROUNDUP(E9/2,0)+6000,IF(E9<=56000,ROUNDUP(E9/4,0)+14000,28000))))+IF(F9<=0,0,IF(F9<=15000,F9,IF(F9<=40000,ROUNDUP(F9/2,0)+7500,IF(F9<=70000,ROUNDUP(F9/4,0)+17500,35000)))),28000)))) | T9: =IF(G9<=0,0,IF(G9<=12000,G9,IF(G9<=32000,ROUNDUP(G9/2,0)+6000,IF(G9<=56000,ROUNDUP(G9/4,0)+14000,28000)))) | U9: =IF(I9<=0,IF(H9<=0,0,IF(H9<=12000,H9,IF(H9<=32000,ROUNDUP(H9/2,0)+6000,IF(H9<=56000,ROUNDUP(H9/4,0)+14000,28000)))),IF(H9<=0,IF(I9<=0,0,IF(I9<=15000,I9,IF(I9<=40000,ROUNDUP(I9/2,0)+7500,IF(I9<=70000,ROUNDUP(I9/4,0)+17500,35000)))),MAX(IF(I9<=0,0,IF(I9<=15000,I9,IF(I9<=40000,ROUNDUP(I9/2,0)+7500,IF(I9<=70000,ROUNDUP(I9/4,0)+17500,35000)))),MIN(IF(H9<=0,0,IF(H9<=12000,H9,IF(H9<=32000,ROUNDUP(H9/2,0)+6000,IF(H9<=56000,ROUNDUP(H9/4,0)+14000,28000))))+IF(I9<=0,0,IF(I9<=15000,I9,IF(I9<=40000,ROUNDUP(I9/2,0)+7500,IF(I9<=70000,ROUNDUP(I9/4,0)+17500,35000)))),28000)))) | V9: =MIN(70000,S9+T9+U9) | W9: =MAX(0,ROUNDDOWN(M9-J9-N9-K9-0,-3)) | X9: =MAX(0,ROUNDDOWN(M9-J9-N9-K9-R9,-3)) | Y9: =IF(W9<=0,0,ROUNDDOWN((W9*LOOKUP(W9,{0,1950001,3300001,6950001,9000001,18000001,40000001},{0.05,0.1,0.2,0.23,0.33,0.4,0.45})-LOOKUP(W9,{0,1950001,3300001,6950001,9000001,18000001,40000001},{0,97500,427500,636000,1536000,2796000,4796000}))*1.021,-2)) | Z9: =IF(X9<=0,0,ROUNDDOWN((X9*LOOKUP(X9,{0,1950001,3300001,6950001,9000001,18000001,40000001},{0.05,0.1,0.2,0.23,0.33,0.4,0.45})-LOOKUP(X9,{0,1950001,3300001,6950001,9000001,18000001,40000001},{0,97500,427500,636000,1536000,2796000,4796000}))*1.021,-2)) | AA9: =MAX(0,ROUNDDOWN(M9-J9-430000-L9-0,-3)) | AB9: =MAX(0,ROUNDDOWN(M9-J9-430000-L9-V9,-3)) | AC9: =IF(M9<=450000,0,MAX(0,ROUNDDOWN(AA9*0.06-MIN(50000,AA9)*0.03,-2))+MAX(0,ROUNDDOWN(AA9*0.04-MIN(50000,AA9)*0.02,-2))) | AD9: =IF(M9<=450000,0,MAX(0,ROUNDDOWN(AB9*0.06-MIN(50000,AB9)*0.03,-2))+MAX(0,ROUNDDOWN(AB9*0.04-MIN(50000,AB9)*0.02,-2))) | AE9: =Y9-Z9 | AF9: =AC9-AD9 | AG9: =AE9+AF9 | AH9: =IF(W9<=0,0,LOOKUP(W9,{0,1950001,3300001,6950001,9000001,18000001,40000001},{0.05,0.1,0.2,0.23,0.33,0.4,0.45}))
A10: 早見表 一般と介護医療8万円ずつ | B10: ='3_早見表'!$A$4 | C10: 2026 | D10: いいえ | E10: 80000 | F10: 0 | G10: 80000 | H10: 0 | I10: 0 | J10: =ROUND(MIN(B10/12,650000)*12*0.0915+MIN(B10/12,1390000)*12*(0.0504+0)+B10*0.005,0) | K10: 0 | L10: 0 | M10: =ROUND(IF(C10>=2026,IF(B10<741000,0,IF(B10<2191000,B10-740000,IF(B10<2193000,1451000,IF(B10<2196000,1453000,IF(B10<2200000,1456000,IF(B10<3600000,ROUNDDOWN(B10/4,-3)*2.8-80000,IF(B10<6600000,ROUNDDOWN(B10/4,-3)*3.2-440000,IF(B10<8500000,ROUNDDOWN(B10*0.9,0)-1100000,B10-1950000)))))))),IF(B10<651000,0,IF(B10<1900000,B10-650000,IF(B10<3600000,ROUNDDOWN(B10/4,-3)*2.8-80000,IF(B10<6600000,ROUNDDOWN(B10/4,-3)*3.2-440000,IF(B10<8500000,ROUNDDOWN(B10*0.9,0)-1100000,B10-1950000)))))),0) | N10: =IF(M10>23500000,NA(),IF(C10>=2026,IF(M10<=4890000,1040000,IF(M10<=6550000,670000,620000)),IF(M10<=1320000,950000,IF(M10<=3360000,880000,IF(M10<=4890000,680000,IF(M10<=6550000,630000,580000)))))) | O10: =IF(F10<=0,IF(AND(D10="はい",C10>=2026,C10<=2027),IF(E10<=0,0,IF(E10<=30000,E10,IF(E10<=60000,ROUNDUP(E10/2,0)+15000,IF(E10<=120000,ROUNDUP(E10/4,0)+30000,60000)))),IF(E10<=0,0,IF(E10<=20000,E10,IF(E10<=40000,ROUNDUP(E10/2,0)+10000,IF(E10<=80000,ROUNDUP(E10/4,0)+20000,40000))))),IF(E10<=0,IF(F10<=0,0,IF(F10<=25000,F10,IF(F10<=50000,ROUNDUP(F10/2,0)+12500,IF(F10<=100000,ROUNDUP(F10/4,0)+25000,50000)))),MAX(IF(F10<=0,0,IF(F10<=25000,F10,IF(F10<=50000,ROUNDUP(F10/2,0)+12500,IF(F10<=100000,ROUNDUP(F10/4,0)+25000,50000)))),MIN(IF(AND(D10="はい",C10>=2026,C10<=2027),IF(E10<=0,0,IF(E10<=30000,E10,IF(E10<=60000,ROUNDUP(E10/2,0)+15000,IF(E10<=120000,ROUNDUP(E10/4,0)+30000,60000)))),IF(E10<=0,0,IF(E10<=20000,E10,IF(E10<=40000,ROUNDUP(E10/2,0)+10000,IF(E10<=80000,ROUNDUP(E10/4,0)+20000,40000)))))+IF(F10<=0,0,IF(F10<=25000,F10,IF(F10<=50000,ROUNDUP(F10/2,0)+12500,IF(F10<=100000,ROUNDUP(F10/4,0)+25000,50000)))),IF(AND(D10="はい",C10>=2026,C10<=2027),60000,40000))))) | P10: =IF(G10<=0,0,IF(G10<=20000,G10,IF(G10<=40000,ROUNDUP(G10/2,0)+10000,IF(G10<=80000,ROUNDUP(G10/4,0)+20000,40000)))) | Q10: =IF(I10<=0,IF(H10<=0,0,IF(H10<=20000,H10,IF(H10<=40000,ROUNDUP(H10/2,0)+10000,IF(H10<=80000,ROUNDUP(H10/4,0)+20000,40000)))),IF(H10<=0,IF(I10<=0,0,IF(I10<=25000,I10,IF(I10<=50000,ROUNDUP(I10/2,0)+12500,IF(I10<=100000,ROUNDUP(I10/4,0)+25000,50000)))),MAX(IF(I10<=0,0,IF(I10<=25000,I10,IF(I10<=50000,ROUNDUP(I10/2,0)+12500,IF(I10<=100000,ROUNDUP(I10/4,0)+25000,50000)))),MIN(IF(H10<=0,0,IF(H10<=20000,H10,IF(H10<=40000,ROUNDUP(H10/2,0)+10000,IF(H10<=80000,ROUNDUP(H10/4,0)+20000,40000))))+IF(I10<=0,0,IF(I10<=25000,I10,IF(I10<=50000,ROUNDUP(I10/2,0)+12500,IF(I10<=100000,ROUNDUP(I10/4,0)+25000,50000)))),40000)))) | R10: =MIN(120000,O10+P10+Q10) | S10: =IF(F10<=0,IF(E10<=0,0,IF(E10<=12000,E10,IF(E10<=32000,ROUNDUP(E10/2,0)+6000,IF(E10<=56000,ROUNDUP(E10/4,0)+14000,28000)))),IF(E10<=0,IF(F10<=0,0,IF(F10<=15000,F10,IF(F10<=40000,ROUNDUP(F10/2,0)+7500,IF(F10<=70000,ROUNDUP(F10/4,0)+17500,35000)))),MAX(IF(F10<=0,0,IF(F10<=15000,F10,IF(F10<=40000,ROUNDUP(F10/2,0)+7500,IF(F10<=70000,ROUNDUP(F10/4,0)+17500,35000)))),MIN(IF(E10<=0,0,IF(E10<=12000,E10,IF(E10<=32000,ROUNDUP(E10/2,0)+6000,IF(E10<=56000,ROUNDUP(E10/4,0)+14000,28000))))+IF(F10<=0,0,IF(F10<=15000,F10,IF(F10<=40000,ROUNDUP(F10/2,0)+7500,IF(F10<=70000,ROUNDUP(F10/4,0)+17500,35000)))),28000)))) | T10: =IF(G10<=0,0,IF(G10<=12000,G10,IF(G10<=32000,ROUNDUP(G10/2,0)+6000,IF(G10<=56000,ROUNDUP(G10/4,0)+14000,28000)))) | U10: =IF(I10<=0,IF(H10<=0,0,IF(H10<=12000,H10,IF(H10<=32000,ROUNDUP(H10/2,0)+6000,IF(H10<=56000,ROUNDUP(H10/4,0)+14000,28000)))),IF(H10<=0,IF(I10<=0,0,IF(I10<=15000,I10,IF(I10<=40000,ROUNDUP(I10/2,0)+7500,IF(I10<=70000,ROUNDUP(I10/4,0)+17500,35000)))),MAX(IF(I10<=0,0,IF(I10<=15000,I10,IF(I10<=40000,ROUNDUP(I10/2,0)+7500,IF(I10<=70000,ROUNDUP(I10/4,0)+17500,35000)))),MIN(IF(H10<=0,0,IF(H10<=12000,H10,IF(H10<=32000,ROUNDUP(H10/2,0)+6000,IF(H10<=56000,ROUNDUP(H10/4,0)+14000,28000))))+IF(I10<=0,0,IF(I10<=15000,I10,IF(I10<=40000,ROUNDUP(I10/2,0)+7500,IF(I10<=70000,ROUNDUP(I10/4,0)+17500,35000)))),28000)))) | V10: =MIN(70000,S10+T10+U10) | W10: =MAX(0,ROUNDDOWN(M10-J10-N10-K10-0,-3)) | X10: =MAX(0,ROUNDDOWN(M10-J10-N10-K10-R10,-3)) | Y10: =IF(W10<=0,0,ROUNDDOWN((W10*LOOKUP(W10,{0,1950001,3300001,6950001,9000001,18000001,40000001},{0.05,0.1,0.2,0.23,0.33,0.4,0.45})-LOOKUP(W10,{0,1950001,3300001,6950001,9000001,18000001,40000001},{0,97500,427500,636000,1536000,2796000,4796000}))*1.021,-2)) | Z10: =IF(X10<=0,0,ROUNDDOWN((X10*LOOKUP(X10,{0,1950001,3300001,6950001,9000001,18000001,40000001},{0.05,0.1,0.2,0.23,0.33,0.4,0.45})-LOOKUP(X10,{0,1950001,3300001,6950001,9000001,18000001,40000001},{0,97500,427500,636000,1536000,2796000,4796000}))*1.021,-2)) | AA10: =MAX(0,ROUNDDOWN(M10-J10-430000-L10-0,-3)) | AB10: =MAX(0,ROUNDDOWN(M10-J10-430000-L10-V10,-3)) | AC10: =IF(M10<=450000,0,MAX(0,ROUNDDOWN(AA10*0.06-MIN(50000,AA10)*0.03,-2))+MAX(0,ROUNDDOWN(AA10*0.04-MIN(50000,AA10)*0.02,-2))) | AD10: =IF(M10<=450000,0,MAX(0,ROUNDDOWN(AB10*0.06-MIN(50000,AB10)*0.03,-2))+MAX(0,ROUNDDOWN(AB10*0.04-MIN(50000,AB10)*0.02,-2))) | AE10: =Y10-Z10 | AF10: =AC10-AD10 | AG10: =AE10+AF10 | AH10: =IF(W10<=0,0,LOOKUP(W10,{0,1950001,3300001,6950001,9000001,18000001,40000001},{0.05,0.1,0.2,0.23,0.33,0.4,0.45}))
A11: 早見表 3区分8万円ずつ（年24万円） | B11: ='3_早見表'!$A$4 | C11: 2026 | D11: いいえ | E11: 80000 | F11: 0 | G11: 80000 | H11: 80000 | I11: 0 | J11: =ROUND(MIN(B11/12,650000)*12*0.0915+MIN(B11/12,1390000)*12*(0.0504+0)+B11*0.005,0) | K11: 0 | L11: 0 | M11: =ROUND(IF(C11>=2026,IF(B11<741000,0,IF(B11<2191000,B11-740000,IF(B11<2193000,1451000,IF(B11<2196000,1453000,IF(B11<2200000,1456000,IF(B11<3600000,ROUNDDOWN(B11/4,-3)*2.8-80000,IF(B11<6600000,ROUNDDOWN(B11/4,-3)*3.2-440000,IF(B11<8500000,ROUNDDOWN(B11*0.9,0)-1100000,B11-1950000)))))))),IF(B11<651000,0,IF(B11<1900000,B11-650000,IF(B11<3600000,ROUNDDOWN(B11/4,-3)*2.8-80000,IF(B11<6600000,ROUNDDOWN(B11/4,-3)*3.2-440000,IF(B11<8500000,ROUNDDOWN(B11*0.9,0)-1100000,B11-1950000)))))),0) | N11: =IF(M11>23500000,NA(),IF(C11>=2026,IF(M11<=4890000,1040000,IF(M11<=6550000,670000,620000)),IF(M11<=1320000,950000,IF(M11<=3360000,880000,IF(M11<=4890000,680000,IF(M11<=6550000,630000,580000)))))) | O11: =IF(F11<=0,IF(AND(D11="はい",C11>=2026,C11<=2027),IF(E11<=0,0,IF(E11<=30000,E11,IF(E11<=60000,ROUNDUP(E11/2,0)+15000,IF(E11<=120000,ROUNDUP(E11/4,0)+30000,60000)))),IF(E11<=0,0,IF(E11<=20000,E11,IF(E11<=40000,ROUNDUP(E11/2,0)+10000,IF(E11<=80000,ROUNDUP(E11/4,0)+20000,40000))))),IF(E11<=0,IF(F11<=0,0,IF(F11<=25000,F11,IF(F11<=50000,ROUNDUP(F11/2,0)+12500,IF(F11<=100000,ROUNDUP(F11/4,0)+25000,50000)))),MAX(IF(F11<=0,0,IF(F11<=25000,F11,IF(F11<=50000,ROUNDUP(F11/2,0)+12500,IF(F11<=100000,ROUNDUP(F11/4,0)+25000,50000)))),MIN(IF(AND(D11="はい",C11>=2026,C11<=2027),IF(E11<=0,0,IF(E11<=30000,E11,IF(E11<=60000,ROUNDUP(E11/2,0)+15000,IF(E11<=120000,ROUNDUP(E11/4,0)+30000,60000)))),IF(E11<=0,0,IF(E11<=20000,E11,IF(E11<=40000,ROUNDUP(E11/2,0)+10000,IF(E11<=80000,ROUNDUP(E11/4,0)+20000,40000)))))+IF(F11<=0,0,IF(F11<=25000,F11,IF(F11<=50000,ROUNDUP(F11/2,0)+12500,IF(F11<=100000,ROUNDUP(F11/4,0)+25000,50000)))),IF(AND(D11="はい",C11>=2026,C11<=2027),60000,40000))))) | P11: =IF(G11<=0,0,IF(G11<=20000,G11,IF(G11<=40000,ROUNDUP(G11/2,0)+10000,IF(G11<=80000,ROUNDUP(G11/4,0)+20000,40000)))) | Q11: =IF(I11<=0,IF(H11<=0,0,IF(H11<=20000,H11,IF(H11<=40000,ROUNDUP(H11/2,0)+10000,IF(H11<=80000,ROUNDUP(H11/4,0)+20000,40000)))),IF(H11<=0,IF(I11<=0,0,IF(I11<=25000,I11,IF(I11<=50000,ROUNDUP(I11/2,0)+12500,IF(I11<=100000,ROUNDUP(I11/4,0)+25000,50000)))),MAX(IF(I11<=0,0,IF(I11<=25000,I11,IF(I11<=50000,ROUNDUP(I11/2,0)+12500,IF(I11<=100000,ROUNDUP(I11/4,0)+25000,50000)))),MIN(IF(H11<=0,0,IF(H11<=20000,H11,IF(H11<=40000,ROUNDUP(H11/2,0)+10000,IF(H11<=80000,ROUNDUP(H11/4,0)+20000,40000))))+IF(I11<=0,0,IF(I11<=25000,I11,IF(I11<=50000,ROUNDUP(I11/2,0)+12500,IF(I11<=100000,ROUNDUP(I11/4,0)+25000,50000)))),40000)))) | R11: =MIN(120000,O11+P11+Q11) | S11: =IF(F11<=0,IF(E11<=0,0,IF(E11<=12000,E11,IF(E11<=32000,ROUNDUP(E11/2,0)+6000,IF(E11<=56000,ROUNDUP(E11/4,0)+14000,28000)))),IF(E11<=0,IF(F11<=0,0,IF(F11<=15000,F11,IF(F11<=40000,ROUNDUP(F11/2,0)+7500,IF(F11<=70000,ROUNDUP(F11/4,0)+17500,35000)))),MAX(IF(F11<=0,0,IF(F11<=15000,F11,IF(F11<=40000,ROUNDUP(F11/2,0)+7500,IF(F11<=70000,ROUNDUP(F11/4,0)+17500,35000)))),MIN(IF(E11<=0,0,IF(E11<=12000,E11,IF(E11<=32000,ROUNDUP(E11/2,0)+6000,IF(E11<=56000,ROUNDUP(E11/4,0)+14000,28000))))+IF(F11<=0,0,IF(F11<=15000,F11,IF(F11<=40000,ROUNDUP(F11/2,0)+7500,IF(F11<=70000,ROUNDUP(F11/4,0)+17500,35000)))),28000)))) | T11: =IF(G11<=0,0,IF(G11<=12000,G11,IF(G11<=32000,ROUNDUP(G11/2,0)+6000,IF(G11<=56000,ROUNDUP(G11/4,0)+14000,28000)))) | U11: =IF(I11<=0,IF(H11<=0,0,IF(H11<=12000,H11,IF(H11<=32000,ROUNDUP(H11/2,0)+6000,IF(H11<=56000,ROUNDUP(H11/4,0)+14000,28000)))),IF(H11<=0,IF(I11<=0,0,IF(I11<=15000,I11,IF(I11<=40000,ROUNDUP(I11/2,0)+7500,IF(I11<=70000,ROUNDUP(I11/4,0)+17500,35000)))),MAX(IF(I11<=0,0,IF(I11<=15000,I11,IF(I11<=40000,ROUNDUP(I11/2,0)+7500,IF(I11<=70000,ROUNDUP(I11/4,0)+17500,35000)))),MIN(IF(H11<=0,0,IF(H11<=12000,H11,IF(H11<=32000,ROUNDUP(H11/2,0)+6000,IF(H11<=56000,ROUNDUP(H11/4,0)+14000,28000))))+IF(I11<=0,0,IF(I11<=15000,I11,IF(I11<=40000,ROUNDUP(I11/2,0)+7500,IF(I11<=70000,ROUNDUP(I11/4,0)+17500,35000)))),28000)))) | V11: =MIN(70000,S11+T11+U11) | W11: =MAX(0,ROUNDDOWN(M11-J11-N11-K11-0,-3)) | X11: =MAX(0,ROUNDDOWN(M11-J11-N11-K11-R11,-3)) | Y11: =IF(W11<=0,0,ROUNDDOWN((W11*LOOKUP(W11,{0,1950001,3300001,6950001,9000001,18000001,40000001},{0.05,0.1,0.2,0.23,0.33,0.4,0.45})-LOOKUP(W11,{0,1950001,3300001,6950001,9000001,18000001,40000001},{0,97500,427500,636000,1536000,2796000,4796000}))*1.021,-2)) | Z11: =IF(X11<=0,0,ROUNDDOWN((X11*LOOKUP(X11,{0,1950001,3300001,6950001,9000001,18000001,40000001},{0.05,0.1,0.2,0.23,0.33,0.4,0.45})-LOOKUP(X11,{0,1950001,3300001,6950001,9000001,18000001,40000001},{0,97500,427500,636000,1536000,2796000,4796000}))*1.021,-2)) | AA11: =MAX(0,ROUNDDOWN(M11-J11-430000-L11-0,-3)) | AB11: =MAX(0,ROUNDDOWN(M11-J11-430000-L11-V11,-3)) | AC11: =IF(M11<=450000,0,MAX(0,ROUNDDOWN(AA11*0.06-MIN(50000,AA11)*0.03,-2))+MAX(0,ROUNDDOWN(AA11*0.04-MIN(50000,AA11)*0.02,-2))) | AD11: =IF(M11<=450000,0,MAX(0,ROUNDDOWN(AB11*0.06-MIN(50000,AB11)*0.03,-2))+MAX(0,ROUNDDOWN(AB11*0.04-MIN(50000,AB11)*0.02,-2))) | AE11: =Y11-Z11 | AF11: =AC11-AD11 | AG11: =AE11+AF11 | AH11: =IF(W11<=0,0,LOOKUP(W11,{0,1950001,3300001,6950001,9000001,18000001,40000001},{0.05,0.1,0.2,0.23,0.33,0.4,0.45}))
A12: 早見表 特例あり 一般8万円 | B12: ='3_早見表'!$A$4 | C12: 2026 | D12: はい | E12: 80000 | F12: 0 | G12: 0 | H12: 0 | I12: 0 | J12: =ROUND(MIN(B12/12,650000)*12*0.0915+MIN(B12/12,1390000)*12*(0.0504+0)+B12*0.005,0) | K12: 0 | L12: 0 | M12: =ROUND(IF(C12>=2026,IF(B12<741000,0,IF(B12<2191000,B12-740000,IF(B12<2193000,1451000,IF(B12<2196000,1453000,IF(B12<2200000,1456000,IF(B12<3600000,ROUNDDOWN(B12/4,-3)*2.8-80000,IF(B12<6600000,ROUNDDOWN(B12/4,-3)*3.2-440000,IF(B12<8500000,ROUNDDOWN(B12*0.9,0)-1100000,B12-1950000)))))))),IF(B12<651000,0,IF(B12<1900000,B12-650000,IF(B12<3600000,ROUNDDOWN(B12/4,-3)*2.8-80000,IF(B12<6600000,ROUNDDOWN(B12/4,-3)*3.2-440000,IF(B12<8500000,ROUNDDOWN(B12*0.9,0)-1100000,B12-1950000)))))),0) | N12: =IF(M12>23500000,NA(),IF(C12>=2026,IF(M12<=4890000,1040000,IF(M12<=6550000,670000,620000)),IF(M12<=1320000,950000,IF(M12<=3360000,880000,IF(M12<=4890000,680000,IF(M12<=6550000,630000,580000)))))) | O12: =IF(F12<=0,IF(AND(D12="はい",C12>=2026,C12<=2027),IF(E12<=0,0,IF(E12<=30000,E12,IF(E12<=60000,ROUNDUP(E12/2,0)+15000,IF(E12<=120000,ROUNDUP(E12/4,0)+30000,60000)))),IF(E12<=0,0,IF(E12<=20000,E12,IF(E12<=40000,ROUNDUP(E12/2,0)+10000,IF(E12<=80000,ROUNDUP(E12/4,0)+20000,40000))))),IF(E12<=0,IF(F12<=0,0,IF(F12<=25000,F12,IF(F12<=50000,ROUNDUP(F12/2,0)+12500,IF(F12<=100000,ROUNDUP(F12/4,0)+25000,50000)))),MAX(IF(F12<=0,0,IF(F12<=25000,F12,IF(F12<=50000,ROUNDUP(F12/2,0)+12500,IF(F12<=100000,ROUNDUP(F12/4,0)+25000,50000)))),MIN(IF(AND(D12="はい",C12>=2026,C12<=2027),IF(E12<=0,0,IF(E12<=30000,E12,IF(E12<=60000,ROUNDUP(E12/2,0)+15000,IF(E12<=120000,ROUNDUP(E12/4,0)+30000,60000)))),IF(E12<=0,0,IF(E12<=20000,E12,IF(E12<=40000,ROUNDUP(E12/2,0)+10000,IF(E12<=80000,ROUNDUP(E12/4,0)+20000,40000)))))+IF(F12<=0,0,IF(F12<=25000,F12,IF(F12<=50000,ROUNDUP(F12/2,0)+12500,IF(F12<=100000,ROUNDUP(F12/4,0)+25000,50000)))),IF(AND(D12="はい",C12>=2026,C12<=2027),60000,40000))))) | P12: =IF(G12<=0,0,IF(G12<=20000,G12,IF(G12<=40000,ROUNDUP(G12/2,0)+10000,IF(G12<=80000,ROUNDUP(G12/4,0)+20000,40000)))) | Q12: =IF(I12<=0,IF(H12<=0,0,IF(H12<=20000,H12,IF(H12<=40000,ROUNDUP(H12/2,0)+10000,IF(H12<=80000,ROUNDUP(H12/4,0)+20000,40000)))),IF(H12<=0,IF(I12<=0,0,IF(I12<=25000,I12,IF(I12<=50000,ROUNDUP(I12/2,0)+12500,IF(I12<=100000,ROUNDUP(I12/4,0)+25000,50000)))),MAX(IF(I12<=0,0,IF(I12<=25000,I12,IF(I12<=50000,ROUNDUP(I12/2,0)+12500,IF(I12<=100000,ROUNDUP(I12/4,0)+25000,50000)))),MIN(IF(H12<=0,0,IF(H12<=20000,H12,IF(H12<=40000,ROUNDUP(H12/2,0)+10000,IF(H12<=80000,ROUNDUP(H12/4,0)+20000,40000))))+IF(I12<=0,0,IF(I12<=25000,I12,IF(I12<=50000,ROUNDUP(I12/2,0)+12500,IF(I12<=100000,ROUNDUP(I12/4,0)+25000,50000)))),40000)))) | R12: =MIN(120000,O12+P12+Q12) | S12: =IF(F12<=0,IF(E12<=0,0,IF(E12<=12000,E12,IF(E12<=32000,ROUNDUP(E12/2,0)+6000,IF(E12<=56000,ROUNDUP(E12/4,0)+14000,28000)))),IF(E12<=0,IF(F12<=0,0,IF(F12<=15000,F12,IF(F12<=40000,ROUNDUP(F12/2,0)+7500,IF(F12<=70000,ROUNDUP(F12/4,0)+17500,35000)))),MAX(IF(F12<=0,0,IF(F12<=15000,F12,IF(F12<=40000,ROUNDUP(F12/2,0)+7500,IF(F12<=70000,ROUNDUP(F12/4,0)+17500,35000)))),MIN(IF(E12<=0,0,IF(E12<=12000,E12,IF(E12<=32000,ROUNDUP(E12/2,0)+6000,IF(E12<=56000,ROUNDUP(E12/4,0)+14000,28000))))+IF(F12<=0,0,IF(F12<=15000,F12,IF(F12<=40000,ROUNDUP(F12/2,0)+7500,IF(F12<=70000,ROUNDUP(F12/4,0)+17500,35000)))),28000)))) | T12: =IF(G12<=0,0,IF(G12<=12000,G12,IF(G12<=32000,ROUNDUP(G12/2,0)+6000,IF(G12<=56000,ROUNDUP(G12/4,0)+14000,28000)))) | U12: =IF(I12<=0,IF(H12<=0,0,IF(H12<=12000,H12,IF(H12<=32000,ROUNDUP(H12/2,0)+6000,IF(H12<=56000,ROUNDUP(H12/4,0)+14000,28000)))),IF(H12<=0,IF(I12<=0,0,IF(I12<=15000,I12,IF(I12<=40000,ROUNDUP(I12/2,0)+7500,IF(I12<=70000,ROUNDUP(I12/4,0)+17500,35000)))),MAX(IF(I12<=0,0,IF(I12<=15000,I12,IF(I12<=40000,ROUNDUP(I12/2,0)+7500,IF(I12<=70000,ROUNDUP(I12/4,0)+17500,35000)))),MIN(IF(H12<=0,0,IF(H12<=12000,H12,IF(H12<=32000,ROUNDUP(H12/2,0)+6000,IF(H12<=56000,ROUNDUP(H12/4,0)+14000,28000))))+IF(I12<=0,0,IF(I12<=15000,I12,IF(I12<=40000,ROUNDUP(I12/2,0)+7500,IF(I12<=70000,ROUNDUP(I12/4,0)+17500,35000)))),28000)))) | V12: =MIN(70000,S12+T12+U12) | W12: =MAX(0,ROUNDDOWN(M12-J12-N12-K12-0,-3)) | X12: =MAX(0,ROUNDDOWN(M12-J12-N12-K12-R12,-3)) | Y12: =IF(W12<=0,0,ROUNDDOWN((W12*LOOKUP(W12,{0,1950001,3300001,6950001,9000001,18000001,40000001},{0.05,0.1,0.2,0.23,0.33,0.4,0.45})-LOOKUP(W12,{0,1950001,3300001,6950001,9000001,18000001,40000001},{0,97500,427500,636000,1536000,2796000,4796000}))*1.021,-2)) | Z12: =IF(X12<=0,0,ROUNDDOWN((X12*LOOKUP(X12,{0,1950001,3300001,6950001,9000001,18000001,40000001},{0.05,0.1,0.2,0.23,0.33,0.4,0.45})-LOOKUP(X12,{0,1950001,3300001,6950001,9000001,18000001,40000001},{0,97500,427500,636000,1536000,2796000,4796000}))*1.021,-2)) | AA12: =MAX(0,ROUNDDOWN(M12-J12-430000-L12-0,-3)) | AB12: =MAX(0,ROUNDDOWN(M12-J12-430000-L12-V12,-3)) | AC12: =IF(M12<=450000,0,MAX(0,ROUNDDOWN(AA12*0.06-MIN(50000,AA12)*0.03,-2))+MAX(0,ROUNDDOWN(AA12*0.04-MIN(50000,AA12)*0.02,-2))) | AD12: =IF(M12<=450000,0,MAX(0,ROUNDDOWN(AB12*0.06-MIN(50000,AB12)*0.03,-2))+MAX(0,ROUNDDOWN(AB12*0.04-MIN(50000,AB12)*0.02,-2))) | AE12: =Y12-Z12 | AF12: =AC12-AD12 | AG12: =AE12+AF12 | AH12: =IF(W12<=0,0,LOOKUP(W12,{0,1950001,3300001,6950001,9000001,18000001,40000001},{0.05,0.1,0.2,0.23,0.33,0.4,0.45}))
A13: 早見表 特例あり 一般12万円 | B13: ='3_早見表'!$A$4 | C13: 2026 | D13: はい | E13: 120000 | F13: 0 | G13: 0 | H13: 0 | I13: 0 | J13: =ROUND(MIN(B13/12,650000)*12*0.0915+MIN(B13/12,1390000)*12*(0.0504+0)+B13*0.005,0) | K13: 0 | L13: 0 | M13: =ROUND(IF(C13>=2026,IF(B13<741000,0,IF(B13<2191000,B13-740000,IF(B13<2193000,1451000,IF(B13<2196000,1453000,IF(B13<2200000,1456000,IF(B13<3600000,ROUNDDOWN(B13/4,-3)*2.8-80000,IF(B13<6600000,ROUNDDOWN(B13/4,-3)*3.2-440000,IF(B13<8500000,ROUNDDOWN(B13*0.9,0)-1100000,B13-1950000)))))))),IF(B13<651000,0,IF(B13<1900000,B13-650000,IF(B13<3600000,ROUNDDOWN(B13/4,-3)*2.8-80000,IF(B13<6600000,ROUNDDOWN(B13/4,-3)*3.2-440000,IF(B13<8500000,ROUNDDOWN(B13*0.9,0)-1100000,B13-1950000)))))),0) | N13: =IF(M13>23500000,NA(),IF(C13>=2026,IF(M13<=4890000,1040000,IF(M13<=6550000,670000,620000)),IF(M13<=1320000,950000,IF(M13<=3360000,880000,IF(M13<=4890000,680000,IF(M13<=6550000,630000,580000)))))) | O13: =IF(F13<=0,IF(AND(D13="はい",C13>=2026,C13<=2027),IF(E13<=0,0,IF(E13<=30000,E13,IF(E13<=60000,ROUNDUP(E13/2,0)+15000,IF(E13<=120000,ROUNDUP(E13/4,0)+30000,60000)))),IF(E13<=0,0,IF(E13<=20000,E13,IF(E13<=40000,ROUNDUP(E13/2,0)+10000,IF(E13<=80000,ROUNDUP(E13/4,0)+20000,40000))))),IF(E13<=0,IF(F13<=0,0,IF(F13<=25000,F13,IF(F13<=50000,ROUNDUP(F13/2,0)+12500,IF(F13<=100000,ROUNDUP(F13/4,0)+25000,50000)))),MAX(IF(F13<=0,0,IF(F13<=25000,F13,IF(F13<=50000,ROUNDUP(F13/2,0)+12500,IF(F13<=100000,ROUNDUP(F13/4,0)+25000,50000)))),MIN(IF(AND(D13="はい",C13>=2026,C13<=2027),IF(E13<=0,0,IF(E13<=30000,E13,IF(E13<=60000,ROUNDUP(E13/2,0)+15000,IF(E13<=120000,ROUNDUP(E13/4,0)+30000,60000)))),IF(E13<=0,0,IF(E13<=20000,E13,IF(E13<=40000,ROUNDUP(E13/2,0)+10000,IF(E13<=80000,ROUNDUP(E13/4,0)+20000,40000)))))+IF(F13<=0,0,IF(F13<=25000,F13,IF(F13<=50000,ROUNDUP(F13/2,0)+12500,IF(F13<=100000,ROUNDUP(F13/4,0)+25000,50000)))),IF(AND(D13="はい",C13>=2026,C13<=2027),60000,40000))))) | P13: =IF(G13<=0,0,IF(G13<=20000,G13,IF(G13<=40000,ROUNDUP(G13/2,0)+10000,IF(G13<=80000,ROUNDUP(G13/4,0)+20000,40000)))) | Q13: =IF(I13<=0,IF(H13<=0,0,IF(H13<=20000,H13,IF(H13<=40000,ROUNDUP(H13/2,0)+10000,IF(H13<=80000,ROUNDUP(H13/4,0)+20000,40000)))),IF(H13<=0,IF(I13<=0,0,IF(I13<=25000,I13,IF(I13<=50000,ROUNDUP(I13/2,0)+12500,IF(I13<=100000,ROUNDUP(I13/4,0)+25000,50000)))),MAX(IF(I13<=0,0,IF(I13<=25000,I13,IF(I13<=50000,ROUNDUP(I13/2,0)+12500,IF(I13<=100000,ROUNDUP(I13/4,0)+25000,50000)))),MIN(IF(H13<=0,0,IF(H13<=20000,H13,IF(H13<=40000,ROUNDUP(H13/2,0)+10000,IF(H13<=80000,ROUNDUP(H13/4,0)+20000,40000))))+IF(I13<=0,0,IF(I13<=25000,I13,IF(I13<=50000,ROUNDUP(I13/2,0)+12500,IF(I13<=100000,ROUNDUP(I13/4,0)+25000,50000)))),40000)))) | R13: =MIN(120000,O13+P13+Q13) | S13: =IF(F13<=0,IF(E13<=0,0,IF(E13<=12000,E13,IF(E13<=32000,ROUNDUP(E13/2,0)+6000,IF(E13<=56000,ROUNDUP(E13/4,0)+14000,28000)))),IF(E13<=0,IF(F13<=0,0,IF(F13<=15000,F13,IF(F13<=40000,ROUNDUP(F13/2,0)+7500,IF(F13<=70000,ROUNDUP(F13/4,0)+17500,35000)))),MAX(IF(F13<=0,0,IF(F13<=15000,F13,IF(F13<=40000,ROUNDUP(F13/2,0)+7500,IF(F13<=70000,ROUNDUP(F13/4,0)+17500,35000)))),MIN(IF(E13<=0,0,IF(E13<=12000,E13,IF(E13<=32000,ROUNDUP(E13/2,0)+6000,IF(E13<=56000,ROUNDUP(E13/4,0)+14000,28000))))+IF(F13<=0,0,IF(F13<=15000,F13,IF(F13<=40000,ROUNDUP(F13/2,0)+7500,IF(F13<=70000,ROUNDUP(F13/4,0)+17500,35000)))),28000)))) | T13: =IF(G13<=0,0,IF(G13<=12000,G13,IF(G13<=32000,ROUNDUP(G13/2,0)+6000,IF(G13<=56000,ROUNDUP(G13/4,0)+14000,28000)))) | U13: =IF(I13<=0,IF(H13<=0,0,IF(H13<=12000,H13,IF(H13<=32000,ROUNDUP(H13/2,0)+6000,IF(H13<=56000,ROUNDUP(H13/4,0)+14000,28000)))),IF(H13<=0,IF(I13<=0,0,IF(I13<=15000,I13,IF(I13<=40000,ROUNDUP(I13/2,0)+7500,IF(I13<=70000,ROUNDUP(I13/4,0)+17500,35000)))),MAX(IF(I13<=0,0,IF(I13<=15000,I13,IF(I13<=40000,ROUNDUP(I13/2,0)+7500,IF(I13<=70000,ROUNDUP(I13/4,0)+17500,35000)))),MIN(IF(H13<=0,0,IF(H13<=12000,H13,IF(H13<=32000,ROUNDUP(H13/2,0)+6000,IF(H13<=56000,ROUNDUP(H13/4,0)+14000,28000))))+IF(I13<=0,0,IF(I13<=15000,I13,IF(I13<=40000,ROUNDUP(I13/2,0)+7500,IF(I13<=70000,ROUNDUP(I13/4,0)+17500,35000)))),28000)))) | V13: =MIN(70000,S13+T13+U13) | W13: =MAX(0,ROUNDDOWN(M13-J13-N13-K13-0,-3)) | X13: =MAX(0,ROUNDDOWN(M13-J13-N13-K13-R13,-3)) | Y13: =IF(W13<=0,0,ROUNDDOWN((W13*LOOKUP(W13,{0,1950001,3300001,6950001,9000001,18000001,40000001},{0.05,0.1,0.2,0.23,0.33,0.4,0.45})-LOOKUP(W13,{0,1950001,3300001,6950001,9000001,18000001,40000001},{0,97500,427500,636000,1536000,2796000,4796000}))*1.021,-2)) | Z13: =IF(X13<=0,0,ROUNDDOWN((X13*LOOKUP(X13,{0,1950001,3300001,6950001,9000001,18000001,40000001},{0.05,0.1,0.2,0.23,0.33,0.4,0.45})-LOOKUP(X13,{0,1950001,3300001,6950001,9000001,18000001,40000001},{0,97500,427500,636000,1536000,2796000,4796000}))*1.021,-2)) | AA13: =MAX(0,ROUNDDOWN(M13-J13-430000-L13-0,-3)) | AB13: =MAX(0,ROUNDDOWN(M13-J13-430000-L13-V13,-3)) | AC13: =IF(M13<=450000,0,MAX(0,ROUNDDOWN(AA13*0.06-MIN(50000,AA13)*0.03,-2))+MAX(0,ROUNDDOWN(AA13*0.04-MIN(50000,AA13)*0.02,-2))) | AD13: =IF(M13<=450000,0,MAX(0,ROUNDDOWN(AB13*0.06-MIN(50000,AB13)*0.03,-2))+MAX(0,ROUNDDOWN(AB13*0.04-MIN(50000,AB13)*0.02,-2))) | AE13: =Y13-Z13 | AF13: =AC13-AD13 | AG13: =AE13+AF13 | AH13: =IF(W13<=0,0,LOOKUP(W13,{0,1950001,3300001,6950001,9000001,18000001,40000001},{0.05,0.1,0.2,0.23,0.33,0.4,0.45}))
A14: 早見表 特例あり 3区分（一般12万円） | B14: ='3_早見表'!$A$4 | C14: 2026 | D14: はい | E14: 120000 | F14: 0 | G14: 80000 | H14: 80000 | I14: 0 | J14: =ROUND(MIN(B14/12,650000)*12*0.0915+MIN(B14/12,1390000)*12*(0.0504+0)+B14*0.005,0) | K14: 0 | L14: 0 | M14: =ROUND(IF(C14>=2026,IF(B14<741000,0,IF(B14<2191000,B14-740000,IF(B14<2193000,1451000,IF(B14<2196000,1453000,IF(B14<2200000,1456000,IF(B14<3600000,ROUNDDOWN(B14/4,-3)*2.8-80000,IF(B14<6600000,ROUNDDOWN(B14/4,-3)*3.2-440000,IF(B14<8500000,ROUNDDOWN(B14*0.9,0)-1100000,B14-1950000)))))))),IF(B14<651000,0,IF(B14<1900000,B14-650000,IF(B14<3600000,ROUNDDOWN(B14/4,-3)*2.8-80000,IF(B14<6600000,ROUNDDOWN(B14/4,-3)*3.2-440000,IF(B14<8500000,ROUNDDOWN(B14*0.9,0)-1100000,B14-1950000)))))),0) | N14: =IF(M14>23500000,NA(),IF(C14>=2026,IF(M14<=4890000,1040000,IF(M14<=6550000,670000,620000)),IF(M14<=1320000,950000,IF(M14<=3360000,880000,IF(M14<=4890000,680000,IF(M14<=6550000,630000,580000)))))) | O14: =IF(F14<=0,IF(AND(D14="はい",C14>=2026,C14<=2027),IF(E14<=0,0,IF(E14<=30000,E14,IF(E14<=60000,ROUNDUP(E14/2,0)+15000,IF(E14<=120000,ROUNDUP(E14/4,0)+30000,60000)))),IF(E14<=0,0,IF(E14<=20000,E14,IF(E14<=40000,ROUNDUP(E14/2,0)+10000,IF(E14<=80000,ROUNDUP(E14/4,0)+20000,40000))))),IF(E14<=0,IF(F14<=0,0,IF(F14<=25000,F14,IF(F14<=50000,ROUNDUP(F14/2,0)+12500,IF(F14<=100000,ROUNDUP(F14/4,0)+25000,50000)))),MAX(IF(F14<=0,0,IF(F14<=25000,F14,IF(F14<=50000,ROUNDUP(F14/2,0)+12500,IF(F14<=100000,ROUNDUP(F14/4,0)+25000,50000)))),MIN(IF(AND(D14="はい",C14>=2026,C14<=2027),IF(E14<=0,0,IF(E14<=30000,E14,IF(E14<=60000,ROUNDUP(E14/2,0)+15000,IF(E14<=120000,ROUNDUP(E14/4,0)+30000,60000)))),IF(E14<=0,0,IF(E14<=20000,E14,IF(E14<=40000,ROUNDUP(E14/2,0)+10000,IF(E14<=80000,ROUNDUP(E14/4,0)+20000,40000)))))+IF(F14<=0,0,IF(F14<=25000,F14,IF(F14<=50000,ROUNDUP(F14/2,0)+12500,IF(F14<=100000,ROUNDUP(F14/4,0)+25000,50000)))),IF(AND(D14="はい",C14>=2026,C14<=2027),60000,40000))))) | P14: =IF(G14<=0,0,IF(G14<=20000,G14,IF(G14<=40000,ROUNDUP(G14/2,0)+10000,IF(G14<=80000,ROUNDUP(G14/4,0)+20000,40000)))) | Q14: =IF(I14<=0,IF(H14<=0,0,IF(H14<=20000,H14,IF(H14<=40000,ROUNDUP(H14/2,0)+10000,IF(H14<=80000,ROUNDUP(H14/4,0)+20000,40000)))),IF(H14<=0,IF(I14<=0,0,IF(I14<=25000,I14,IF(I14<=50000,ROUNDUP(I14/2,0)+12500,IF(I14<=100000,ROUNDUP(I14/4,0)+25000,50000)))),MAX(IF(I14<=0,0,IF(I14<=25000,I14,IF(I14<=50000,ROUNDUP(I14/2,0)+12500,IF(I14<=100000,ROUNDUP(I14/4,0)+25000,50000)))),MIN(IF(H14<=0,0,IF(H14<=20000,H14,IF(H14<=40000,ROUNDUP(H14/2,0)+10000,IF(H14<=80000,ROUNDUP(H14/4,0)+20000,40000))))+IF(I14<=0,0,IF(I14<=25000,I14,IF(I14<=50000,ROUNDUP(I14/2,0)+12500,IF(I14<=100000,ROUNDUP(I14/4,0)+25000,50000)))),40000)))) | R14: =MIN(120000,O14+P14+Q14) | S14: =IF(F14<=0,IF(E14<=0,0,IF(E14<=12000,E14,IF(E14<=32000,ROUNDUP(E14/2,0)+6000,IF(E14<=56000,ROUNDUP(E14/4,0)+14000,28000)))),IF(E14<=0,IF(F14<=0,0,IF(F14<=15000,F14,IF(F14<=40000,ROUNDUP(F14/2,0)+7500,IF(F14<=70000,ROUNDUP(F14/4,0)+17500,35000)))),MAX(IF(F14<=0,0,IF(F14<=15000,F14,IF(F14<=40000,ROUNDUP(F14/2,0)+7500,IF(F14<=70000,ROUNDUP(F14/4,0)+17500,35000)))),MIN(IF(E14<=0,0,IF(E14<=12000,E14,IF(E14<=32000,ROUNDUP(E14/2,0)+6000,IF(E14<=56000,ROUNDUP(E14/4,0)+14000,28000))))+IF(F14<=0,0,IF(F14<=15000,F14,IF(F14<=40000,ROUNDUP(F14/2,0)+7500,IF(F14<=70000,ROUNDUP(F14/4,0)+17500,35000)))),28000)))) | T14: =IF(G14<=0,0,IF(G14<=12000,G14,IF(G14<=32000,ROUNDUP(G14/2,0)+6000,IF(G14<=56000,ROUNDUP(G14/4,0)+14000,28000)))) | U14: =IF(I14<=0,IF(H14<=0,0,IF(H14<=12000,H14,IF(H14<=32000,ROUNDUP(H14/2,0)+6000,IF(H14<=56000,ROUNDUP(H14/4,0)+14000,28000)))),IF(H14<=0,IF(I14<=0,0,IF(I14<=15000,I14,IF(I14<=40000,ROUNDUP(I14/2,0)+7500,IF(I14<=70000,ROUNDUP(I14/4,0)+17500,35000)))),MAX(IF(I14<=0,0,IF(I14<=15000,I14,IF(I14<=40000,ROUNDUP(I14/2,0)+7500,IF(I14<=70000,ROUNDUP(I14/4,0)+17500,35000)))),MIN(IF(H14<=0,0,IF(H14<=12000,H14,IF(H14<=32000,ROUNDUP(H14/2,0)+6000,IF(H14<=56000,ROUNDUP(H14/4,0)+14000,28000))))+IF(I14<=0,0,IF(I14<=15000,I14,IF(I14<=40000,ROUNDUP(I14/2,0)+7500,IF(I14<=70000,ROUNDUP(I14/4,0)+17500,35000)))),28000)))) | V14: =MIN(70000,S14+T14+U14) | W14: =MAX(0,ROUNDDOWN(M14-J14-N14-K14-0,-3)) | X14: =MAX(0,ROUNDDOWN(M14-J14-N14-K14-R14,-3)) | Y14: =IF(W14<=0,0,ROUNDDOWN((W14*LOOKUP(W14,{0,1950001,3300001,6950001,9000001,18000001,40000001},{0.05,0.1,0.2,0.23,0.33,0.4,0.45})-LOOKUP(W14,{0,1950001,3300001,6950001,9000001,18000001,40000001},{0,97500,427500,636000,1536000,2796000,4796000}))*1.021,-2)) | Z14: =IF(X14<=0,0,ROUNDDOWN((X14*LOOKUP(X14,{0,1950001,3300001,6950001,9000001,18000001,40000001},{0.05,0.1,0.2,0.23,0.33,0.4,0.45})-LOOKUP(X14,{0,1950001,3300001,6950001,9000001,18000001,40000001},{0,97500,427500,636000,1536000,2796000,4796000}))*1.021,-2)) | AA14: =MAX(0,ROUNDDOWN(M14-J14-430000-L14-0,-3)) | AB14: =MAX(0,ROUNDDOWN(M14-J14-430000-L14-V14,-3)) | AC14: =IF(M14<=450000,0,MAX(0,ROUNDDOWN(AA14*0.06-MIN(50000,AA14)*0.03,-2))+MAX(0,ROUNDDOWN(AA14*0.04-MIN(50000,AA14)*0.02,-2))) | AD14: =IF(M14<=450000,0,MAX(0,ROUNDDOWN(AB14*0.06-MIN(50000,AB14)*0.03,-2))+MAX(0,ROUNDDOWN(AB14*0.04-MIN(50000,AB14)*0.02,-2))) | AE14: =Y14-Z14 | AF14: =AC14-AD14 | AG14: =AE14+AF14 | AH14: =IF(W14<=0,0,LOOKUP(W14,{0,1950001,3300001,6950001,9000001,18000001,40000001},{0.05,0.1,0.2,0.23,0.33,0.4,0.45}))
A15: 早見表 一般8万円 | B15: ='3_早見表'!$A$5 | C15: 2026 | D15: いいえ | E15: 80000 | F15: 0 | G15: 0 | H15: 0 | I15: 0 | J15: =ROUND(MIN(B15/12,650000)*12*0.0915+MIN(B15/12,1390000)*12*(0.0504+0)+B15*0.005,0) | K15: 0 | L15: 0 | M15: =ROUND(IF(C15>=2026,IF(B15<741000,0,IF(B15<2191000,B15-740000,IF(B15<2193000,1451000,IF(B15<2196000,1453000,IF(B15<2200000,1456000,IF(B15<3600000,ROUNDDOWN(B15/4,-3)*2.8-80000,IF(B15<6600000,ROUNDDOWN(B15/4,-3)*3.2-440000,IF(B15<8500000,ROUNDDOWN(B15*0.9,0)-1100000,B15-1950000)))))))),IF(B15<651000,0,IF(B15<1900000,B15-650000,IF(B15<3600000,ROUNDDOWN(B15/4,-3)*2.8-80000,IF(B15<6600000,ROUNDDOWN(B15/4,-3)*3.2-440000,IF(B15<8500000,ROUNDDOWN(B15*0.9,0)-1100000,B15-1950000)))))),0) | N15: =IF(M15>23500000,NA(),IF(C15>=2026,IF(M15<=4890000,1040000,IF(M15<=6550000,670000,620000)),IF(M15<=1320000,950000,IF(M15<=3360000,880000,IF(M15<=4890000,680000,IF(M15<=6550000,630000,580000)))))) | O15: =IF(F15<=0,IF(AND(D15="はい",C15>=2026,C15<=2027),IF(E15<=0,0,IF(E15<=30000,E15,IF(E15<=60000,ROUNDUP(E15/2,0)+15000,IF(E15<=120000,ROUNDUP(E15/4,0)+30000,60000)))),IF(E15<=0,0,IF(E15<=20000,E15,IF(E15<=40000,ROUNDUP(E15/2,0)+10000,IF(E15<=80000,ROUNDUP(E15/4,0)+20000,40000))))),IF(E15<=0,IF(F15<=0,0,IF(F15<=25000,F15,IF(F15<=50000,ROUNDUP(F15/2,0)+12500,IF(F15<=100000,ROUNDUP(F15/4,0)+25000,50000)))),MAX(IF(F15<=0,0,IF(F15<=25000,F15,IF(F15<=50000,ROUNDUP(F15/2,0)+12500,IF(F15<=100000,ROUNDUP(F15/4,0)+25000,50000)))),MIN(IF(AND(D15="はい",C15>=2026,C15<=2027),IF(E15<=0,0,IF(E15<=30000,E15,IF(E15<=60000,ROUNDUP(E15/2,0)+15000,IF(E15<=120000,ROUNDUP(E15/4,0)+30000,60000)))),IF(E15<=0,0,IF(E15<=20000,E15,IF(E15<=40000,ROUNDUP(E15/2,0)+10000,IF(E15<=80000,ROUNDUP(E15/4,0)+20000,40000)))))+IF(F15<=0,0,IF(F15<=25000,F15,IF(F15<=50000,ROUNDUP(F15/2,0)+12500,IF(F15<=100000,ROUNDUP(F15/4,0)+25000,50000)))),IF(AND(D15="はい",C15>=2026,C15<=2027),60000,40000))))) | P15: =IF(G15<=0,0,IF(G15<=20000,G15,IF(G15<=40000,ROUNDUP(G15/2,0)+10000,IF(G15<=80000,ROUNDUP(G15/4,0)+20000,40000)))) | Q15: =IF(I15<=0,IF(H15<=0,0,IF(H15<=20000,H15,IF(H15<=40000,ROUNDUP(H15/2,0)+10000,IF(H15<=80000,ROUNDUP(H15/4,0)+20000,40000)))),IF(H15<=0,IF(I15<=0,0,IF(I15<=25000,I15,IF(I15<=50000,ROUNDUP(I15/2,0)+12500,IF(I15<=100000,ROUNDUP(I15/4,0)+25000,50000)))),MAX(IF(I15<=0,0,IF(I15<=25000,I15,IF(I15<=50000,ROUNDUP(I15/2,0)+12500,IF(I15<=100000,ROUNDUP(I15/4,0)+25000,50000)))),MIN(IF(H15<=0,0,IF(H15<=20000,H15,IF(H15<=40000,ROUNDUP(H15/2,0)+10000,IF(H15<=80000,ROUNDUP(H15/4,0)+20000,40000))))+IF(I15<=0,0,IF(I15<=25000,I15,IF(I15<=50000,ROUNDUP(I15/2,0)+12500,IF(I15<=100000,ROUNDUP(I15/4,0)+25000,50000)))),40000)))) | R15: =MIN(120000,O15+P15+Q15) | S15: =IF(F15<=0,IF(E15<=0,0,IF(E15<=12000,E15,IF(E15<=32000,ROUNDUP(E15/2,0)+6000,IF(E15<=56000,ROUNDUP(E15/4,0)+14000,28000)))),IF(E15<=0,IF(F15<=0,0,IF(F15<=15000,F15,IF(F15<=40000,ROUNDUP(F15/2,0)+7500,IF(F15<=70000,ROUNDUP(F15/4,0)+17500,35000)))),MAX(IF(F15<=0,0,IF(F15<=15000,F15,IF(F15<=40000,ROUNDUP(F15/2,0)+7500,IF(F15<=70000,ROUNDUP(F15/4,0)+17500,35000)))),MIN(IF(E15<=0,0,IF(E15<=12000,E15,IF(E15<=32000,ROUNDUP(E15/2,0)+6000,IF(E15<=56000,ROUNDUP(E15/4,0)+14000,28000))))+IF(F15<=0,0,IF(F15<=15000,F15,IF(F15<=40000,ROUNDUP(F15/2,0)+7500,IF(F15<=70000,ROUNDUP(F15/4,0)+17500,35000)))),28000)))) | T15: =IF(G15<=0,0,IF(G15<=12000,G15,IF(G15<=32000,ROUNDUP(G15/2,0)+6000,IF(G15<=56000,ROUNDUP(G15/4,0)+14000,28000)))) | U15: =IF(I15<=0,IF(H15<=0,0,IF(H15<=12000,H15,IF(H15<=32000,ROUNDUP(H15/2,0)+6000,IF(H15<=56000,ROUNDUP(H15/4,0)+14000,28000)))),IF(H15<=0,IF(I15<=0,0,IF(I15<=15000,I15,IF(I15<=40000,ROUNDUP(I15/2,0)+7500,IF(I15<=70000,ROUNDUP(I15/4,0)+17500,35000)))),MAX(IF(I15<=0,0,IF(I15<=15000,I15,IF(I15<=40000,ROUNDUP(I15/2,0)+7500,IF(I15<=70000,ROUNDUP(I15/4,0)+17500,35000)))),MIN(IF(H15<=0,0,IF(H15<=12000,H15,IF(H15<=32000,ROUNDUP(H15/2,0)+6000,IF(H15<=56000,ROUNDUP(H15/4,0)+14000,28000))))+IF(I15<=0,0,IF(I15<=15000,I15,IF(I15<=40000,ROUNDUP(I15/2,0)+7500,IF(I15<=70000,ROUNDUP(I15/4,0)+17500,35000)))),28000)))) | V15: =MIN(70000,S15+T15+U15) | W15: =MAX(0,ROUNDDOWN(M15-J15-N15-K15-0,-3)) | X15: =MAX(0,ROUNDDOWN(M15-J15-N15-K15-R15,-3)) | Y15: =IF(W15<=0,0,ROUNDDOWN((W15*LOOKUP(W15,{0,1950001,3300001,6950001,9000001,18000001,40000001},{0.05,0.1,0.2,0.23,0.33,0.4,0.45})-LOOKUP(W15,{0,1950001,3300001,6950001,9000001,18000001,40000001},{0,97500,427500,636000,1536000,2796000,4796000}))*1.021,-2)) | Z15: =IF(X15<=0,0,ROUNDDOWN((X15*LOOKUP(X15,{0,1950001,3300001,6950001,9000001,18000001,40000001},{0.05,0.1,0.2,0.23,0.33,0.4,0.45})-LOOKUP(X15,{0,1950001,3300001,6950001,9000001,18000001,40000001},{0,97500,427500,636000,1536000,2796000,4796000}))*1.021,-2)) | AA15: =MAX(0,ROUNDDOWN(M15-J15-430000-L15-0,-3)) | AB15: =MAX(0,ROUNDDOWN(M15-J15-430000-L15-V15,-3)) | AC15: =IF(M15<=450000,0,MAX(0,ROUNDDOWN(AA15*0.06-MIN(50000,AA15)*0.03,-2))+MAX(0,ROUNDDOWN(AA15*0.04-MIN(50000,AA15)*0.02,-2))) | AD15: =IF(M15<=450000,0,MAX(0,ROUNDDOWN(AB15*0.06-MIN(50000,AB15)*0.03,-2))+MAX(0,ROUNDDOWN(AB15*0.04-MIN(50000,AB15)*0.02,-2))) | AE15: =Y15-Z15 | AF15: =AC15-AD15 | AG15: =AE15+AF15 | AH15: =IF(W15<=0,0,LOOKUP(W15,{0,1950001,3300001,6950001,9000001,18000001,40000001},{0.05,0.1,0.2,0.23,0.33,0.4,0.45}))
A16: 早見表 一般と介護医療8万円ずつ | B16: ='3_早見表'!$A$5 | C16: 2026 | D16: いいえ | E16: 80000 | F16: 0 | G16: 80000 | H16: 0 | I16: 0 | J16: =ROUND(MIN(B16/12,650000)*12*0.0915+MIN(B16/12,1390000)*12*(0.0504+0)+B16*0.005,0) | K16: 0 | L16: 0 | M16: =ROUND(IF(C16>=2026,IF(B16<741000,0,IF(B16<2191000,B16-740000,IF(B16<2193000,1451000,IF(B16<2196000,1453000,IF(B16<2200000,1456000,IF(B16<3600000,ROUNDDOWN(B16/4,-3)*2.8-80000,IF(B16<6600000,ROUNDDOWN(B16/4,-3)*3.2-440000,IF(B16<8500000,ROUNDDOWN(B16*0.9,0)-1100000,B16-1950000)))))))),IF(B16<651000,0,IF(B16<1900000,B16-650000,IF(B16<3600000,ROUNDDOWN(B16/4,-3)*2.8-80000,IF(B16<6600000,ROUNDDOWN(B16/4,-3)*3.2-440000,IF(B16<8500000,ROUNDDOWN(B16*0.9,0)-1100000,B16-1950000)))))),0) | N16: =IF(M16>23500000,NA(),IF(C16>=2026,IF(M16<=4890000,1040000,IF(M16<=6550000,670000,620000)),IF(M16<=1320000,950000,IF(M16<=3360000,880000,IF(M16<=4890000,680000,IF(M16<=6550000,630000,580000)))))) | O16: =IF(F16<=0,IF(AND(D16="はい",C16>=2026,C16<=2027),IF(E16<=0,0,IF(E16<=30000,E16,IF(E16<=60000,ROUNDUP(E16/2,0)+15000,IF(E16<=120000,ROUNDUP(E16/4,0)+30000,60000)))),IF(E16<=0,0,IF(E16<=20000,E16,IF(E16<=40000,ROUNDUP(E16/2,0)+10000,IF(E16<=80000,ROUNDUP(E16/4,0)+20000,40000))))),IF(E16<=0,IF(F16<=0,0,IF(F16<=25000,F16,IF(F16<=50000,ROUNDUP(F16/2,0)+12500,IF(F16<=100000,ROUNDUP(F16/4,0)+25000,50000)))),MAX(IF(F16<=0,0,IF(F16<=25000,F16,IF(F16<=50000,ROUNDUP(F16/2,0)+12500,IF(F16<=100000,ROUNDUP(F16/4,0)+25000,50000)))),MIN(IF(AND(D16="はい",C16>=2026,C16<=2027),IF(E16<=0,0,IF(E16<=30000,E16,IF(E16<=60000,ROUNDUP(E16/2,0)+15000,IF(E16<=120000,ROUNDUP(E16/4,0)+30000,60000)))),IF(E16<=0,0,IF(E16<=20000,E16,IF(E16<=40000,ROUNDUP(E16/2,0)+10000,IF(E16<=80000,ROUNDUP(E16/4,0)+20000,40000)))))+IF(F16<=0,0,IF(F16<=25000,F16,IF(F16<=50000,ROUNDUP(F16/2,0)+12500,IF(F16<=100000,ROUNDUP(F16/4,0)+25000,50000)))),IF(AND(D16="はい",C16>=2026,C16<=2027),60000,40000))))) | P16: =IF(G16<=0,0,IF(G16<=20000,G16,IF(G16<=40000,ROUNDUP(G16/2,0)+10000,IF(G16<=80000,ROUNDUP(G16/4,0)+20000,40000)))) | Q16: =IF(I16<=0,IF(H16<=0,0,IF(H16<=20000,H16,IF(H16<=40000,ROUNDUP(H16/2,0)+10000,IF(H16<=80000,ROUNDUP(H16/4,0)+20000,40000)))),IF(H16<=0,IF(I16<=0,0,IF(I16<=25000,I16,IF(I16<=50000,ROUNDUP(I16/2,0)+12500,IF(I16<=100000,ROUNDUP(I16/4,0)+25000,50000)))),MAX(IF(I16<=0,0,IF(I16<=25000,I16,IF(I16<=50000,ROUNDUP(I16/2,0)+12500,IF(I16<=100000,ROUNDUP(I16/4,0)+25000,50000)))),MIN(IF(H16<=0,0,IF(H16<=20000,H16,IF(H16<=40000,ROUNDUP(H16/2,0)+10000,IF(H16<=80000,ROUNDUP(H16/4,0)+20000,40000))))+IF(I16<=0,0,IF(I16<=25000,I16,IF(I16<=50000,ROUNDUP(I16/2,0)+12500,IF(I16<=100000,ROUNDUP(I16/4,0)+25000,50000)))),40000)))) | R16: =MIN(120000,O16+P16+Q16) | S16: =IF(F16<=0,IF(E16<=0,0,IF(E16<=12000,E16,IF(E16<=32000,ROUNDUP(E16/2,0)+6000,IF(E16<=56000,ROUNDUP(E16/4,0)+14000,28000)))),IF(E16<=0,IF(F16<=0,0,IF(F16<=15000,F16,IF(F16<=40000,ROUNDUP(F16/2,0)+7500,IF(F16<=70000,ROUNDUP(F16/4,0)+17500,35000)))),MAX(IF(F16<=0,0,IF(F16<=15000,F16,IF(F16<=40000,ROUNDUP(F16/2,0)+7500,IF(F16<=70000,ROUNDUP(F16/4,0)+17500,35000)))),MIN(IF(E16<=0,0,IF(E16<=12000,E16,IF(E16<=32000,ROUNDUP(E16/2,0)+6000,IF(E16<=56000,ROUNDUP(E16/4,0)+14000,28000))))+IF(F16<=0,0,IF(F16<=15000,F16,IF(F16<=40000,ROUNDUP(F16/2,0)+7500,IF(F16<=70000,ROUNDUP(F16/4,0)+17500,35000)))),28000)))) | T16: =IF(G16<=0,0,IF(G16<=12000,G16,IF(G16<=32000,ROUNDUP(G16/2,0)+6000,IF(G16<=56000,ROUNDUP(G16/4,0)+14000,28000)))) | U16: =IF(I16<=0,IF(H16<=0,0,IF(H16<=12000,H16,IF(H16<=32000,ROUNDUP(H16/2,0)+6000,IF(H16<=56000,ROUNDUP(H16/4,0)+14000,28000)))),IF(H16<=0,IF(I16<=0,0,IF(I16<=15000,I16,IF(I16<=40000,ROUNDUP(I16/2,0)+7500,IF(I16<=70000,ROUNDUP(I16/4,0)+17500,35000)))),MAX(IF(I16<=0,0,IF(I16<=15000,I16,IF(I16<=40000,ROUNDUP(I16/2,0)+7500,IF(I16<=70000,ROUNDUP(I16/4,0)+17500,35000)))),MIN(IF(H16<=0,0,IF(H16<=12000,H16,IF(H16<=32000,ROUNDUP(H16/2,0)+6000,IF(H16<=56000,ROUNDUP(H16/4,0)+14000,28000))))+IF(I16<=0,0,IF(I16<=15000,I16,IF(I16<=40000,ROUNDUP(I16/2,0)+7500,IF(I16<=70000,ROUNDUP(I16/4,0)+17500,35000)))),28000)))) | V16: =MIN(70000,S16+T16+U16) | W16: =MAX(0,ROUNDDOWN(M16-J16-N16-K16-0,-3)) | X16: =MAX(0,ROUNDDOWN(M16-J16-N16-K16-R16,-3)) | Y16: =IF(W16<=0,0,ROUNDDOWN((W16*LOOKUP(W16,{0,1950001,3300001,6950001,9000001,18000001,40000001},{0.05,0.1,0.2,0.23,0.33,0.4,0.45})-LOOKUP(W16,{0,1950001,3300001,6950001,9000001,18000001,40000001},{0,97500,427500,636000,1536000,2796000,4796000}))*1.021,-2)) | Z16: =IF(X16<=0,0,ROUNDDOWN((X16*LOOKUP(X16,{0,1950001,3300001,6950001,9000001,18000001,40000001},{0.05,0.1,0.2,0.23,0.33,0.4,0.45})-LOOKUP(X16,{0,1950001,3300001,6950001,9000001,18000001,40000001},{0,97500,427500,636000,1536000,2796000,4796000}))*1.021,-2)) | AA16: =MAX(0,ROUNDDOWN(M16-J16-430000-L16-0,-3)) | AB16: =MAX(0,ROUNDDOWN(M16-J16-430000-L16-V16,-3)) | AC16: =IF(M16<=450000,0,MAX(0,ROUNDDOWN(AA16*0.06-MIN(50000,AA16)*0.03,-2))+MAX(0,ROUNDDOWN(AA16*0.04-MIN(50000,AA16)*0.02,-2))) | AD16: =IF(M16<=450000,0,MAX(0,ROUNDDOWN(AB16*0.06-MIN(50000,AB16)*0.03,-2))+MAX(0,ROUNDDOWN(AB16*0.04-MIN(50000,AB16)*0.02,-2))) | AE16: =Y16-Z16 | AF16: =AC16-AD16 | AG16: =AE16+AF16 | AH16: =IF(W16<=0,0,LOOKUP(W16,{0,1950001,3300001,6950001,9000001,18000001,40000001},{0.05,0.1,0.2,0.23,0.33,0.4,0.45}))
A17: 早見表 3区分8万円ずつ（年24万円） | B17: ='3_早見表'!$A$5 | C17: 2026 | D17: いいえ | E17: 80000 | F17: 0 | G17: 80000 | H17: 80000 | I17: 0 | J17: =ROUND(MIN(B17/12,650000)*12*0.0915+MIN(B17/12,1390000)*12*(0.0504+0)+B17*0.005,0) | K17: 0 | L17: 0 | M17: =ROUND(IF(C17>=2026,IF(B17<741000,0,IF(B17<2191000,B17-740000,IF(B17<2193000,1451000,IF(B17<2196000,1453000,IF(B17<2200000,1456000,IF(B17<3600000,ROUNDDOWN(B17/4,-3)*2.8-80000,IF(B17<6600000,ROUNDDOWN(B17/4,-3)*3.2-440000,IF(B17<8500000,ROUNDDOWN(B17*0.9,0)-1100000,B17-1950000)))))))),IF(B17<651000,0,IF(B17<1900000,B17-650000,IF(B17<3600000,ROUNDDOWN(B17/4,-3)*2.8-80000,IF(B17<6600000,ROUNDDOWN(B17/4,-3)*3.2-440000,IF(B17<8500000,ROUNDDOWN(B17*0.9,0)-1100000,B17-1950000)))))),0) | N17: =IF(M17>23500000,NA(),IF(C17>=2026,IF(M17<=4890000,1040000,IF(M17<=6550000,670000,620000)),IF(M17<=1320000,950000,IF(M17<=3360000,880000,IF(M17<=4890000,680000,IF(M17<=6550000,630000,580000)))))) | O17: =IF(F17<=0,IF(AND(D17="はい",C17>=2026,C17<=2027),IF(E17<=0,0,IF(E17<=30000,E17,IF(E17<=60000,ROUNDUP(E17/2,0)+15000,IF(E17<=120000,ROUNDUP(E17/4,0)+30000,60000)))),IF(E17<=0,0,IF(E17<=20000,E17,IF(E17<=40000,ROUNDUP(E17/2,0)+10000,IF(E17<=80000,ROUNDUP(E17/4,0)+20000,40000))))),IF(E17<=0,IF(F17<=0,0,IF(F17<=25000,F17,IF(F17<=50000,ROUNDUP(F17/2,0)+12500,IF(F17<=100000,ROUNDUP(F17/4,0)+25000,50000)))),MAX(IF(F17<=0,0,IF(F17<=25000,F17,IF(F17<=50000,ROUNDUP(F17/2,0)+12500,IF(F17<=100000,ROUNDUP(F17/4,0)+25000,50000)))),MIN(IF(AND(D17="はい",C17>=2026,C17<=2027),IF(E17<=0,0,IF(E17<=30000,E17,IF(E17<=60000,ROUNDUP(E17/2,0)+15000,IF(E17<=120000,ROUNDUP(E17/4,0)+30000,60000)))),IF(E17<=0,0,IF(E17<=20000,E17,IF(E17<=40000,ROUNDUP(E17/2,0)+10000,IF(E17<=80000,ROUNDUP(E17/4,0)+20000,40000)))))+IF(F17<=0,0,IF(F17<=25000,F17,IF(F17<=50000,ROUNDUP(F17/2,0)+12500,IF(F17<=100000,ROUNDUP(F17/4,0)+25000,50000)))),IF(AND(D17="はい",C17>=2026,C17<=2027),60000,40000))))) | P17: =IF(G17<=0,0,IF(G17<=20000,G17,IF(G17<=40000,ROUNDUP(G17/2,0)+10000,IF(G17<=80000,ROUNDUP(G17/4,0)+20000,40000)))) | Q17: =IF(I17<=0,IF(H17<=0,0,IF(H17<=20000,H17,IF(H17<=40000,ROUNDUP(H17/2,0)+10000,IF(H17<=80000,ROUNDUP(H17/4,0)+20000,40000)))),IF(H17<=0,IF(I17<=0,0,IF(I17<=25000,I17,IF(I17<=50000,ROUNDUP(I17/2,0)+12500,IF(I17<=100000,ROUNDUP(I17/4,0)+25000,50000)))),MAX(IF(I17<=0,0,IF(I17<=25000,I17,IF(I17<=50000,ROUNDUP(I17/2,0)+12500,IF(I17<=100000,ROUNDUP(I17/4,0)+25000,50000)))),MIN(IF(H17<=0,0,IF(H17<=20000,H17,IF(H17<=40000,ROUNDUP(H17/2,0)+10000,IF(H17<=80000,ROUNDUP(H17/4,0)+20000,40000))))+IF(I17<=0,0,IF(I17<=25000,I17,IF(I17<=50000,ROUNDUP(I17/2,0)+12500,IF(I17<=100000,ROUNDUP(I17/4,0)+25000,50000)))),40000)))) | R17: =MIN(120000,O17+P17+Q17) | S17: =IF(F17<=0,IF(E17<=0,0,IF(E17<=12000,E17,IF(E17<=32000,ROUNDUP(E17/2,0)+6000,IF(E17<=56000,ROUNDUP(E17/4,0)+14000,28000)))),IF(E17<=0,IF(F17<=0,0,IF(F17<=15000,F17,IF(F17<=40000,ROUNDUP(F17/2,0)+7500,IF(F17<=70000,ROUNDUP(F17/4,0)+17500,35000)))),MAX(IF(F17<=0,0,IF(F17<=15000,F17,IF(F17<=40000,ROUNDUP(F17/2,0)+7500,IF(F17<=70000,ROUNDUP(F17/4,0)+17500,35000)))),MIN(IF(E17<=0,0,IF(E17<=12000,E17,IF(E17<=32000,ROUNDUP(E17/2,0)+6000,IF(E17<=56000,ROUNDUP(E17/4,0)+14000,28000))))+IF(F17<=0,0,IF(F17<=15000,F17,IF(F17<=40000,ROUNDUP(F17/2,0)+7500,IF(F17<=70000,ROUNDUP(F17/4,0)+17500,35000)))),28000)))) | T17: =IF(G17<=0,0,IF(G17<=12000,G17,IF(G17<=32000,ROUNDUP(G17/2,0)+6000,IF(G17<=56000,ROUNDUP(G17/4,0)+14000,28000)))) | U17: =IF(I17<=0,IF(H17<=0,0,IF(H17<=12000,H17,IF(H17<=32000,ROUNDUP(H17/2,0)+6000,IF(H17<=56000,ROUNDUP(H17/4,0)+14000,28000)))),IF(H17<=0,IF(I17<=0,0,IF(I17<=15000,I17,IF(I17<=40000,ROUNDUP(I17/2,0)+7500,IF(I17<=70000,ROUNDUP(I17/4,0)+17500,35000)))),MAX(IF(I17<=0,0,IF(I17<=15000,I17,IF(I17<=40000,ROUNDUP(I17/2,0)+7500,IF(I17<=70000,ROUNDUP(I17/4,0)+17500,35000)))),MIN(IF(H17<=0,0,IF(H17<=12000,H17,IF(H17<=32000,ROUNDUP(H17/2,0)+6000,IF(H17<=56000,ROUNDUP(H17/4,0)+14000,28000))))+IF(I17<=0,0,IF(I17<=15000,I17,IF(I17<=40000,ROUNDUP(I17/2,0)+7500,IF(I17<=70000,ROUNDUP(I17/4,0)+17500,35000)))),28000)))) | V17: =MIN(70000,S17+T17+U17) | W17: =MAX(0,ROUNDDOWN(M17-J17-N17-K17-0,-3)) | X17: =MAX(0,ROUNDDOWN(M17-J17-N17-K17-R17,-3)) | Y17: =IF(W17<=0,0,ROUNDDOWN((W17*LOOKUP(W17,{0,1950001,3300001,6950001,9000001,18000001,40000001},{0.05,0.1,0.2,0.23,0.33,0.4,0.45})-LOOKUP(W17,{0,1950001,3300001,6950001,9000001,18000001,40000001},{0,97500,427500,636000,1536000,2796000,4796000}))*1.021,-2)) | Z17: =IF(X17<=0,0,ROUNDDOWN((X17*LOOKUP(X17,{0,1950001,3300001,6950001,9000001,18000001,40000001},{0.05,0.1,0.2,0.23,0.33,0.4,0.45})-LOOKUP(X17,{0,1950001,3300001,6950001,9000001,18000001,40000001},{0,97500,427500,636000,1536000,2796000,4796000}))*1.021,-2)) | AA17: =MAX(0,ROUNDDOWN(M17-J17-430000-L17-0,-3)) | AB17: =MAX(0,ROUNDDOWN(M17-J17-430000-L17-V17,-3)) | AC17: =IF(M17<=450000,0,MAX(0,ROUNDDOWN(AA17*0.06-MIN(50000,AA17)*0.03,-2))+MAX(0,ROUNDDOWN(AA17*0.04-MIN(50000,AA17)*0.02,-2))) | AD17: =IF(M17<=450000,0,MAX(0,ROUNDDOWN(AB17*0.06-MIN(50000,AB17)*0.03,-2))+MAX(0,ROUNDDOWN(AB17*0.04-MIN(50000,AB17)*0.02,-2))) | AE17: =Y17-Z17 | AF17: =AC17-AD17 | AG17: =AE17+AF17 | AH17: =IF(W17<=0,0,LOOKUP(W17,{0,1950001,3300001,6950001,9000001,18000001,40000001},{0.05,0.1,0.2,0.23,0.33,0.4,0.45}))
A18: 早見表 特例あり 一般8万円 | B18: ='3_早見表'!$A$5 | C18: 2026 | D18: はい | E18: 80000 | F18: 0 | G18: 0 | H18: 0 | I18: 0 | J18: =ROUND(MIN(B18/12,650000)*12*0.0915+MIN(B18/12,1390000)*12*(0.0504+0)+B18*0.005,0) | K18: 0 | L18: 0 | M18: =ROUND(IF(C18>=2026,IF(B18<741000,0,IF(B18<2191000,B18-740000,IF(B18<2193000,1451000,IF(B18<2196000,1453000,IF(B18<2200000,1456000,IF(B18<3600000,ROUNDDOWN(B18/4,-3)*2.8-80000,IF(B18<6600000,ROUNDDOWN(B18/4,-3)*3.2-440000,IF(B18<8500000,ROUNDDOWN(B18*0.9,0)-1100000,B18-1950000)))))))),IF(B18<651000,0,IF(B18<1900000,B18-650000,IF(B18<3600000,ROUNDDOWN(B18/4,-3)*2.8-80000,IF(B18<6600000,ROUNDDOWN(B18/4,-3)*3.2-440000,IF(B18<8500000,ROUNDDOWN(B18*0.9,0)-1100000,B18-1950000)))))),0) | N18: =IF(M18>23500000,NA(),IF(C18>=2026,IF(M18<=4890000,1040000,IF(M18<=6550000,670000,620000)),IF(M18<=1320000,950000,IF(M18<=3360000,880000,IF(M18<=4890000,680000,IF(M18<=6550000,630000,580000)))))) | O18: =IF(F18<=0,IF(AND(D18="はい",C18>=2026,C18<=2027),IF(E18<=0,0,IF(E18<=30000,E18,IF(E18<=60000,ROUNDUP(E18/2,0)+15000,IF(E18<=120000,ROUNDUP(E18/4,0)+30000,60000)))),IF(E18<=0,0,IF(E18<=20000,E18,IF(E18<=40000,ROUNDUP(E18/2,0)+10000,IF(E18<=80000,ROUNDUP(E18/4,0)+20000,40000))))),IF(E18<=0,IF(F18<=0,0,IF(F18<=25000,F18,IF(F18<=50000,ROUNDUP(F18/2,0)+12500,IF(F18<=100000,ROUNDUP(F18/4,0)+25000,50000)))),MAX(IF(F18<=0,0,IF(F18<=25000,F18,IF(F18<=50000,ROUNDUP(F18/2,0)+12500,IF(F18<=100000,ROUNDUP(F18/4,0)+25000,50000)))),MIN(IF(AND(D18="はい",C18>=2026,C18<=2027),IF(E18<=0,0,IF(E18<=30000,E18,IF(E18<=60000,ROUNDUP(E18/2,0)+15000,IF(E18<=120000,ROUNDUP(E18/4,0)+30000,60000)))),IF(E18<=0,0,IF(E18<=20000,E18,IF(E18<=40000,ROUNDUP(E18/2,0)+10000,IF(E18<=80000,ROUNDUP(E18/4,0)+20000,40000)))))+IF(F18<=0,0,IF(F18<=25000,F18,IF(F18<=50000,ROUNDUP(F18/2,0)+12500,IF(F18<=100000,ROUNDUP(F18/4,0)+25000,50000)))),IF(AND(D18="はい",C18>=2026,C18<=2027),60000,40000))))) | P18: =IF(G18<=0,0,IF(G18<=20000,G18,IF(G18<=40000,ROUNDUP(G18/2,0)+10000,IF(G18<=80000,ROUNDUP(G18/4,0)+20000,40000)))) | Q18: =IF(I18<=0,IF(H18<=0,0,IF(H18<=20000,H18,IF(H18<=40000,ROUNDUP(H18/2,0)+10000,IF(H18<=80000,ROUNDUP(H18/4,0)+20000,40000)))),IF(H18<=0,IF(I18<=0,0,IF(I18<=25000,I18,IF(I18<=50000,ROUNDUP(I18/2,0)+12500,IF(I18<=100000,ROUNDUP(I18/4,0)+25000,50000)))),MAX(IF(I18<=0,0,IF(I18<=25000,I18,IF(I18<=50000,ROUNDUP(I18/2,0)+12500,IF(I18<=100000,ROUNDUP(I18/4,0)+25000,50000)))),MIN(IF(H18<=0,0,IF(H18<=20000,H18,IF(H18<=40000,ROUNDUP(H18/2,0)+10000,IF(H18<=80000,ROUNDUP(H18/4,0)+20000,40000))))+IF(I18<=0,0,IF(I18<=25000,I18,IF(I18<=50000,ROUNDUP(I18/2,0)+12500,IF(I18<=100000,ROUNDUP(I18/4,0)+25000,50000)))),40000)))) | R18: =MIN(120000,O18+P18+Q18) | S18: =IF(F18<=0,IF(E18<=0,0,IF(E18<=12000,E18,IF(E18<=32000,ROUNDUP(E18/2,0)+6000,IF(E18<=56000,ROUNDUP(E18/4,0)+14000,28000)))),IF(E18<=0,IF(F18<=0,0,IF(F18<=15000,F18,IF(F18<=40000,ROUNDUP(F18/2,0)+7500,IF(F18<=70000,ROUNDUP(F18/4,0)+17500,35000)))),MAX(IF(F18<=0,0,IF(F18<=15000,F18,IF(F18<=40000,ROUNDUP(F18/2,0)+7500,IF(F18<=70000,ROUNDUP(F18/4,0)+17500,35000)))),MIN(IF(E18<=0,0,IF(E18<=12000,E18,IF(E18<=32000,ROUNDUP(E18/2,0)+6000,IF(E18<=56000,ROUNDUP(E18/4,0)+14000,28000))))+IF(F18<=0,0,IF(F18<=15000,F18,IF(F18<=40000,ROUNDUP(F18/2,0)+7500,IF(F18<=70000,ROUNDUP(F18/4,0)+17500,35000)))),28000)))) | T18: =IF(G18<=0,0,IF(G18<=12000,G18,IF(G18<=32000,ROUNDUP(G18/2,0)+6000,IF(G18<=56000,ROUNDUP(G18/4,0)+14000,28000)))) | U18: =IF(I18<=0,IF(H18<=0,0,IF(H18<=12000,H18,IF(H18<=32000,ROUNDUP(H18/2,0)+6000,IF(H18<=56000,ROUNDUP(H18/4,0)+14000,28000)))),IF(H18<=0,IF(I18<=0,0,IF(I18<=15000,I18,IF(I18<=40000,ROUNDUP(I18/2,0)+7500,IF(I18<=70000,ROUNDUP(I18/4,0)+17500,35000)))),MAX(IF(I18<=0,0,IF(I18<=15000,I18,IF(I18<=40000,ROUNDUP(I18/2,0)+7500,IF(I18<=70000,ROUNDUP(I18/4,0)+17500,35000)))),MIN(IF(H18<=0,0,IF(H18<=12000,H18,IF(H18<=32000,ROUNDUP(H18/2,0)+6000,IF(H18<=56000,ROUNDUP(H18/4,0)+14000,28000))))+IF(I18<=0,0,IF(I18<=15000,I18,IF(I18<=40000,ROUNDUP(I18/2,0)+7500,IF(I18<=70000,ROUNDUP(I18/4,0)+17500,35000)))),28000)))) | V18: =MIN(70000,S18+T18+U18) | W18: =MAX(0,ROUNDDOWN(M18-J18-N18-K18-0,-3)) | X18: =MAX(0,ROUNDDOWN(M18-J18-N18-K18-R18,-3)) | Y18: =IF(W18<=0,0,ROUNDDOWN((W18*LOOKUP(W18,{0,1950001,3300001,6950001,9000001,18000001,40000001},{0.05,0.1,0.2,0.23,0.33,0.4,0.45})-LOOKUP(W18,{0,1950001,3300001,6950001,9000001,18000001,40000001},{0,97500,427500,636000,1536000,2796000,4796000}))*1.021,-2)) | Z18: =IF(X18<=0,0,ROUNDDOWN((X18*LOOKUP(X18,{0,1950001,3300001,6950001,9000001,18000001,40000001},{0.05,0.1,0.2,0.23,0.33,0.4,0.45})-LOOKUP(X18,{0,1950001,3300001,6950001,9000001,18000001,40000001},{0,97500,427500,636000,1536000,2796000,4796000}))*1.021,-2)) | AA18: =MAX(0,ROUNDDOWN(M18-J18-430000-L18-0,-3)) | AB18: =MAX(0,ROUNDDOWN(M18-J18-430000-L18-V18,-3)) | AC18: =IF(M18<=450000,0,MAX(0,ROUNDDOWN(AA18*0.06-MIN(50000,AA18)*0.03,-2))+MAX(0,ROUNDDOWN(AA18*0.04-MIN(50000,AA18)*0.02,-2))) | AD18: =IF(M18<=450000,0,MAX(0,ROUNDDOWN(AB18*0.06-MIN(50000,AB18)*0.03,-2))+MAX(0,ROUNDDOWN(AB18*0.04-MIN(50000,AB18)*0.02,-2))) | AE18: =Y18-Z18 | AF18: =AC18-AD18 | AG18: =AE18+AF18 | AH18: =IF(W18<=0,0,LOOKUP(W18,{0,1950001,3300001,6950001,9000001,18000001,40000001},{0.05,0.1,0.2,0.23,0.33,0.4,0.45}))
A19: 早見表 特例あり 一般12万円 | B19: ='3_早見表'!$A$5 | C19: 2026 | D19: はい | E19: 120000 | F19: 0 | G19: 0 | H19: 0 | I19: 0 | J19: =ROUND(MIN(B19/12,650000)*12*0.0915+MIN(B19/12,1390000)*12*(0.0504+0)+B19*0.005,0) | K19: 0 | L19: 0 | M19: =ROUND(IF(C19>=2026,IF(B19<741000,0,IF(B19<2191000,B19-740000,IF(B19<2193000,1451000,IF(B19<2196000,1453000,IF(B19<2200000,1456000,IF(B19<3600000,ROUNDDOWN(B19/4,-3)*2.8-80000,IF(B19<6600000,ROUNDDOWN(B19/4,-3)*3.2-440000,IF(B19<8500000,ROUNDDOWN(B19*0.9,0)-1100000,B19-1950000)))))))),IF(B19<651000,0,IF(B19<1900000,B19-650000,IF(B19<3600000,ROUNDDOWN(B19/4,-3)*2.8-80000,IF(B19<6600000,ROUNDDOWN(B19/4,-3)*3.2-440000,IF(B19<8500000,ROUNDDOWN(B19*0.9,0)-1100000,B19-1950000)))))),0) | N19: =IF(M19>23500000,NA(),IF(C19>=2026,IF(M19<=4890000,1040000,IF(M19<=6550000,670000,620000)),IF(M19<=1320000,950000,IF(M19<=3360000,880000,IF(M19<=4890000,680000,IF(M19<=6550000,630000,580000)))))) | O19: =IF(F19<=0,IF(AND(D19="はい",C19>=2026,C19<=2027),IF(E19<=0,0,IF(E19<=30000,E19,IF(E19<=60000,ROUNDUP(E19/2,0)+15000,IF(E19<=120000,ROUNDUP(E19/4,0)+30000,60000)))),IF(E19<=0,0,IF(E19<=20000,E19,IF(E19<=40000,ROUNDUP(E19/2,0)+10000,IF(E19<=80000,ROUNDUP(E19/4,0)+20000,40000))))),IF(E19<=0,IF(F19<=0,0,IF(F19<=25000,F19,IF(F19<=50000,ROUNDUP(F19/2,0)+12500,IF(F19<=100000,ROUNDUP(F19/4,0)+25000,50000)))),MAX(IF(F19<=0,0,IF(F19<=25000,F19,IF(F19<=50000,ROUNDUP(F19/2,0)+12500,IF(F19<=100000,ROUNDUP(F19/4,0)+25000,50000)))),MIN(IF(AND(D19="はい",C19>=2026,C19<=2027),IF(E19<=0,0,IF(E19<=30000,E19,IF(E19<=60000,ROUNDUP(E19/2,0)+15000,IF(E19<=120000,ROUNDUP(E19/4,0)+30000,60000)))),IF(E19<=0,0,IF(E19<=20000,E19,IF(E19<=40000,ROUNDUP(E19/2,0)+10000,IF(E19<=80000,ROUNDUP(E19/4,0)+20000,40000)))))+IF(F19<=0,0,IF(F19<=25000,F19,IF(F19<=50000,ROUNDUP(F19/2,0)+12500,IF(F19<=100000,ROUNDUP(F19/4,0)+25000,50000)))),IF(AND(D19="はい",C19>=2026,C19<=2027),60000,40000))))) | P19: =IF(G19<=0,0,IF(G19<=20000,G19,IF(G19<=40000,ROUNDUP(G19/2,0)+10000,IF(G19<=80000,ROUNDUP(G19/4,0)+20000,40000)))) | Q19: =IF(I19<=0,IF(H19<=0,0,IF(H19<=20000,H19,IF(H19<=40000,ROUNDUP(H19/2,0)+10000,IF(H19<=80000,ROUNDUP(H19/4,0)+20000,40000)))),IF(H19<=0,IF(I19<=0,0,IF(I19<=25000,I19,IF(I19<=50000,ROUNDUP(I19/2,0)+12500,IF(I19<=100000,ROUNDUP(I19/4,0)+25000,50000)))),MAX(IF(I19<=0,0,IF(I19<=25000,I19,IF(I19<=50000,ROUNDUP(I19/2,0)+12500,IF(I19<=100000,ROUNDUP(I19/4,0)+25000,50000)))),MIN(IF(H19<=0,0,IF(H19<=20000,H19,IF(H19<=40000,ROUNDUP(H19/2,0)+10000,IF(H19<=80000,ROUNDUP(H19/4,0)+20000,40000))))+IF(I19<=0,0,IF(I19<=25000,I19,IF(I19<=50000,ROUNDUP(I19/2,0)+12500,IF(I19<=100000,ROUNDUP(I19/4,0)+25000,50000)))),40000)))) | R19: =MIN(120000,O19+P19+Q19) | S19: =IF(F19<=0,IF(E19<=0,0,IF(E19<=12000,E19,IF(E19<=32000,ROUNDUP(E19/2,0)+6000,IF(E19<=56000,ROUNDUP(E19/4,0)+14000,28000)))),IF(E19<=0,IF(F19<=0,0,IF(F19<=15000,F19,IF(F19<=40000,ROUNDUP(F19/2,0)+7500,IF(F19<=70000,ROUNDUP(F19/4,0)+17500,35000)))),MAX(IF(F19<=0,0,IF(F19<=15000,F19,IF(F19<=40000,ROUNDUP(F19/2,0)+7500,IF(F19<=70000,ROUNDUP(F19/4,0)+17500,35000)))),MIN(IF(E19<=0,0,IF(E19<=12000,E19,IF(E19<=32000,ROUNDUP(E19/2,0)+6000,IF(E19<=56000,ROUNDUP(E19/4,0)+14000,28000))))+IF(F19<=0,0,IF(F19<=15000,F19,IF(F19<=40000,ROUNDUP(F19/2,0)+7500,IF(F19<=70000,ROUNDUP(F19/4,0)+17500,35000)))),28000)))) | T19: =IF(G19<=0,0,IF(G19<=12000,G19,IF(G19<=32000,ROUNDUP(G19/2,0)+6000,IF(G19<=56000,ROUNDUP(G19/4,0)+14000,28000)))) | U19: =IF(I19<=0,IF(H19<=0,0,IF(H19<=12000,H19,IF(H19<=32000,ROUNDUP(H19/2,0)+6000,IF(H19<=56000,ROUNDUP(H19/4,0)+14000,28000)))),IF(H19<=0,IF(I19<=0,0,IF(I19<=15000,I19,IF(I19<=40000,ROUNDUP(I19/2,0)+7500,IF(I19<=70000,ROUNDUP(I19/4,0)+17500,35000)))),MAX(IF(I19<=0,0,IF(I19<=15000,I19,IF(I19<=40000,ROUNDUP(I19/2,0)+7500,IF(I19<=70000,ROUNDUP(I19/4,0)+17500,35000)))),MIN(IF(H19<=0,0,IF(H19<=12000,H19,IF(H19<=32000,ROUNDUP(H19/2,0)+6000,IF(H19<=56000,ROUNDUP(H19/4,0)+14000,28000))))+IF(I19<=0,0,IF(I19<=15000,I19,IF(I19<=40000,ROUNDUP(I19/2,0)+7500,IF(I19<=70000,ROUNDUP(I19/4,0)+17500,35000)))),28000)))) | V19: =MIN(70000,S19+T19+U19) | W19: =MAX(0,ROUNDDOWN(M19-J19-N19-K19-0,-3)) | X19: =MAX(0,ROUNDDOWN(M19-J19-N19-K19-R19,-3)) | Y19: =IF(W19<=0,0,ROUNDDOWN((W19*LOOKUP(W19,{0,1950001,3300001,6950001,9000001,18000001,40000001},{0.05,0.1,0.2,0.23,0.33,0.4,0.45})-LOOKUP(W19,{0,1950001,3300001,6950001,9000001,18000001,40000001},{0,97500,427500,636000,1536000,2796000,4796000}))*1.021,-2)) | Z19: =IF(X19<=0,0,ROUNDDOWN((X19*LOOKUP(X19,{0,1950001,3300001,6950001,9000001,18000001,40000001},{0.05,0.1,0.2,0.23,0.33,0.4,0.45})-LOOKUP(X19,{0,1950001,3300001,6950001,9000001,18000001,40000001},{0,97500,427500,636000,1536000,2796000,4796000}))*1.021,-2)) | AA19: =MAX(0,ROUNDDOWN(M19-J19-430000-L19-0,-3)) | AB19: =MAX(0,ROUNDDOWN(M19-J19-430000-L19-V19,-3)) | AC19: =IF(M19<=450000,0,MAX(0,ROUNDDOWN(AA19*0.06-MIN(50000,AA19)*0.03,-2))+MAX(0,ROUNDDOWN(AA19*0.04-MIN(50000,AA19)*0.02,-2))) | AD19: =IF(M19<=450000,0,MAX(0,ROUNDDOWN(AB19*0.06-MIN(50000,AB19)*0.03,-2))+MAX(0,ROUNDDOWN(AB19*0.04-MIN(50000,AB19)*0.02,-2))) | AE19: =Y19-Z19 | AF19: =AC19-AD19 | AG19: =AE19+AF19 | AH19: =IF(W19<=0,0,LOOKUP(W19,{0,1950001,3300001,6950001,9000001,18000001,40000001},{0.05,0.1,0.2,0.23,0.33,0.4,0.45}))
A20: 早見表 特例あり 3区分（一般12万円） | B20: ='3_早見表'!$A$5 | C20: 2026 | D20: はい | E20: 120000 | F20: 0 | G20: 80000 | H20: 80000 | I20: 0 | J20: =ROUND(MIN(B20/12,650000)*12*0.0915+MIN(B20/12,1390000)*12*(0.0504+0)+B20*0.005,0) | K20: 0 | L20: 0 | M20: =ROUND(IF(C20>=2026,IF(B20<741000,0,IF(B20<2191000,B20-740000,IF(B20<2193000,1451000,IF(B20<2196000,1453000,IF(B20<2200000,1456000,IF(B20<3600000,ROUNDDOWN(B20/4,-3)*2.8-80000,IF(B20<6600000,ROUNDDOWN(B20/4,-3)*3.2-440000,IF(B20<8500000,ROUNDDOWN(B20*0.9,0)-1100000,B20-1950000)))))))),IF(B20<651000,0,IF(B20<1900000,B20-650000,IF(B20<3600000,ROUNDDOWN(B20/4,-3)*2.8-80000,IF(B20<6600000,ROUNDDOWN(B20/4,-3)*3.2-440000,IF(B20<8500000,ROUNDDOWN(B20*0.9,0)-1100000,B20-1950000)))))),0) | N20: =IF(M20>23500000,NA(),IF(C20>=2026,IF(M20<=4890000,1040000,IF(M20<=6550000,670000,620000)),IF(M20<=1320000,950000,IF(M20<=3360000,880000,IF(M20<=4890000,680000,IF(M20<=6550000,630000,580000)))))) | O20: =IF(F20<=0,IF(AND(D20="はい",C20>=2026,C20<=2027),IF(E20<=0,0,IF(E20<=30000,E20,IF(E20<=60000,ROUNDUP(E20/2,0)+15000,IF(E20<=120000,ROUNDUP(E20/4,0)+30000,60000)))),IF(E20<=0,0,IF(E20<=20000,E20,IF(E20<=40000,ROUNDUP(E20/2,0)+10000,IF(E20<=80000,ROUNDUP(E20/4,0)+20000,40000))))),IF(E20<=0,IF(F20<=0,0,IF(F20<=25000,F20,IF(F20<=50000,ROUNDUP(F20/2,0)+12500,IF(F20<=100000,ROUNDUP(F20/4,0)+25000,50000)))),MAX(IF(F20<=0,0,IF(F20<=25000,F20,IF(F20<=50000,ROUNDUP(F20/2,0)+12500,IF(F20<=100000,ROUNDUP(F20/4,0)+25000,50000)))),MIN(IF(AND(D20="はい",C20>=2026,C20<=2027),IF(E20<=0,0,IF(E20<=30000,E20,IF(E20<=60000,ROUNDUP(E20/2,0)+15000,IF(E20<=120000,ROUNDUP(E20/4,0)+30000,60000)))),IF(E20<=0,0,IF(E20<=20000,E20,IF(E20<=40000,ROUNDUP(E20/2,0)+10000,IF(E20<=80000,ROUNDUP(E20/4,0)+20000,40000)))))+IF(F20<=0,0,IF(F20<=25000,F20,IF(F20<=50000,ROUNDUP(F20/2,0)+12500,IF(F20<=100000,ROUNDUP(F20/4,0)+25000,50000)))),IF(AND(D20="はい",C20>=2026,C20<=2027),60000,40000))))) | P20: =IF(G20<=0,0,IF(G20<=20000,G20,IF(G20<=40000,ROUNDUP(G20/2,0)+10000,IF(G20<=80000,ROUNDUP(G20/4,0)+20000,40000)))) | Q20: =IF(I20<=0,IF(H20<=0,0,IF(H20<=20000,H20,IF(H20<=40000,ROUNDUP(H20/2,0)+10000,IF(H20<=80000,ROUNDUP(H20/4,0)+20000,40000)))),IF(H20<=0,IF(I20<=0,0,IF(I20<=25000,I20,IF(I20<=50000,ROUNDUP(I20/2,0)+12500,IF(I20<=100000,ROUNDUP(I20/4,0)+25000,50000)))),MAX(IF(I20<=0,0,IF(I20<=25000,I20,IF(I20<=50000,ROUNDUP(I20/2,0)+12500,IF(I20<=100000,ROUNDUP(I20/4,0)+25000,50000)))),MIN(IF(H20<=0,0,IF(H20<=20000,H20,IF(H20<=40000,ROUNDUP(H20/2,0)+10000,IF(H20<=80000,ROUNDUP(H20/4,0)+20000,40000))))+IF(I20<=0,0,IF(I20<=25000,I20,IF(I20<=50000,ROUNDUP(I20/2,0)+12500,IF(I20<=100000,ROUNDUP(I20/4,0)+25000,50000)))),40000)))) | R20: =MIN(120000,O20+P20+Q20) | S20: =IF(F20<=0,IF(E20<=0,0,IF(E20<=12000,E20,IF(E20<=32000,ROUNDUP(E20/2,0)+6000,IF(E20<=56000,ROUNDUP(E20/4,0)+14000,28000)))),IF(E20<=0,IF(F20<=0,0,IF(F20<=15000,F20,IF(F20<=40000,ROUNDUP(F20/2,0)+7500,IF(F20<=70000,ROUNDUP(F20/4,0)+17500,35000)))),MAX(IF(F20<=0,0,IF(F20<=15000,F20,IF(F20<=40000,ROUNDUP(F20/2,0)+7500,IF(F20<=70000,ROUNDUP(F20/4,0)+17500,35000)))),MIN(IF(E20<=0,0,IF(E20<=12000,E20,IF(E20<=32000,ROUNDUP(E20/2,0)+6000,IF(E20<=56000,ROUNDUP(E20/4,0)+14000,28000))))+IF(F20<=0,0,IF(F20<=15000,F20,IF(F20<=40000,ROUNDUP(F20/2,0)+7500,IF(F20<=70000,ROUNDUP(F20/4,0)+17500,35000)))),28000)))) | T20: =IF(G20<=0,0,IF(G20<=12000,G20,IF(G20<=32000,ROUNDUP(G20/2,0)+6000,IF(G20<=56000,ROUNDUP(G20/4,0)+14000,28000)))) | U20: =IF(I20<=0,IF(H20<=0,0,IF(H20<=12000,H20,IF(H20<=32000,ROUNDUP(H20/2,0)+6000,IF(H20<=56000,ROUNDUP(H20/4,0)+14000,28000)))),IF(H20<=0,IF(I20<=0,0,IF(I20<=15000,I20,IF(I20<=40000,ROUNDUP(I20/2,0)+7500,IF(I20<=70000,ROUNDUP(I20/4,0)+17500,35000)))),MAX(IF(I20<=0,0,IF(I20<=15000,I20,IF(I20<=40000,ROUNDUP(I20/2,0)+7500,IF(I20<=70000,ROUNDUP(I20/4,0)+17500,35000)))),MIN(IF(H20<=0,0,IF(H20<=12000,H20,IF(H20<=32000,ROUNDUP(H20/2,0)+6000,IF(H20<=56000,ROUNDUP(H20/4,0)+14000,28000))))+IF(I20<=0,0,IF(I20<=15000,I20,IF(I20<=40000,ROUNDUP(I20/2,0)+7500,IF(I20<=70000,ROUNDUP(I20/4,0)+17500,35000)))),28000)))) | V20: =MIN(70000,S20+T20+U20) | W20: =MAX(0,ROUNDDOWN(M20-J20-N20-K20-0,-3)) | X20: =MAX(0,ROUNDDOWN(M20-J20-N20-K20-R20,-3)) | Y20: =IF(W20<=0,0,ROUNDDOWN((W20*LOOKUP(W20,{0,1950001,3300001,6950001,9000001,18000001,40000001},{0.05,0.1,0.2,0.23,0.33,0.4,0.45})-LOOKUP(W20,{0,1950001,3300001,6950001,9000001,18000001,40000001},{0,97500,427500,636000,1536000,2796000,4796000}))*1.021,-2)) | Z20: =IF(X20<=0,0,ROUNDDOWN((X20*LOOKUP(X20,{0,1950001,3300001,6950001,9000001,18000001,40000001},{0.05,0.1,0.2,0.23,0.33,0.4,0.45})-LOOKUP(X20,{0,1950001,3300001,6950001,9000001,18000001,40000001},{0,97500,427500,636000,1536000,2796000,4796000}))*1.021,-2)) | AA20: =MAX(0,ROUNDDOWN(M20-J20-430000-L20-0,-3)) | AB20: =MAX(0,ROUNDDOWN(M20-J20-430000-L20-V20,-3)) | AC20: =IF(M20<=450000,0,MAX(0,ROUNDDOWN(AA20*0.06-MIN(50000,AA20)*0.03,-2))+MAX(0,ROUNDDOWN(AA20*0.04-MIN(50000,AA20)*0.02,-2))) | AD20: =IF(M20<=450000,0,MAX(0,ROUNDDOWN(AB20*0.06-MIN(50000,AB20)*0.03,-2))+MAX(0,ROUNDDOWN(AB20*0.04-MIN(50000,AB20)*0.02,-2))) | AE20: =Y20-Z20 | AF20: =AC20-AD20 | AG20: =AE20+AF20 | AH20: =IF(W20<=0,0,LOOKUP(W20,{0,1950001,3300001,6950001,9000001,18000001,40000001},{0.05,0.1,0.2,0.23,0.33,0.4,0.45}))
A21: 早見表 一般8万円 | B21: ='3_早見表'!$A$6 | C21: 2026 | D21: いいえ | E21: 80000 | F21: 0 | G21: 0 | H21: 0 | I21: 0 | J21: =ROUND(MIN(B21/12,650000)*12*0.0915+MIN(B21/12,1390000)*12*(0.0504+0)+B21*0.005,0) | K21: 0 | L21: 0 | M21: =ROUND(IF(C21>=2026,IF(B21<741000,0,IF(B21<2191000,B21-740000,IF(B21<2193000,1451000,IF(B21<2196000,1453000,IF(B21<2200000,1456000,IF(B21<3600000,ROUNDDOWN(B21/4,-3)*2.8-80000,IF(B21<6600000,ROUNDDOWN(B21/4,-3)*3.2-440000,IF(B21<8500000,ROUNDDOWN(B21*0.9,0)-1100000,B21-1950000)))))))),IF(B21<651000,0,IF(B21<1900000,B21-650000,IF(B21<3600000,ROUNDDOWN(B21/4,-3)*2.8-80000,IF(B21<6600000,ROUNDDOWN(B21/4,-3)*3.2-440000,IF(B21<8500000,ROUNDDOWN(B21*0.9,0)-1100000,B21-1950000)))))),0) | N21: =IF(M21>23500000,NA(),IF(C21>=2026,IF(M21<=4890000,1040000,IF(M21<=6550000,670000,620000)),IF(M21<=1320000,950000,IF(M21<=3360000,880000,IF(M21<=4890000,680000,IF(M21<=6550000,630000,580000)))))) | O21: =IF(F21<=0,IF(AND(D21="はい",C21>=2026,C21<=2027),IF(E21<=0,0,IF(E21<=30000,E21,IF(E21<=60000,ROUNDUP(E21/2,0)+15000,IF(E21<=120000,ROUNDUP(E21/4,0)+30000,60000)))),IF(E21<=0,0,IF(E21<=20000,E21,IF(E21<=40000,ROUNDUP(E21/2,0)+10000,IF(E21<=80000,ROUNDUP(E21/4,0)+20000,40000))))),IF(E21<=0,IF(F21<=0,0,IF(F21<=25000,F21,IF(F21<=50000,ROUNDUP(F21/2,0)+12500,IF(F21<=100000,ROUNDUP(F21/4,0)+25000,50000)))),MAX(IF(F21<=0,0,IF(F21<=25000,F21,IF(F21<=50000,ROUNDUP(F21/2,0)+12500,IF(F21<=100000,ROUNDUP(F21/4,0)+25000,50000)))),MIN(IF(AND(D21="はい",C21>=2026,C21<=2027),IF(E21<=0,0,IF(E21<=30000,E21,IF(E21<=60000,ROUNDUP(E21/2,0)+15000,IF(E21<=120000,ROUNDUP(E21/4,0)+30000,60000)))),IF(E21<=0,0,IF(E21<=20000,E21,IF(E21<=40000,ROUNDUP(E21/2,0)+10000,IF(E21<=80000,ROUNDUP(E21/4,0)+20000,40000)))))+IF(F21<=0,0,IF(F21<=25000,F21,IF(F21<=50000,ROUNDUP(F21/2,0)+12500,IF(F21<=100000,ROUNDUP(F21/4,0)+25000,50000)))),IF(AND(D21="はい",C21>=2026,C21<=2027),60000,40000))))) | P21: =IF(G21<=0,0,IF(G21<=20000,G21,IF(G21<=40000,ROUNDUP(G21/2,0)+10000,IF(G21<=80000,ROUNDUP(G21/4,0)+20000,40000)))) | Q21: =IF(I21<=0,IF(H21<=0,0,IF(H21<=20000,H21,IF(H21<=40000,ROUNDUP(H21/2,0)+10000,IF(H21<=80000,ROUNDUP(H21/4,0)+20000,40000)))),IF(H21<=0,IF(I21<=0,0,IF(I21<=25000,I21,IF(I21<=50000,ROUNDUP(I21/2,0)+12500,IF(I21<=100000,ROUNDUP(I21/4,0)+25000,50000)))),MAX(IF(I21<=0,0,IF(I21<=25000,I21,IF(I21<=50000,ROUNDUP(I21/2,0)+12500,IF(I21<=100000,ROUNDUP(I21/4,0)+25000,50000)))),MIN(IF(H21<=0,0,IF(H21<=20000,H21,IF(H21<=40000,ROUNDUP(H21/2,0)+10000,IF(H21<=80000,ROUNDUP(H21/4,0)+20000,40000))))+IF(I21<=0,0,IF(I21<=25000,I21,IF(I21<=50000,ROUNDUP(I21/2,0)+12500,IF(I21<=100000,ROUNDUP(I21/4,0)+25000,50000)))),40000)))) | R21: =MIN(120000,O21+P21+Q21) | S21: =IF(F21<=0,IF(E21<=0,0,IF(E21<=12000,E21,IF(E21<=32000,ROUNDUP(E21/2,0)+6000,IF(E21<=56000,ROUNDUP(E21/4,0)+14000,28000)))),IF(E21<=0,IF(F21<=0,0,IF(F21<=15000,F21,IF(F21<=40000,ROUNDUP(F21/2,0)+7500,IF(F21<=70000,ROUNDUP(F21/4,0)+17500,35000)))),MAX(IF(F21<=0,0,IF(F21<=15000,F21,IF(F21<=40000,ROUNDUP(F21/2,0)+7500,IF(F21<=70000,ROUNDUP(F21/4,0)+17500,35000)))),MIN(IF(E21<=0,0,IF(E21<=12000,E21,IF(E21<=32000,ROUNDUP(E21/2,0)+6000,IF(E21<=56000,ROUNDUP(E21/4,0)+14000,28000))))+IF(F21<=0,0,IF(F21<=15000,F21,IF(F21<=40000,ROUNDUP(F21/2,0)+7500,IF(F21<=70000,ROUNDUP(F21/4,0)+17500,35000)))),28000)))) | T21: =IF(G21<=0,0,IF(G21<=12000,G21,IF(G21<=32000,ROUNDUP(G21/2,0)+6000,IF(G21<=56000,ROUNDUP(G21/4,0)+14000,28000)))) | U21: =IF(I21<=0,IF(H21<=0,0,IF(H21<=12000,H21,IF(H21<=32000,ROUNDUP(H21/2,0)+6000,IF(H21<=56000,ROUNDUP(H21/4,0)+14000,28000)))),IF(H21<=0,IF(I21<=0,0,IF(I21<=15000,I21,IF(I21<=40000,ROUNDUP(I21/2,0)+7500,IF(I21<=70000,ROUNDUP(I21/4,0)+17500,35000)))),MAX(IF(I21<=0,0,IF(I21<=15000,I21,IF(I21<=40000,ROUNDUP(I21/2,0)+7500,IF(I21<=70000,ROUNDUP(I21/4,0)+17500,35000)))),MIN(IF(H21<=0,0,IF(H21<=12000,H21,IF(H21<=32000,ROUNDUP(H21/2,0)+6000,IF(H21<=56000,ROUNDUP(H21/4,0)+14000,28000))))+IF(I21<=0,0,IF(I21<=15000,I21,IF(I21<=40000,ROUNDUP(I21/2,0)+7500,IF(I21<=70000,ROUNDUP(I21/4,0)+17500,35000)))),28000)))) | V21: =MIN(70000,S21+T21+U21) | W21: =MAX(0,ROUNDDOWN(M21-J21-N21-K21-0,-3)) | X21: =MAX(0,ROUNDDOWN(M21-J21-N21-K21-R21,-3)) | Y21: =IF(W21<=0,0,ROUNDDOWN((W21*LOOKUP(W21,{0,1950001,3300001,6950001,9000001,18000001,40000001},{0.05,0.1,0.2,0.23,0.33,0.4,0.45})-LOOKUP(W21,{0,1950001,3300001,6950001,9000001,18000001,40000001},{0,97500,427500,636000,1536000,2796000,4796000}))*1.021,-2)) | Z21: =IF(X21<=0,0,ROUNDDOWN((X21*LOOKUP(X21,{0,1950001,3300001,6950001,9000001,18000001,40000001},{0.05,0.1,0.2,0.23,0.33,0.4,0.45})-LOOKUP(X21,{0,1950001,3300001,6950001,9000001,18000001,40000001},{0,97500,427500,636000,1536000,2796000,4796000}))*1.021,-2)) | AA21: =MAX(0,ROUNDDOWN(M21-J21-430000-L21-0,-3)) | AB21: =MAX(0,ROUNDDOWN(M21-J21-430000-L21-V21,-3)) | AC21: =IF(M21<=450000,0,MAX(0,ROUNDDOWN(AA21*0.06-MIN(50000,AA21)*0.03,-2))+MAX(0,ROUNDDOWN(AA21*0.04-MIN(50000,AA21)*0.02,-2))) | AD21: =IF(M21<=450000,0,MAX(0,ROUNDDOWN(AB21*0.06-MIN(50000,AB21)*0.03,-2))+MAX(0,ROUNDDOWN(AB21*0.04-MIN(50000,AB21)*0.02,-2))) | AE21: =Y21-Z21 | AF21: =AC21-AD21 | AG21: =AE21+AF21 | AH21: =IF(W21<=0,0,LOOKUP(W21,{0,1950001,3300001,6950001,9000001,18000001,40000001},{0.05,0.1,0.2,0.23,0.33,0.4,0.45}))
A22: 早見表 一般と介護医療8万円ずつ | B22: ='3_早見表'!$A$6 | C22: 2026 | D22: いいえ | E22: 80000 | F22: 0 | G22: 80000 | H22: 0 | I22: 0 | J22: =ROUND(MIN(B22/12,650000)*12*0.0915+MIN(B22/12,1390000)*12*(0.0504+0)+B22*0.005,0) | K22: 0 | L22: 0 | M22: =ROUND(IF(C22>=2026,IF(B22<741000,0,IF(B22<2191000,B22-740000,IF(B22<2193000,1451000,IF(B22<2196000,1453000,IF(B22<2200000,1456000,IF(B22<3600000,ROUNDDOWN(B22/4,-3)*2.8-80000,IF(B22<6600000,ROUNDDOWN(B22/4,-3)*3.2-440000,IF(B22<8500000,ROUNDDOWN(B22*0.9,0)-1100000,B22-1950000)))))))),IF(B22<651000,0,IF(B22<1900000,B22-650000,IF(B22<3600000,ROUNDDOWN(B22/4,-3)*2.8-80000,IF(B22<6600000,ROUNDDOWN(B22/4,-3)*3.2-440000,IF(B22<8500000,ROUNDDOWN(B22*0.9,0)-1100000,B22-1950000)))))),0) | N22: =IF(M22>23500000,NA(),IF(C22>=2026,IF(M22<=4890000,1040000,IF(M22<=6550000,670000,620000)),IF(M22<=1320000,950000,IF(M22<=3360000,880000,IF(M22<=4890000,680000,IF(M22<=6550000,630000,580000)))))) | O22: =IF(F22<=0,IF(AND(D22="はい",C22>=2026,C22<=2027),IF(E22<=0,0,IF(E22<=30000,E22,IF(E22<=60000,ROUNDUP(E22/2,0)+15000,IF(E22<=120000,ROUNDUP(E22/4,0)+30000,60000)))),IF(E22<=0,0,IF(E22<=20000,E22,IF(E22<=40000,ROUNDUP(E22/2,0)+10000,IF(E22<=80000,ROUNDUP(E22/4,0)+20000,40000))))),IF(E22<=0,IF(F22<=0,0,IF(F22<=25000,F22,IF(F22<=50000,ROUNDUP(F22/2,0)+12500,IF(F22<=100000,ROUNDUP(F22/4,0)+25000,50000)))),MAX(IF(F22<=0,0,IF(F22<=25000,F22,IF(F22<=50000,ROUNDUP(F22/2,0)+12500,IF(F22<=100000,ROUNDUP(F22/4,0)+25000,50000)))),MIN(IF(AND(D22="はい",C22>=2026,C22<=2027),IF(E22<=0,0,IF(E22<=30000,E22,IF(E22<=60000,ROUNDUP(E22/2,0)+15000,IF(E22<=120000,ROUNDUP(E22/4,0)+30000,60000)))),IF(E22<=0,0,IF(E22<=20000,E22,IF(E22<=40000,ROUNDUP(E22/2,0)+10000,IF(E22<=80000,ROUNDUP(E22/4,0)+20000,40000)))))+IF(F22<=0,0,IF(F22<=25000,F22,IF(F22<=50000,ROUNDUP(F22/2,0)+12500,IF(F22<=100000,ROUNDUP(F22/4,0)+25000,50000)))),IF(AND(D22="はい",C22>=2026,C22<=2027),60000,40000))))) | P22: =IF(G22<=0,0,IF(G22<=20000,G22,IF(G22<=40000,ROUNDUP(G22/2,0)+10000,IF(G22<=80000,ROUNDUP(G22/4,0)+20000,40000)))) | Q22: =IF(I22<=0,IF(H22<=0,0,IF(H22<=20000,H22,IF(H22<=40000,ROUNDUP(H22/2,0)+10000,IF(H22<=80000,ROUNDUP(H22/4,0)+20000,40000)))),IF(H22<=0,IF(I22<=0,0,IF(I22<=25000,I22,IF(I22<=50000,ROUNDUP(I22/2,0)+12500,IF(I22<=100000,ROUNDUP(I22/4,0)+25000,50000)))),MAX(IF(I22<=0,0,IF(I22<=25000,I22,IF(I22<=50000,ROUNDUP(I22/2,0)+12500,IF(I22<=100000,ROUNDUP(I22/4,0)+25000,50000)))),MIN(IF(H22<=0,0,IF(H22<=20000,H22,IF(H22<=40000,ROUNDUP(H22/2,0)+10000,IF(H22<=80000,ROUNDUP(H22/4,0)+20000,40000))))+IF(I22<=0,0,IF(I22<=25000,I22,IF(I22<=50000,ROUNDUP(I22/2,0)+12500,IF(I22<=100000,ROUNDUP(I22/4,0)+25000,50000)))),40000)))) | R22: =MIN(120000,O22+P22+Q22) | S22: =IF(F22<=0,IF(E22<=0,0,IF(E22<=12000,E22,IF(E22<=32000,ROUNDUP(E22/2,0)+6000,IF(E22<=56000,ROUNDUP(E22/4,0)+14000,28000)))),IF(E22<=0,IF(F22<=0,0,IF(F22<=15000,F22,IF(F22<=40000,ROUNDUP(F22/2,0)+7500,IF(F22<=70000,ROUNDUP(F22/4,0)+17500,35000)))),MAX(IF(F22<=0,0,IF(F22<=15000,F22,IF(F22<=40000,ROUNDUP(F22/2,0)+7500,IF(F22<=70000,ROUNDUP(F22/4,0)+17500,35000)))),MIN(IF(E22<=0,0,IF(E22<=12000,E22,IF(E22<=32000,ROUNDUP(E22/2,0)+6000,IF(E22<=56000,ROUNDUP(E22/4,0)+14000,28000))))+IF(F22<=0,0,IF(F22<=15000,F22,IF(F22<=40000,ROUNDUP(F22/2,0)+7500,IF(F22<=70000,ROUNDUP(F22/4,0)+17500,35000)))),28000)))) | T22: =IF(G22<=0,0,IF(G22<=12000,G22,IF(G22<=32000,ROUNDUP(G22/2,0)+6000,IF(G22<=56000,ROUNDUP(G22/4,0)+14000,28000)))) | U22: =IF(I22<=0,IF(H22<=0,0,IF(H22<=12000,H22,IF(H22<=32000,ROUNDUP(H22/2,0)+6000,IF(H22<=56000,ROUNDUP(H22/4,0)+14000,28000)))),IF(H22<=0,IF(I22<=0,0,IF(I22<=15000,I22,IF(I22<=40000,ROUNDUP(I22/2,0)+7500,IF(I22<=70000,ROUNDUP(I22/4,0)+17500,35000)))),MAX(IF(I22<=0,0,IF(I22<=15000,I22,IF(I22<=40000,ROUNDUP(I22/2,0)+7500,IF(I22<=70000,ROUNDUP(I22/4,0)+17500,35000)))),MIN(IF(H22<=0,0,IF(H22<=12000,H22,IF(H22<=32000,ROUNDUP(H22/2,0)+6000,IF(H22<=56000,ROUNDUP(H22/4,0)+14000,28000))))+IF(I22<=0,0,IF(I22<=15000,I22,IF(I22<=40000,ROUNDUP(I22/2,0)+7500,IF(I22<=70000,ROUNDUP(I22/4,0)+17500,35000)))),28000)))) | V22: =MIN(70000,S22+T22+U22) | W22: =MAX(0,ROUNDDOWN(M22-J22-N22-K22-0,-3)) | X22: =MAX(0,ROUNDDOWN(M22-J22-N22-K22-R22,-3)) | Y22: =IF(W22<=0,0,ROUNDDOWN((W22*LOOKUP(W22,{0,1950001,3300001,6950001,9000001,18000001,40000001},{0.05,0.1,0.2,0.23,0.33,0.4,0.45})-LOOKUP(W22,{0,1950001,3300001,6950001,9000001,18000001,40000001},{0,97500,427500,636000,1536000,2796000,4796000}))*1.021,-2)) | Z22: =IF(X22<=0,0,ROUNDDOWN((X22*LOOKUP(X22,{0,1950001,3300001,6950001,9000001,18000001,40000001},{0.05,0.1,0.2,0.23,0.33,0.4,0.45})-LOOKUP(X22,{0,1950001,3300001,6950001,9000001,18000001,40000001},{0,97500,427500,636000,1536000,2796000,4796000}))*1.021,-2)) | AA22: =MAX(0,ROUNDDOWN(M22-J22-430000-L22-0,-3)) | AB22: =MAX(0,ROUNDDOWN(M22-J22-430000-L22-V22,-3)) | AC22: =IF(M22<=450000,0,MAX(0,ROUNDDOWN(AA22*0.06-MIN(50000,AA22)*0.03,-2))+MAX(0,ROUNDDOWN(AA22*0.04-MIN(50000,AA22)*0.02,-2))) | AD22: =IF(M22<=450000,0,MAX(0,ROUNDDOWN(AB22*0.06-MIN(50000,AB22)*0.03,-2))+MAX(0,ROUNDDOWN(AB22*0.04-MIN(50000,AB22)*0.02,-2))) | AE22: =Y22-Z22 | AF22: =AC22-AD22 | AG22: =AE22+AF22 | AH22: =IF(W22<=0,0,LOOKUP(W22,{0,1950001,3300001,6950001,9000001,18000001,40000001},{0.05,0.1,0.2,0.23,0.33,0.4,0.45}))
A23: 早見表 3区分8万円ずつ（年24万円） | B23: ='3_早見表'!$A$6 | C23: 2026 | D23: いいえ | E23: 80000 | F23: 0 | G23: 80000 | H23: 80000 | I23: 0 | J23: =ROUND(MIN(B23/12,650000)*12*0.0915+MIN(B23/12,1390000)*12*(0.0504+0)+B23*0.005,0) | K23: 0 | L23: 0 | M23: =ROUND(IF(C23>=2026,IF(B23<741000,0,IF(B23<2191000,B23-740000,IF(B23<2193000,1451000,IF(B23<2196000,1453000,IF(B23<2200000,1456000,IF(B23<3600000,ROUNDDOWN(B23/4,-3)*2.8-80000,IF(B23<6600000,ROUNDDOWN(B23/4,-3)*3.2-440000,IF(B23<8500000,ROUNDDOWN(B23*0.9,0)-1100000,B23-1950000)))))))),IF(B23<651000,0,IF(B23<1900000,B23-650000,IF(B23<3600000,ROUNDDOWN(B23/4,-3)*2.8-80000,IF(B23<6600000,ROUNDDOWN(B23/4,-3)*3.2-440000,IF(B23<8500000,ROUNDDOWN(B23*0.9,0)-1100000,B23-1950000)))))),0) | N23: =IF(M23>23500000,NA(),IF(C23>=2026,IF(M23<=4890000,1040000,IF(M23<=6550000,670000,620000)),IF(M23<=1320000,950000,IF(M23<=3360000,880000,IF(M23<=4890000,680000,IF(M23<=6550000,630000,580000)))))) | O23: =IF(F23<=0,IF(AND(D23="はい",C23>=2026,C23<=2027),IF(E23<=0,0,IF(E23<=30000,E23,IF(E23<=60000,ROUNDUP(E23/2,0)+15000,IF(E23<=120000,ROUNDUP(E23/4,0)+30000,60000)))),IF(E23<=0,0,IF(E23<=20000,E23,IF(E23<=40000,ROUNDUP(E23/2,0)+10000,IF(E23<=80000,ROUNDUP(E23/4,0)+20000,40000))))),IF(E23<=0,IF(F23<=0,0,IF(F23<=25000,F23,IF(F23<=50000,ROUNDUP(F23/2,0)+12500,IF(F23<=100000,ROUNDUP(F23/4,0)+25000,50000)))),MAX(IF(F23<=0,0,IF(F23<=25000,F23,IF(F23<=50000,ROUNDUP(F23/2,0)+12500,IF(F23<=100000,ROUNDUP(F23/4,0)+25000,50000)))),MIN(IF(AND(D23="はい",C23>=2026,C23<=2027),IF(E23<=0,0,IF(E23<=30000,E23,IF(E23<=60000,ROUNDUP(E23/2,0)+15000,IF(E23<=120000,ROUNDUP(E23/4,0)+30000,60000)))),IF(E23<=0,0,IF(E23<=20000,E23,IF(E23<=40000,ROUNDUP(E23/2,0)+10000,IF(E23<=80000,ROUNDUP(E23/4,0)+20000,40000)))))+IF(F23<=0,0,IF(F23<=25000,F23,IF(F23<=50000,ROUNDUP(F23/2,0)+12500,IF(F23<=100000,ROUNDUP(F23/4,0)+25000,50000)))),IF(AND(D23="はい",C23>=2026,C23<=2027),60000,40000))))) | P23: =IF(G23<=0,0,IF(G23<=20000,G23,IF(G23<=40000,ROUNDUP(G23/2,0)+10000,IF(G23<=80000,ROUNDUP(G23/4,0)+20000,40000)))) | Q23: =IF(I23<=0,IF(H23<=0,0,IF(H23<=20000,H23,IF(H23<=40000,ROUNDUP(H23/2,0)+10000,IF(H23<=80000,ROUNDUP(H23/4,0)+20000,40000)))),IF(H23<=0,IF(I23<=0,0,IF(I23<=25000,I23,IF(I23<=50000,ROUNDUP(I23/2,0)+12500,IF(I23<=100000,ROUNDUP(I23/4,0)+25000,50000)))),MAX(IF(I23<=0,0,IF(I23<=25000,I23,IF(I23<=50000,ROUNDUP(I23/2,0)+12500,IF(I23<=100000,ROUNDUP(I23/4,0)+25000,50000)))),MIN(IF(H23<=0,0,IF(H23<=20000,H23,IF(H23<=40000,ROUNDUP(H23/2,0)+10000,IF(H23<=80000,ROUNDUP(H23/4,0)+20000,40000))))+IF(I23<=0,0,IF(I23<=25000,I23,IF(I23<=50000,ROUNDUP(I23/2,0)+12500,IF(I23<=100000,ROUNDUP(I23/4,0)+25000,50000)))),40000)))) | R23: =MIN(120000,O23+P23+Q23) | S23: =IF(F23<=0,IF(E23<=0,0,IF(E23<=12000,E23,IF(E23<=32000,ROUNDUP(E23/2,0)+6000,IF(E23<=56000,ROUNDUP(E23/4,0)+14000,28000)))),IF(E23<=0,IF(F23<=0,0,IF(F23<=15000,F23,IF(F23<=40000,ROUNDUP(F23/2,0)+7500,IF(F23<=70000,ROUNDUP(F23/4,0)+17500,35000)))),MAX(IF(F23<=0,0,IF(F23<=15000,F23,IF(F23<=40000,ROUNDUP(F23/2,0)+7500,IF(F23<=70000,ROUNDUP(F23/4,0)+17500,35000)))),MIN(IF(E23<=0,0,IF(E23<=12000,E23,IF(E23<=32000,ROUNDUP(E23/2,0)+6000,IF(E23<=56000,ROUNDUP(E23/4,0)+14000,28000))))+IF(F23<=0,0,IF(F23<=15000,F23,IF(F23<=40000,ROUNDUP(F23/2,0)+7500,IF(F23<=70000,ROUNDUP(F23/4,0)+17500,35000)))),28000)))) | T23: =IF(G23<=0,0,IF(G23<=12000,G23,IF(G23<=32000,ROUNDUP(G23/2,0)+6000,IF(G23<=56000,ROUNDUP(G23/4,0)+14000,28000)))) | U23: =IF(I23<=0,IF(H23<=0,0,IF(H23<=12000,H23,IF(H23<=32000,ROUNDUP(H23/2,0)+6000,IF(H23<=56000,ROUNDUP(H23/4,0)+14000,28000)))),IF(H23<=0,IF(I23<=0,0,IF(I23<=15000,I23,IF(I23<=40000,ROUNDUP(I23/2,0)+7500,IF(I23<=70000,ROUNDUP(I23/4,0)+17500,35000)))),MAX(IF(I23<=0,0,IF(I23<=15000,I23,IF(I23<=40000,ROUNDUP(I23/2,0)+7500,IF(I23<=70000,ROUNDUP(I23/4,0)+17500,35000)))),MIN(IF(H23<=0,0,IF(H23<=12000,H23,IF(H23<=32000,ROUNDUP(H23/2,0)+6000,IF(H23<=56000,ROUNDUP(H23/4,0)+14000,28000))))+IF(I23<=0,0,IF(I23<=15000,I23,IF(I23<=40000,ROUNDUP(I23/2,0)+7500,IF(I23<=70000,ROUNDUP(I23/4,0)+17500,35000)))),28000)))) | V23: =MIN(70000,S23+T23+U23) | W23: =MAX(0,ROUNDDOWN(M23-J23-N23-K23-0,-3)) | X23: =MAX(0,ROUNDDOWN(M23-J23-N23-K23-R23,-3)) | Y23: =IF(W23<=0,0,ROUNDDOWN((W23*LOOKUP(W23,{0,1950001,3300001,6950001,9000001,18000001,40000001},{0.05,0.1,0.2,0.23,0.33,0.4,0.45})-LOOKUP(W23,{0,1950001,3300001,6950001,9000001,18000001,40000001},{0,97500,427500,636000,1536000,2796000,4796000}))*1.021,-2)) | Z23: =IF(X23<=0,0,ROUNDDOWN((X23*LOOKUP(X23,{0,1950001,3300001,6950001,9000001,18000001,40000001},{0.05,0.1,0.2,0.23,0.33,0.4,0.45})-LOOKUP(X23,{0,1950001,3300001,6950001,9000001,18000001,40000001},{0,97500,427500,636000,1536000,2796000,4796000}))*1.021,-2)) | AA23: =MAX(0,ROUNDDOWN(M23-J23-430000-L23-0,-3)) | AB23: =MAX(0,ROUNDDOWN(M23-J23-430000-L23-V23,-3)) | AC23: =IF(M23<=450000,0,MAX(0,ROUNDDOWN(AA23*0.06-MIN(50000,AA23)*0.03,-2))+MAX(0,ROUNDDOWN(AA23*0.04-MIN(50000,AA23)*0.02,-2))) | AD23: =IF(M23<=450000,0,MAX(0,ROUNDDOWN(AB23*0.06-MIN(50000,AB23)*0.03,-2))+MAX(0,ROUNDDOWN(AB23*0.04-MIN(50000,AB23)*0.02,-2))) | AE23: =Y23-Z23 | AF23: =AC23-AD23 | AG23: =AE23+AF23 | AH23: =IF(W23<=0,0,LOOKUP(W23,{0,1950001,3300001,6950001,9000001,18000001,40000001},{0.05,0.1,0.2,0.23,0.33,0.4,0.45}))
A24: 早見表 特例あり 一般8万円 | B24: ='3_早見表'!$A$6 | C24: 2026 | D24: はい | E24: 80000 | F24: 0 | G24: 0 | H24: 0 | I24: 0 | J24: =ROUND(MIN(B24/12,650000)*12*0.0915+MIN(B24/12,1390000)*12*(0.0504+0)+B24*0.005,0) | K24: 0 | L24: 0 | M24: =ROUND(IF(C24>=2026,IF(B24<741000,0,IF(B24<2191000,B24-740000,IF(B24<2193000,1451000,IF(B24<2196000,1453000,IF(B24<2200000,1456000,IF(B24<3600000,ROUNDDOWN(B24/4,-3)*2.8-80000,IF(B24<6600000,ROUNDDOWN(B24/4,-3)*3.2-440000,IF(B24<8500000,ROUNDDOWN(B24*0.9,0)-1100000,B24-1950000)))))))),IF(B24<651000,0,IF(B24<1900000,B24-650000,IF(B24<3600000,ROUNDDOWN(B24/4,-3)*2.8-80000,IF(B24<6600000,ROUNDDOWN(B24/4,-3)*3.2-440000,IF(B24<8500000,ROUNDDOWN(B24*0.9,0)-1100000,B24-1950000)))))),0) | N24: =IF(M24>23500000,NA(),IF(C24>=2026,IF(M24<=4890000,1040000,IF(M24<=6550000,670000,620000)),IF(M24<=1320000,950000,IF(M24<=3360000,880000,IF(M24<=4890000,680000,IF(M24<=6550000,630000,580000)))))) | O24: =IF(F24<=0,IF(AND(D24="はい",C24>=2026,C24<=2027),IF(E24<=0,0,IF(E24<=30000,E24,IF(E24<=60000,ROUNDUP(E24/2,0)+15000,IF(E24<=120000,ROUNDUP(E24/4,0)+30000,60000)))),IF(E24<=0,0,IF(E24<=20000,E24,IF(E24<=40000,ROUNDUP(E24/2,0)+10000,IF(E24<=80000,ROUNDUP(E24/4,0)+20000,40000))))),IF(E24<=0,IF(F24<=0,0,IF(F24<=25000,F24,IF(F24<=50000,ROUNDUP(F24/2,0)+12500,IF(F24<=100000,ROUNDUP(F24/4,0)+25000,50000)))),MAX(IF(F24<=0,0,IF(F24<=25000,F24,IF(F24<=50000,ROUNDUP(F24/2,0)+12500,IF(F24<=100000,ROUNDUP(F24/4,0)+25000,50000)))),MIN(IF(AND(D24="はい",C24>=2026,C24<=2027),IF(E24<=0,0,IF(E24<=30000,E24,IF(E24<=60000,ROUNDUP(E24/2,0)+15000,IF(E24<=120000,ROUNDUP(E24/4,0)+30000,60000)))),IF(E24<=0,0,IF(E24<=20000,E24,IF(E24<=40000,ROUNDUP(E24/2,0)+10000,IF(E24<=80000,ROUNDUP(E24/4,0)+20000,40000)))))+IF(F24<=0,0,IF(F24<=25000,F24,IF(F24<=50000,ROUNDUP(F24/2,0)+12500,IF(F24<=100000,ROUNDUP(F24/4,0)+25000,50000)))),IF(AND(D24="はい",C24>=2026,C24<=2027),60000,40000))))) | P24: =IF(G24<=0,0,IF(G24<=20000,G24,IF(G24<=40000,ROUNDUP(G24/2,0)+10000,IF(G24<=80000,ROUNDUP(G24/4,0)+20000,40000)))) | Q24: =IF(I24<=0,IF(H24<=0,0,IF(H24<=20000,H24,IF(H24<=40000,ROUNDUP(H24/2,0)+10000,IF(H24<=80000,ROUNDUP(H24/4,0)+20000,40000)))),IF(H24<=0,IF(I24<=0,0,IF(I24<=25000,I24,IF(I24<=50000,ROUNDUP(I24/2,0)+12500,IF(I24<=100000,ROUNDUP(I24/4,0)+25000,50000)))),MAX(IF(I24<=0,0,IF(I24<=25000,I24,IF(I24<=50000,ROUNDUP(I24/2,0)+12500,IF(I24<=100000,ROUNDUP(I24/4,0)+25000,50000)))),MIN(IF(H24<=0,0,IF(H24<=20000,H24,IF(H24<=40000,ROUNDUP(H24/2,0)+10000,IF(H24<=80000,ROUNDUP(H24/4,0)+20000,40000))))+IF(I24<=0,0,IF(I24<=25000,I24,IF(I24<=50000,ROUNDUP(I24/2,0)+12500,IF(I24<=100000,ROUNDUP(I24/4,0)+25000,50000)))),40000)))) | R24: =MIN(120000,O24+P24+Q24) | S24: =IF(F24<=0,IF(E24<=0,0,IF(E24<=12000,E24,IF(E24<=32000,ROUNDUP(E24/2,0)+6000,IF(E24<=56000,ROUNDUP(E24/4,0)+14000,28000)))),IF(E24<=0,IF(F24<=0,0,IF(F24<=15000,F24,IF(F24<=40000,ROUNDUP(F24/2,0)+7500,IF(F24<=70000,ROUNDUP(F24/4,0)+17500,35000)))),MAX(IF(F24<=0,0,IF(F24<=15000,F24,IF(F24<=40000,ROUNDUP(F24/2,0)+7500,IF(F24<=70000,ROUNDUP(F24/4,0)+17500,35000)))),MIN(IF(E24<=0,0,IF(E24<=12000,E24,IF(E24<=32000,ROUNDUP(E24/2,0)+6000,IF(E24<=56000,ROUNDUP(E24/4,0)+14000,28000))))+IF(F24<=0,0,IF(F24<=15000,F24,IF(F24<=40000,ROUNDUP(F24/2,0)+7500,IF(F24<=70000,ROUNDUP(F24/4,0)+17500,35000)))),28000)))) | T24: =IF(G24<=0,0,IF(G24<=12000,G24,IF(G24<=32000,ROUNDUP(G24/2,0)+6000,IF(G24<=56000,ROUNDUP(G24/4,0)+14000,28000)))) | U24: =IF(I24<=0,IF(H24<=0,0,IF(H24<=12000,H24,IF(H24<=32000,ROUNDUP(H24/2,0)+6000,IF(H24<=56000,ROUNDUP(H24/4,0)+14000,28000)))),IF(H24<=0,IF(I24<=0,0,IF(I24<=15000,I24,IF(I24<=40000,ROUNDUP(I24/2,0)+7500,IF(I24<=70000,ROUNDUP(I24/4,0)+17500,35000)))),MAX(IF(I24<=0,0,IF(I24<=15000,I24,IF(I24<=40000,ROUNDUP(I24/2,0)+7500,IF(I24<=70000,ROUNDUP(I24/4,0)+17500,35000)))),MIN(IF(H24<=0,0,IF(H24<=12000,H24,IF(H24<=32000,ROUNDUP(H24/2,0)+6000,IF(H24<=56000,ROUNDUP(H24/4,0)+14000,28000))))+IF(I24<=0,0,IF(I24<=15000,I24,IF(I24<=40000,ROUNDUP(I24/2,0)+7500,IF(I24<=70000,ROUNDUP(I24/4,0)+17500,35000)))),28000)))) | V24: =MIN(70000,S24+T24+U24) | W24: =MAX(0,ROUNDDOWN(M24-J24-N24-K24-0,-3)) | X24: =MAX(0,ROUNDDOWN(M24-J24-N24-K24-R24,-3)) | Y24: =IF(W24<=0,0,ROUNDDOWN((W24*LOOKUP(W24,{0,1950001,3300001,6950001,9000001,18000001,40000001},{0.05,0.1,0.2,0.23,0.33,0.4,0.45})-LOOKUP(W24,{0,1950001,3300001,6950001,9000001,18000001,40000001},{0,97500,427500,636000,1536000,2796000,4796000}))*1.021,-2)) | Z24: =IF(X24<=0,0,ROUNDDOWN((X24*LOOKUP(X24,{0,1950001,3300001,6950001,9000001,18000001,40000001},{0.05,0.1,0.2,0.23,0.33,0.4,0.45})-LOOKUP(X24,{0,1950001,3300001,6950001,9000001,18000001,40000001},{0,97500,427500,636000,1536000,2796000,4796000}))*1.021,-2)) | AA24: =MAX(0,ROUNDDOWN(M24-J24-430000-L24-0,-3)) | AB24: =MAX(0,ROUNDDOWN(M24-J24-430000-L24-V24,-3)) | AC24: =IF(M24<=450000,0,MAX(0,ROUNDDOWN(AA24*0.06-MIN(50000,AA24)*0.03,-2))+MAX(0,ROUNDDOWN(AA24*0.04-MIN(50000,AA24)*0.02,-2))) | AD24: =IF(M24<=450000,0,MAX(0,ROUNDDOWN(AB24*0.06-MIN(50000,AB24)*0.03,-2))+MAX(0,ROUNDDOWN(AB24*0.04-MIN(50000,AB24)*0.02,-2))) | AE24: =Y24-Z24 | AF24: =AC24-AD24 | AG24: =AE24+AF24 | AH24: =IF(W24<=0,0,LOOKUP(W24,{0,1950001,3300001,6950001,9000001,18000001,40000001},{0.05,0.1,0.2,0.23,0.33,0.4,0.45}))
A25: 早見表 特例あり 一般12万円 | B25: ='3_早見表'!$A$6 | C25: 2026 | D25: はい | E25: 120000 | F25: 0 | G25: 0 | H25: 0 | I25: 0 | J25: =ROUND(MIN(B25/12,650000)*12*0.0915+MIN(B25/12,1390000)*12*(0.0504+0)+B25*0.005,0) | K25: 0 | L25: 0 | M25: =ROUND(IF(C25>=2026,IF(B25<741000,0,IF(B25<2191000,B25-740000,IF(B25<2193000,1451000,IF(B25<2196000,1453000,IF(B25<2200000,1456000,IF(B25<3600000,ROUNDDOWN(B25/4,-3)*2.8-80000,IF(B25<6600000,ROUNDDOWN(B25/4,-3)*3.2-440000,IF(B25<8500000,ROUNDDOWN(B25*0.9,0)-1100000,B25-1950000)))))))),IF(B25<651000,0,IF(B25<1900000,B25-650000,IF(B25<3600000,ROUNDDOWN(B25/4,-3)*2.8-80000,IF(B25<6600000,ROUNDDOWN(B25/4,-3)*3.2-440000,IF(B25<8500000,ROUNDDOWN(B25*0.9,0)-1100000,B25-1950000)))))),0) | N25: =IF(M25>23500000,NA(),IF(C25>=2026,IF(M25<=4890000,1040000,IF(M25<=6550000,670000,620000)),IF(M25<=1320000,950000,IF(M25<=3360000,880000,IF(M25<=4890000,680000,IF(M25<=6550000,630000,580000)))))) | O25: =IF(F25<=0,IF(AND(D25="はい",C25>=2026,C25<=2027),IF(E25<=0,0,IF(E25<=30000,E25,IF(E25<=60000,ROUNDUP(E25/2,0)+15000,IF(E25<=120000,ROUNDUP(E25/4,0)+30000,60000)))),IF(E25<=0,0,IF(E25<=20000,E25,IF(E25<=40000,ROUNDUP(E25/2,0)+10000,IF(E25<=80000,ROUNDUP(E25/4,0)+20000,40000))))),IF(E25<=0,IF(F25<=0,0,IF(F25<=25000,F25,IF(F25<=50000,ROUNDUP(F25/2,0)+12500,IF(F25<=100000,ROUNDUP(F25/4,0)+25000,50000)))),MAX(IF(F25<=0,0,IF(F25<=25000,F25,IF(F25<=50000,ROUNDUP(F25/2,0)+12500,IF(F25<=100000,ROUNDUP(F25/4,0)+25000,50000)))),MIN(IF(AND(D25="はい",C25>=2026,C25<=2027),IF(E25<=0,0,IF(E25<=30000,E25,IF(E25<=60000,ROUNDUP(E25/2,0)+15000,IF(E25<=120000,ROUNDUP(E25/4,0)+30000,60000)))),IF(E25<=0,0,IF(E25<=20000,E25,IF(E25<=40000,ROUNDUP(E25/2,0)+10000,IF(E25<=80000,ROUNDUP(E25/4,0)+20000,40000)))))+IF(F25<=0,0,IF(F25<=25000,F25,IF(F25<=50000,ROUNDUP(F25/2,0)+12500,IF(F25<=100000,ROUNDUP(F25/4,0)+25000,50000)))),IF(AND(D25="はい",C25>=2026,C25<=2027),60000,40000))))) | P25: =IF(G25<=0,0,IF(G25<=20000,G25,IF(G25<=40000,ROUNDUP(G25/2,0)+10000,IF(G25<=80000,ROUNDUP(G25/4,0)+20000,40000)))) | Q25: =IF(I25<=0,IF(H25<=0,0,IF(H25<=20000,H25,IF(H25<=40000,ROUNDUP(H25/2,0)+10000,IF(H25<=80000,ROUNDUP(H25/4,0)+20000,40000)))),IF(H25<=0,IF(I25<=0,0,IF(I25<=25000,I25,IF(I25<=50000,ROUNDUP(I25/2,0)+12500,IF(I25<=100000,ROUNDUP(I25/4,0)+25000,50000)))),MAX(IF(I25<=0,0,IF(I25<=25000,I25,IF(I25<=50000,ROUNDUP(I25/2,0)+12500,IF(I25<=100000,ROUNDUP(I25/4,0)+25000,50000)))),MIN(IF(H25<=0,0,IF(H25<=20000,H25,IF(H25<=40000,ROUNDUP(H25/2,0)+10000,IF(H25<=80000,ROUNDUP(H25/4,0)+20000,40000))))+IF(I25<=0,0,IF(I25<=25000,I25,IF(I25<=50000,ROUNDUP(I25/2,0)+12500,IF(I25<=100000,ROUNDUP(I25/4,0)+25000,50000)))),40000)))) | R25: =MIN(120000,O25+P25+Q25) | S25: =IF(F25<=0,IF(E25<=0,0,IF(E25<=12000,E25,IF(E25<=32000,ROUNDUP(E25/2,0)+6000,IF(E25<=56000,ROUNDUP(E25/4,0)+14000,28000)))),IF(E25<=0,IF(F25<=0,0,IF(F25<=15000,F25,IF(F25<=40000,ROUNDUP(F25/2,0)+7500,IF(F25<=70000,ROUNDUP(F25/4,0)+17500,35000)))),MAX(IF(F25<=0,0,IF(F25<=15000,F25,IF(F25<=40000,ROUNDUP(F25/2,0)+7500,IF(F25<=70000,ROUNDUP(F25/4,0)+17500,35000)))),MIN(IF(E25<=0,0,IF(E25<=12000,E25,IF(E25<=32000,ROUNDUP(E25/2,0)+6000,IF(E25<=56000,ROUNDUP(E25/4,0)+14000,28000))))+IF(F25<=0,0,IF(F25<=15000,F25,IF(F25<=40000,ROUNDUP(F25/2,0)+7500,IF(F25<=70000,ROUNDUP(F25/4,0)+17500,35000)))),28000)))) | T25: =IF(G25<=0,0,IF(G25<=12000,G25,IF(G25<=32000,ROUNDUP(G25/2,0)+6000,IF(G25<=56000,ROUNDUP(G25/4,0)+14000,28000)))) | U25: =IF(I25<=0,IF(H25<=0,0,IF(H25<=12000,H25,IF(H25<=32000,ROUNDUP(H25/2,0)+6000,IF(H25<=56000,ROUNDUP(H25/4,0)+14000,28000)))),IF(H25<=0,IF(I25<=0,0,IF(I25<=15000,I25,IF(I25<=40000,ROUNDUP(I25/2,0)+7500,IF(I25<=70000,ROUNDUP(I25/4,0)+17500,35000)))),MAX(IF(I25<=0,0,IF(I25<=15000,I25,IF(I25<=40000,ROUNDUP(I25/2,0)+7500,IF(I25<=70000,ROUNDUP(I25/4,0)+17500,35000)))),MIN(IF(H25<=0,0,IF(H25<=12000,H25,IF(H25<=32000,ROUNDUP(H25/2,0)+6000,IF(H25<=56000,ROUNDUP(H25/4,0)+14000,28000))))+IF(I25<=0,0,IF(I25<=15000,I25,IF(I25<=40000,ROUNDUP(I25/2,0)+7500,IF(I25<=70000,ROUNDUP(I25/4,0)+17500,35000)))),28000)))) | V25: =MIN(70000,S25+T25+U25) | W25: =MAX(0,ROUNDDOWN(M25-J25-N25-K25-0,-3)) | X25: =MAX(0,ROUNDDOWN(M25-J25-N25-K25-R25,-3)) | Y25: =IF(W25<=0,0,ROUNDDOWN((W25*LOOKUP(W25,{0,1950001,3300001,6950001,9000001,18000001,40000001},{0.05,0.1,0.2,0.23,0.33,0.4,0.45})-LOOKUP(W25,{0,1950001,3300001,6950001,9000001,18000001,40000001},{0,97500,427500,636000,1536000,2796000,4796000}))*1.021,-2)) | Z25: =IF(X25<=0,0,ROUNDDOWN((X25*LOOKUP(X25,{0,1950001,3300001,6950001,9000001,18000001,40000001},{0.05,0.1,0.2,0.23,0.33,0.4,0.45})-LOOKUP(X25,{0,1950001,3300001,6950001,9000001,18000001,40000001},{0,97500,427500,636000,1536000,2796000,4796000}))*1.021,-2)) | AA25: =MAX(0,ROUNDDOWN(M25-J25-430000-L25-0,-3)) | AB25: =MAX(0,ROUNDDOWN(M25-J25-430000-L25-V25,-3)) | AC25: =IF(M25<=450000,0,MAX(0,ROUNDDOWN(AA25*0.06-MIN(50000,AA25)*0.03,-2))+MAX(0,ROUNDDOWN(AA25*0.04-MIN(50000,AA25)*0.02,-2))) | AD25: =IF(M25<=450000,0,MAX(0,ROUNDDOWN(AB25*0.06-MIN(50000,AB25)*0.03,-2))+MAX(0,ROUNDDOWN(AB25*0.04-MIN(50000,AB25)*0.02,-2))) | AE25: =Y25-Z25 | AF25: =AC25-AD25 | AG25: =AE25+AF25 | AH25: =IF(W25<=0,0,LOOKUP(W25,{0,1950001,3300001,6950001,9000001,18000001,40000001},{0.05,0.1,0.2,0.23,0.33,0.4,0.45}))
A26: 早見表 特例あり 3区分（一般12万円） | B26: ='3_早見表'!$A$6 | C26: 2026 | D26: はい | E26: 120000 | F26: 0 | G26: 80000 | H26: 80000 | I26: 0 | J26: =ROUND(MIN(B26/12,650000)*12*0.0915+MIN(B26/12,1390000)*12*(0.0504+0)+B26*0.005,0) | K26: 0 | L26: 0 | M26: =ROUND(IF(C26>=2026,IF(B26<741000,0,IF(B26<2191000,B26-740000,IF(B26<2193000,1451000,IF(B26<2196000,1453000,IF(B26<2200000,1456000,IF(B26<3600000,ROUNDDOWN(B26/4,-3)*2.8-80000,IF(B26<6600000,ROUNDDOWN(B26/4,-3)*3.2-440000,IF(B26<8500000,ROUNDDOWN(B26*0.9,0)-1100000,B26-1950000)))))))),IF(B26<651000,0,IF(B26<1900000,B26-650000,IF(B26<3600000,ROUNDDOWN(B26/4,-3)*2.8-80000,IF(B26<6600000,ROUNDDOWN(B26/4,-3)*3.2-440000,IF(B26<8500000,ROUNDDOWN(B26*0.9,0)-1100000,B26-1950000)))))),0) | N26: =IF(M26>23500000,NA(),IF(C26>=2026,IF(M26<=4890000,1040000,IF(M26<=6550000,670000,620000)),IF(M26<=1320000,950000,IF(M26<=3360000,880000,IF(M26<=4890000,680000,IF(M26<=6550000,630000,580000)))))) | O26: =IF(F26<=0,IF(AND(D26="はい",C26>=2026,C26<=2027),IF(E26<=0,0,IF(E26<=30000,E26,IF(E26<=60000,ROUNDUP(E26/2,0)+15000,IF(E26<=120000,ROUNDUP(E26/4,0)+30000,60000)))),IF(E26<=0,0,IF(E26<=20000,E26,IF(E26<=40000,ROUNDUP(E26/2,0)+10000,IF(E26<=80000,ROUNDUP(E26/4,0)+20000,40000))))),IF(E26<=0,IF(F26<=0,0,IF(F26<=25000,F26,IF(F26<=50000,ROUNDUP(F26/2,0)+12500,IF(F26<=100000,ROUNDUP(F26/4,0)+25000,50000)))),MAX(IF(F26<=0,0,IF(F26<=25000,F26,IF(F26<=50000,ROUNDUP(F26/2,0)+12500,IF(F26<=100000,ROUNDUP(F26/4,0)+25000,50000)))),MIN(IF(AND(D26="はい",C26>=2026,C26<=2027),IF(E26<=0,0,IF(E26<=30000,E26,IF(E26<=60000,ROUNDUP(E26/2,0)+15000,IF(E26<=120000,ROUNDUP(E26/4,0)+30000,60000)))),IF(E26<=0,0,IF(E26<=20000,E26,IF(E26<=40000,ROUNDUP(E26/2,0)+10000,IF(E26<=80000,ROUNDUP(E26/4,0)+20000,40000)))))+IF(F26<=0,0,IF(F26<=25000,F26,IF(F26<=50000,ROUNDUP(F26/2,0)+12500,IF(F26<=100000,ROUNDUP(F26/4,0)+25000,50000)))),IF(AND(D26="はい",C26>=2026,C26<=2027),60000,40000))))) | P26: =IF(G26<=0,0,IF(G26<=20000,G26,IF(G26<=40000,ROUNDUP(G26/2,0)+10000,IF(G26<=80000,ROUNDUP(G26/4,0)+20000,40000)))) | Q26: =IF(I26<=0,IF(H26<=0,0,IF(H26<=20000,H26,IF(H26<=40000,ROUNDUP(H26/2,0)+10000,IF(H26<=80000,ROUNDUP(H26/4,0)+20000,40000)))),IF(H26<=0,IF(I26<=0,0,IF(I26<=25000,I26,IF(I26<=50000,ROUNDUP(I26/2,0)+12500,IF(I26<=100000,ROUNDUP(I26/4,0)+25000,50000)))),MAX(IF(I26<=0,0,IF(I26<=25000,I26,IF(I26<=50000,ROUNDUP(I26/2,0)+12500,IF(I26<=100000,ROUNDUP(I26/4,0)+25000,50000)))),MIN(IF(H26<=0,0,IF(H26<=20000,H26,IF(H26<=40000,ROUNDUP(H26/2,0)+10000,IF(H26<=80000,ROUNDUP(H26/4,0)+20000,40000))))+IF(I26<=0,0,IF(I26<=25000,I26,IF(I26<=50000,ROUNDUP(I26/2,0)+12500,IF(I26<=100000,ROUNDUP(I26/4,0)+25000,50000)))),40000)))) | R26: =MIN(120000,O26+P26+Q26) | S26: =IF(F26<=0,IF(E26<=0,0,IF(E26<=12000,E26,IF(E26<=32000,ROUNDUP(E26/2,0)+6000,IF(E26<=56000,ROUNDUP(E26/4,0)+14000,28000)))),IF(E26<=0,IF(F26<=0,0,IF(F26<=15000,F26,IF(F26<=40000,ROUNDUP(F26/2,0)+7500,IF(F26<=70000,ROUNDUP(F26/4,0)+17500,35000)))),MAX(IF(F26<=0,0,IF(F26<=15000,F26,IF(F26<=40000,ROUNDUP(F26/2,0)+7500,IF(F26<=70000,ROUNDUP(F26/4,0)+17500,35000)))),MIN(IF(E26<=0,0,IF(E26<=12000,E26,IF(E26<=32000,ROUNDUP(E26/2,0)+6000,IF(E26<=56000,ROUNDUP(E26/4,0)+14000,28000))))+IF(F26<=0,0,IF(F26<=15000,F26,IF(F26<=40000,ROUNDUP(F26/2,0)+7500,IF(F26<=70000,ROUNDUP(F26/4,0)+17500,35000)))),28000)))) | T26: =IF(G26<=0,0,IF(G26<=12000,G26,IF(G26<=32000,ROUNDUP(G26/2,0)+6000,IF(G26<=56000,ROUNDUP(G26/4,0)+14000,28000)))) | U26: =IF(I26<=0,IF(H26<=0,0,IF(H26<=12000,H26,IF(H26<=32000,ROUNDUP(H26/2,0)+6000,IF(H26<=56000,ROUNDUP(H26/4,0)+14000,28000)))),IF(H26<=0,IF(I26<=0,0,IF(I26<=15000,I26,IF(I26<=40000,ROUNDUP(I26/2,0)+7500,IF(I26<=70000,ROUNDUP(I26/4,0)+17500,35000)))),MAX(IF(I26<=0,0,IF(I26<=15000,I26,IF(I26<=40000,ROUNDUP(I26/2,0)+7500,IF(I26<=70000,ROUNDUP(I26/4,0)+17500,35000)))),MIN(IF(H26<=0,0,IF(H26<=12000,H26,IF(H26<=32000,ROUNDUP(H26/2,0)+6000,IF(H26<=56000,ROUNDUP(H26/4,0)+14000,28000))))+IF(I26<=0,0,IF(I26<=15000,I26,IF(I26<=40000,ROUNDUP(I26/2,0)+7500,IF(I26<=70000,ROUNDUP(I26/4,0)+17500,35000)))),28000)))) | V26: =MIN(70000,S26+T26+U26) | W26: =MAX(0,ROUNDDOWN(M26-J26-N26-K26-0,-3)) | X26: =MAX(0,ROUNDDOWN(M26-J26-N26-K26-R26,-3)) | Y26: =IF(W26<=0,0,ROUNDDOWN((W26*LOOKUP(W26,{0,1950001,3300001,6950001,9000001,18000001,40000001},{0.05,0.1,0.2,0.23,0.33,0.4,0.45})-LOOKUP(W26,{0,1950001,3300001,6950001,9000001,18000001,40000001},{0,97500,427500,636000,1536000,2796000,4796000}))*1.021,-2)) | Z26: =IF(X26<=0,0,ROUNDDOWN((X26*LOOKUP(X26,{0,1950001,3300001,6950001,9000001,18000001,40000001},{0.05,0.1,0.2,0.23,0.33,0.4,0.45})-LOOKUP(X26,{0,1950001,3300001,6950001,9000001,18000001,40000001},{0,97500,427500,636000,1536000,2796000,4796000}))*1.021,-2)) | AA26: =MAX(0,ROUNDDOWN(M26-J26-430000-L26-0,-3)) | AB26: =MAX(0,ROUNDDOWN(M26-J26-430000-L26-V26,-3)) | AC26: =IF(M26<=450000,0,MAX(0,ROUNDDOWN(AA26*0.06-MIN(50000,AA26)*0.03,-2))+MAX(0,ROUNDDOWN(AA26*0.04-MIN(50000,AA26)*0.02,-2))) | AD26: =IF(M26<=450000,0,MAX(0,ROUNDDOWN(AB26*0.06-MIN(50000,AB26)*0.03,-2))+MAX(0,ROUNDDOWN(AB26*0.04-MIN(50000,AB26)*0.02,-2))) | AE26: =Y26-Z26 | AF26: =AC26-AD26 | AG26: =AE26+AF26 | AH26: =IF(W26<=0,0,LOOKUP(W26,{0,1950001,3300001,6950001,9000001,18000001,40000001},{0.05,0.1,0.2,0.23,0.33,0.4,0.45}))
A27: 早見表 一般8万円 | B27: ='3_早見表'!$A$7 | C27: 2026 | D27: いいえ | E27: 80000 | F27: 0 | G27: 0 | H27: 0 | I27: 0 | J27: =ROUND(MIN(B27/12,650000)*12*0.0915+MIN(B27/12,1390000)*12*(0.0504+0)+B27*0.005,0) | K27: 0 | L27: 0 | M27: =ROUND(IF(C27>=2026,IF(B27<741000,0,IF(B27<2191000,B27-740000,IF(B27<2193000,1451000,IF(B27<2196000,1453000,IF(B27<2200000,1456000,IF(B27<3600000,ROUNDDOWN(B27/4,-3)*2.8-80000,IF(B27<6600000,ROUNDDOWN(B27/4,-3)*3.2-440000,IF(B27<8500000,ROUNDDOWN(B27*0.9,0)-1100000,B27-1950000)))))))),IF(B27<651000,0,IF(B27<1900000,B27-650000,IF(B27<3600000,ROUNDDOWN(B27/4,-3)*2.8-80000,IF(B27<6600000,ROUNDDOWN(B27/4,-3)*3.2-440000,IF(B27<8500000,ROUNDDOWN(B27*0.9,0)-1100000,B27-1950000)))))),0) | N27: =IF(M27>23500000,NA(),IF(C27>=2026,IF(M27<=4890000,1040000,IF(M27<=6550000,670000,620000)),IF(M27<=1320000,950000,IF(M27<=3360000,880000,IF(M27<=4890000,680000,IF(M27<=6550000,630000,580000)))))) | O27: =IF(F27<=0,IF(AND(D27="はい",C27>=2026,C27<=2027),IF(E27<=0,0,IF(E27<=30000,E27,IF(E27<=60000,ROUNDUP(E27/2,0)+15000,IF(E27<=120000,ROUNDUP(E27/4,0)+30000,60000)))),IF(E27<=0,0,IF(E27<=20000,E27,IF(E27<=40000,ROUNDUP(E27/2,0)+10000,IF(E27<=80000,ROUNDUP(E27/4,0)+20000,40000))))),IF(E27<=0,IF(F27<=0,0,IF(F27<=25000,F27,IF(F27<=50000,ROUNDUP(F27/2,0)+12500,IF(F27<=100000,ROUNDUP(F27/4,0)+25000,50000)))),MAX(IF(F27<=0,0,IF(F27<=25000,F27,IF(F27<=50000,ROUNDUP(F27/2,0)+12500,IF(F27<=100000,ROUNDUP(F27/4,0)+25000,50000)))),MIN(IF(AND(D27="はい",C27>=2026,C27<=2027),IF(E27<=0,0,IF(E27<=30000,E27,IF(E27<=60000,ROUNDUP(E27/2,0)+15000,IF(E27<=120000,ROUNDUP(E27/4,0)+30000,60000)))),IF(E27<=0,0,IF(E27<=20000,E27,IF(E27<=40000,ROUNDUP(E27/2,0)+10000,IF(E27<=80000,ROUNDUP(E27/4,0)+20000,40000)))))+IF(F27<=0,0,IF(F27<=25000,F27,IF(F27<=50000,ROUNDUP(F27/2,0)+12500,IF(F27<=100000,ROUNDUP(F27/4,0)+25000,50000)))),IF(AND(D27="はい",C27>=2026,C27<=2027),60000,40000))))) | P27: =IF(G27<=0,0,IF(G27<=20000,G27,IF(G27<=40000,ROUNDUP(G27/2,0)+10000,IF(G27<=80000,ROUNDUP(G27/4,0)+20000,40000)))) | Q27: =IF(I27<=0,IF(H27<=0,0,IF(H27<=20000,H27,IF(H27<=40000,ROUNDUP(H27/2,0)+10000,IF(H27<=80000,ROUNDUP(H27/4,0)+20000,40000)))),IF(H27<=0,IF(I27<=0,0,IF(I27<=25000,I27,IF(I27<=50000,ROUNDUP(I27/2,0)+12500,IF(I27<=100000,ROUNDUP(I27/4,0)+25000,50000)))),MAX(IF(I27<=0,0,IF(I27<=25000,I27,IF(I27<=50000,ROUNDUP(I27/2,0)+12500,IF(I27<=100000,ROUNDUP(I27/4,0)+25000,50000)))),MIN(IF(H27<=0,0,IF(H27<=20000,H27,IF(H27<=40000,ROUNDUP(H27/2,0)+10000,IF(H27<=80000,ROUNDUP(H27/4,0)+20000,40000))))+IF(I27<=0,0,IF(I27<=25000,I27,IF(I27<=50000,ROUNDUP(I27/2,0)+12500,IF(I27<=100000,ROUNDUP(I27/4,0)+25000,50000)))),40000)))) | R27: =MIN(120000,O27+P27+Q27) | S27: =IF(F27<=0,IF(E27<=0,0,IF(E27<=12000,E27,IF(E27<=32000,ROUNDUP(E27/2,0)+6000,IF(E27<=56000,ROUNDUP(E27/4,0)+14000,28000)))),IF(E27<=0,IF(F27<=0,0,IF(F27<=15000,F27,IF(F27<=40000,ROUNDUP(F27/2,0)+7500,IF(F27<=70000,ROUNDUP(F27/4,0)+17500,35000)))),MAX(IF(F27<=0,0,IF(F27<=15000,F27,IF(F27<=40000,ROUNDUP(F27/2,0)+7500,IF(F27<=70000,ROUNDUP(F27/4,0)+17500,35000)))),MIN(IF(E27<=0,0,IF(E27<=12000,E27,IF(E27<=32000,ROUNDUP(E27/2,0)+6000,IF(E27<=56000,ROUNDUP(E27/4,0)+14000,28000))))+IF(F27<=0,0,IF(F27<=15000,F27,IF(F27<=40000,ROUNDUP(F27/2,0)+7500,IF(F27<=70000,ROUNDUP(F27/4,0)+17500,35000)))),28000)))) | T27: =IF(G27<=0,0,IF(G27<=12000,G27,IF(G27<=32000,ROUNDUP(G27/2,0)+6000,IF(G27<=56000,ROUNDUP(G27/4,0)+14000,28000)))) | U27: =IF(I27<=0,IF(H27<=0,0,IF(H27<=12000,H27,IF(H27<=32000,ROUNDUP(H27/2,0)+6000,IF(H27<=56000,ROUNDUP(H27/4,0)+14000,28000)))),IF(H27<=0,IF(I27<=0,0,IF(I27<=15000,I27,IF(I27<=40000,ROUNDUP(I27/2,0)+7500,IF(I27<=70000,ROUNDUP(I27/4,0)+17500,35000)))),MAX(IF(I27<=0,0,IF(I27<=15000,I27,IF(I27<=40000,ROUNDUP(I27/2,0)+7500,IF(I27<=70000,ROUNDUP(I27/4,0)+17500,35000)))),MIN(IF(H27<=0,0,IF(H27<=12000,H27,IF(H27<=32000,ROUNDUP(H27/2,0)+6000,IF(H27<=56000,ROUNDUP(H27/4,0)+14000,28000))))+IF(I27<=0,0,IF(I27<=15000,I27,IF(I27<=40000,ROUNDUP(I27/2,0)+7500,IF(I27<=70000,ROUNDUP(I27/4,0)+17500,35000)))),28000)))) | V27: =MIN(70000,S27+T27+U27) | W27: =MAX(0,ROUNDDOWN(M27-J27-N27-K27-0,-3)) | X27: =MAX(0,ROUNDDOWN(M27-J27-N27-K27-R27,-3)) | Y27: =IF(W27<=0,0,ROUNDDOWN((W27*LOOKUP(W27,{0,1950001,3300001,6950001,9000001,18000001,40000001},{0.05,0.1,0.2,0.23,0.33,0.4,0.45})-LOOKUP(W27,{0,1950001,3300001,6950001,9000001,18000001,40000001},{0,97500,427500,636000,1536000,2796000,4796000}))*1.021,-2)) | Z27: =IF(X27<=0,0,ROUNDDOWN((X27*LOOKUP(X27,{0,1950001,3300001,6950001,9000001,18000001,40000001},{0.05,0.1,0.2,0.23,0.33,0.4,0.45})-LOOKUP(X27,{0,1950001,3300001,6950001,9000001,18000001,40000001},{0,97500,427500,636000,1536000,2796000,4796000}))*1.021,-2)) | AA27: =MAX(0,ROUNDDOWN(M27-J27-430000-L27-0,-3)) | AB27: =MAX(0,ROUNDDOWN(M27-J27-430000-L27-V27,-3)) | AC27: =IF(M27<=450000,0,MAX(0,ROUNDDOWN(AA27*0.06-MIN(50000,AA27)*0.03,-2))+MAX(0,ROUNDDOWN(AA27*0.04-MIN(50000,AA27)*0.02,-2))) | AD27: =IF(M27<=450000,0,MAX(0,ROUNDDOWN(AB27*0.06-MIN(50000,AB27)*0.03,-2))+MAX(0,ROUNDDOWN(AB27*0.04-MIN(50000,AB27)*0.02,-2))) | AE27: =Y27-Z27 | AF27: =AC27-AD27 | AG27: =AE27+AF27 | AH27: =IF(W27<=0,0,LOOKUP(W27,{0,1950001,3300001,6950001,9000001,18000001,40000001},{0.05,0.1,0.2,0.23,0.33,0.4,0.45}))
A28: 早見表 一般と介護医療8万円ずつ | B28: ='3_早見表'!$A$7 | C28: 2026 | D28: いいえ | E28: 80000 | F28: 0 | G28: 80000 | H28: 0 | I28: 0 | J28: =ROUND(MIN(B28/12,650000)*12*0.0915+MIN(B28/12,1390000)*12*(0.0504+0)+B28*0.005,0) | K28: 0 | L28: 0 | M28: =ROUND(IF(C28>=2026,IF(B28<741000,0,IF(B28<2191000,B28-740000,IF(B28<2193000,1451000,IF(B28<2196000,1453000,IF(B28<2200000,1456000,IF(B28<3600000,ROUNDDOWN(B28/4,-3)*2.8-80000,IF(B28<6600000,ROUNDDOWN(B28/4,-3)*3.2-440000,IF(B28<8500000,ROUNDDOWN(B28*0.9,0)-1100000,B28-1950000)))))))),IF(B28<651000,0,IF(B28<1900000,B28-650000,IF(B28<3600000,ROUNDDOWN(B28/4,-3)*2.8-80000,IF(B28<6600000,ROUNDDOWN(B28/4,-3)*3.2-440000,IF(B28<8500000,ROUNDDOWN(B28*0.9,0)-1100000,B28-1950000)))))),0) | N28: =IF(M28>23500000,NA(),IF(C28>=2026,IF(M28<=4890000,1040000,IF(M28<=6550000,670000,620000)),IF(M28<=1320000,950000,IF(M28<=3360000,880000,IF(M28<=4890000,680000,IF(M28<=6550000,630000,580000)))))) | O28: =IF(F28<=0,IF(AND(D28="はい",C28>=2026,C28<=2027),IF(E28<=0,0,IF(E28<=30000,E28,IF(E28<=60000,ROUNDUP(E28/2,0)+15000,IF(E28<=120000,ROUNDUP(E28/4,0)+30000,60000)))),IF(E28<=0,0,IF(E28<=20000,E28,IF(E28<=40000,ROUNDUP(E28/2,0)+10000,IF(E28<=80000,ROUNDUP(E28/4,0)+20000,40000))))),IF(E28<=0,IF(F28<=0,0,IF(F28<=25000,F28,IF(F28<=50000,ROUNDUP(F28/2,0)+12500,IF(F28<=100000,ROUNDUP(F28/4,0)+25000,50000)))),MAX(IF(F28<=0,0,IF(F28<=25000,F28,IF(F28<=50000,ROUNDUP(F28/2,0)+12500,IF(F28<=100000,ROUNDUP(F28/4,0)+25000,50000)))),MIN(IF(AND(D28="はい",C28>=2026,C28<=2027),IF(E28<=0,0,IF(E28<=30000,E28,IF(E28<=60000,ROUNDUP(E28/2,0)+15000,IF(E28<=120000,ROUNDUP(E28/4,0)+30000,60000)))),IF(E28<=0,0,IF(E28<=20000,E28,IF(E28<=40000,ROUNDUP(E28/2,0)+10000,IF(E28<=80000,ROUNDUP(E28/4,0)+20000,40000)))))+IF(F28<=0,0,IF(F28<=25000,F28,IF(F28<=50000,ROUNDUP(F28/2,0)+12500,IF(F28<=100000,ROUNDUP(F28/4,0)+25000,50000)))),IF(AND(D28="はい",C28>=2026,C28<=2027),60000,40000))))) | P28: =IF(G28<=0,0,IF(G28<=20000,G28,IF(G28<=40000,ROUNDUP(G28/2,0)+10000,IF(G28<=80000,ROUNDUP(G28/4,0)+20000,40000)))) | Q28: =IF(I28<=0,IF(H28<=0,0,IF(H28<=20000,H28,IF(H28<=40000,ROUNDUP(H28/2,0)+10000,IF(H28<=80000,ROUNDUP(H28/4,0)+20000,40000)))),IF(H28<=0,IF(I28<=0,0,IF(I28<=25000,I28,IF(I28<=50000,ROUNDUP(I28/2,0)+12500,IF(I28<=100000,ROUNDUP(I28/4,0)+25000,50000)))),MAX(IF(I28<=0,0,IF(I28<=25000,I28,IF(I28<=50000,ROUNDUP(I28/2,0)+12500,IF(I28<=100000,ROUNDUP(I28/4,0)+25000,50000)))),MIN(IF(H28<=0,0,IF(H28<=20000,H28,IF(H28<=40000,ROUNDUP(H28/2,0)+10000,IF(H28<=80000,ROUNDUP(H28/4,0)+20000,40000))))+IF(I28<=0,0,IF(I28<=25000,I28,IF(I28<=50000,ROUNDUP(I28/2,0)+12500,IF(I28<=100000,ROUNDUP(I28/4,0)+25000,50000)))),40000)))) | R28: =MIN(120000,O28+P28+Q28) | S28: =IF(F28<=0,IF(E28<=0,0,IF(E28<=12000,E28,IF(E28<=32000,ROUNDUP(E28/2,0)+6000,IF(E28<=56000,ROUNDUP(E28/4,0)+14000,28000)))),IF(E28<=0,IF(F28<=0,0,IF(F28<=15000,F28,IF(F28<=40000,ROUNDUP(F28/2,0)+7500,IF(F28<=70000,ROUNDUP(F28/4,0)+17500,35000)))),MAX(IF(F28<=0,0,IF(F28<=15000,F28,IF(F28<=40000,ROUNDUP(F28/2,0)+7500,IF(F28<=70000,ROUNDUP(F28/4,0)+17500,35000)))),MIN(IF(E28<=0,0,IF(E28<=12000,E28,IF(E28<=32000,ROUNDUP(E28/2,0)+6000,IF(E28<=56000,ROUNDUP(E28/4,0)+14000,28000))))+IF(F28<=0,0,IF(F28<=15000,F28,IF(F28<=40000,ROUNDUP(F28/2,0)+7500,IF(F28<=70000,ROUNDUP(F28/4,0)+17500,35000)))),28000)))) | T28: =IF(G28<=0,0,IF(G28<=12000,G28,IF(G28<=32000,ROUNDUP(G28/2,0)+6000,IF(G28<=56000,ROUNDUP(G28/4,0)+14000,28000)))) | U28: =IF(I28<=0,IF(H28<=0,0,IF(H28<=12000,H28,IF(H28<=32000,ROUNDUP(H28/2,0)+6000,IF(H28<=56000,ROUNDUP(H28/4,0)+14000,28000)))),IF(H28<=0,IF(I28<=0,0,IF(I28<=15000,I28,IF(I28<=40000,ROUNDUP(I28/2,0)+7500,IF(I28<=70000,ROUNDUP(I28/4,0)+17500,35000)))),MAX(IF(I28<=0,0,IF(I28<=15000,I28,IF(I28<=40000,ROUNDUP(I28/2,0)+7500,IF(I28<=70000,ROUNDUP(I28/4,0)+17500,35000)))),MIN(IF(H28<=0,0,IF(H28<=12000,H28,IF(H28<=32000,ROUNDUP(H28/2,0)+6000,IF(H28<=56000,ROUNDUP(H28/4,0)+14000,28000))))+IF(I28<=0,0,IF(I28<=15000,I28,IF(I28<=40000,ROUNDUP(I28/2,0)+7500,IF(I28<=70000,ROUNDUP(I28/4,0)+17500,35000)))),28000)))) | V28: =MIN(70000,S28+T28+U28) | W28: =MAX(0,ROUNDDOWN(M28-J28-N28-K28-0,-3)) | X28: =MAX(0,ROUNDDOWN(M28-J28-N28-K28-R28,-3)) | Y28: =IF(W28<=0,0,ROUNDDOWN((W28*LOOKUP(W28,{0,1950001,3300001,6950001,9000001,18000001,40000001},{0.05,0.1,0.2,0.23,0.33,0.4,0.45})-LOOKUP(W28,{0,1950001,3300001,6950001,9000001,18000001,40000001},{0,97500,427500,636000,1536000,2796000,4796000}))*1.021,-2)) | Z28: =IF(X28<=0,0,ROUNDDOWN((X28*LOOKUP(X28,{0,1950001,3300001,6950001,9000001,18000001,40000001},{0.05,0.1,0.2,0.23,0.33,0.4,0.45})-LOOKUP(X28,{0,1950001,3300001,6950001,9000001,18000001,40000001},{0,97500,427500,636000,1536000,2796000,4796000}))*1.021,-2)) | AA28: =MAX(0,ROUNDDOWN(M28-J28-430000-L28-0,-3)) | AB28: =MAX(0,ROUNDDOWN(M28-J28-430000-L28-V28,-3)) | AC28: =IF(M28<=450000,0,MAX(0,ROUNDDOWN(AA28*0.06-MIN(50000,AA28)*0.03,-2))+MAX(0,ROUNDDOWN(AA28*0.04-MIN(50000,AA28)*0.02,-2))) | AD28: =IF(M28<=450000,0,MAX(0,ROUNDDOWN(AB28*0.06-MIN(50000,AB28)*0.03,-2))+MAX(0,ROUNDDOWN(AB28*0.04-MIN(50000,AB28)*0.02,-2))) | AE28: =Y28-Z28 | AF28: =AC28-AD28 | AG28: =AE28+AF28 | AH28: =IF(W28<=0,0,LOOKUP(W28,{0,1950001,3300001,6950001,9000001,18000001,40000001},{0.05,0.1,0.2,0.23,0.33,0.4,0.45}))
A29: 早見表 3区分8万円ずつ（年24万円） | B29: ='3_早見表'!$A$7 | C29: 2026 | D29: いいえ | E29: 80000 | F29: 0 | G29: 80000 | H29: 80000 | I29: 0 | J29: =ROUND(MIN(B29/12,650000)*12*0.0915+MIN(B29/12,1390000)*12*(0.0504+0)+B29*0.005,0) | K29: 0 | L29: 0 | M29: =ROUND(IF(C29>=2026,IF(B29<741000,0,IF(B29<2191000,B29-740000,IF(B29<2193000,1451000,IF(B29<2196000,1453000,IF(B29<2200000,1456000,IF(B29<3600000,ROUNDDOWN(B29/4,-3)*2.8-80000,IF(B29<6600000,ROUNDDOWN(B29/4,-3)*3.2-440000,IF(B29<8500000,ROUNDDOWN(B29*0.9,0)-1100000,B29-1950000)))))))),IF(B29<651000,0,IF(B29<1900000,B29-650000,IF(B29<3600000,ROUNDDOWN(B29/4,-3)*2.8-80000,IF(B29<6600000,ROUNDDOWN(B29/4,-3)*3.2-440000,IF(B29<8500000,ROUNDDOWN(B29*0.9,0)-1100000,B29-1950000)))))),0) | N29: =IF(M29>23500000,NA(),IF(C29>=2026,IF(M29<=4890000,1040000,IF(M29<=6550000,670000,620000)),IF(M29<=1320000,950000,IF(M29<=3360000,880000,IF(M29<=4890000,680000,IF(M29<=6550000,630000,580000)))))) | O29: =IF(F29<=0,IF(AND(D29="はい",C29>=2026,C29<=2027),IF(E29<=0,0,IF(E29<=30000,E29,IF(E29<=60000,ROUNDUP(E29/2,0)+15000,IF(E29<=120000,ROUNDUP(E29/4,0)+30000,60000)))),IF(E29<=0,0,IF(E29<=20000,E29,IF(E29<=40000,ROUNDUP(E29/2,0)+10000,IF(E29<=80000,ROUNDUP(E29/4,0)+20000,40000))))),IF(E29<=0,IF(F29<=0,0,IF(F29<=25000,F29,IF(F29<=50000,ROUNDUP(F29/2,0)+12500,IF(F29<=100000,ROUNDUP(F29/4,0)+25000,50000)))),MAX(IF(F29<=0,0,IF(F29<=25000,F29,IF(F29<=50000,ROUNDUP(F29/2,0)+12500,IF(F29<=100000,ROUNDUP(F29/4,0)+25000,50000)))),MIN(IF(AND(D29="はい",C29>=2026,C29<=2027),IF(E29<=0,0,IF(E29<=30000,E29,IF(E29<=60000,ROUNDUP(E29/2,0)+15000,IF(E29<=120000,ROUNDUP(E29/4,0)+30000,60000)))),IF(E29<=0,0,IF(E29<=20000,E29,IF(E29<=40000,ROUNDUP(E29/2,0)+10000,IF(E29<=80000,ROUNDUP(E29/4,0)+20000,40000)))))+IF(F29<=0,0,IF(F29<=25000,F29,IF(F29<=50000,ROUNDUP(F29/2,0)+12500,IF(F29<=100000,ROUNDUP(F29/4,0)+25000,50000)))),IF(AND(D29="はい",C29>=2026,C29<=2027),60000,40000))))) | P29: =IF(G29<=0,0,IF(G29<=20000,G29,IF(G29<=40000,ROUNDUP(G29/2,0)+10000,IF(G29<=80000,ROUNDUP(G29/4,0)+20000,40000)))) | Q29: =IF(I29<=0,IF(H29<=0,0,IF(H29<=20000,H29,IF(H29<=40000,ROUNDUP(H29/2,0)+10000,IF(H29<=80000,ROUNDUP(H29/4,0)+20000,40000)))),IF(H29<=0,IF(I29<=0,0,IF(I29<=25000,I29,IF(I29<=50000,ROUNDUP(I29/2,0)+12500,IF(I29<=100000,ROUNDUP(I29/4,0)+25000,50000)))),MAX(IF(I29<=0,0,IF(I29<=25000,I29,IF(I29<=50000,ROUNDUP(I29/2,0)+12500,IF(I29<=100000,ROUNDUP(I29/4,0)+25000,50000)))),MIN(IF(H29<=0,0,IF(H29<=20000,H29,IF(H29<=40000,ROUNDUP(H29/2,0)+10000,IF(H29<=80000,ROUNDUP(H29/4,0)+20000,40000))))+IF(I29<=0,0,IF(I29<=25000,I29,IF(I29<=50000,ROUNDUP(I29/2,0)+12500,IF(I29<=100000,ROUNDUP(I29/4,0)+25000,50000)))),40000)))) | R29: =MIN(120000,O29+P29+Q29) | S29: =IF(F29<=0,IF(E29<=0,0,IF(E29<=12000,E29,IF(E29<=32000,ROUNDUP(E29/2,0)+6000,IF(E29<=56000,ROUNDUP(E29/4,0)+14000,28000)))),IF(E29<=0,IF(F29<=0,0,IF(F29<=15000,F29,IF(F29<=40000,ROUNDUP(F29/2,0)+7500,IF(F29<=70000,ROUNDUP(F29/4,0)+17500,35000)))),MAX(IF(F29<=0,0,IF(F29<=15000,F29,IF(F29<=40000,ROUNDUP(F29/2,0)+7500,IF(F29<=70000,ROUNDUP(F29/4,0)+17500,35000)))),MIN(IF(E29<=0,0,IF(E29<=12000,E29,IF(E29<=32000,ROUNDUP(E29/2,0)+6000,IF(E29<=56000,ROUNDUP(E29/4,0)+14000,28000))))+IF(F29<=0,0,IF(F29<=15000,F29,IF(F29<=40000,ROUNDUP(F29/2,0)+7500,IF(F29<=70000,ROUNDUP(F29/4,0)+17500,35000)))),28000)))) | T29: =IF(G29<=0,0,IF(G29<=12000,G29,IF(G29<=32000,ROUNDUP(G29/2,0)+6000,IF(G29<=56000,ROUNDUP(G29/4,0)+14000,28000)))) | U29: =IF(I29<=0,IF(H29<=0,0,IF(H29<=12000,H29,IF(H29<=32000,ROUNDUP(H29/2,0)+6000,IF(H29<=56000,ROUNDUP(H29/4,0)+14000,28000)))),IF(H29<=0,IF(I29<=0,0,IF(I29<=15000,I29,IF(I29<=40000,ROUNDUP(I29/2,0)+7500,IF(I29<=70000,ROUNDUP(I29/4,0)+17500,35000)))),MAX(IF(I29<=0,0,IF(I29<=15000,I29,IF(I29<=40000,ROUNDUP(I29/2,0)+7500,IF(I29<=70000,ROUNDUP(I29/4,0)+17500,35000)))),MIN(IF(H29<=0,0,IF(H29<=12000,H29,IF(H29<=32000,ROUNDUP(H29/2,0)+6000,IF(H29<=56000,ROUNDUP(H29/4,0)+14000,28000))))+IF(I29<=0,0,IF(I29<=15000,I29,IF(I29<=40000,ROUNDUP(I29/2,0)+7500,IF(I29<=70000,ROUNDUP(I29/4,0)+17500,35000)))),28000)))) | V29: =MIN(70000,S29+T29+U29) | W29: =MAX(0,ROUNDDOWN(M29-J29-N29-K29-0,-3)) | X29: =MAX(0,ROUNDDOWN(M29-J29-N29-K29-R29,-3)) | Y29: =IF(W29<=0,0,ROUNDDOWN((W29*LOOKUP(W29,{0,1950001,3300001,6950001,9000001,18000001,40000001},{0.05,0.1,0.2,0.23,0.33,0.4,0.45})-LOOKUP(W29,{0,1950001,3300001,6950001,9000001,18000001,40000001},{0,97500,427500,636000,1536000,2796000,4796000}))*1.021,-2)) | Z29: =IF(X29<=0,0,ROUNDDOWN((X29*LOOKUP(X29,{0,1950001,3300001,6950001,9000001,18000001,40000001},{0.05,0.1,0.2,0.23,0.33,0.4,0.45})-LOOKUP(X29,{0,1950001,3300001,6950001,9000001,18000001,40000001},{0,97500,427500,636000,1536000,2796000,4796000}))*1.021,-2)) | AA29: =MAX(0,ROUNDDOWN(M29-J29-430000-L29-0,-3)) | AB29: =MAX(0,ROUNDDOWN(M29-J29-430000-L29-V29,-3)) | AC29: =IF(M29<=450000,0,MAX(0,ROUNDDOWN(AA29*0.06-MIN(50000,AA29)*0.03,-2))+MAX(0,ROUNDDOWN(AA29*0.04-MIN(50000,AA29)*0.02,-2))) | AD29: =IF(M29<=450000,0,MAX(0,ROUNDDOWN(AB29*0.06-MIN(50000,AB29)*0.03,-2))+MAX(0,ROUNDDOWN(AB29*0.04-MIN(50000,AB29)*0.02,-2))) | AE29: =Y29-Z29 | AF29: =AC29-AD29 | AG29: =AE29+AF29 | AH29: =IF(W29<=0,0,LOOKUP(W29,{0,1950001,3300001,6950001,9000001,18000001,40000001},{0.05,0.1,0.2,0.23,0.33,0.4,0.45}))
A30: 早見表 特例あり 一般8万円 | B30: ='3_早見表'!$A$7 | C30: 2026 | D30: はい | E30: 80000 | F30: 0 | G30: 0 | H30: 0 | I30: 0 | J30: =ROUND(MIN(B30/12,650000)*12*0.0915+MIN(B30/12,1390000)*12*(0.0504+0)+B30*0.005,0) | K30: 0 | L30: 0 | M30: =ROUND(IF(C30>=2026,IF(B30<741000,0,IF(B30<2191000,B30-740000,IF(B30<2193000,1451000,IF(B30<2196000,1453000,IF(B30<2200000,1456000,IF(B30<3600000,ROUNDDOWN(B30/4,-3)*2.8-80000,IF(B30<6600000,ROUNDDOWN(B30/4,-3)*3.2-440000,IF(B30<8500000,ROUNDDOWN(B30*0.9,0)-1100000,B30-1950000)))))))),IF(B30<651000,0,IF(B30<1900000,B30-650000,IF(B30<3600000,ROUNDDOWN(B30/4,-3)*2.8-80000,IF(B30<6600000,ROUNDDOWN(B30/4,-3)*3.2-440000,IF(B30<8500000,ROUNDDOWN(B30*0.9,0)-1100000,B30-1950000)))))),0) | N30: =IF(M30>23500000,NA(),IF(C30>=2026,IF(M30<=4890000,1040000,IF(M30<=6550000,670000,620000)),IF(M30<=1320000,950000,IF(M30<=3360000,880000,IF(M30<=4890000,680000,IF(M30<=6550000,630000,580000)))))) | O30: =IF(F30<=0,IF(AND(D30="はい",C30>=2026,C30<=2027),IF(E30<=0,0,IF(E30<=30000,E30,IF(E30<=60000,ROUNDUP(E30/2,0)+15000,IF(E30<=120000,ROUNDUP(E30/4,0)+30000,60000)))),IF(E30<=0,0,IF(E30<=20000,E30,IF(E30<=40000,ROUNDUP(E30/2,0)+10000,IF(E30<=80000,ROUNDUP(E30/4,0)+20000,40000))))),IF(E30<=0,IF(F30<=0,0,IF(F30<=25000,F30,IF(F30<=50000,ROUNDUP(F30/2,0)+12500,IF(F30<=100000,ROUNDUP(F30/4,0)+25000,50000)))),MAX(IF(F30<=0,0,IF(F30<=25000,F30,IF(F30<=50000,ROUNDUP(F30/2,0)+12500,IF(F30<=100000,ROUNDUP(F30/4,0)+25000,50000)))),MIN(IF(AND(D30="はい",C30>=2026,C30<=2027),IF(E30<=0,0,IF(E30<=30000,E30,IF(E30<=60000,ROUNDUP(E30/2,0)+15000,IF(E30<=120000,ROUNDUP(E30/4,0)+30000,60000)))),IF(E30<=0,0,IF(E30<=20000,E30,IF(E30<=40000,ROUNDUP(E30/2,0)+10000,IF(E30<=80000,ROUNDUP(E30/4,0)+20000,40000)))))+IF(F30<=0,0,IF(F30<=25000,F30,IF(F30<=50000,ROUNDUP(F30/2,0)+12500,IF(F30<=100000,ROUNDUP(F30/4,0)+25000,50000)))),IF(AND(D30="はい",C30>=2026,C30<=2027),60000,40000))))) | P30: =IF(G30<=0,0,IF(G30<=20000,G30,IF(G30<=40000,ROUNDUP(G30/2,0)+10000,IF(G30<=80000,ROUNDUP(G30/4,0)+20000,40000)))) | Q30: =IF(I30<=0,IF(H30<=0,0,IF(H30<=20000,H30,IF(H30<=40000,ROUNDUP(H30/2,0)+10000,IF(H30<=80000,ROUNDUP(H30/4,0)+20000,40000)))),IF(H30<=0,IF(I30<=0,0,IF(I30<=25000,I30,IF(I30<=50000,ROUNDUP(I30/2,0)+12500,IF(I30<=100000,ROUNDUP(I30/4,0)+25000,50000)))),MAX(IF(I30<=0,0,IF(I30<=25000,I30,IF(I30<=50000,ROUNDUP(I30/2,0)+12500,IF(I30<=100000,ROUNDUP(I30/4,0)+25000,50000)))),MIN(IF(H30<=0,0,IF(H30<=20000,H30,IF(H30<=40000,ROUNDUP(H30/2,0)+10000,IF(H30<=80000,ROUNDUP(H30/4,0)+20000,40000))))+IF(I30<=0,0,IF(I30<=25000,I30,IF(I30<=50000,ROUNDUP(I30/2,0)+12500,IF(I30<=100000,ROUNDUP(I30/4,0)+25000,50000)))),40000)))) | R30: =MIN(120000,O30+P30+Q30) | S30: =IF(F30<=0,IF(E30<=0,0,IF(E30<=12000,E30,IF(E30<=32000,ROUNDUP(E30/2,0)+6000,IF(E30<=56000,ROUNDUP(E30/4,0)+14000,28000)))),IF(E30<=0,IF(F30<=0,0,IF(F30<=15000,F30,IF(F30<=40000,ROUNDUP(F30/2,0)+7500,IF(F30<=70000,ROUNDUP(F30/4,0)+17500,35000)))),MAX(IF(F30<=0,0,IF(F30<=15000,F30,IF(F30<=40000,ROUNDUP(F30/2,0)+7500,IF(F30<=70000,ROUNDUP(F30/4,0)+17500,35000)))),MIN(IF(E30<=0,0,IF(E30<=12000,E30,IF(E30<=32000,ROUNDUP(E30/2,0)+6000,IF(E30<=56000,ROUNDUP(E30/4,0)+14000,28000))))+IF(F30<=0,0,IF(F30<=15000,F30,IF(F30<=40000,ROUNDUP(F30/2,0)+7500,IF(F30<=70000,ROUNDUP(F30/4,0)+17500,35000)))),28000)))) | T30: =IF(G30<=0,0,IF(G30<=12000,G30,IF(G30<=32000,ROUNDUP(G30/2,0)+6000,IF(G30<=56000,ROUNDUP(G30/4,0)+14000,28000)))) | U30: =IF(I30<=0,IF(H30<=0,0,IF(H30<=12000,H30,IF(H30<=32000,ROUNDUP(H30/2,0)+6000,IF(H30<=56000,ROUNDUP(H30/4,0)+14000,28000)))),IF(H30<=0,IF(I30<=0,0,IF(I30<=15000,I30,IF(I30<=40000,ROUNDUP(I30/2,0)+7500,IF(I30<=70000,ROUNDUP(I30/4,0)+17500,35000)))),MAX(IF(I30<=0,0,IF(I30<=15000,I30,IF(I30<=40000,ROUNDUP(I30/2,0)+7500,IF(I30<=70000,ROUNDUP(I30/4,0)+17500,35000)))),MIN(IF(H30<=0,0,IF(H30<=12000,H30,IF(H30<=32000,ROUNDUP(H30/2,0)+6000,IF(H30<=56000,ROUNDUP(H30/4,0)+14000,28000))))+IF(I30<=0,0,IF(I30<=15000,I30,IF(I30<=40000,ROUNDUP(I30/2,0)+7500,IF(I30<=70000,ROUNDUP(I30/4,0)+17500,35000)))),28000)))) | V30: =MIN(70000,S30+T30+U30) | W30: =MAX(0,ROUNDDOWN(M30-J30-N30-K30-0,-3)) | X30: =MAX(0,ROUNDDOWN(M30-J30-N30-K30-R30,-3)) | Y30: =IF(W30<=0,0,ROUNDDOWN((W30*LOOKUP(W30,{0,1950001,3300001,6950001,9000001,18000001,40000001},{0.05,0.1,0.2,0.23,0.33,0.4,0.45})-LOOKUP(W30,{0,1950001,3300001,6950001,9000001,18000001,40000001},{0,97500,427500,636000,1536000,2796000,4796000}))*1.021,-2)) | Z30: =IF(X30<=0,0,ROUNDDOWN((X30*LOOKUP(X30,{0,1950001,3300001,6950001,9000001,18000001,40000001},{0.05,0.1,0.2,0.23,0.33,0.4,0.45})-LOOKUP(X30,{0,1950001,3300001,6950001,9000001,18000001,40000001},{0,97500,427500,636000,1536000,2796000,4796000}))*1.021,-2)) | AA30: =MAX(0,ROUNDDOWN(M30-J30-430000-L30-0,-3)) | AB30: =MAX(0,ROUNDDOWN(M30-J30-430000-L30-V30,-3)) | AC30: =IF(M30<=450000,0,MAX(0,ROUNDDOWN(AA30*0.06-MIN(50000,AA30)*0.03,-2))+MAX(0,ROUNDDOWN(AA30*0.04-MIN(50000,AA30)*0.02,-2))) | AD30: =IF(M30<=450000,0,MAX(0,ROUNDDOWN(AB30*0.06-MIN(50000,AB30)*0.03,-2))+MAX(0,ROUNDDOWN(AB30*0.04-MIN(50000,AB30)*0.02,-2))) | AE30: =Y30-Z30 | AF30: =AC30-AD30 | AG30: =AE30+AF30 | AH30: =IF(W30<=0,0,LOOKUP(W30,{0,1950001,3300001,6950001,9000001,18000001,40000001},{0.05,0.1,0.2,0.23,0.33,0.4,0.45}))
A31: 早見表 特例あり 一般12万円 | B31: ='3_早見表'!$A$7 | C31: 2026 | D31: はい | E31: 120000 | F31: 0 | G31: 0 | H31: 0 | I31: 0 | J31: =ROUND(MIN(B31/12,650000)*12*0.0915+MIN(B31/12,1390000)*12*(0.0504+0)+B31*0.005,0) | K31: 0 | L31: 0 | M31: =ROUND(IF(C31>=2026,IF(B31<741000,0,IF(B31<2191000,B31-740000,IF(B31<2193000,1451000,IF(B31<2196000,1453000,IF(B31<2200000,1456000,IF(B31<3600000,ROUNDDOWN(B31/4,-3)*2.8-80000,IF(B31<6600000,ROUNDDOWN(B31/4,-3)*3.2-440000,IF(B31<8500000,ROUNDDOWN(B31*0.9,0)-1100000,B31-1950000)))))))),IF(B31<651000,0,IF(B31<1900000,B31-650000,IF(B31<3600000,ROUNDDOWN(B31/4,-3)*2.8-80000,IF(B31<6600000,ROUNDDOWN(B31/4,-3)*3.2-440000,IF(B31<8500000,ROUNDDOWN(B31*0.9,0)-1100000,B31-1950000)))))),0) | N31: =IF(M31>23500000,NA(),IF(C31>=2026,IF(M31<=4890000,1040000,IF(M31<=6550000,670000,620000)),IF(M31<=1320000,950000,IF(M31<=3360000,880000,IF(M31<=4890000,680000,IF(M31<=6550000,630000,580000)))))) | O31: =IF(F31<=0,IF(AND(D31="はい",C31>=2026,C31<=2027),IF(E31<=0,0,IF(E31<=30000,E31,IF(E31<=60000,ROUNDUP(E31/2,0)+15000,IF(E31<=120000,ROUNDUP(E31/4,0)+30000,60000)))),IF(E31<=0,0,IF(E31<=20000,E31,IF(E31<=40000,ROUNDUP(E31/2,0)+10000,IF(E31<=80000,ROUNDUP(E31/4,0)+20000,40000))))),IF(E31<=0,IF(F31<=0,0,IF(F31<=25000,F31,IF(F31<=50000,ROUNDUP(F31/2,0)+12500,IF(F31<=100000,ROUNDUP(F31/4,0)+25000,50000)))),MAX(IF(F31<=0,0,IF(F31<=25000,F31,IF(F31<=50000,ROUNDUP(F31/2,0)+12500,IF(F31<=100000,ROUNDUP(F31/4,0)+25000,50000)))),MIN(IF(AND(D31="はい",C31>=2026,C31<=2027),IF(E31<=0,0,IF(E31<=30000,E31,IF(E31<=60000,ROUNDUP(E31/2,0)+15000,IF(E31<=120000,ROUNDUP(E31/4,0)+30000,60000)))),IF(E31<=0,0,IF(E31<=20000,E31,IF(E31<=40000,ROUNDUP(E31/2,0)+10000,IF(E31<=80000,ROUNDUP(E31/4,0)+20000,40000)))))+IF(F31<=0,0,IF(F31<=25000,F31,IF(F31<=50000,ROUNDUP(F31/2,0)+12500,IF(F31<=100000,ROUNDUP(F31/4,0)+25000,50000)))),IF(AND(D31="はい",C31>=2026,C31<=2027),60000,40000))))) | P31: =IF(G31<=0,0,IF(G31<=20000,G31,IF(G31<=40000,ROUNDUP(G31/2,0)+10000,IF(G31<=80000,ROUNDUP(G31/4,0)+20000,40000)))) | Q31: =IF(I31<=0,IF(H31<=0,0,IF(H31<=20000,H31,IF(H31<=40000,ROUNDUP(H31/2,0)+10000,IF(H31<=80000,ROUNDUP(H31/4,0)+20000,40000)))),IF(H31<=0,IF(I31<=0,0,IF(I31<=25000,I31,IF(I31<=50000,ROUNDUP(I31/2,0)+12500,IF(I31<=100000,ROUNDUP(I31/4,0)+25000,50000)))),MAX(IF(I31<=0,0,IF(I31<=25000,I31,IF(I31<=50000,ROUNDUP(I31/2,0)+12500,IF(I31<=100000,ROUNDUP(I31/4,0)+25000,50000)))),MIN(IF(H31<=0,0,IF(H31<=20000,H31,IF(H31<=40000,ROUNDUP(H31/2,0)+10000,IF(H31<=80000,ROUNDUP(H31/4,0)+20000,40000))))+IF(I31<=0,0,IF(I31<=25000,I31,IF(I31<=50000,ROUNDUP(I31/2,0)+12500,IF(I31<=100000,ROUNDUP(I31/4,0)+25000,50000)))),40000)))) | R31: =MIN(120000,O31+P31+Q31) | S31: =IF(F31<=0,IF(E31<=0,0,IF(E31<=12000,E31,IF(E31<=32000,ROUNDUP(E31/2,0)+6000,IF(E31<=56000,ROUNDUP(E31/4,0)+14000,28000)))),IF(E31<=0,IF(F31<=0,0,IF(F31<=15000,F31,IF(F31<=40000,ROUNDUP(F31/2,0)+7500,IF(F31<=70000,ROUNDUP(F31/4,0)+17500,35000)))),MAX(IF(F31<=0,0,IF(F31<=15000,F31,IF(F31<=40000,ROUNDUP(F31/2,0)+7500,IF(F31<=70000,ROUNDUP(F31/4,0)+17500,35000)))),MIN(IF(E31<=0,0,IF(E31<=12000,E31,IF(E31<=32000,ROUNDUP(E31/2,0)+6000,IF(E31<=56000,ROUNDUP(E31/4,0)+14000,28000))))+IF(F31<=0,0,IF(F31<=15000,F31,IF(F31<=40000,ROUNDUP(F31/2,0)+7500,IF(F31<=70000,ROUNDUP(F31/4,0)+17500,35000)))),28000)))) | T31: =IF(G31<=0,0,IF(G31<=12000,G31,IF(G31<=32000,ROUNDUP(G31/2,0)+6000,IF(G31<=56000,ROUNDUP(G31/4,0)+14000,28000)))) | U31: =IF(I31<=0,IF(H31<=0,0,IF(H31<=12000,H31,IF(H31<=32000,ROUNDUP(H31/2,0)+6000,IF(H31<=56000,ROUNDUP(H31/4,0)+14000,28000)))),IF(H31<=0,IF(I31<=0,0,IF(I31<=15000,I31,IF(I31<=40000,ROUNDUP(I31/2,0)+7500,IF(I31<=70000,ROUNDUP(I31/4,0)+17500,35000)))),MAX(IF(I31<=0,0,IF(I31<=15000,I31,IF(I31<=40000,ROUNDUP(I31/2,0)+7500,IF(I31<=70000,ROUNDUP(I31/4,0)+17500,35000)))),MIN(IF(H31<=0,0,IF(H31<=12000,H31,IF(H31<=32000,ROUNDUP(H31/2,0)+6000,IF(H31<=56000,ROUNDUP(H31/4,0)+14000,28000))))+IF(I31<=0,0,IF(I31<=15000,I31,IF(I31<=40000,ROUNDUP(I31/2,0)+7500,IF(I31<=70000,ROUNDUP(I31/4,0)+17500,35000)))),28000)))) | V31: =MIN(70000,S31+T31+U31) | W31: =MAX(0,ROUNDDOWN(M31-J31-N31-K31-0,-3)) | X31: =MAX(0,ROUNDDOWN(M31-J31-N31-K31-R31,-3)) | Y31: =IF(W31<=0,0,ROUNDDOWN((W31*LOOKUP(W31,{0,1950001,3300001,6950001,9000001,18000001,40000001},{0.05,0.1,0.2,0.23,0.33,0.4,0.45})-LOOKUP(W31,{0,1950001,3300001,6950001,9000001,18000001,40000001},{0,97500,427500,636000,1536000,2796000,4796000}))*1.021,-2)) | Z31: =IF(X31<=0,0,ROUNDDOWN((X31*LOOKUP(X31,{0,1950001,3300001,6950001,9000001,18000001,40000001},{0.05,0.1,0.2,0.23,0.33,0.4,0.45})-LOOKUP(X31,{0,1950001,3300001,6950001,9000001,18000001,40000001},{0,97500,427500,636000,1536000,2796000,4796000}))*1.021,-2)) | AA31: =MAX(0,ROUNDDOWN(M31-J31-430000-L31-0,-3)) | AB31: =MAX(0,ROUNDDOWN(M31-J31-430000-L31-V31,-3)) | AC31: =IF(M31<=450000,0,MAX(0,ROUNDDOWN(AA31*0.06-MIN(50000,AA31)*0.03,-2))+MAX(0,ROUNDDOWN(AA31*0.04-MIN(50000,AA31)*0.02,-2))) | AD31: =IF(M31<=450000,0,MAX(0,ROUNDDOWN(AB31*0.06-MIN(50000,AB31)*0.03,-2))+MAX(0,ROUNDDOWN(AB31*0.04-MIN(50000,AB31)*0.02,-2))) | AE31: =Y31-Z31 | AF31: =AC31-AD31 | AG31: =AE31+AF31 | AH31: =IF(W31<=0,0,LOOKUP(W31,{0,1950001,3300001,6950001,9000001,18000001,40000001},{0.05,0.1,0.2,0.23,0.33,0.4,0.45}))
A32: 早見表 特例あり 3区分（一般12万円） | B32: ='3_早見表'!$A$7 | C32: 2026 | D32: はい | E32: 120000 | F32: 0 | G32: 80000 | H32: 80000 | I32: 0 | J32: =ROUND(MIN(B32/12,650000)*12*0.0915+MIN(B32/12,1390000)*12*(0.0504+0)+B32*0.005,0) | K32: 0 | L32: 0 | M32: =ROUND(IF(C32>=2026,IF(B32<741000,0,IF(B32<2191000,B32-740000,IF(B32<2193000,1451000,IF(B32<2196000,1453000,IF(B32<2200000,1456000,IF(B32<3600000,ROUNDDOWN(B32/4,-3)*2.8-80000,IF(B32<6600000,ROUNDDOWN(B32/4,-3)*3.2-440000,IF(B32<8500000,ROUNDDOWN(B32*0.9,0)-1100000,B32-1950000)))))))),IF(B32<651000,0,IF(B32<1900000,B32-650000,IF(B32<3600000,ROUNDDOWN(B32/4,-3)*2.8-80000,IF(B32<6600000,ROUNDDOWN(B32/4,-3)*3.2-440000,IF(B32<8500000,ROUNDDOWN(B32*0.9,0)-1100000,B32-1950000)))))),0) | N32: =IF(M32>23500000,NA(),IF(C32>=2026,IF(M32<=4890000,1040000,IF(M32<=6550000,670000,620000)),IF(M32<=1320000,950000,IF(M32<=3360000,880000,IF(M32<=4890000,680000,IF(M32<=6550000,630000,580000)))))) | O32: =IF(F32<=0,IF(AND(D32="はい",C32>=2026,C32<=2027),IF(E32<=0,0,IF(E32<=30000,E32,IF(E32<=60000,ROUNDUP(E32/2,0)+15000,IF(E32<=120000,ROUNDUP(E32/4,0)+30000,60000)))),IF(E32<=0,0,IF(E32<=20000,E32,IF(E32<=40000,ROUNDUP(E32/2,0)+10000,IF(E32<=80000,ROUNDUP(E32/4,0)+20000,40000))))),IF(E32<=0,IF(F32<=0,0,IF(F32<=25000,F32,IF(F32<=50000,ROUNDUP(F32/2,0)+12500,IF(F32<=100000,ROUNDUP(F32/4,0)+25000,50000)))),MAX(IF(F32<=0,0,IF(F32<=25000,F32,IF(F32<=50000,ROUNDUP(F32/2,0)+12500,IF(F32<=100000,ROUNDUP(F32/4,0)+25000,50000)))),MIN(IF(AND(D32="はい",C32>=2026,C32<=2027),IF(E32<=0,0,IF(E32<=30000,E32,IF(E32<=60000,ROUNDUP(E32/2,0)+15000,IF(E32<=120000,ROUNDUP(E32/4,0)+30000,60000)))),IF(E32<=0,0,IF(E32<=20000,E32,IF(E32<=40000,ROUNDUP(E32/2,0)+10000,IF(E32<=80000,ROUNDUP(E32/4,0)+20000,40000)))))+IF(F32<=0,0,IF(F32<=25000,F32,IF(F32<=50000,ROUNDUP(F32/2,0)+12500,IF(F32<=100000,ROUNDUP(F32/4,0)+25000,50000)))),IF(AND(D32="はい",C32>=2026,C32<=2027),60000,40000))))) | P32: =IF(G32<=0,0,IF(G32<=20000,G32,IF(G32<=40000,ROUNDUP(G32/2,0)+10000,IF(G32<=80000,ROUNDUP(G32/4,0)+20000,40000)))) | Q32: =IF(I32<=0,IF(H32<=0,0,IF(H32<=20000,H32,IF(H32<=40000,ROUNDUP(H32/2,0)+10000,IF(H32<=80000,ROUNDUP(H32/4,0)+20000,40000)))),IF(H32<=0,IF(I32<=0,0,IF(I32<=25000,I32,IF(I32<=50000,ROUNDUP(I32/2,0)+12500,IF(I32<=100000,ROUNDUP(I32/4,0)+25000,50000)))),MAX(IF(I32<=0,0,IF(I32<=25000,I32,IF(I32<=50000,ROUNDUP(I32/2,0)+12500,IF(I32<=100000,ROUNDUP(I32/4,0)+25000,50000)))),MIN(IF(H32<=0,0,IF(H32<=20000,H32,IF(H32<=40000,ROUNDUP(H32/2,0)+10000,IF(H32<=80000,ROUNDUP(H32/4,0)+20000,40000))))+IF(I32<=0,0,IF(I32<=25000,I32,IF(I32<=50000,ROUNDUP(I32/2,0)+12500,IF(I32<=100000,ROUNDUP(I32/4,0)+25000,50000)))),40000)))) | R32: =MIN(120000,O32+P32+Q32) | S32: =IF(F32<=0,IF(E32<=0,0,IF(E32<=12000,E32,IF(E32<=32000,ROUNDUP(E32/2,0)+6000,IF(E32<=56000,ROUNDUP(E32/4,0)+14000,28000)))),IF(E32<=0,IF(F32<=0,0,IF(F32<=15000,F32,IF(F32<=40000,ROUNDUP(F32/2,0)+7500,IF(F32<=70000,ROUNDUP(F32/4,0)+17500,35000)))),MAX(IF(F32<=0,0,IF(F32<=15000,F32,IF(F32<=40000,ROUNDUP(F32/2,0)+7500,IF(F32<=70000,ROUNDUP(F32/4,0)+17500,35000)))),MIN(IF(E32<=0,0,IF(E32<=12000,E32,IF(E32<=32000,ROUNDUP(E32/2,0)+6000,IF(E32<=56000,ROUNDUP(E32/4,0)+14000,28000))))+IF(F32<=0,0,IF(F32<=15000,F32,IF(F32<=40000,ROUNDUP(F32/2,0)+7500,IF(F32<=70000,ROUNDUP(F32/4,0)+17500,35000)))),28000)))) | T32: =IF(G32<=0,0,IF(G32<=12000,G32,IF(G32<=32000,ROUNDUP(G32/2,0)+6000,IF(G32<=56000,ROUNDUP(G32/4,0)+14000,28000)))) | U32: =IF(I32<=0,IF(H32<=0,0,IF(H32<=12000,H32,IF(H32<=32000,ROUNDUP(H32/2,0)+6000,IF(H32<=56000,ROUNDUP(H32/4,0)+14000,28000)))),IF(H32<=0,IF(I32<=0,0,IF(I32<=15000,I32,IF(I32<=40000,ROUNDUP(I32/2,0)+7500,IF(I32<=70000,ROUNDUP(I32/4,0)+17500,35000)))),MAX(IF(I32<=0,0,IF(I32<=15000,I32,IF(I32<=40000,ROUNDUP(I32/2,0)+7500,IF(I32<=70000,ROUNDUP(I32/4,0)+17500,35000)))),MIN(IF(H32<=0,0,IF(H32<=12000,H32,IF(H32<=32000,ROUNDUP(H32/2,0)+6000,IF(H32<=56000,ROUNDUP(H32/4,0)+14000,28000))))+IF(I32<=0,0,IF(I32<=15000,I32,IF(I32<=40000,ROUNDUP(I32/2,0)+7500,IF(I32<=70000,ROUNDUP(I32/4,0)+17500,35000)))),28000)))) | V32: =MIN(70000,S32+T32+U32) | W32: =MAX(0,ROUNDDOWN(M32-J32-N32-K32-0,-3)) | X32: =MAX(0,ROUNDDOWN(M32-J32-N32-K32-R32,-3)) | Y32: =IF(W32<=0,0,ROUNDDOWN((W32*LOOKUP(W32,{0,1950001,3300001,6950001,9000001,18000001,40000001},{0.05,0.1,0.2,0.23,0.33,0.4,0.45})-LOOKUP(W32,{0,1950001,3300001,6950001,9000001,18000001,40000001},{0,97500,427500,636000,1536000,2796000,4796000}))*1.021,-2)) | Z32: =IF(X32<=0,0,ROUNDDOWN((X32*LOOKUP(X32,{0,1950001,3300001,6950001,9000001,18000001,40000001},{0.05,0.1,0.2,0.23,0.33,0.4,0.45})-LOOKUP(X32,{0,1950001,3300001,6950001,9000001,18000001,40000001},{0,97500,427500,636000,1536000,2796000,4796000}))*1.021,-2)) | AA32: =MAX(0,ROUNDDOWN(M32-J32-430000-L32-0,-3)) | AB32: =MAX(0,ROUNDDOWN(M32-J32-430000-L32-V32,-3)) | AC32: =IF(M32<=450000,0,MAX(0,ROUNDDOWN(AA32*0.06-MIN(50000,AA32)*0.03,-2))+MAX(0,ROUNDDOWN(AA32*0.04-MIN(50000,AA32)*0.02,-2))) | AD32: =IF(M32<=450000,0,MAX(0,ROUNDDOWN(AB32*0.06-MIN(50000,AB32)*0.03,-2))+MAX(0,ROUNDDOWN(AB32*0.04-MIN(50000,AB32)*0.02,-2))) | AE32: =Y32-Z32 | AF32: =AC32-AD32 | AG32: =AE32+AF32 | AH32: =IF(W32<=0,0,LOOKUP(W32,{0,1950001,3300001,6950001,9000001,18000001,40000001},{0.05,0.1,0.2,0.23,0.33,0.4,0.45}))
A33: 早見表 一般8万円 | B33: ='3_早見表'!$A$8 | C33: 2026 | D33: いいえ | E33: 80000 | F33: 0 | G33: 0 | H33: 0 | I33: 0 | J33: =ROUND(MIN(B33/12,650000)*12*0.0915+MIN(B33/12,1390000)*12*(0.0504+0)+B33*0.005,0) | K33: 0 | L33: 0 | M33: =ROUND(IF(C33>=2026,IF(B33<741000,0,IF(B33<2191000,B33-740000,IF(B33<2193000,1451000,IF(B33<2196000,1453000,IF(B33<2200000,1456000,IF(B33<3600000,ROUNDDOWN(B33/4,-3)*2.8-80000,IF(B33<6600000,ROUNDDOWN(B33/4,-3)*3.2-440000,IF(B33<8500000,ROUNDDOWN(B33*0.9,0)-1100000,B33-1950000)))))))),IF(B33<651000,0,IF(B33<1900000,B33-650000,IF(B33<3600000,ROUNDDOWN(B33/4,-3)*2.8-80000,IF(B33<6600000,ROUNDDOWN(B33/4,-3)*3.2-440000,IF(B33<8500000,ROUNDDOWN(B33*0.9,0)-1100000,B33-1950000)))))),0) | N33: =IF(M33>23500000,NA(),IF(C33>=2026,IF(M33<=4890000,1040000,IF(M33<=6550000,670000,620000)),IF(M33<=1320000,950000,IF(M33<=3360000,880000,IF(M33<=4890000,680000,IF(M33<=6550000,630000,580000)))))) | O33: =IF(F33<=0,IF(AND(D33="はい",C33>=2026,C33<=2027),IF(E33<=0,0,IF(E33<=30000,E33,IF(E33<=60000,ROUNDUP(E33/2,0)+15000,IF(E33<=120000,ROUNDUP(E33/4,0)+30000,60000)))),IF(E33<=0,0,IF(E33<=20000,E33,IF(E33<=40000,ROUNDUP(E33/2,0)+10000,IF(E33<=80000,ROUNDUP(E33/4,0)+20000,40000))))),IF(E33<=0,IF(F33<=0,0,IF(F33<=25000,F33,IF(F33<=50000,ROUNDUP(F33/2,0)+12500,IF(F33<=100000,ROUNDUP(F33/4,0)+25000,50000)))),MAX(IF(F33<=0,0,IF(F33<=25000,F33,IF(F33<=50000,ROUNDUP(F33/2,0)+12500,IF(F33<=100000,ROUNDUP(F33/4,0)+25000,50000)))),MIN(IF(AND(D33="はい",C33>=2026,C33<=2027),IF(E33<=0,0,IF(E33<=30000,E33,IF(E33<=60000,ROUNDUP(E33/2,0)+15000,IF(E33<=120000,ROUNDUP(E33/4,0)+30000,60000)))),IF(E33<=0,0,IF(E33<=20000,E33,IF(E33<=40000,ROUNDUP(E33/2,0)+10000,IF(E33<=80000,ROUNDUP(E33/4,0)+20000,40000)))))+IF(F33<=0,0,IF(F33<=25000,F33,IF(F33<=50000,ROUNDUP(F33/2,0)+12500,IF(F33<=100000,ROUNDUP(F33/4,0)+25000,50000)))),IF(AND(D33="はい",C33>=2026,C33<=2027),60000,40000))))) | P33: =IF(G33<=0,0,IF(G33<=20000,G33,IF(G33<=40000,ROUNDUP(G33/2,0)+10000,IF(G33<=80000,ROUNDUP(G33/4,0)+20000,40000)))) | Q33: =IF(I33<=0,IF(H33<=0,0,IF(H33<=20000,H33,IF(H33<=40000,ROUNDUP(H33/2,0)+10000,IF(H33<=80000,ROUNDUP(H33/4,0)+20000,40000)))),IF(H33<=0,IF(I33<=0,0,IF(I33<=25000,I33,IF(I33<=50000,ROUNDUP(I33/2,0)+12500,IF(I33<=100000,ROUNDUP(I33/4,0)+25000,50000)))),MAX(IF(I33<=0,0,IF(I33<=25000,I33,IF(I33<=50000,ROUNDUP(I33/2,0)+12500,IF(I33<=100000,ROUNDUP(I33/4,0)+25000,50000)))),MIN(IF(H33<=0,0,IF(H33<=20000,H33,IF(H33<=40000,ROUNDUP(H33/2,0)+10000,IF(H33<=80000,ROUNDUP(H33/4,0)+20000,40000))))+IF(I33<=0,0,IF(I33<=25000,I33,IF(I33<=50000,ROUNDUP(I33/2,0)+12500,IF(I33<=100000,ROUNDUP(I33/4,0)+25000,50000)))),40000)))) | R33: =MIN(120000,O33+P33+Q33) | S33: =IF(F33<=0,IF(E33<=0,0,IF(E33<=12000,E33,IF(E33<=32000,ROUNDUP(E33/2,0)+6000,IF(E33<=56000,ROUNDUP(E33/4,0)+14000,28000)))),IF(E33<=0,IF(F33<=0,0,IF(F33<=15000,F33,IF(F33<=40000,ROUNDUP(F33/2,0)+7500,IF(F33<=70000,ROUNDUP(F33/4,0)+17500,35000)))),MAX(IF(F33<=0,0,IF(F33<=15000,F33,IF(F33<=40000,ROUNDUP(F33/2,0)+7500,IF(F33<=70000,ROUNDUP(F33/4,0)+17500,35000)))),MIN(IF(E33<=0,0,IF(E33<=12000,E33,IF(E33<=32000,ROUNDUP(E33/2,0)+6000,IF(E33<=56000,ROUNDUP(E33/4,0)+14000,28000))))+IF(F33<=0,0,IF(F33<=15000,F33,IF(F33<=40000,ROUNDUP(F33/2,0)+7500,IF(F33<=70000,ROUNDUP(F33/4,0)+17500,35000)))),28000)))) | T33: =IF(G33<=0,0,IF(G33<=12000,G33,IF(G33<=32000,ROUNDUP(G33/2,0)+6000,IF(G33<=56000,ROUNDUP(G33/4,0)+14000,28000)))) | U33: =IF(I33<=0,IF(H33<=0,0,IF(H33<=12000,H33,IF(H33<=32000,ROUNDUP(H33/2,0)+6000,IF(H33<=56000,ROUNDUP(H33/4,0)+14000,28000)))),IF(H33<=0,IF(I33<=0,0,IF(I33<=15000,I33,IF(I33<=40000,ROUNDUP(I33/2,0)+7500,IF(I33<=70000,ROUNDUP(I33/4,0)+17500,35000)))),MAX(IF(I33<=0,0,IF(I33<=15000,I33,IF(I33<=40000,ROUNDUP(I33/2,0)+7500,IF(I33<=70000,ROUNDUP(I33/4,0)+17500,35000)))),MIN(IF(H33<=0,0,IF(H33<=12000,H33,IF(H33<=32000,ROUNDUP(H33/2,0)+6000,IF(H33<=56000,ROUNDUP(H33/4,0)+14000,28000))))+IF(I33<=0,0,IF(I33<=15000,I33,IF(I33<=40000,ROUNDUP(I33/2,0)+7500,IF(I33<=70000,ROUNDUP(I33/4,0)+17500,35000)))),28000)))) | V33: =MIN(70000,S33+T33+U33) | W33: =MAX(0,ROUNDDOWN(M33-J33-N33-K33-0,-3)) | X33: =MAX(0,ROUNDDOWN(M33-J33-N33-K33-R33,-3)) | Y33: =IF(W33<=0,0,ROUNDDOWN((W33*LOOKUP(W33,{0,1950001,3300001,6950001,9000001,18000001,40000001},{0.05,0.1,0.2,0.23,0.33,0.4,0.45})-LOOKUP(W33,{0,1950001,3300001,6950001,9000001,18000001,40000001},{0,97500,427500,636000,1536000,2796000,4796000}))*1.021,-2)) | Z33: =IF(X33<=0,0,ROUNDDOWN((X33*LOOKUP(X33,{0,1950001,3300001,6950001,9000001,18000001,40000001},{0.05,0.1,0.2,0.23,0.33,0.4,0.45})-LOOKUP(X33,{0,1950001,3300001,6950001,9000001,18000001,40000001},{0,97500,427500,636000,1536000,2796000,4796000}))*1.021,-2)) | AA33: =MAX(0,ROUNDDOWN(M33-J33-430000-L33-0,-3)) | AB33: =MAX(0,ROUNDDOWN(M33-J33-430000-L33-V33,-3)) | AC33: =IF(M33<=450000,0,MAX(0,ROUNDDOWN(AA33*0.06-MIN(50000,AA33)*0.03,-2))+MAX(0,ROUNDDOWN(AA33*0.04-MIN(50000,AA33)*0.02,-2))) | AD33: =IF(M33<=450000,0,MAX(0,ROUNDDOWN(AB33*0.06-MIN(50000,AB33)*0.03,-2))+MAX(0,ROUNDDOWN(AB33*0.04-MIN(50000,AB33)*0.02,-2))) | AE33: =Y33-Z33 | AF33: =AC33-AD33 | AG33: =AE33+AF33 | AH33: =IF(W33<=0,0,LOOKUP(W33,{0,1950001,3300001,6950001,9000001,18000001,40000001},{0.05,0.1,0.2,0.23,0.33,0.4,0.45}))
A34: 早見表 一般と介護医療8万円ずつ | B34: ='3_早見表'!$A$8 | C34: 2026 | D34: いいえ | E34: 80000 | F34: 0 | G34: 80000 | H34: 0 | I34: 0 | J34: =ROUND(MIN(B34/12,650000)*12*0.0915+MIN(B34/12,1390000)*12*(0.0504+0)+B34*0.005,0) | K34: 0 | L34: 0 | M34: =ROUND(IF(C34>=2026,IF(B34<741000,0,IF(B34<2191000,B34-740000,IF(B34<2193000,1451000,IF(B34<2196000,1453000,IF(B34<2200000,1456000,IF(B34<3600000,ROUNDDOWN(B34/4,-3)*2.8-80000,IF(B34<6600000,ROUNDDOWN(B34/4,-3)*3.2-440000,IF(B34<8500000,ROUNDDOWN(B34*0.9,0)-1100000,B34-1950000)))))))),IF(B34<651000,0,IF(B34<1900000,B34-650000,IF(B34<3600000,ROUNDDOWN(B34/4,-3)*2.8-80000,IF(B34<6600000,ROUNDDOWN(B34/4,-3)*3.2-440000,IF(B34<8500000,ROUNDDOWN(B34*0.9,0)-1100000,B34-1950000)))))),0) | N34: =IF(M34>23500000,NA(),IF(C34>=2026,IF(M34<=4890000,1040000,IF(M34<=6550000,670000,620000)),IF(M34<=1320000,950000,IF(M34<=3360000,880000,IF(M34<=4890000,680000,IF(M34<=6550000,630000,580000)))))) | O34: =IF(F34<=0,IF(AND(D34="はい",C34>=2026,C34<=2027),IF(E34<=0,0,IF(E34<=30000,E34,IF(E34<=60000,ROUNDUP(E34/2,0)+15000,IF(E34<=120000,ROUNDUP(E34/4,0)+30000,60000)))),IF(E34<=0,0,IF(E34<=20000,E34,IF(E34<=40000,ROUNDUP(E34/2,0)+10000,IF(E34<=80000,ROUNDUP(E34/4,0)+20000,40000))))),IF(E34<=0,IF(F34<=0,0,IF(F34<=25000,F34,IF(F34<=50000,ROUNDUP(F34/2,0)+12500,IF(F34<=100000,ROUNDUP(F34/4,0)+25000,50000)))),MAX(IF(F34<=0,0,IF(F34<=25000,F34,IF(F34<=50000,ROUNDUP(F34/2,0)+12500,IF(F34<=100000,ROUNDUP(F34/4,0)+25000,50000)))),MIN(IF(AND(D34="はい",C34>=2026,C34<=2027),IF(E34<=0,0,IF(E34<=30000,E34,IF(E34<=60000,ROUNDUP(E34/2,0)+15000,IF(E34<=120000,ROUNDUP(E34/4,0)+30000,60000)))),IF(E34<=0,0,IF(E34<=20000,E34,IF(E34<=40000,ROUNDUP(E34/2,0)+10000,IF(E34<=80000,ROUNDUP(E34/4,0)+20000,40000)))))+IF(F34<=0,0,IF(F34<=25000,F34,IF(F34<=50000,ROUNDUP(F34/2,0)+12500,IF(F34<=100000,ROUNDUP(F34/4,0)+25000,50000)))),IF(AND(D34="はい",C34>=2026,C34<=2027),60000,40000))))) | P34: =IF(G34<=0,0,IF(G34<=20000,G34,IF(G34<=40000,ROUNDUP(G34/2,0)+10000,IF(G34<=80000,ROUNDUP(G34/4,0)+20000,40000)))) | Q34: =IF(I34<=0,IF(H34<=0,0,IF(H34<=20000,H34,IF(H34<=40000,ROUNDUP(H34/2,0)+10000,IF(H34<=80000,ROUNDUP(H34/4,0)+20000,40000)))),IF(H34<=0,IF(I34<=0,0,IF(I34<=25000,I34,IF(I34<=50000,ROUNDUP(I34/2,0)+12500,IF(I34<=100000,ROUNDUP(I34/4,0)+25000,50000)))),MAX(IF(I34<=0,0,IF(I34<=25000,I34,IF(I34<=50000,ROUNDUP(I34/2,0)+12500,IF(I34<=100000,ROUNDUP(I34/4,0)+25000,50000)))),MIN(IF(H34<=0,0,IF(H34<=20000,H34,IF(H34<=40000,ROUNDUP(H34/2,0)+10000,IF(H34<=80000,ROUNDUP(H34/4,0)+20000,40000))))+IF(I34<=0,0,IF(I34<=25000,I34,IF(I34<=50000,ROUNDUP(I34/2,0)+12500,IF(I34<=100000,ROUNDUP(I34/4,0)+25000,50000)))),40000)))) | R34: =MIN(120000,O34+P34+Q34) | S34: =IF(F34<=0,IF(E34<=0,0,IF(E34<=12000,E34,IF(E34<=32000,ROUNDUP(E34/2,0)+6000,IF(E34<=56000,ROUNDUP(E34/4,0)+14000,28000)))),IF(E34<=0,IF(F34<=0,0,IF(F34<=15000,F34,IF(F34<=40000,ROUNDUP(F34/2,0)+7500,IF(F34<=70000,ROUNDUP(F34/4,0)+17500,35000)))),MAX(IF(F34<=0,0,IF(F34<=15000,F34,IF(F34<=40000,ROUNDUP(F34/2,0)+7500,IF(F34<=70000,ROUNDUP(F34/4,0)+17500,35000)))),MIN(IF(E34<=0,0,IF(E34<=12000,E34,IF(E34<=32000,ROUNDUP(E34/2,0)+6000,IF(E34<=56000,ROUNDUP(E34/4,0)+14000,28000))))+IF(F34<=0,0,IF(F34<=15000,F34,IF(F34<=40000,ROUNDUP(F34/2,0)+7500,IF(F34<=70000,ROUNDUP(F34/4,0)+17500,35000)))),28000)))) | T34: =IF(G34<=0,0,IF(G34<=12000,G34,IF(G34<=32000,ROUNDUP(G34/2,0)+6000,IF(G34<=56000,ROUNDUP(G34/4,0)+14000,28000)))) | U34: =IF(I34<=0,IF(H34<=0,0,IF(H34<=12000,H34,IF(H34<=32000,ROUNDUP(H34/2,0)+6000,IF(H34<=56000,ROUNDUP(H34/4,0)+14000,28000)))),IF(H34<=0,IF(I34<=0,0,IF(I34<=15000,I34,IF(I34<=40000,ROUNDUP(I34/2,0)+7500,IF(I34<=70000,ROUNDUP(I34/4,0)+17500,35000)))),MAX(IF(I34<=0,0,IF(I34<=15000,I34,IF(I34<=40000,ROUNDUP(I34/2,0)+7500,IF(I34<=70000,ROUNDUP(I34/4,0)+17500,35000)))),MIN(IF(H34<=0,0,IF(H34<=12000,H34,IF(H34<=32000,ROUNDUP(H34/2,0)+6000,IF(H34<=56000,ROUNDUP(H34/4,0)+14000,28000))))+IF(I34<=0,0,IF(I34<=15000,I34,IF(I34<=40000,ROUNDUP(I34/2,0)+7500,IF(I34<=70000,ROUNDUP(I34/4,0)+17500,35000)))),28000)))) | V34: =MIN(70000,S34+T34+U34) | W34: =MAX(0,ROUNDDOWN(M34-J34-N34-K34-0,-3)) | X34: =MAX(0,ROUNDDOWN(M34-J34-N34-K34-R34,-3)) | Y34: =IF(W34<=0,0,ROUNDDOWN((W34*LOOKUP(W34,{0,1950001,3300001,6950001,9000001,18000001,40000001},{0.05,0.1,0.2,0.23,0.33,0.4,0.45})-LOOKUP(W34,{0,1950001,3300001,6950001,9000001,18000001,40000001},{0,97500,427500,636000,1536000,2796000,4796000}))*1.021,-2)) | Z34: =IF(X34<=0,0,ROUNDDOWN((X34*LOOKUP(X34,{0,1950001,3300001,6950001,9000001,18000001,40000001},{0.05,0.1,0.2,0.23,0.33,0.4,0.45})-LOOKUP(X34,{0,1950001,3300001,6950001,9000001,18000001,40000001},{0,97500,427500,636000,1536000,2796000,4796000}))*1.021,-2)) | AA34: =MAX(0,ROUNDDOWN(M34-J34-430000-L34-0,-3)) | AB34: =MAX(0,ROUNDDOWN(M34-J34-430000-L34-V34,-3)) | AC34: =IF(M34<=450000,0,MAX(0,ROUNDDOWN(AA34*0.06-MIN(50000,AA34)*0.03,-2))+MAX(0,ROUNDDOWN(AA34*0.04-MIN(50000,AA34)*0.02,-2))) | AD34: =IF(M34<=450000,0,MAX(0,ROUNDDOWN(AB34*0.06-MIN(50000,AB34)*0.03,-2))+MAX(0,ROUNDDOWN(AB34*0.04-MIN(50000,AB34)*0.02,-2))) | AE34: =Y34-Z34 | AF34: =AC34-AD34 | AG34: =AE34+AF34 | AH34: =IF(W34<=0,0,LOOKUP(W34,{0,1950001,3300001,6950001,9000001,18000001,40000001},{0.05,0.1,0.2,0.23,0.33,0.4,0.45}))
