Workbook

Sheet 1_日額
A1: 傷病手当金の日額。黄色を埋める
A3: 支給開始日 | B3: 46068
A4: 比べる額 | B4: 320000 | C4: 加入12か月未満のとき
A6: 月 | B6: 標準報酬月額 | D6: 計算 | E6: 値 | F6: 端数の扱い
A7: =EDATE(DATE(YEAR($B$3),MONTH($B$3),1),-11) | B7: 160000 | D7: 標準報酬月額がある月の数 | E7: =COUNT($B$7:$B$18) | F7: 12未満なら比べる額と比べる
A8: =EDATE(DATE(YEAR($B$3),MONTH($B$3),1),-10) | B8: 160000 | D8: 平均 | E8: =IF($E$7=0,"",AVERAGE($B$7:$B$18)) | F8: まだ丸めない
A9: =EDATE(DATE(YEAR($B$3),MONTH($B$3),1),-9) | B9: 160000 | D9: 使う額 | E9: =IF($E$7=0,"",IF($E$7<12,MIN($E$8,$B$4),$E$8))
A10: =EDATE(DATE(YEAR($B$3),MONTH($B$3),1),-8) | B10: 160000 | D10: 30分の1 | E10: =IF($E$7=0,"",ROUND($E$9/30,-1)) | F10: 5円以上を10円に切り上げ
A11: =EDATE(DATE(YEAR($B$3),MONTH($B$3),1),-7) | B11: 160000 | D11: 日額 | E11: =IF($E$7=0,"",ROUND($E$10*2/3,0)) | F11: 50銭以上を1円に切り上げ
A12: =EDATE(DATE(YEAR($B$3),MONTH($B$3),1),-6) | B12: 160000 | D12: 最後に1回だけ丸めた日額 | E12: =IF($E$7=0,"",ROUND($E$9*2/3/30,0)) | F12: 間違えた出し方
A13: =EDATE(DATE(YEAR($B$3),MONTH($B$3),1),-5) | B13: 180000 | D13: その差 | E13: =IF($E$7=0,"",$E$12-$E$11)
A14: =EDATE(DATE(YEAR($B$3),MONTH($B$3),1),-4) | B14: 180000 | D14: その日に出た給与 | E14: 0 | F14: 1日分。出ていなければ0
A15: =EDATE(DATE(YEAR($B$3),MONTH($B$3),1),-3) | B15: 180000 | D15: 支給される額（1日） | E15: =IF($E$7=0,"",MAX(0,$E$11-$E$14)) | F15: 給与が日額より少なければ差額
A16: =EDATE(DATE(YEAR($B$3),MONTH($B$3),1),-2) | B16: 180000 | D16: 30日分 | E16: =IF($E$7=0,"",$E$15*30)
A17: =EDATE(DATE(YEAR($B$3),MONTH($B$3),1),-1) | B17: 180000
A18: =EDATE(DATE(YEAR($B$3),MONTH($B$3),1),0) | B18: 180000

Sheet 2_100人
A1: 架空の100人。支給開始日は2026年10月15日。月の欄は古い月から
A2: 比べる額 | C2: 320000
A3: 氏名 | B3: 月の数 | C3: 25年11月 | D3: 25年12月 | E3: 26年1月 | F3: 26年2月 | G3: 26年3月 | H3: 26年4月 | I3: 26年5月 | J3: 26年6月 | K3: 26年7月 | L3: 26年8月 | M3: 26年9月 | N3: 26年10月 | O3: 平均 | P3: 使う額 | Q3: 30分の1 | R3: 日額 | S3: 直前月だけ | T3: 差 | U3: 1回丸め | V3: 差 | W3: 比べ忘れ | X3: 差 | Z3: 集計
A4: 社員001 | B4: =COUNT($C4:$N4) | C4: 300000 | D4: 300000 | E4: 300000 | F4: 300000 | G4: 300000 | H4: 300000 | I4: 300000 | J4: 300000 | K4: 300000 | L4: 300000 | M4: 300000 | N4: 300000 | O4: =IF($B4=0,"",AVERAGE($C4:$N4)) | P4: =IF($B4=0,"",IF($B4<12,MIN($O4,$C$2),$O4)) | Q4: =IF($B4=0,"",ROUND($P4/30,-1)) | R4: =IF($B4=0,"",ROUND($Q4*2/3,0)) | S4: =IF($B4=0,"",ROUND(ROUND($N4/30,-1)*2/3,0)) | T4: =IF($B4=0,"",$S4-$R4) | U4: =IF($B4=0,"",ROUND($P4*2/3/30,0)) | V4: =IF($B4=0,"",$U4-$R4) | W4: =IF($B4=0,"",ROUND(ROUND($O4/30,-1)*2/3,0)) | X4: =IF($B4=0,"",$W4-$R4) | Z4: 人数 | AA4: =COUNT($R$4:$R$203)
A5: 社員002 | B5: =COUNT($C5:$N5) | C5: 240000 | D5: 240000 | E5: 240000 | F5: 240000 | G5: 240000 | H5: 240000 | I5: 240000 | J5: 240000 | K5: 240000 | L5: 240000 | M5: 240000 | N5: 240000 | O5: =IF($B5=0,"",AVERAGE($C5:$N5)) | P5: =IF($B5=0,"",IF($B5<12,MIN($O5,$C$2),$O5)) | Q5: =IF($B5=0,"",ROUND($P5/30,-1)) | R5: =IF($B5=0,"",ROUND($Q5*2/3,0)) | S5: =IF($B5=0,"",ROUND(ROUND($N5/30,-1)*2/3,0)) | T5: =IF($B5=0,"",$S5-$R5) | U5: =IF($B5=0,"",ROUND($P5*2/3/30,0)) | V5: =IF($B5=0,"",$U5-$R5) | W5: =IF($B5=0,"",ROUND(ROUND($O5/30,-1)*2/3,0)) | X5: =IF($B5=0,"",$W5-$R5) | Z5: 12か月に満たない人 | AA5: =SUMPRODUCT(($B$4:$B$203>0)*($B$4:$B$203<12))
A6: 社員003 | B6: =COUNT($C6:$N6) | C6: 440000 | D6: 440000 | E6: 440000 | F6: 440000 | G6: 440000 | H6: 440000 | I6: 440000 | J6: 440000 | K6: 440000 | L6: 440000 | M6: 470000 | N6: 470000 | O6: =IF($B6=0,"",AVERAGE($C6:$N6)) | P6: =IF($B6=0,"",IF($B6<12,MIN($O6,$C$2),$O6)) | Q6: =IF($B6=0,"",ROUND($P6/30,-1)) | R6: =IF($B6=0,"",ROUND($Q6*2/3,0)) | S6: =IF($B6=0,"",ROUND(ROUND($N6/30,-1)*2/3,0)) | T6: =IF($B6=0,"",$S6-$R6) | U6: =IF($B6=0,"",ROUND($P6*2/3/30,0)) | V6: =IF($B6=0,"",$U6-$R6) | W6: =IF($B6=0,"",ROUND(ROUND($O6/30,-1)*2/3,0)) | X6: =IF($B6=0,"",$W6-$R6) | Z6: そのうち比べる額のほうが低い人 | AA6: =SUMPRODUCT(($B$4:$B$203>0)*($B$4:$B$203<12)*($O$4:$O$203>$C$2))
A7: 社員004 | B7: =COUNT($C7:$N7) | C7: 440000 | D7: 440000 | E7: 440000 | F7: 440000 | G7: 440000 | H7: 440000 | I7: 440000 | J7: 440000 | K7: 440000 | L7: 440000 | M7: 470000 | N7: 470000 | O7: =IF($B7=0,"",AVERAGE($C7:$N7)) | P7: =IF($B7=0,"",IF($B7<12,MIN($O7,$C$2),$O7)) | Q7: =IF($B7=0,"",ROUND($P7/30,-1)) | R7: =IF($B7=0,"",ROUND($Q7*2/3,0)) | S7: =IF($B7=0,"",ROUND(ROUND($N7/30,-1)*2/3,0)) | T7: =IF($B7=0,"",$S7-$R7) | U7: =IF($B7=0,"",ROUND($P7*2/3/30,0)) | V7: =IF($B7=0,"",$U7-$R7) | W7: =IF($B7=0,"",ROUND(ROUND($O7/30,-1)*2/3,0)) | X7: =IF($B7=0,"",$W7-$R7) | Z7: 直前月だけで日額が変わる人 | AA7: =SUMPRODUCT(($T$4:$T$203<>"")*($T$4:$T$203<>0))
A8: 社員005 | B8: =COUNT($C8:$N8) | C8: 160000 | D8: 160000 | E8: 160000 | F8: 160000 | G8: 160000 | H8: 160000 | I8: 160000 | J8: 160000 | K8: 160000 | L8: 160000 | M8: 170000 | N8: 170000 | O8: =IF($B8=0,"",AVERAGE($C8:$N8)) | P8: =IF($B8=0,"",IF($B8<12,MIN($O8,$C$2),$O8)) | Q8: =IF($B8=0,"",ROUND($P8/30,-1)) | R8: =IF($B8=0,"",ROUND($Q8*2/3,0)) | S8: =IF($B8=0,"",ROUND(ROUND($N8/30,-1)*2/3,0)) | T8: =IF($B8=0,"",$S8-$R8) | U8: =IF($B8=0,"",ROUND($P8*2/3/30,0)) | V8: =IF($B8=0,"",$U8-$R8) | W8: =IF($B8=0,"",ROUND(ROUND($O8/30,-1)*2/3,0)) | X8: =IF($B8=0,"",$W8-$R8) | Z8: 多く出る人 | AA8: =COUNTIF($T$4:$T$203,">0")
A9: 社員006 | B9: =COUNT($C9:$N9) | C9: 360000 | D9: 360000 | E9: 360000 | F9: 360000 | G9: 360000 | H9: 360000 | I9: 360000 | J9: 360000 | K9: 360000 | L9: 360000 | M9: 360000 | N9: 360000 | O9: =IF($B9=0,"",AVERAGE($C9:$N9)) | P9: =IF($B9=0,"",IF($B9<12,MIN($O9,$C$2),$O9)) | Q9: =IF($B9=0,"",ROUND($P9/30,-1)) | R9: =IF($B9=0,"",ROUND($Q9*2/3,0)) | S9: =IF($B9=0,"",ROUND(ROUND($N9/30,-1)*2/3,0)) | T9: =IF($B9=0,"",$S9-$R9) | U9: =IF($B9=0,"",ROUND($P9*2/3/30,0)) | V9: =IF($B9=0,"",$U9-$R9) | W9: =IF($B9=0,"",ROUND(ROUND($O9/30,-1)*2/3,0)) | X9: =IF($B9=0,"",$W9-$R9) | Z9: 少なく出る人 | AA9: =COUNTIF($T$4:$T$203,"<0")
A10: 社員007 | B10: =COUNT($C10:$N10) | H10: 560000 | I10: 560000 | J10: 560000 | K10: 560000 | L10: 560000 | M10: 710000 | N10: 710000 | O10: =IF($B10=0,"",AVERAGE($C10:$N10)) | P10: =IF($B10=0,"",IF($B10<12,MIN($O10,$C$2),$O10)) | Q10: =IF($B10=0,"",ROUND($P10/30,-1)) | R10: =IF($B10=0,"",ROUND($Q10*2/3,0)) | S10: =IF($B10=0,"",ROUND(ROUND($N10/30,-1)*2/3,0)) | T10: =IF($B10=0,"",$S10-$R10) | U10: =IF($B10=0,"",ROUND($P10*2/3/30,0)) | V10: =IF($B10=0,"",$U10-$R10) | W10: =IF($B10=0,"",ROUND(ROUND($O10/30,-1)*2/3,0)) | X10: =IF($B10=0,"",$W10-$R10) | Z10: ずれの合計（1日、絶対値） | AA10: =SUMIF($T$4:$T$203,">0")-SUMIF($T$4:$T$203,"<0")
A11: 社員008 | B11: =COUNT($C11:$N11) | C11: 260000 | D11: 260000 | E11: 260000 | F11: 260000 | G11: 260000 | H11: 260000 | I11: 260000 | J11: 260000 | K11: 260000 | L11: 260000 | M11: 280000 | N11: 280000 | O11: =IF($B11=0,"",AVERAGE($C11:$N11)) | P11: =IF($B11=0,"",IF($B11<12,MIN($O11,$C$2),$O11)) | Q11: =IF($B11=0,"",ROUND($P11/30,-1)) | R11: =IF($B11=0,"",ROUND($Q11*2/3,0)) | S11: =IF($B11=0,"",ROUND(ROUND($N11/30,-1)*2/3,0)) | T11: =IF($B11=0,"",$S11-$R11) | U11: =IF($B11=0,"",ROUND($P11*2/3/30,0)) | V11: =IF($B11=0,"",$U11-$R11) | W11: =IF($B11=0,"",ROUND(ROUND($O11/30,-1)*2/3,0)) | X11: =IF($B11=0,"",$W11-$R11) | Z11: いちばん大きいずれ（1日） | AA11: =MAX(MAX($T$4:$T$203),-MIN($T$4:$T$203))
A12: 社員009 | B12: =COUNT($C12:$N12) | M12: 380000 | N12: 380000 | O12: =IF($B12=0,"",AVERAGE($C12:$N12)) | P12: =IF($B12=0,"",IF($B12<12,MIN($O12,$C$2),$O12)) | Q12: =IF($B12=0,"",ROUND($P12/30,-1)) | R12: =IF($B12=0,"",ROUND($Q12*2/3,0)) | S12: =IF($B12=0,"",ROUND(ROUND($N12/30,-1)*2/3,0)) | T12: =IF($B12=0,"",$S12-$R12) | U12: =IF($B12=0,"",ROUND($P12*2/3/30,0)) | V12: =IF($B12=0,"",$U12-$R12) | W12: =IF($B12=0,"",ROUND(ROUND($O12/30,-1)*2/3,0)) | X12: =IF($B12=0,"",$W12-$R12) | Z12: 1回丸めで日額が変わる人 | AA12: =SUMPRODUCT(($V$4:$V$203<>"")*($V$4:$V$203<>0))
A13: 社員010 | B13: =COUNT($C13:$N13) | C13: 280000 | D13: 280000 | E13: 280000 | F13: 280000 | G13: 280000 | H13: 280000 | I13: 280000 | J13: 280000 | K13: 280000 | L13: 280000 | M13: 320000 | N13: 320000 | O13: =IF($B13=0,"",AVERAGE($C13:$N13)) | P13: =IF($B13=0,"",IF($B13<12,MIN($O13,$C$2),$O13)) | Q13: =IF($B13=0,"",ROUND($P13/30,-1)) | R13: =IF($B13=0,"",ROUND($Q13*2/3,0)) | S13: =IF($B13=0,"",ROUND(ROUND($N13/30,-1)*2/3,0)) | T13: =IF($B13=0,"",$S13-$R13) | U13: =IF($B13=0,"",ROUND($P13*2/3/30,0)) | V13: =IF($B13=0,"",$U13-$R13) | W13: =IF($B13=0,"",ROUND(ROUND($O13/30,-1)*2/3,0)) | X13: =IF($B13=0,"",$W13-$R13) | Z13: ずれの合計（1日、絶対値） | AA13: =SUMIF($V$4:$V$203,">0")-SUMIF($V$4:$V$203,"<0")
A14: 社員011 | B14: =COUNT($C14:$N14) | C14: 500000 | D14: 500000 | E14: 500000 | F14: 500000 | G14: 500000 | H14: 500000 | I14: 500000 | J14: 500000 | K14: 500000 | L14: 500000 | M14: 530000 | N14: 530000 | O14: =IF($B14=0,"",AVERAGE($C14:$N14)) | P14: =IF($B14=0,"",IF($B14<12,MIN($O14,$C$2),$O14)) | Q14: =IF($B14=0,"",ROUND($P14/30,-1)) | R14: =IF($B14=0,"",ROUND($Q14*2/3,0)) | S14: =IF($B14=0,"",ROUND(ROUND($N14/30,-1)*2/3,0)) | T14: =IF($B14=0,"",$S14-$R14) | U14: =IF($B14=0,"",ROUND($P14*2/3/30,0)) | V14: =IF($B14=0,"",$U14-$R14) | W14: =IF($B14=0,"",ROUND(ROUND($O14/30,-1)*2/3,0)) | X14: =IF($B14=0,"",$W14-$R14) | Z14: いちばん大きいずれ（1日） | AA14: =MAX(MAX($V$4:$V$203),-MIN($V$4:$V$203))
A15: 社員012 | B15: =COUNT($C15:$N15) | C15: 142000 | D15: 142000 | E15: 142000 | F15: 142000 | G15: 142000 | H15: 142000 | I15: 142000 | J15: 142000 | K15: 142000 | L15: 142000 | M15: 150000 | N15: 150000 | O15: =IF($B15=0,"",AVERAGE($C15:$N15)) | P15: =IF($B15=0,"",IF($B15<12,MIN($O15,$C$2),$O15)) | Q15: =IF($B15=0,"",ROUND($P15/30,-1)) | R15: =IF($B15=0,"",ROUND($Q15*2/3,0)) | S15: =IF($B15=0,"",ROUND(ROUND($N15/30,-1)*2/3,0)) | T15: =IF($B15=0,"",$S15-$R15) | U15: =IF($B15=0,"",ROUND($P15*2/3/30,0)) | V15: =IF($B15=0,"",$U15-$R15) | W15: =IF($B15=0,"",ROUND(ROUND($O15/30,-1)*2/3,0)) | X15: =IF($B15=0,"",$W15-$R15) | Z15: 比べ忘れで日額が変わる人 | AA15: =SUMPRODUCT(($X$4:$X$203<>"")*($X$4:$X$203<>0))
A16: 社員013 | B16: =COUNT($C16:$N16) | F16: 280000 | G16: 280000 | H16: 280000 | I16: 280000 | J16: 280000 | K16: 280000 | L16: 280000 | M16: 300000 | N16: 300000 | O16: =IF($B16=0,"",AVERAGE($C16:$N16)) | P16: =IF($B16=0,"",IF($B16<12,MIN($O16,$C$2),$O16)) | Q16: =IF($B16=0,"",ROUND($P16/30,-1)) | R16: =IF($B16=0,"",ROUND($Q16*2/3,0)) | S16: =IF($B16=0,"",ROUND(ROUND($N16/30,-1)*2/3,0)) | T16: =IF($B16=0,"",$S16-$R16) | U16: =IF($B16=0,"",ROUND($P16*2/3/30,0)) | V16: =IF($B16=0,"",$U16-$R16) | W16: =IF($B16=0,"",ROUND(ROUND($O16/30,-1)*2/3,0)) | X16: =IF($B16=0,"",$W16-$R16) | Z16: ずれの合計（1日） | AA16: =SUM($X$4:$X$203)
A17: 社員014 | B17: =COUNT($C17:$N17) | C17: 300000 | D17: 300000 | E17: 300000 | F17: 300000 | G17: 300000 | H17: 300000 | I17: 300000 | J17: 300000 | K17: 300000 | L17: 300000 | M17: 320000 | N17: 320000 | O17: =IF($B17=0,"",AVERAGE($C17:$N17)) | P17: =IF($B17=0,"",IF($B17<12,MIN($O17,$C$2),$O17)) | Q17: =IF($B17=0,"",ROUND($P17/30,-1)) | R17: =IF($B17=0,"",ROUND($Q17*2/3,0)) | S17: =IF($B17=0,"",ROUND(ROUND($N17/30,-1)*2/3,0)) | T17: =IF($B17=0,"",$S17-$R17) | U17: =IF($B17=0,"",ROUND($P17*2/3/30,0)) | V17: =IF($B17=0,"",$U17-$R17) | W17: =IF($B17=0,"",ROUND(ROUND($O17/30,-1)*2/3,0)) | X17: =IF($B17=0,"",$W17-$R17) | Z17: いちばん大きいずれ（1日） | AA17: =MAX($X$4:$X$203)
A18: 社員015 | B18: =COUNT($C18:$N18) | M18: 440000 | N18: 440000 | O18: =IF($B18=0,"",AVERAGE($C18:$N18)) | P18: =IF($B18=0,"",IF($B18<12,MIN($O18,$C$2),$O18)) | Q18: =IF($B18=0,"",ROUND($P18/30,-1)) | R18: =IF($B18=0,"",ROUND($Q18*2/3,0)) | S18: =IF($B18=0,"",ROUND(ROUND($N18/30,-1)*2/3,0)) | T18: =IF($B18=0,"",$S18-$R18) | U18: =IF($B18=0,"",ROUND($P18*2/3/30,0)) | V18: =IF($B18=0,"",$U18-$R18) | W18: =IF($B18=0,"",ROUND(ROUND($O18/30,-1)*2/3,0)) | X18: =IF($B18=0,"",$W18-$R18)
A19: 社員016 | B19: =COUNT($C19:$N19) | C19: 340000 | D19: 340000 | E19: 340000 | F19: 340000 | G19: 340000 | H19: 340000 | I19: 340000 | J19: 340000 | K19: 340000 | L19: 340000 | M19: 380000 | N19: 380000 | O19: =IF($B19=0,"",AVERAGE($C19:$N19)) | P19: =IF($B19=0,"",IF($B19<12,MIN($O19,$C$2),$O19)) | Q19: =IF($B19=0,"",ROUND($P19/30,-1)) | R19: =IF($B19=0,"",ROUND($Q19*2/3,0)) | S19: =IF($B19=0,"",ROUND(ROUND($N19/30,-1)*2/3,0)) | T19: =IF($B19=0,"",$S19-$R19) | U19: =IF($B19=0,"",ROUND($P19*2/3/30,0)) | V19: =IF($B19=0,"",$U19-$R19) | W19: =IF($B19=0,"",ROUND(ROUND($O19/30,-1)*2/3,0)) | X19: =IF($B19=0,"",$W19-$R19)
A20: 社員017 | B20: =COUNT($C20:$N20) | C20: 300000 | D20: 300000 | E20: 300000 | F20: 300000 | G20: 300000 | H20: 300000 | I20: 300000 | J20: 300000 | K20: 300000 | L20: 300000 | M20: 300000 | N20: 300000 | O20: =IF($B20=0,"",AVERAGE($C20:$N20)) | P20: =IF($B20=0,"",IF($B20<12,MIN($O20,$C$2),$O20)) | Q20: =IF($B20=0,"",ROUND($P20/30,-1)) | R20: =IF($B20=0,"",ROUND($Q20*2/3,0)) | S20: =IF($B20=0,"",ROUND(ROUND($N20/30,-1)*2/3,0)) | T20: =IF($B20=0,"",$S20-$R20) | U20: =IF($B20=0,"",ROUND($P20*2/3/30,0)) | V20: =IF($B20=0,"",$U20-$R20) | W20: =IF($B20=0,"",ROUND(ROUND($O20/30,-1)*2/3,0)) | X20: =IF($B20=0,"",$W20-$R20)
A21: 社員018 | B21: =COUNT($C21:$N21) | G21: 280000 | H21: 280000 | I21: 280000 | J21: 280000 | K21: 280000 | L21: 280000 | M21: 300000 | N21: 300000 | O21: =IF($B21=0,"",AVERAGE($C21:$N21)) | P21: =IF($B21=0,"",IF($B21<12,MIN($O21,$C$2),$O21)) | Q21: =IF($B21=0,"",ROUND($P21/30,-1)) | R21: =IF($B21=0,"",ROUND($Q21*2/3,0)) | S21: =IF($B21=0,"",ROUND(ROUND($N21/30,-1)*2/3,0)) | T21: =IF($B21=0,"",$S21-$R21) | U21: =IF($B21=0,"",ROUND($P21*2/3/30,0)) | V21: =IF($B21=0,"",$U21-$R21) | W21: =IF($B21=0,"",ROUND(ROUND($O21/30,-1)*2/3,0)) | X21: =IF($B21=0,"",$W21-$R21)
A22: 社員019 | B22: =COUNT($C22:$N22) | C22: 440000 | D22: 440000 | E22: 440000 | F22: 440000 | G22: 440000 | H22: 440000 | I22: 440000 | J22: 440000 | K22: 440000 | L22: 440000 | M22: 440000 | N22: 440000 | O22: =IF($B22=0,"",AVERAGE($C22:$N22)) | P22: =IF($B22=0,"",IF($B22<12,MIN($O22,$C$2),$O22)) | Q22: =IF($B22=0,"",ROUND($P22/30,-1)) | R22: =IF($B22=0,"",ROUND($Q22*2/3,0)) | S22: =IF($B22=0,"",ROUND(ROUND($N22/30,-1)*2/3,0)) | T22: =IF($B22=0,"",$S22-$R22) | U22: =IF($B22=0,"",ROUND($P22*2/3/30,0)) | V22: =IF($B22=0,"",$U22-$R22) | W22: =IF($B22=0,"",ROUND(ROUND($O22/30,-1)*2/3,0)) | X22: =IF($B22=0,"",$W22-$R22)
A23: 社員020 | B23: =COUNT($C23:$N23) | C23: 260000 | D23: 260000 | E23: 260000 | F23: 300000 | G23: 300000 | H23: 300000 | I23: 300000 | J23: 300000 | K23: 300000 | L23: 300000 | M23: 300000 | N23: 300000 | O23: =IF($B23=0,"",AVERAGE($C23:$N23)) | P23: =IF($B23=0,"",IF($B23<12,MIN($O23,$C$2),$O23)) | Q23: =IF($B23=0,"",ROUND($P23/30,-1)) | R23: =IF($B23=0,"",ROUND($Q23*2/3,0)) | S23: =IF($B23=0,"",ROUND(ROUND($N23/30,-1)*2/3,0)) | T23: =IF($B23=0,"",$S23-$R23) | U23: =IF($B23=0,"",ROUND($P23*2/3/30,0)) | V23: =IF($B23=0,"",$U23-$R23) | W23: =IF($B23=0,"",ROUND(ROUND($O23/30,-1)*2/3,0)) | X23: =IF($B23=0,"",$W23-$R23)
A24: 社員021 | B24: =COUNT($C24:$N24) | C24: 470000 | D24: 470000 | E24: 470000 | F24: 470000 | G24: 470000 | H24: 470000 | I24: 470000 | J24: 470000 | K24: 470000 | L24: 470000 | M24: 500000 | N24: 500000 | O24: =IF($B24=0,"",AVERAGE($C24:$N24)) | P24: =IF($B24=0,"",IF($B24<12,MIN($O24,$C$2),$O24)) | Q24: =IF($B24=0,"",ROUND($P24/30,-1)) | R24: =IF($B24=0,"",ROUND($Q24*2/3,0)) | S24: =IF($B24=0,"",ROUND(ROUND($N24/30,-1)*2/3,0)) | T24: =IF($B24=0,"",$S24-$R24) | U24: =IF($B24=0,"",ROUND($P24*2/3/30,0)) | V24: =IF($B24=0,"",$U24-$R24) | W24: =IF($B24=0,"",ROUND(ROUND($O24/30,-1)*2/3,0)) | X24: =IF($B24=0,"",$W24-$R24)
A25: 社員022 | B25: =COUNT($C25:$N25) | C25: 190000 | D25: 190000 | E25: 190000 | F25: 190000 | G25: 190000 | H25: 190000 | I25: 190000 | J25: 190000 | K25: 190000 | L25: 190000 | M25: 220000 | N25: 220000 | O25: =IF($B25=0,"",AVERAGE($C25:$N25)) | P25: =IF($B25=0,"",IF($B25<12,MIN($O25,$C$2),$O25)) | Q25: =IF($B25=0,"",ROUND($P25/30,-1)) | R25: =IF($B25=0,"",ROUND($Q25*2/3,0)) | S25: =IF($B25=0,"",ROUND(ROUND($N25/30,-1)*2/3,0)) | T25: =IF($B25=0,"",$S25-$R25) | U25: =IF($B25=0,"",ROUND($P25*2/3/30,0)) | V25: =IF($B25=0,"",$U25-$R25) | W25: =IF($B25=0,"",ROUND(ROUND($O25/30,-1)*2/3,0)) | X25: =IF($B25=0,"",$W25-$R25)
A26: 社員023 | B26: =COUNT($C26:$N26) | C26: 340000 | D26: 340000 | E26: 340000 | F26: 340000 | G26: 340000 | H26: 340000 | I26: 340000 | J26: 340000 | K26: 340000 | L26: 340000 | M26: 340000 | N26: 340000 | O26: =IF($B26=0,"",AVERAGE($C26:$N26)) | P26: =IF($B26=0,"",IF($B26<12,MIN($O26,$C$2),$O26)) | Q26: =IF($B26=0,"",ROUND($P26/30,-1)) | R26: =IF($B26=0,"",ROUND($Q26*2/3,0)) | S26: =IF($B26=0,"",ROUND(ROUND($N26/30,-1)*2/3,0)) | T26: =IF($B26=0,"",$S26-$R26) | U26: =IF($B26=0,"",ROUND($P26*2/3/30,0)) | V26: =IF($B26=0,"",$U26-$R26) | W26: =IF($B26=0,"",ROUND(ROUND($O26/30,-1)*2/3,0)) | X26: =IF($B26=0,"",$W26-$R26)
A27: 社員024 | B27: =COUNT($C27:$N27) | C27: 240000 | D27: 240000 | E27: 240000 | F27: 240000 | G27: 240000 | H27: 240000 | I27: 240000 | J27: 240000 | K27: 240000 | L27: 240000 | M27: 280000 | N27: 280000 | O27: =IF($B27=0,"",AVERAGE($C27:$N27)) | P27: =IF($B27=0,"",IF($B27<12,MIN($O27,$C$2),$O27)) | Q27: =IF($B27=0,"",ROUND($P27/30,-1)) | R27: =IF($B27=0,"",ROUND($Q27*2/3,0)) | S27: =IF($B27=0,"",ROUND(ROUND($N27/30,-1)*2/3,0)) | T27: =IF($B27=0,"",$S27-$R27) | U27: =IF($B27=0,"",ROUND($P27*2/3/30,0)) | V27: =IF($B27=0,"",$U27-$R27) | W27: =IF($B27=0,"",ROUND(ROUND($O27/30,-1)*2/3,0)) | X27: =IF($B27=0,"",$W27-$R27)
A28: 社員025 | B28: =COUNT($C28:$N28) | C28: 150000 | D28: 150000 | E28: 150000 | F28: 150000 | G28: 150000 | H28: 150000 | I28: 150000 | J28: 150000 | K28: 150000 | L28: 150000 | M28: 150000 | N28: 150000 | O28: =IF($B28=0,"",AVERAGE($C28:$N28)) | P28: =IF($B28=0,"",IF($B28<12,MIN($O28,$C$2),$O28)) | Q28: =IF($B28=0,"",ROUND($P28/30,-1)) | R28: =IF($B28=0,"",ROUND($Q28*2/3,0)) | S28: =IF($B28=0,"",ROUND(ROUND($N28/30,-1)*2/3,0)) | T28: =IF($B28=0,"",$S28-$R28) | U28: =IF($B28=0,"",ROUND($P28*2/3/30,0)) | V28: =IF($B28=0,"",$U28-$R28) | W28: =IF($B28=0,"",ROUND(ROUND($O28/30,-1)*2/3,0)) | X28: =IF($B28=0,"",$W28-$R28)
A29: 社員026 | B29: =COUNT($C29:$N29) | C29: 170000 | D29: 170000 | E29: 170000 | F29: 170000 | G29: 170000 | H29: 170000 | I29: 170000 | J29: 170000 | K29: 170000 | L29: 170000 | M29: 180000 | N29: 180000 | O29: =IF($B29=0,"",AVERAGE($C29:$N29)) | P29: =IF($B29=0,"",IF($B29<12,MIN($O29,$C$2),$O29)) | Q29: =IF($B29=0,"",ROUND($P29/30,-1)) | R29: =IF($B29=0,"",ROUND($Q29*2/3,0)) | S29: =IF($B29=0,"",ROUND(ROUND($N29/30,-1)*2/3,0)) | T29: =IF($B29=0,"",$S29-$R29) | U29: =IF($B29=0,"",ROUND($P29*2/3/30,0)) | V29: =IF($B29=0,"",$U29-$R29) | W29: =IF($B29=0,"",ROUND(ROUND($O29/30,-1)*2/3,0)) | X29: =IF($B29=0,"",$W29-$R29)
A30: 社員027 | B30: =COUNT($C30:$N30) | L30: 190000 | M30: 190000 | N30: 190000 | O30: =IF($B30=0,"",AVERAGE($C30:$N30)) | P30: =IF($B30=0,"",IF($B30<12,MIN($O30,$C$2),$O30)) | Q30: =IF($B30=0,"",ROUND($P30/30,-1)) | R30: =IF($B30=0,"",ROUND($Q30*2/3,0)) | S30: =IF($B30=0,"",ROUND(ROUND($N30/30,-1)*2/3,0)) | T30: =IF($B30=0,"",$S30-$R30) | U30: =IF($B30=0,"",ROUND($P30*2/3/30,0)) | V30: =IF($B30=0,"",$U30-$R30) | W30: =IF($B30=0,"",ROUND(ROUND($O30/30,-1)*2/3,0)) | X30: =IF($B30=0,"",$W30-$R30)
A31: 社員028 | B31: =COUNT($C31:$N31) | C31: 500000 | D31: 500000 | E31: 500000 | F31: 500000 | G31: 500000 | H31: 500000 | I31: 500000 | J31: 500000 | K31: 500000 | L31: 500000 | M31: 530000 | N31: 530000 | O31: =IF($B31=0,"",AVERAGE($C31:$N31)) | P31: =IF($B31=0,"",IF($B31<12,MIN($O31,$C$2),$O31)) | Q31: =IF($B31=0,"",ROUND($P31/30,-1)) | R31: =IF($B31=0,"",ROUND($Q31*2/3,0)) | S31: =IF($B31=0,"",ROUND(ROUND($N31/30,-1)*2/3,0)) | T31: =IF($B31=0,"",$S31-$R31) | U31: =IF($B31=0,"",ROUND($P31*2/3/30,0)) | V31: =IF($B31=0,"",$U31-$R31) | W31: =IF($B31=0,"",ROUND(ROUND($O31/30,-1)*2/3,0)) | X31: =IF($B31=0,"",$W31-$R31)
A32: 社員029 | B32: =COUNT($C32:$N32) | C32: 300000 | D32: 300000 | E32: 300000 | F32: 300000 | G32: 300000 | H32: 300000 | I32: 300000 | J32: 300000 | K32: 300000 | L32: 300000 | M32: 340000 | N32: 340000 | O32: =IF($B32=0,"",AVERAGE($C32:$N32)) | P32: =IF($B32=0,"",IF($B32<12,MIN($O32,$C$2),$O32)) | Q32: =IF($B32=0,"",ROUND($P32/30,-1)) | R32: =IF($B32=0,"",ROUND($Q32*2/3,0)) | S32: =IF($B32=0,"",ROUND(ROUND($N32/30,-1)*2/3,0)) | T32: =IF($B32=0,"",$S32-$R32) | U32: =IF($B32=0,"",ROUND($P32*2/3/30,0)) | V32: =IF($B32=0,"",$U32-$R32) | W32: =IF($B32=0,"",ROUND(ROUND($O32/30,-1)*2/3,0)) | X32: =IF($B32=0,"",$W32-$R32)
A33: 社員030 | B33: =COUNT($C33:$N33) | C33: 380000 | D33: 380000 | E33: 380000 | F33: 380000 | G33: 380000 | H33: 380000 | I33: 380000 | J33: 380000 | K33: 380000 | L33: 380000 | M33: 410000 | N33: 410000 | O33: =IF($B33=0,"",AVERAGE($C33:$N33)) | P33: =IF($B33=0,"",IF($B33<12,MIN($O33,$C$2),$O33)) | Q33: =IF($B33=0,"",ROUND($P33/30,-1)) | R33: =IF($B33=0,"",ROUND($Q33*2/3,0)) | S33: =IF($B33=0,"",ROUND(ROUND($N33/30,-1)*2/3,0)) | T33: =IF($B33=0,"",$S33-$R33) | U33: =IF($B33=0,"",ROUND($P33*2/3/30,0)) | V33: =IF($B33=0,"",$U33-$R33) | W33: =IF($B33=0,"",ROUND(ROUND($O33/30,-1)*2/3,0)) | X33: =IF($B33=0,"",$W33-$R33)
A34: 社員031 | B34: =COUNT($C34:$N34) | C34: 500000 | D34: 500000 | E34: 500000 | F34: 500000 | G34: 500000 | H34: 500000 | I34: 500000 | J34: 500000 | K34: 500000 | L34: 500000 | M34: 500000 | N34: 500000 | O34: =IF($B34=0,"",AVERAGE($C34:$N34)) | P34: =IF($B34=0,"",IF($B34<12,MIN($O34,$C$2),$O34)) | Q34: =IF($B34=0,"",ROUND($P34/30,-1)) | R34: =IF($B34=0,"",ROUND($Q34*2/3,0)) | S34: =IF($B34=0,"",ROUND(ROUND($N34/30,-1)*2/3,0)) | T34: =IF($B34=0,"",$S34-$R34) | U34: =IF($B34=0,"",ROUND($P34*2/3/30,0)) | V34: =IF($B34=0,"",$U34-$R34) | W34: =IF($B34=0,"",ROUND(ROUND($O34/30,-1)*2/3,0)) | X34: =IF($B34=0,"",$W34-$R34)
A35: 社員032 | B35: =COUNT($C35:$N35) | C35: 150000 | D35: 150000 | E35: 150000 | F35: 150000 | G35: 150000 | H35: 150000 | I35: 150000 | J35: 150000 | K35: 150000 | L35: 150000 | M35: 150000 | N35: 150000 | O35: =IF($B35=0,"",AVERAGE($C35:$N35)) | P35: =IF($B35=0,"",IF($B35<12,MIN($O35,$C$2),$O35)) | Q35: =IF($B35=0,"",ROUND($P35/30,-1)) | R35: =IF($B35=0,"",ROUND($Q35*2/3,0)) | S35: =IF($B35=0,"",ROUND(ROUND($N35/30,-1)*2/3,0)) | T35: =IF($B35=0,"",$S35-$R35) | U35: =IF($B35=0,"",ROUND($P35*2/3/30,0)) | V35: =IF($B35=0,"",$U35-$R35) | W35: =IF($B35=0,"",ROUND(ROUND($O35/30,-1)*2/3,0)) | X35: =IF($B35=0,"",$W35-$R35)
A36: 社員033 | B36: =COUNT($C36:$N36) | C36: 280000 | D36: 280000 | E36: 280000 | F36: 280000 | G36: 280000 | H36: 280000 | I36: 280000 | J36: 280000 | K36: 280000 | L36: 280000 | M36: 280000 | N36: 280000 | O36: =IF($B36=0,"",AVERAGE($C36:$N36)) | P36: =IF($B36=0,"",IF($B36<12,MIN($O36,$C$2),$O36)) | Q36: =IF($B36=0,"",ROUND($P36/30,-1)) | R36: =IF($B36=0,"",ROUND($Q36*2/3,0)) | S36: =IF($B36=0,"",ROUND(ROUND($N36/30,-1)*2/3,0)) | T36: =IF($B36=0,"",$S36-$R36) | U36: =IF($B36=0,"",ROUND($P36*2/3/30,0)) | V36: =IF($B36=0,"",$U36-$R36) | W36: =IF($B36=0,"",ROUND(ROUND($O36/30,-1)*2/3,0)) | X36: =IF($B36=0,"",$W36-$R36)
A37: 社員034 | B37: =COUNT($C37:$N37) | C37: 380000 | D37: 380000 | E37: 380000 | F37: 380000 | G37: 380000 | H37: 380000 | I37: 380000 | J37: 380000 | K37: 380000 | L37: 380000 | M37: 380000 | N37: 380000 | O37: =IF($B37=0,"",AVERAGE($C37:$N37)) | P37: =IF($B37=0,"",IF($B37<12,MIN($O37,$C$2),$O37)) | Q37: =IF($B37=0,"",ROUND($P37/30,-1)) | R37: =IF($B37=0,"",ROUND($Q37*2/3,0)) | S37: =IF($B37=0,"",ROUND(ROUND($N37/30,-1)*2/3,0)) | T37: =IF($B37=0,"",$S37-$R37) | U37: =IF($B37=0,"",ROUND($P37*2/3/30,0)) | V37: =IF($B37=0,"",$U37-$R37) | W37: =IF($B37=0,"",ROUND(ROUND($O37/30,-1)*2/3,0)) | X37: =IF($B37=0,"",$W37-$R37)
A38: 社員035 | B38: =COUNT($C38:$N38) | C38: 160000 | D38: 160000 | E38: 160000 | F38: 160000 | G38: 160000 | H38: 160000 | I38: 160000 | J38: 160000 | K38: 160000 | L38: 160000 | M38: 190000 | N38: 190000 | O38: =IF($B38=0,"",AVERAGE($C38:$N38)) | P38: =IF($B38=0,"",IF($B38<12,MIN($O38,$C$2),$O38)) | Q38: =IF($B38=0,"",ROUND($P38/30,-1)) | R38: =IF($B38=0,"",ROUND($Q38*2/3,0)) | S38: =IF($B38=0,"",ROUND(ROUND($N38/30,-1)*2/3,0)) | T38: =IF($B38=0,"",$S38-$R38) | U38: =IF($B38=0,"",ROUND($P38*2/3/30,0)) | V38: =IF($B38=0,"",$U38-$R38) | W38: =IF($B38=0,"",ROUND(ROUND($O38/30,-1)*2/3,0)) | X38: =IF($B38=0,"",$W38-$R38)
A39: 社員036 | B39: =COUNT($C39:$N39) | D39: 240000 | E39: 240000 | F39: 240000 | G39: 240000 | H39: 240000 | I39: 240000 | J39: 240000 | K39: 240000 | L39: 240000 | M39: 220000 | N39: 220000 | O39: =IF($B39=0,"",AVERAGE($C39:$N39)) | P39: =IF($B39=0,"",IF($B39<12,MIN($O39,$C$2),$O39)) | Q39: =IF($B39=0,"",ROUND($P39/30,-1)) | R39: =IF($B39=0,"",ROUND($Q39*2/3,0)) | S39: =IF($B39=0,"",ROUND(ROUND($N39/30,-1)*2/3,0)) | T39: =IF($B39=0,"",$S39-$R39) | U39: =IF($B39=0,"",ROUND($P39*2/3/30,0)) | V39: =IF($B39=0,"",$U39-$R39) | W39: =IF($B39=0,"",ROUND(ROUND($O39/30,-1)*2/3,0)) | X39: =IF($B39=0,"",$W39-$R39)
A40: 社員037 | B40: =COUNT($C40:$N40) | C40: 300000 | D40: 300000 | E40: 300000 | F40: 300000 | G40: 300000 | H40: 300000 | I40: 300000 | J40: 300000 | K40: 300000 | L40: 300000 | M40: 300000 | N40: 300000 | O40: =IF($B40=0,"",AVERAGE($C40:$N40)) | P40: =IF($B40=0,"",IF($B40<12,MIN($O40,$C$2),$O40)) | Q40: =IF($B40=0,"",ROUND($P40/30,-1)) | R40: =IF($B40=0,"",ROUND($Q40*2/3,0)) | S40: =IF($B40=0,"",ROUND(ROUND($N40/30,-1)*2/3,0)) | T40: =IF($B40=0,"",$S40-$R40) | U40: =IF($B40=0,"",ROUND($P40*2/3/30,0)) | V40: =IF($B40=0,"",$U40-$R40) | W40: =IF($B40=0,"",ROUND(ROUND($O40/30,-1)*2/3,0)) | X40: =IF($B40=0,"",$W40-$R40)
...

Sheet 3_待期
A1: 待期の数え方を比べる。欠＝欠勤、有＝有給、公＝公休日（どれも働けなかった日）、出＝働けた日
A2: 1日目は働けなくなった日。3日続けて働けなかったら待期が終わり、その次の日から支給の対象になる
A3: 番号 | B3: 1日目の日付 | C3: 1 | D3: 2 | E3: 3 | F3: 4 | G3: 5 | H3: 6 | I3: 7 | J3: 8 | K3: 9 | L3: 10 | M3: 11 | N3: 12 | O3: 13 | P3: 14 | Q3: 15 | R3: 16 | S3: 17 | T3: 18 | U3: 19 | V3: 20 | W3: 21 | X3: 待期が終わる日目 | Y3: 支給日数 | Z3: 最初の3日で | AA3: 支給日数 | AB3: 有給を除くと | AC3: 支給日数 | AD3: 公休を除くと | AE3: 支給日数 | AF3: 日額 | AG3: 支給額 | AH3: 最初の3日で | AI3: 差 | AK3: 集計
A4: 1 | B4: 46280 | C4: 欠 | D4: 欠 | E4: 出 | F4: 欠 | G4: 出 | H4: 公 | I4: 欠 | J4: 欠 | K4: 欠 | L4: 欠 | M4: 欠 | N4: 公 | O4: 公 | P4: 欠 | Q4: 欠 | R4: 欠 | S4: 欠 | T4: 欠 | U4: 公 | V4: 出 | W4: 出 | X4: {=IF($C4="","",IFERROR(MATCH(1,(($C4:$U4="欠")+($C4:$U4="有")+($C4:$U4="公"))*(($D4:$V4="欠")+($D4:$V4="有")+($D4:$V4="公"))*(($E4:$W4="欠")+($E4:$W4="有")+($E4:$W4="公")),0)+2,""))} | Y4: =IF(OR($C4="",X4=""),"",SUMPRODUCT(($C$3:$W$3>X4)*(($C4:$W4="欠")+($C4:$W4="公")))) | Z4: {=IF($C4="","",IFERROR(SMALL(IF((($C4:$W4="欠")+($C4:$W4="有")+($C4:$W4="公")),$C$3:$W$3),3),""))} | AA4: =IF(OR($C4="",Z4=""),"",SUMPRODUCT(($C$3:$W$3>Z4)*(($C4:$W4="欠")+($C4:$W4="公")))) | AB4: {=IF($C4="","",IFERROR(MATCH(1,(($C4:$U4="欠")+($C4:$U4="公"))*(($D4:$V4="欠")+($D4:$V4="公"))*(($E4:$W4="欠")+($E4:$W4="公")),0)+2,""))} | AC4: =IF(OR($C4="",AB4=""),"",SUMPRODUCT(($C$3:$W$3>AB4)*(($C4:$W4="欠")+($C4:$W4="公")))) | AD4: {=IF($C4="","",IFERROR(MATCH(1,(($C4:$U4="欠")+($C4:$U4="有"))*(($D4:$V4="欠")+($D4:$V4="有"))*(($E4:$W4="欠")+($E4:$W4="有")),0)+2,""))} | AE4: =IF(OR($C4="",AD4=""),"",SUMPRODUCT(($C$3:$W$3>AD4)*(($C4:$W4="欠")+($C4:$W4="公")))) | AF4: =IF($C4="","",IFERROR(INDEX('2_100人'!$R:$R,ROW()+0),"")) | AG4: =IF(OR($C4="",AF4=""),"",N(Y4)*AF4) | AH4: =IF(OR($C4="",AF4=""),"",N(AA4)*AF4) | AI4: =IF(AG4="","",AH4-AG4) | AK4: 件数 | AL4: =COUNTA($B$4:$B$203)
A5: 2 | B5: 46115 | C5: 有 | D5: 公 | E5: 公 | F5: 有 | G5: 欠 | H5: 欠 | I5: 欠 | J5: 欠 | K5: 公 | L5: 出 | M5: 出 | N5: 出 | O5: 出 | P5: 出 | Q5: 出 | R5: 出 | S5: 出 | T5: 出 | U5: 出 | V5: 出 | W5: 出 | X5: {=IF($C5="","",IFERROR(MATCH(1,(($C5:$U5="欠")+($C5:$U5="有")+($C5:$U5="公"))*(($D5:$V5="欠")+($D5:$V5="有")+($D5:$V5="公"))*(($E5:$W5="欠")+($E5:$W5="有")+($E5:$W5="公")),0)+2,""))} | Y5: =IF(OR($C5="",X5=""),"",SUMPRODUCT(($C$3:$W$3>X5)*(($C5:$W5="欠")+($C5:$W5="公")))) | Z5: {=IF($C5="","",IFERROR(SMALL(IF((($C5:$W5="欠")+($C5:$W5="有")+($C5:$W5="公")),$C$3:$W$3),3),""))} | AA5: =IF(OR($C5="",Z5=""),"",SUMPRODUCT(($C$3:$W$3>Z5)*(($C5:$W5="欠")+($C5:$W5="公")))) | AB5: {=IF($C5="","",IFERROR(MATCH(1,(($C5:$U5="欠")+($C5:$U5="公"))*(($D5:$V5="欠")+($D5:$V5="公"))*(($E5:$W5="欠")+($E5:$W5="公")),0)+2,""))} | AC5: =IF(OR($C5="",AB5=""),"",SUMPRODUCT(($C$3:$W$3>AB5)*(($C5:$W5="欠")+($C5:$W5="公")))) | AD5: {=IF($C5="","",IFERROR(MATCH(1,(($C5:$U5="欠")+($C5:$U5="有"))*(($D5:$V5="欠")+($D5:$V5="有"))*(($E5:$W5="欠")+($E5:$W5="有")),0)+2,""))} | AE5: =IF(OR($C5="",AD5=""),"",SUMPRODUCT(($C$3:$W$3>AD5)*(($C5:$W5="欠")+($C5:$W5="公")))) | AF5: =IF($C5="","",IFERROR(INDEX('2_100人'!$R:$R,ROW()+0),"")) | AG5: =IF(OR($C5="",AF5=""),"",N(Y5)*AF5) | AH5: =IF(OR($C5="",AF5=""),"",N(AA5)*AF5) | AI5: =IF(AG5="","",AH5-AG5) | AK5: 待期が21日のうちに終わらない件数 | AL5: =SUMPRODUCT(($B$4:$B$203<>"")*($X$4:$X$203=""))
A6: 3 | B6: 46043 | C6: 欠 | D6: 出 | E6: 出 | F6: 公 | G6: 公 | H6: 欠 | I6: 欠 | J6: 欠 | K6: 欠 | L6: 欠 | M6: 公 | N6: 公 | O6: 欠 | P6: 欠 | Q6: 欠 | R6: 欠 | S6: 欠 | T6: 公 | U6: 公 | V6: 出 | W6: 出 | X6: {=IF($C6="","",IFERROR(MATCH(1,(($C6:$U6="欠")+($C6:$U6="有")+($C6:$U6="公"))*(($D6:$V6="欠")+($D6:$V6="有")+($D6:$V6="公"))*(($E6:$W6="欠")+($E6:$W6="有")+($E6:$W6="公")),0)+2,""))} | Y6: =IF(OR($C6="",X6=""),"",SUMPRODUCT(($C$3:$W$3>X6)*(($C6:$W6="欠")+($C6:$W6="公")))) | Z6: {=IF($C6="","",IFERROR(SMALL(IF((($C6:$W6="欠")+($C6:$W6="有")+($C6:$W6="公")),$C$3:$W$3),3),""))} | AA6: =IF(OR($C6="",Z6=""),"",SUMPRODUCT(($C$3:$W$3>Z6)*(($C6:$W6="欠")+($C6:$W6="公")))) | AB6: {=IF($C6="","",IFERROR(MATCH(1,(($C6:$U6="欠")+($C6:$U6="公"))*(($D6:$V6="欠")+($D6:$V6="公"))*(($E6:$W6="欠")+($E6:$W6="公")),0)+2,""))} | AC6: =IF(OR($C6="",AB6=""),"",SUMPRODUCT(($C$3:$W$3>AB6)*(($C6:$W6="欠")+($C6:$W6="公")))) | AD6: {=IF($C6="","",IFERROR(MATCH(1,(($C6:$U6="欠")+($C6:$U6="有"))*(($D6:$V6="欠")+($D6:$V6="有"))*(($E6:$W6="欠")+($E6:$W6="有")),0)+2,""))} | AE6: =IF(OR($C6="",AD6=""),"",SUMPRODUCT(($C$3:$W$3>AD6)*(($C6:$W6="欠")+($C6:$W6="公")))) | AF6: =IF($C6="","",IFERROR(INDEX('2_100人'!$R:$R,ROW()+0),"")) | AG6: =IF(OR($C6="",AF6=""),"",N(Y6)*AF6) | AH6: =IF(OR($C6="",AF6=""),"",N(AA6)*AF6) | AI6: =IF(AG6="","",AH6-AG6) | AK6: 支給日数の合計（正しい数え方） | AL6: =SUM($Y$4:$Y$203)
A7: 4 | B7: 46063 | C7: 欠 | D7: 出 | E7: 欠 | F7: 欠 | G7: 公 | H7: 公 | I7: 欠 | J7: 欠 | K7: 欠 | L7: 欠 | M7: 欠 | N7: 公 | O7: 公 | P7: 欠 | Q7: 欠 | R7: 欠 | S7: 欠 | T7: 欠 | U7: 公 | V7: 公 | W7: 欠 | X7: {=IF($C7="","",IFERROR(MATCH(1,(($C7:$U7="欠")+($C7:$U7="有")+($C7:$U7="公"))*(($D7:$V7="欠")+($D7:$V7="有")+($D7:$V7="公"))*(($E7:$W7="欠")+($E7:$W7="有")+($E7:$W7="公")),0)+2,""))} | Y7: =IF(OR($C7="",X7=""),"",SUMPRODUCT(($C$3:$W$3>X7)*(($C7:$W7="欠")+($C7:$W7="公")))) | Z7: {=IF($C7="","",IFERROR(SMALL(IF((($C7:$W7="欠")+($C7:$W7="有")+($C7:$W7="公")),$C$3:$W$3),3),""))} | AA7: =IF(OR($C7="",Z7=""),"",SUMPRODUCT(($C$3:$W$3>Z7)*(($C7:$W7="欠")+($C7:$W7="公")))) | AB7: {=IF($C7="","",IFERROR(MATCH(1,(($C7:$U7="欠")+($C7:$U7="公"))*(($D7:$V7="欠")+($D7:$V7="公"))*(($E7:$W7="欠")+($E7:$W7="公")),0)+2,""))} | AC7: =IF(OR($C7="",AB7=""),"",SUMPRODUCT(($C$3:$W$3>AB7)*(($C7:$W7="欠")+($C7:$W7="公")))) | AD7: {=IF($C7="","",IFERROR(MATCH(1,(($C7:$U7="欠")+($C7:$U7="有"))*(($D7:$V7="欠")+($D7:$V7="有"))*(($E7:$W7="欠")+($E7:$W7="有")),0)+2,""))} | AE7: =IF(OR($C7="",AD7=""),"",SUMPRODUCT(($C$3:$W$3>AD7)*(($C7:$W7="欠")+($C7:$W7="公")))) | AF7: =IF($C7="","",IFERROR(INDEX('2_100人'!$R:$R,ROW()+0),"")) | AG7: =IF(OR($C7="",AF7=""),"",N(Y7)*AF7) | AH7: =IF(OR($C7="",AF7=""),"",N(AA7)*AF7) | AI7: =IF(AG7="","",AH7-AG7) | AK7: 最初の3日で: 終わる日がずれる件数 | AL7: =SUMPRODUCT(($B$4:$B$203<>"")*($Z$4:$Z$203<>$X$4:$X$203))
A8: 5 | B8: 46178 | C8: 欠 | D8: 公 | E8: 出 | F8: 欠 | G8: 欠 | H8: 欠 | I8: 欠 | J8: 欠 | K8: 公 | L8: 公 | M8: 欠 | N8: 欠 | O8: 欠 | P8: 欠 | Q8: 欠 | R8: 公 | S8: 公 | T8: 欠 | U8: 欠 | V8: 欠 | W8: 欠 | X8: {=IF($C8="","",IFERROR(MATCH(1,(($C8:$U8="欠")+($C8:$U8="有")+($C8:$U8="公"))*(($D8:$V8="欠")+($D8:$V8="有")+($D8:$V8="公"))*(($E8:$W8="欠")+($E8:$W8="有")+($E8:$W8="公")),0)+2,""))} | Y8: =IF(OR($C8="",X8=""),"",SUMPRODUCT(($C$3:$W$3>X8)*(($C8:$W8="欠")+($C8:$W8="公")))) | Z8: {=IF($C8="","",IFERROR(SMALL(IF((($C8:$W8="欠")+($C8:$W8="有")+($C8:$W8="公")),$C$3:$W$3),3),""))} | AA8: =IF(OR($C8="",Z8=""),"",SUMPRODUCT(($C$3:$W$3>Z8)*(($C8:$W8="欠")+($C8:$W8="公")))) | AB8: {=IF($C8="","",IFERROR(MATCH(1,(($C8:$U8="欠")+($C8:$U8="公"))*(($D8:$V8="欠")+($D8:$V8="公"))*(($E8:$W8="欠")+($E8:$W8="公")),0)+2,""))} | AC8: =IF(OR($C8="",AB8=""),"",SUMPRODUCT(($C$3:$W$3>AB8)*(($C8:$W8="欠")+($C8:$W8="公")))) | AD8: {=IF($C8="","",IFERROR(MATCH(1,(($C8:$U8="欠")+($C8:$U8="有"))*(($D8:$V8="欠")+($D8:$V8="有"))*(($E8:$W8="欠")+($E8:$W8="有")),0)+2,""))} | AE8: =IF(OR($C8="",AD8=""),"",SUMPRODUCT(($C$3:$W$3>AD8)*(($C8:$W8="欠")+($C8:$W8="公")))) | AF8: =IF($C8="","",IFERROR(INDEX('2_100人'!$R:$R,ROW()+0),"")) | AG8: =IF(OR($C8="",AF8=""),"",N(Y8)*AF8) | AH8: =IF(OR($C8="",AF8=""),"",N(AA8)*AF8) | AI8: =IF(AG8="","",AH8-AG8) | AK8: 最初の3日で: 支給日数がずれる件数 | AL8: =SUMPRODUCT(($B$4:$B$203<>"")*($AA$4:$AA$203<>$Y$4:$Y$203))
A9: 6 | B9: 46059 | C9: 欠 | D9: 公 | E9: 公 | F9: 欠 | G9: 欠 | H9: 欠 | I9: 欠 | J9: 出 | K9: 出 | L9: 出 | M9: 出 | N9: 出 | O9: 出 | P9: 出 | Q9: 出 | R9: 出 | S9: 出 | T9: 出 | U9: 出 | V9: 出 | W9: 出 | X9: {=IF($C9="","",IFERROR(MATCH(1,(($C9:$U9="欠")+($C9:$U9="有")+($C9:$U9="公"))*(($D9:$V9="欠")+($D9:$V9="有")+($D9:$V9="公"))*(($E9:$W9="欠")+($E9:$W9="有")+($E9:$W9="公")),0)+2,""))} | Y9: =IF(OR($C9="",X9=""),"",SUMPRODUCT(($C$3:$W$3>X9)*(($C9:$W9="欠")+($C9:$W9="公")))) | Z9: {=IF($C9="","",IFERROR(SMALL(IF((($C9:$W9="欠")+($C9:$W9="有")+($C9:$W9="公")),$C$3:$W$3),3),""))} | AA9: =IF(OR($C9="",Z9=""),"",SUMPRODUCT(($C$3:$W$3>Z9)*(($C9:$W9="欠")+($C9:$W9="公")))) | AB9: {=IF($C9="","",IFERROR(MATCH(1,(($C9:$U9="欠")+($C9:$U9="公"))*(($D9:$V9="欠")+($D9:$V9="公"))*(($E9:$W9="欠")+($E9:$W9="公")),0)+2,""))} | AC9: =IF(OR($C9="",AB9=""),"",SUMPRODUCT(($C$3:$W$3>AB9)*(($C9:$W9="欠")+($C9:$W9="公")))) | AD9: {=IF($C9="","",IFERROR(MATCH(1,(($C9:$U9="欠")+($C9:$U9="有"))*(($D9:$V9="欠")+($D9:$V9="有"))*(($E9:$W9="欠")+($E9:$W9="有")),0)+2,""))} | AE9: =IF(OR($C9="",AD9=""),"",SUMPRODUCT(($C$3:$W$3>AD9)*(($C9:$W9="欠")+($C9:$W9="公")))) | AF9: =IF($C9="","",IFERROR(INDEX('2_100人'!$R:$R,ROW()+0),"")) | AG9: =IF(OR($C9="",AF9=""),"",N(Y9)*AF9) | AH9: =IF(OR($C9="",AF9=""),"",N(AA9)*AF9) | AI9: =IF(AG9="","",AH9-AG9) | AK9: 最初の3日で: 支給日数の合計 | AL9: =SUM($AA$4:$AA$203)
A10: 7 | B10: 46171 | C10: 欠 | D10: 出 | E10: 公 | F10: 欠 | G10: 欠 | H10: 欠 | I10: 欠 | J10: 欠 | K10: 公 | L10: 公 | M10: 欠 | N10: 欠 | O10: 欠 | P10: 欠 | Q10: 欠 | R10: 公 | S10: 公 | T10: 欠 | U10: 出 | V10: 出 | W10: 出 | X10: {=IF($C10="","",IFERROR(MATCH(1,(($C10:$U10="欠")+($C10:$U10="有")+($C10:$U10="公"))*(($D10:$V10="欠")+($D10:$V10="有")+($D10:$V10="公"))*(($E10:$W10="欠")+($E10:$W10="有")+($E10:$W10="公")),0)+2,""))} | Y10: =IF(OR($C10="",X10=""),"",SUMPRODUCT(($C$3:$W$3>X10)*(($C10:$W10="欠")+($C10:$W10="公")))) | Z10: {=IF($C10="","",IFERROR(SMALL(IF((($C10:$W10="欠")+($C10:$W10="有")+($C10:$W10="公")),$C$3:$W$3),3),""))} | AA10: =IF(OR($C10="",Z10=""),"",SUMPRODUCT(($C$3:$W$3>Z10)*(($C10:$W10="欠")+($C10:$W10="公")))) | AB10: {=IF($C10="","",IFERROR(MATCH(1,(($C10:$U10="欠")+($C10:$U10="公"))*(($D10:$V10="欠")+($D10:$V10="公"))*(($E10:$W10="欠")+($E10:$W10="公")),0)+2,""))} | AC10: =IF(OR($C10="",AB10=""),"",SUMPRODUCT(($C$3:$W$3>AB10)*(($C10:$W10="欠")+($C10:$W10="公")))) | AD10: {=IF($C10="","",IFERROR(MATCH(1,(($C10:$U10="欠")+($C10:$U10="有"))*(($D10:$V10="欠")+($D10:$V10="有"))*(($E10:$W10="欠")+($E10:$W10="有")),0)+2,""))} | AE10: =IF(OR($C10="",AD10=""),"",SUMPRODUCT(($C$3:$W$3>AD10)*(($C10:$W10="欠")+($C10:$W10="公")))) | AF10: =IF($C10="","",IFERROR(INDEX('2_100人'!$R:$R,ROW()+0),"")) | AG10: =IF(OR($C10="",AF10=""),"",N(Y10)*AF10) | AH10: =IF(OR($C10="",AF10=""),"",N(AA10)*AF10) | AI10: =IF(AG10="","",AH10-AG10) | AK10: 最初の3日で: 支給額の差の合計 | AL10: =SUM($AI$4:$AI$203)
A11: 8 | B11: 46252 | C11: 欠 | D11: 出 | E11: 出 | F11: 欠 | G11: 公 | H11: 公 | I11: 欠 | J11: 欠 | K11: 欠 | L11: 欠 | M11: 欠 | N11: 公 | O11: 公 | P11: 欠 | Q11: 欠 | R11: 欠 | S11: 欠 | T11: 欠 | U11: 公 | V11: 出 | W11: 出 | X11: {=IF($C11="","",IFERROR(MATCH(1,(($C11:$U11="欠")+($C11:$U11="有")+($C11:$U11="公"))*(($D11:$V11="欠")+($D11:$V11="有")+($D11:$V11="公"))*(($E11:$W11="欠")+($E11:$W11="有")+($E11:$W11="公")),0)+2,""))} | Y11: =IF(OR($C11="",X11=""),"",SUMPRODUCT(($C$3:$W$3>X11)*(($C11:$W11="欠")+($C11:$W11="公")))) | Z11: {=IF($C11="","",IFERROR(SMALL(IF((($C11:$W11="欠")+($C11:$W11="有")+($C11:$W11="公")),$C$3:$W$3),3),""))} | AA11: =IF(OR($C11="",Z11=""),"",SUMPRODUCT(($C$3:$W$3>Z11)*(($C11:$W11="欠")+($C11:$W11="公")))) | AB11: {=IF($C11="","",IFERROR(MATCH(1,(($C11:$U11="欠")+($C11:$U11="公"))*(($D11:$V11="欠")+($D11:$V11="公"))*(($E11:$W11="欠")+($E11:$W11="公")),0)+2,""))} | AC11: =IF(OR($C11="",AB11=""),"",SUMPRODUCT(($C$3:$W$3>AB11)*(($C11:$W11="欠")+($C11:$W11="公")))) | AD11: {=IF($C11="","",IFERROR(MATCH(1,(($C11:$U11="欠")+($C11:$U11="有"))*(($D11:$V11="欠")+($D11:$V11="有"))*(($E11:$W11="欠")+($E11:$W11="有")),0)+2,""))} | AE11: =IF(OR($C11="",AD11=""),"",SUMPRODUCT(($C$3:$W$3>AD11)*(($C11:$W11="欠")+($C11:$W11="公")))) | AF11: =IF($C11="","",IFERROR(INDEX('2_100人'!$R:$R,ROW()+0),"")) | AG11: =IF(OR($C11="",AF11=""),"",N(Y11)*AF11) | AH11: =IF(OR($C11="",AF11=""),"",N(AA11)*AF11) | AI11: =IF(AG11="","",AH11-AG11) | AK11: 有給を除くと: 終わる日がずれる件数 | AL11: =SUMPRODUCT(($B$4:$B$203<>"")*($AB$4:$AB$203<>$X$4:$X$203))
A12: 9 | B12: 46099 | C12: 有 | D12: 出 | E12: 出 | F12: 公 | G12: 公 | H12: 有 | I12: 欠 | J12: 欠 | K12: 欠 | L12: 欠 | M12: 公 | N12: 公 | O12: 欠 | P12: 欠 | Q12: 欠 | R12: 欠 | S12: 欠 | T12: 公 | U12: 出 | V12: 出 | W12: 出 | X12: {=IF($C12="","",IFERROR(MATCH(1,(($C12:$U12="欠")+($C12:$U12="有")+($C12:$U12="公"))*(($D12:$V12="欠")+($D12:$V12="有")+($D12:$V12="公"))*(($E12:$W12="欠")+($E12:$W12="有")+($E12:$W12="公")),0)+2,""))} | Y12: =IF(OR($C12="",X12=""),"",SUMPRODUCT(($C$3:$W$3>X12)*(($C12:$W12="欠")+($C12:$W12="公")))) | Z12: {=IF($C12="","",IFERROR(SMALL(IF((($C12:$W12="欠")+($C12:$W12="有")+($C12:$W12="公")),$C$3:$W$3),3),""))} | AA12: =IF(OR($C12="",Z12=""),"",SUMPRODUCT(($C$3:$W$3>Z12)*(($C12:$W12="欠")+($C12:$W12="公")))) | AB12: {=IF($C12="","",IFERROR(MATCH(1,(($C12:$U12="欠")+($C12:$U12="公"))*(($D12:$V12="欠")+($D12:$V12="公"))*(($E12:$W12="欠")+($E12:$W12="公")),0)+2,""))} | AC12: =IF(OR($C12="",AB12=""),"",SUMPRODUCT(($C$3:$W$3>AB12)*(($C12:$W12="欠")+($C12:$W12="公")))) | AD12: {=IF($C12="","",IFERROR(MATCH(1,(($C12:$U12="欠")+($C12:$U12="有"))*(($D12:$V12="欠")+($D12:$V12="有"))*(($E12:$W12="欠")+($E12:$W12="有")),0)+2,""))} | AE12: =IF(OR($C12="",AD12=""),"",SUMPRODUCT(($C$3:$W$3>AD12)*(($C12:$W12="欠")+($C12:$W12="公")))) | AF12: =IF($C12="","",IFERROR(INDEX('2_100人'!$R:$R,ROW()+0),"")) | AG12: =IF(OR($C12="",AF12=""),"",N(Y12)*AF12) | AH12: =IF(OR($C12="",AF12=""),"",N(AA12)*AF12) | AI12: =IF(AG12="","",AH12-AG12) | AK12: 有給を除くと: 支給日数がずれる件数 | AL12: =SUMPRODUCT(($B$4:$B$203<>"")*($AC$4:$AC$203<>$Y$4:$Y$203))
A13: 10 | B13: 46069 | C13: 有 | D13: 有 | E13: 欠 | F13: 欠 | G13: 欠 | H13: 公 | I13: 公 | J13: 欠 | K13: 欠 | L13: 欠 | M13: 欠 | N13: 欠 | O13: 公 | P13: 出 | Q13: 出 | R13: 出 | S13: 出 | T13: 出 | U13: 出 | V13: 出 | W13: 出 | X13: {=IF($C13="","",IFERROR(MATCH(1,(($C13:$U13="欠")+($C13:$U13="有")+($C13:$U13="公"))*(($D13:$V13="欠")+($D13:$V13="有")+($D13:$V13="公"))*(($E13:$W13="欠")+($E13:$W13="有")+($E13:$W13="公")),0)+2,""))} | Y13: =IF(OR($C13="",X13=""),"",SUMPRODUCT(($C$3:$W$3>X13)*(($C13:$W13="欠")+($C13:$W13="公")))) | Z13: {=IF($C13="","",IFERROR(SMALL(IF((($C13:$W13="欠")+($C13:$W13="有")+($C13:$W13="公")),$C$3:$W$3),3),""))} | AA13: =IF(OR($C13="",Z13=""),"",SUMPRODUCT(($C$3:$W$3>Z13)*(($C13:$W13="欠")+($C13:$W13="公")))) | AB13: {=IF($C13="","",IFERROR(MATCH(1,(($C13:$U13="欠")+($C13:$U13="公"))*(($D13:$V13="欠")+($D13:$V13="公"))*(($E13:$W13="欠")+($E13:$W13="公")),0)+2,""))} | AC13: =IF(OR($C13="",AB13=""),"",SUMPRODUCT(($C$3:$W$3>AB13)*(($C13:$W13="欠")+($C13:$W13="公")))) | AD13: {=IF($C13="","",IFERROR(MATCH(1,(($C13:$U13="欠")+($C13:$U13="有"))*(($D13:$V13="欠")+($D13:$V13="有"))*(($E13:$W13="欠")+($E13:$W13="有")),0)+2,""))} | AE13: =IF(OR($C13="",AD13=""),"",SUMPRODUCT(($C$3:$W$3>AD13)*(($C13:$W13="欠")+($C13:$W13="公")))) | AF13: =IF($C13="","",IFERROR(INDEX('2_100人'!$R:$R,ROW()+0),"")) | AG13: =IF(OR($C13="",AF13=""),"",N(Y13)*AF13) | AH13: =IF(OR($C13="",AF13=""),"",N(AA13)*AF13) | AI13: =IF(AG13="","",AH13-AG13) | AK13: 有給を除くと: 支給日数の合計 | AL13: =SUM($AC$4:$AC$203)
A14: 11 | B14: 46058 | C14: 欠 | D14: 欠 | E14: 公 | F14: 公 | G14: 欠 | H14: 欠 | I14: 欠 | J14: 欠 | K14: 欠 | L14: 公 | M14: 公 | N14: 欠 | O14: 欠 | P14: 欠 | Q14: 欠 | R14: 欠 | S14: 公 | T14: 公 | U14: 出 | V14: 出 | W14: 出 | X14: {=IF($C14="","",IFERROR(MATCH(1,(($C14:$U14="欠")+($C14:$U14="有")+($C14:$U14="公"))*(($D14:$V14="欠")+($D14:$V14="有")+($D14:$V14="公"))*(($E14:$W14="欠")+($E14:$W14="有")+($E14:$W14="公")),0)+2,""))} | Y14: =IF(OR($C14="",X14=""),"",SUMPRODUCT(($C$3:$W$3>X14)*(($C14:$W14="欠")+($C14:$W14="公")))) | Z14: {=IF($C14="","",IFERROR(SMALL(IF((($C14:$W14="欠")+($C14:$W14="有")+($C14:$W14="公")),$C$3:$W$3),3),""))} | AA14: =IF(OR($C14="",Z14=""),"",SUMPRODUCT(($C$3:$W$3>Z14)*(($C14:$W14="欠")+($C14:$W14="公")))) | AB14: {=IF($C14="","",IFERROR(MATCH(1,(($C14:$U14="欠")+($C14:$U14="公"))*(($D14:$V14="欠")+($D14:$V14="公"))*(($E14:$W14="欠")+($E14:$W14="公")),0)+2,""))} | AC14: =IF(OR($C14="",AB14=""),"",SUMPRODUCT(($C$3:$W$3>AB14)*(($C14:$W14="欠")+($C14:$W14="公")))) | AD14: {=IF($C14="","",IFERROR(MATCH(1,(($C14:$U14="欠")+($C14:$U14="有"))*(($D14:$V14="欠")+($D14:$V14="有"))*(($E14:$W14="欠")+($E14:$W14="有")),0)+2,""))} | AE14: =IF(OR($C14="",AD14=""),"",SUMPRODUCT(($C$3:$W$3>AD14)*(($C14:$W14="欠")+($C14:$W14="公")))) | AF14: =IF($C14="","",IFERROR(INDEX('2_100人'!$R:$R,ROW()+0),"")) | AG14: =IF(OR($C14="",AF14=""),"",N(Y14)*AF14) | AH14: =IF(OR($C14="",AF14=""),"",N(AA14)*AF14) | AI14: =IF(AG14="","",AH14-AG14) | AK14: 公休を除くと: 終わる日がずれる件数 | AL14: =SUMPRODUCT(($B$4:$B$203<>"")*($AD$4:$AD$203<>$X$4:$X$203))
A15: 12 | B15: 46034 | C15: 有 | D15: 有 | E15: 欠 | F15: 欠 | G15: 欠 | H15: 公 | I15: 公 | J15: 欠 | K15: 出 | L15: 出 | M15: 出 | N15: 出 | O15: 出 | P15: 出 | Q15: 出 | R15: 出 | S15: 出 | T15: 出 | U15: 出 | V15: 出 | W15: 出 | X15: {=IF($C15="","",IFERROR(MATCH(1,(($C15:$U15="欠")+($C15:$U15="有")+($C15:$U15="公"))*(($D15:$V15="欠")+($D15:$V15="有")+($D15:$V15="公"))*(($E15:$W15="欠")+($E15:$W15="有")+($E15:$W15="公")),0)+2,""))} | Y15: =IF(OR($C15="",X15=""),"",SUMPRODUCT(($C$3:$W$3>X15)*(($C15:$W15="欠")+($C15:$W15="公")))) | Z15: {=IF($C15="","",IFERROR(SMALL(IF((($C15:$W15="欠")+($C15:$W15="有")+($C15:$W15="公")),$C$3:$W$3),3),""))} | AA15: =IF(OR($C15="",Z15=""),"",SUMPRODUCT(($C$3:$W$3>Z15)*(($C15:$W15="欠")+($C15:$W15="公")))) | AB15: {=IF($C15="","",IFERROR(MATCH(1,(($C15:$U15="欠")+($C15:$U15="公"))*(($D15:$V15="欠")+($D15:$V15="公"))*(($E15:$W15="欠")+($E15:$W15="公")),0)+2,""))} | AC15: =IF(OR($C15="",AB15=""),"",SUMPRODUCT(($C$3:$W$3>AB15)*(($C15:$W15="欠")+($C15:$W15="公")))) | AD15: {=IF($C15="","",IFERROR(MATCH(1,(($C15:$U15="欠")+($C15:$U15="有"))*(($D15:$V15="欠")+($D15:$V15="有"))*(($E15:$W15="欠")+($E15:$W15="有")),0)+2,""))} | AE15: =IF(OR($C15="",AD15=""),"",SUMPRODUCT(($C$3:$W$3>AD15)*(($C15:$W15="欠")+($C15:$W15="公")))) | AF15: =IF($C15="","",IFERROR(INDEX('2_100人'!$R:$R,ROW()+0),"")) | AG15: =IF(OR($C15="",AF15=""),"",N(Y15)*AF15) | AH15: =IF(OR($C15="",AF15=""),"",N(AA15)*AF15) | AI15: =IF(AG15="","",AH15-AG15) | AK15: 公休を除くと: 支給日数がずれる件数 | AL15: =SUMPRODUCT(($B$4:$B$203<>"")*($AE$4:$AE$203<>$Y$4:$Y$203))
A16: 13 | B16: 46182 | C16: 欠 | D16: 出 | E16: 出 | F16: 欠 | G16: 公 | H16: 公 | I16: 欠 | J16: 欠 | K16: 欠 | L16: 欠 | M16: 欠 | N16: 公 | O16: 公 | P16: 欠 | Q16: 出 | R16: 出 | S16: 出 | T16: 出 | U16: 出 | V16: 出 | W16: 出 | X16: {=IF($C16="","",IFERROR(MATCH(1,(($C16:$U16="欠")+($C16:$U16="有")+($C16:$U16="公"))*(($D16:$V16="欠")+($D16:$V16="有")+($D16:$V16="公"))*(($E16:$W16="欠")+($E16:$W16="有")+($E16:$W16="公")),0)+2,""))} | Y16: =IF(OR($C16="",X16=""),"",SUMPRODUCT(($C$3:$W$3>X16)*(($C16:$W16="欠")+($C16:$W16="公")))) | Z16: {=IF($C16="","",IFERROR(SMALL(IF((($C16:$W16="欠")+($C16:$W16="有")+($C16:$W16="公")),$C$3:$W$3),3),""))} | AA16: =IF(OR($C16="",Z16=""),"",SUMPRODUCT(($C$3:$W$3>Z16)*(($C16:$W16="欠")+($C16:$W16="公")))) | AB16: {=IF($C16="","",IFERROR(MATCH(1,(($C16:$U16="欠")+($C16:$U16="公"))*(($D16:$V16="欠")+($D16:$V16="公"))*(($E16:$W16="欠")+($E16:$W16="公")),0)+2,""))} | AC16: =IF(OR($C16="",AB16=""),"",SUMPRODUCT(($C$3:$W$3>AB16)*(($C16:$W16="欠")+($C16:$W16="公")))) | AD16: {=IF($C16="","",IFERROR(MATCH(1,(($C16:$U16="欠")+($C16:$U16="有"))*(($D16:$V16="欠")+($D16:$V16="有"))*(($E16:$W16="欠")+($E16:$W16="有")),0)+2,""))} | AE16: =IF(OR($C16="",AD16=""),"",SUMPRODUCT(($C$3:$W$3>AD16)*(($C16:$W16="欠")+($C16:$W16="公")))) | AF16: =IF($C16="","",IFERROR(INDEX('2_100人'!$R:$R,ROW()+0),"")) | AG16: =IF(OR($C16="",AF16=""),"",N(Y16)*AF16) | AH16: =IF(OR($C16="",AF16=""),"",N(AA16)*AF16) | AI16: =IF(AG16="","",AH16-AG16) | AK16: 公休を除くと: 支給日数の合計 | AL16: =SUM($AE$4:$AE$203)
A17: 14 | B17: 46206 | C17: 有 | D17: 公 | E17: 公 | F17: 有 | G17: 欠 | H17: 欠 | I17: 出 | J17: 出 | K17: 出 | L17: 出 | M17: 出 | N17: 出 | O17: 出 | P17: 出 | Q17: 出 | R17: 出 | S17: 出 | T17: 出 | U17: 出 | V17: 出 | W17: 出 | X17: {=IF($C17="","",IFERROR(MATCH(1,(($C17:$U17="欠")+($C17:$U17="有")+($C17:$U17="公"))*(($D17:$V17="欠")+($D17:$V17="有")+($D17:$V17="公"))*(($E17:$W17="欠")+($E17:$W17="有")+($E17:$W17="公")),0)+2,""))} | Y17: =IF(OR($C17="",X17=""),"",SUMPRODUCT(($C$3:$W$3>X17)*(($C17:$W17="欠")+($C17:$W17="公")))) | Z17: {=IF($C17="","",IFERROR(SMALL(IF((($C17:$W17="欠")+($C17:$W17="有")+($C17:$W17="公")),$C$3:$W$3),3),""))} | AA17: =IF(OR($C17="",Z17=""),"",SUMPRODUCT(($C$3:$W$3>Z17)*(($C17:$W17="欠")+($C17:$W17="公")))) | AB17: {=IF($C17="","",IFERROR(MATCH(1,(($C17:$U17="欠")+($C17:$U17="公"))*(($D17:$V17="欠")+($D17:$V17="公"))*(($E17:$W17="欠")+($E17:$W17="公")),0)+2,""))} | AC17: =IF(OR($C17="",AB17=""),"",SUMPRODUCT(($C$3:$W$3>AB17)*(($C17:$W17="欠")+($C17:$W17="公")))) | AD17: {=IF($C17="","",IFERROR(MATCH(1,(($C17:$U17="欠")+($C17:$U17="有"))*(($D17:$V17="欠")+($D17:$V17="有"))*(($E17:$W17="欠")+($E17:$W17="有")),0)+2,""))} | AE17: =IF(OR($C17="",AD17=""),"",SUMPRODUCT(($C$3:$W$3>AD17)*(($C17:$W17="欠")+($C17:$W17="公")))) | AF17: =IF($C17="","",IFERROR(INDEX('2_100人'!$R:$R,ROW()+0),"")) | AG17: =IF(OR($C17="",AF17=""),"",N(Y17)*AF17) | AH17: =IF(OR($C17="",AF17=""),"",N(AA17)*AF17) | AI17: =IF(AG17="","",AH17-AG17) | AK17: 支給額の合計（正しい数え方） | AL17: =SUM($AG$4:$AG$203)
A18: 15 | B18: 46189 | C18: 有 | D18: 有 | E18: 欠 | F18: 欠 | G18: 公 | H18: 出 | I18: 出 | J18: 出 | K18: 出 | L18: 出 | M18: 出 | N18: 出 | O18: 出 | P18: 出 | Q18: 出 | R18: 出 | S18: 出 | T18: 出 | U18: 出 | V18: 出 | W18: 出 | X18: {=IF($C18="","",IFERROR(MATCH(1,(($C18:$U18="欠")+($C18:$U18="有")+($C18:$U18="公"))*(($D18:$V18="欠")+($D18:$V18="有")+($D18:$V18="公"))*(($E18:$W18="欠")+($E18:$W18="有")+($E18:$W18="公")),0)+2,""))} | Y18: =IF(OR($C18="",X18=""),"",SUMPRODUCT(($C$3:$W$3>X18)*(($C18:$W18="欠")+($C18:$W18="公")))) | Z18: {=IF($C18="","",IFERROR(SMALL(IF((($C18:$W18="欠")+($C18:$W18="有")+($C18:$W18="公")),$C$3:$W$3),3),""))} | AA18: =IF(OR($C18="",Z18=""),"",SUMPRODUCT(($C$3:$W$3>Z18)*(($C18:$W18="欠")+($C18:$W18="公")))) | AB18: {=IF($C18="","",IFERROR(MATCH(1,(($C18:$U18="欠")+($C18:$U18="公"))*(($D18:$V18="欠")+($D18:$V18="公"))*(($E18:$W18="欠")+($E18:$W18="公")),0)+2,""))} | AC18: =IF(OR($C18="",AB18=""),"",SUMPRODUCT(($C$3:$W$3>AB18)*(($C18:$W18="欠")+($C18:$W18="公")))) | AD18: {=IF($C18="","",IFERROR(MATCH(1,(($C18:$U18="欠")+($C18:$U18="有"))*(($D18:$V18="欠")+($D18:$V18="有"))*(($E18:$W18="欠")+($E18:$W18="有")),0)+2,""))} | AE18: =IF(OR($C18="",AD18=""),"",SUMPRODUCT(($C$3:$W$3>AD18)*(($C18:$W18="欠")+($C18:$W18="公")))) | AF18: =IF($C18="","",IFERROR(INDEX('2_100人'!$R:$R,ROW()+0),"")) | AG18: =IF(OR($C18="",AF18=""),"",N(Y18)*AF18) | AH18: =IF(OR($C18="",AF18=""),"",N(AA18)*AF18) | AI18: =IF(AG18="","",AH18-AG18)
A19: 16 | B19: 46206 | C19: 有 | D19: 出 | E19: 出 | F19: 有 | G19: 欠 | H19: 欠 | I19: 欠 | J19: 欠 | K19: 公 | L19: 公 | M19: 欠 | N19: 欠 | O19: 欠 | P19: 欠 | Q19: 欠 | R19: 公 | S19: 公 | T19: 出 | U19: 出 | V19: 出 | W19: 出 | X19: {=IF($C19="","",IFERROR(MATCH(1,(($C19:$U19="欠")+($C19:$U19="有")+($C19:$U19="公"))*(($D19:$V19="欠")+($D19:$V19="有")+($D19:$V19="公"))*(($E19:$W19="欠")+($E19:$W19="有")+($E19:$W19="公")),0)+2,""))} | Y19: =IF(OR($C19="",X19=""),"",SUMPRODUCT(($C$3:$W$3>X19)*(($C19:$W19="欠")+($C19:$W19="公")))) | Z19: {=IF($C19="","",IFERROR(SMALL(IF((($C19:$W19="欠")+($C19:$W19="有")+($C19:$W19="公")),$C$3:$W$3),3),""))} | AA19: =IF(OR($C19="",Z19=""),"",SUMPRODUCT(($C$3:$W$3>Z19)*(($C19:$W19="欠")+($C19:$W19="公")))) | AB19: {=IF($C19="","",IFERROR(MATCH(1,(($C19:$U19="欠")+($C19:$U19="公"))*(($D19:$V19="欠")+($D19:$V19="公"))*(($E19:$W19="欠")+($E19:$W19="公")),0)+2,""))} | AC19: =IF(OR($C19="",AB19=""),"",SUMPRODUCT(($C$3:$W$3>AB19)*(($C19:$W19="欠")+($C19:$W19="公")))) | AD19: {=IF($C19="","",IFERROR(MATCH(1,(($C19:$U19="欠")+($C19:$U19="有"))*(($D19:$V19="欠")+($D19:$V19="有"))*(($E19:$W19="欠")+($E19:$W19="有")),0)+2,""))} | AE19: =IF(OR($C19="",AD19=""),"",SUMPRODUCT(($C$3:$W$3>AD19)*(($C19:$W19="欠")+($C19:$W19="公")))) | AF19: =IF($C19="","",IFERROR(INDEX('2_100人'!$R:$R,ROW()+0),"")) | AG19: =IF(OR($C19="",AF19=""),"",N(Y19)*AF19) | AH19: =IF(OR($C19="",AF19=""),"",N(AA19)*AF19) | AI19: =IF(AG19="","",AH19-AG19)
A20: 17 | B20: 46233 | C20: 欠 | D20: 欠 | E20: 公 | F20: 公 | G20: 出 | H20: 出 | I20: 出 | J20: 出 | K20: 出 | L20: 出 | M20: 出 | N20: 出 | O20: 出 | P20: 出 | Q20: 出 | R20: 出 | S20: 出 | T20: 出 | U20: 出 | V20: 出 | W20: 出 | X20: {=IF($C20="","",IFERROR(MATCH(1,(($C20:$U20="欠")+($C20:$U20="有")+($C20:$U20="公"))*(($D20:$V20="欠")+($D20:$V20="有")+($D20:$V20="公"))*(($E20:$W20="欠")+($E20:$W20="有")+($E20:$W20="公")),0)+2,""))} | Y20: =IF(OR($C20="",X20=""),"",SUMPRODUCT(($C$3:$W$3>X20)*(($C20:$W20="欠")+($C20:$W20="公")))) | Z20: {=IF($C20="","",IFERROR(SMALL(IF((($C20:$W20="欠")+($C20:$W20="有")+($C20:$W20="公")),$C$3:$W$3),3),""))} | AA20: =IF(OR($C20="",Z20=""),"",SUMPRODUCT(($C$3:$W$3>Z20)*(($C20:$W20="欠")+($C20:$W20="公")))) | AB20: {=IF($C20="","",IFERROR(MATCH(1,(($C20:$U20="欠")+($C20:$U20="公"))*(($D20:$V20="欠")+($D20:$V20="公"))*(($E20:$W20="欠")+($E20:$W20="公")),0)+2,""))} | AC20: =IF(OR($C20="",AB20=""),"",SUMPRODUCT(($C$3:$W$3>AB20)*(($C20:$W20="欠")+($C20:$W20="公")))) | AD20: {=IF($C20="","",IFERROR(MATCH(1,(($C20:$U20="欠")+($C20:$U20="有"))*(($D20:$V20="欠")+($D20:$V20="有"))*(($E20:$W20="欠")+($E20:$W20="有")),0)+2,""))} | AE20: =IF(OR($C20="",AD20=""),"",SUMPRODUCT(($C$3:$W$3>AD20)*(($C20:$W20="欠")+($C20:$W20="公")))) | AF20: =IF($C20="","",IFERROR(INDEX('2_100人'!$R:$R,ROW()+0),"")) | AG20: =IF(OR($C20="",AF20=""),"",N(Y20)*AF20) | AH20: =IF(OR($C20="",AF20=""),"",N(AA20)*AF20) | AI20: =IF(AG20="","",AH20-AG20)
A21: 18 | B21: 46219 | C21: 欠 | D21: 欠 | E21: 公 | F21: 公 | G21: 出 | H21: 出 | I21: 出 | J21: 出 | K21: 出 | L21: 出 | M21: 出 | N21: 出 | O21: 出 | P21: 出 | Q21: 出 | R21: 出 | S21: 出 | T21: 出 | U21: 出 | V21: 出 | W21: 出 | X21: {=IF($C21="","",IFERROR(MATCH(1,(($C21:$U21="欠")+($C21:$U21="有")+($C21:$U21="公"))*(($D21:$V21="欠")+($D21:$V21="有")+($D21:$V21="公"))*(($E21:$W21="欠")+($E21:$W21="有")+($E21:$W21="公")),0)+2,""))} | Y21: =IF(OR($C21="",X21=""),"",SUMPRODUCT(($C$3:$W$3>X21)*(($C21:$W21="欠")+($C21:$W21="公")))) | Z21: {=IF($C21="","",IFERROR(SMALL(IF((($C21:$W21="欠")+($C21:$W21="有")+($C21:$W21="公")),$C$3:$W$3),3),""))} | AA21: =IF(OR($C21="",Z21=""),"",SUMPRODUCT(($C$3:$W$3>Z21)*(($C21:$W21="欠")+($C21:$W21="公")))) | AB21: {=IF($C21="","",IFERROR(MATCH(1,(($C21:$U21="欠")+($C21:$U21="公"))*(($D21:$V21="欠")+($D21:$V21="公"))*(($E21:$W21="欠")+($E21:$W21="公")),0)+2,""))} | AC21: =IF(OR($C21="",AB21=""),"",SUMPRODUCT(($C$3:$W$3>AB21)*(($C21:$W21="欠")+($C21:$W21="公")))) | AD21: {=IF($C21="","",IFERROR(MATCH(1,(($C21:$U21="欠")+($C21:$U21="有"))*(($D21:$V21="欠")+($D21:$V21="有"))*(($E21:$W21="欠")+($E21:$W21="有")),0)+2,""))} | AE21: =IF(OR($C21="",AD21=""),"",SUMPRODUCT(($C$3:$W$3>AD21)*(($C21:$W21="欠")+($C21:$W21="公")))) | AF21: =IF($C21="","",IFERROR(INDEX('2_100人'!$R:$R,ROW()+0),"")) | AG21: =IF(OR($C21="",AF21=""),"",N(Y21)*AF21) | AH21: =IF(OR($C21="",AF21=""),"",N(AA21)*AF21) | AI21: =IF(AG21="","",AH21-AG21)
A22: 19 | B22: 46041 | C22: 欠 | D22: 欠 | E22: 欠 | F22: 欠 | G22: 欠 | H22: 公 | I22: 公 | J22: 欠 | K22: 欠 | L22: 欠 | M22: 欠 | N22: 欠 | O22: 公 | P22: 公 | Q22: 欠 | R22: 出 | S22: 出 | T22: 出 | U22: 出 | V22: 出 | W22: 出 | X22: {=IF($C22="","",IFERROR(MATCH(1,(($C22:$U22="欠")+($C22:$U22="有")+($C22:$U22="公"))*(($D22:$V22="欠")+($D22:$V22="有")+($D22:$V22="公"))*(($E22:$W22="欠")+($E22:$W22="有")+($E22:$W22="公")),0)+2,""))} | Y22: =IF(OR($C22="",X22=""),"",SUMPRODUCT(($C$3:$W$3>X22)*(($C22:$W22="欠")+($C22:$W22="公")))) | Z22: {=IF($C22="","",IFERROR(SMALL(IF((($C22:$W22="欠")+($C22:$W22="有")+($C22:$W22="公")),$C$3:$W$3),3),""))} | AA22: =IF(OR($C22="",Z22=""),"",SUMPRODUCT(($C$3:$W$3>Z22)*(($C22:$W22="欠")+($C22:$W22="公")))) | AB22: {=IF($C22="","",IFERROR(MATCH(1,(($C22:$U22="欠")+($C22:$U22="公"))*(($D22:$V22="欠")+($D22:$V22="公"))*(($E22:$W22="欠")+($E22:$W22="公")),0)+2,""))} | AC22: =IF(OR($C22="",AB22=""),"",SUMPRODUCT(($C$3:$W$3>AB22)*(($C22:$W22="欠")+($C22:$W22="公")))) | AD22: {=IF($C22="","",IFERROR(MATCH(1,(($C22:$U22="欠")+($C22:$U22="有"))*(($D22:$V22="欠")+($D22:$V22="有"))*(($E22:$W22="欠")+($E22:$W22="有")),0)+2,""))} | AE22: =IF(OR($C22="",AD22=""),"",SUMPRODUCT(($C$3:$W$3>AD22)*(($C22:$W22="欠")+($C22:$W22="公")))) | AF22: =IF($C22="","",IFERROR(INDEX('2_100人'!$R:$R,ROW()+0),"")) | AG22: =IF(OR($C22="",AF22=""),"",N(Y22)*AF22) | AH22: =IF(OR($C22="",AF22=""),"",N(AA22)*AF22) | AI22: =IF(AG22="","",AH22-AG22)
A23: 20 | B23: 46029 | C23: 有 | D23: 出 | E23: 出 | F23: 公 | G23: 公 | H23: 有 | I23: 欠 | J23: 欠 | K23: 欠 | L23: 欠 | M23: 出 | N23: 出 | O23: 出 | P23: 出 | Q23: 出 | R23: 出 | S23: 出 | T23: 出 | U23: 出 | V23: 出 | W23: 出 | X23: {=IF($C23="","",IFERROR(MATCH(1,(($C23:$U23="欠")+($C23:$U23="有")+($C23:$U23="公"))*(($D23:$V23="欠")+($D23:$V23="有")+($D23:$V23="公"))*(($E23:$W23="欠")+($E23:$W23="有")+($E23:$W23="公")),0)+2,""))} | Y23: =IF(OR($C23="",X23=""),"",SUMPRODUCT(($C$3:$W$3>X23)*(($C23:$W23="欠")+($C23:$W23="公")))) | Z23: {=IF($C23="","",IFERROR(SMALL(IF((($C23:$W23="欠")+($C23:$W23="有")+($C23:$W23="公")),$C$3:$W$3),3),""))} | AA23: =IF(OR($C23="",Z23=""),"",SUMPRODUCT(($C$3:$W$3>Z23)*(($C23:$W23="欠")+($C23:$W23="公")))) | AB23: {=IF($C23="","",IFERROR(MATCH(1,(($C23:$U23="欠")+($C23:$U23="公"))*(($D23:$V23="欠")+($D23:$V23="公"))*(($E23:$W23="欠")+($E23:$W23="公")),0)+2,""))} | AC23: =IF(OR($C23="",AB23=""),"",SUMPRODUCT(($C$3:$W$3>AB23)*(($C23:$W23="欠")+($C23:$W23="公")))) | AD23: {=IF($C23="","",IFERROR(MATCH(1,(($C23:$U23="欠")+($C23:$U23="有"))*(($D23:$V23="欠")+($D23:$V23="有"))*(($E23:$W23="欠")+($E23:$W23="有")),0)+2,""))} | AE23: =IF(OR($C23="",AD23=""),"",SUMPRODUCT(($C$3:$W$3>AD23)*(($C23:$W23="欠")+($C23:$W23="公")))) | AF23: =IF($C23="","",IFERROR(INDEX('2_100人'!$R:$R,ROW()+0),"")) | AG23: =IF(OR($C23="",AF23=""),"",N(Y23)*AF23) | AH23: =IF(OR($C23="",AF23=""),"",N(AA23)*AF23) | AI23: =IF(AG23="","",AH23-AG23)
A24: 21 | B24: 46090 | C24: 有 | D24: 有 | E24: 欠 | F24: 欠 | G24: 欠 | H24: 公 | I24: 公 | J24: 欠 | K24: 欠 | L24: 欠 | M24: 欠 | N24: 欠 | O24: 公 | P24: 公 | Q24: 欠 | R24: 欠 | S24: 欠 | T24: 欠 | U24: 出 | V24: 出 | W24: 出 | X24: {=IF($C24="","",IFERROR(MATCH(1,(($C24:$U24="欠")+($C24:$U24="有")+($C24:$U24="公"))*(($D24:$V24="欠")+($D24:$V24="有")+($D24:$V24="公"))*(($E24:$W24="欠")+($E24:$W24="有")+($E24:$W24="公")),0)+2,""))} | Y24: =IF(OR($C24="",X24=""),"",SUMPRODUCT(($C$3:$W$3>X24)*(($C24:$W24="欠")+($C24:$W24="公")))) | Z24: {=IF($C24="","",IFERROR(SMALL(IF((($C24:$W24="欠")+($C24:$W24="有")+($C24:$W24="公")),$C$3:$W$3),3),""))} | AA24: =IF(OR($C24="",Z24=""),"",SUMPRODUCT(($C$3:$W$3>Z24)*(($C24:$W24="欠")+($C24:$W24="公")))) | AB24: {=IF($C24="","",IFERROR(MATCH(1,(($C24:$U24="欠")+($C24:$U24="公"))*(($D24:$V24="欠")+($D24:$V24="公"))*(($E24:$W24="欠")+($E24:$W24="公")),0)+2,""))} | AC24: =IF(OR($C24="",AB24=""),"",SUMPRODUCT(($C$3:$W$3>AB24)*(($C24:$W24="欠")+($C24:$W24="公")))) | AD24: {=IF($C24="","",IFERROR(MATCH(1,(($C24:$U24="欠")+($C24:$U24="有"))*(($D24:$V24="欠")+($D24:$V24="有"))*(($E24:$W24="欠")+($E24:$W24="有")),0)+2,""))} | AE24: =IF(OR($C24="",AD24=""),"",SUMPRODUCT(($C$3:$W$3>AD24)*(($C24:$W24="欠")+($C24:$W24="公")))) | AF24: =IF($C24="","",IFERROR(INDEX('2_100人'!$R:$R,ROW()+0),"")) | AG24: =IF(OR($C24="",AF24=""),"",N(Y24)*AF24) | AH24: =IF(OR($C24="",AF24=""),"",N(AA24)*AF24) | AI24: =IF(AG24="","",AH24-AG24)
A25: 22 | B25: 46066 | C25: 有 | D25: 公 | E25: 公 | F25: 有 | G25: 欠 | H25: 欠 | I25: 欠 | J25: 欠 | K25: 公 | L25: 公 | M25: 欠 | N25: 欠 | O25: 欠 | P25: 欠 | Q25: 欠 | R25: 公 | S25: 公 | T25: 欠 | U25: 欠 | V25: 出 | W25: 出 | X25: {=IF($C25="","",IFERROR(MATCH(1,(($C25:$U25="欠")+($C25:$U25="有")+($C25:$U25="公"))*(($D25:$V25="欠")+($D25:$V25="有")+($D25:$V25="公"))*(($E25:$W25="欠")+($E25:$W25="有")+($E25:$W25="公")),0)+2,""))} | Y25: =IF(OR($C25="",X25=""),"",SUMPRODUCT(($C$3:$W$3>X25)*(($C25:$W25="欠")+($C25:$W25="公")))) | Z25: {=IF($C25="","",IFERROR(SMALL(IF((($C25:$W25="欠")+($C25:$W25="有")+($C25:$W25="公")),$C$3:$W$3),3),""))} | AA25: =IF(OR($C25="",Z25=""),"",SUMPRODUCT(($C$3:$W$3>Z25)*(($C25:$W25="欠")+($C25:$W25="公")))) | AB25: {=IF($C25="","",IFERROR(MATCH(1,(($C25:$U25="欠")+($C25:$U25="公"))*(($D25:$V25="欠")+($D25:$V25="公"))*(($E25:$W25="欠")+($E25:$W25="公")),0)+2,""))} | AC25: =IF(OR($C25="",AB25=""),"",SUMPRODUCT(($C$3:$W$3>AB25)*(($C25:$W25="欠")+($C25:$W25="公")))) | AD25: {=IF($C25="","",IFERROR(MATCH(1,(($C25:$U25="欠")+($C25:$U25="有"))*(($D25:$V25="欠")+($D25:$V25="有"))*(($E25:$W25="欠")+($E25:$W25="有")),0)+2,""))} | AE25: =IF(OR($C25="",AD25=""),"",SUMPRODUCT(($C$3:$W$3>AD25)*(($C25:$W25="欠")+($C25:$W25="公")))) | AF25: =IF($C25="","",IFERROR(INDEX('2_100人'!$R:$R,ROW()+0),"")) | AG25: =IF(OR($C25="",AF25=""),"",N(Y25)*AF25) | AH25: =IF(OR($C25="",AF25=""),"",N(AA25)*AF25) | AI25: =IF(AG25="","",AH25-AG25)
A26: 23 | B26: 46246 | C26: 有 | D26: 欠 | E26: 欠 | F26: 公 | G26: 公 | H26: 欠 | I26: 欠 | J26: 欠 | K26: 出 | L26: 出 | M26: 出 | N26: 出 | O26: 出 | P26: 出 | Q26: 出 | R26: 出 | S26: 出 | T26: 出 | U26: 出 | V26: 出 | W26: 出 | X26: {=IF($C26="","",IFERROR(MATCH(1,(($C26:$U26="欠")+($C26:$U26="有")+($C26:$U26="公"))*(($D26:$V26="欠")+($D26:$V26="有")+($D26:$V26="公"))*(($E26:$W26="欠")+($E26:$W26="有")+($E26:$W26="公")),0)+2,""))} | Y26: =IF(OR($C26="",X26=""),"",SUMPRODUCT(($C$3:$W$3>X26)*(($C26:$W26="欠")+($C26:$W26="公")))) | Z26: {=IF($C26="","",IFERROR(SMALL(IF((($C26:$W26="欠")+($C26:$W26="有")+($C26:$W26="公")),$C$3:$W$3),3),""))} | AA26: =IF(OR($C26="",Z26=""),"",SUMPRODUCT(($C$3:$W$3>Z26)*(($C26:$W26="欠")+($C26:$W26="公")))) | AB26: {=IF($C26="","",IFERROR(MATCH(1,(($C26:$U26="欠")+($C26:$U26="公"))*(($D26:$V26="欠")+($D26:$V26="公"))*(($E26:$W26="欠")+($E26:$W26="公")),0)+2,""))} | AC26: =IF(OR($C26="",AB26=""),"",SUMPRODUCT(($C$3:$W$3>AB26)*(($C26:$W26="欠")+($C26:$W26="公")))) | AD26: {=IF($C26="","",IFERROR(MATCH(1,(($C26:$U26="欠")+($C26:$U26="有"))*(($D26:$V26="欠")+($D26:$V26="有"))*(($E26:$W26="欠")+($E26:$W26="有")),0)+2,""))} | AE26: =IF(OR($C26="",AD26=""),"",SUMPRODUCT(($C$3:$W$3>AD26)*(($C26:$W26="欠")+($C26:$W26="公")))) | AF26: =IF($C26="","",IFERROR(INDEX('2_100人'!$R:$R,ROW()+0),"")) | AG26: =IF(OR($C26="",AF26=""),"",N(Y26)*AF26) | AH26: =IF(OR($C26="",AF26=""),"",N(AA26)*AF26) | AI26: =IF(AG26="","",AH26-AG26)
A27: 24 | B27: 46100 | C27: 有 | D27: 欠 | E27: 公 | F27: 公 | G27: 欠 | H27: 出 | I27: 出 | J27: 出 | K27: 出 | L27: 出 | M27: 出 | N27: 出 | O27: 出 | P27: 出 | Q27: 出 | R27: 出 | S27: 出 | T27: 出 | U27: 出 | V27: 出 | W27: 出 | X27: {=IF($C27="","",IFERROR(MATCH(1,(($C27:$U27="欠")+($C27:$U27="有")+($C27:$U27="公"))*(($D27:$V27="欠")+($D27:$V27="有")+($D27:$V27="公"))*(($E27:$W27="欠")+($E27:$W27="有")+($E27:$W27="公")),0)+2,""))} | Y27: =IF(OR($C27="",X27=""),"",SUMPRODUCT(($C$3:$W$3>X27)*(($C27:$W27="欠")+($C27:$W27="公")))) | Z27: {=IF($C27="","",IFERROR(SMALL(IF((($C27:$W27="欠")+($C27:$W27="有")+($C27:$W27="公")),$C$3:$W$3),3),""))} | AA27: =IF(OR($C27="",Z27=""),"",SUMPRODUCT(($C$3:$W$3>Z27)*(($C27:$W27="欠")+($C27:$W27="公")))) | AB27: {=IF($C27="","",IFERROR(MATCH(1,(($C27:$U27="欠")+($C27:$U27="公"))*(($D27:$V27="欠")+($D27:$V27="公"))*(($E27:$W27="欠")+($E27:$W27="公")),0)+2,""))} | AC27: =IF(OR($C27="",AB27=""),"",SUMPRODUCT(($C$3:$W$3>AB27)*(($C27:$W27="欠")+($C27:$W27="公")))) | AD27: {=IF($C27="","",IFERROR(MATCH(1,(($C27:$U27="欠")+($C27:$U27="有"))*(($D27:$V27="欠")+($D27:$V27="有"))*(($E27:$W27="欠")+($E27:$W27="有")),0)+2,""))} | AE27: =IF(OR($C27="",AD27=""),"",SUMPRODUCT(($C$3:$W$3>AD27)*(($C27:$W27="欠")+($C27:$W27="公")))) | AF27: =IF($C27="","",IFERROR(INDEX('2_100人'!$R:$R,ROW()+0),"")) | AG27: =IF(OR($C27="",AF27=""),"",N(Y27)*AF27) | AH27: =IF(OR($C27="",AF27=""),"",N(AA27)*AF27) | AI27: =IF(AG27="","",AH27-AG27)
