Workbook

Sheet 1_判定
A1: 定時に会社を出ると、日の入りの前か後か。黄色の2つを選ぶ
D2: 集計
A3: 地点 | B3: 東京 | D3: 日の入りより前に出られる日 | E3: =COUNTIF($F$19:$F$383,"沈む前")
A4: 退社する時刻 | B4: 0.70833333 | D4: 日の入りより後に出る日 | E4: =COUNTIF($F$19:$F$383,"薄明")+COUNTIF($F$19:$F$383,"暗い")
A5: 年 | B5: 2026 | D5: そのうち灯りが要る暗さの日 | E5: =COUNTIF($F$19:$F$383,"暗い")
A6: 地点の列 | B6: =MATCH($B$3,'4_日の入り'!$B$3:$AX$3,0) | D6: 平日の日数 | E6: =SUM($C$19:$C$383)
A7: 2026年の値だけ | D7: 平日のうち日の入り後に出る日 | E7: =COUNTIFS($C$19:$C$383,1,$F$19:$F$383,"<>沈む前")
D8: 平日のうち暗い日 | E8: =COUNTIFS($C$19:$C$383,1,$F$19:$F$383,"暗い")
D9: 一番早い日の入り | E9: =MIN($D$19:$D$383)
D10: その時刻になる最初の日 | E10: =MIN($G$19:$G$383)
D11: その時刻になる最後の日 | E11: =MAX($G$19:$G$383)
D12: 冬至（12月22日）の日の入り | E12: =INDEX($D$19:$D$383,MATCH(DATE($B$5,12,22),$A$19:$A$383,0))
D13: 秋に日の入り後になる最初の日 | E13: =IF(COUNT($H$19:$H$383)=0,"なし",MIN($H$19:$H$383))
D14: 春に日の入り後になる最後の日 | E14: =IF(COUNT($I$19:$I$383)=0,"なし",MAX($I$19:$I$383))
A18: 日付 | B18: 曜日 | C18: 平日 | D18: 日の入り | E18: 薄明の終わり | F18: その時刻に出ると | G18: 一番早い日 | H18: 秋の日の入り後 | I18: 春の日の入り後
A19: 46023 | B19: =TEXT(A19,"aaa") | C19: =IF(OR(WEEKDAY(A19,2)>5,COUNTIF('6_休日'!$A$4:$A$41,A19)>0),0,1) | D19: =INDEX('4_日の入り'!$B$4:$AX$368,1,$B$6) | E19: =INDEX('5_薄明の終わり'!$B$4:$AX$368,1,$B$6) | F19: =IF(ROUND($B$4*1440,0)<ROUND(D19*1440,0),"沈む前",IF(ROUND($B$4*1440,0)<ROUND(E19*1440,0),"薄明","暗い")) | G19: =IF(ROUND(D19*1440,0)=ROUND($E$9*1440,0),A19,"") | H19: =IF(AND(F19<>"沈む前",A19>=DATE($B$5,7,1)),A19,"") | I19: =IF(AND(F19<>"沈む前",A19<DATE($B$5,7,1)),A19,"")
A20: 46024 | B20: =TEXT(A20,"aaa") | C20: =IF(OR(WEEKDAY(A20,2)>5,COUNTIF('6_休日'!$A$4:$A$41,A20)>0),0,1) | D20: =INDEX('4_日の入り'!$B$4:$AX$368,2,$B$6) | E20: =INDEX('5_薄明の終わり'!$B$4:$AX$368,2,$B$6) | F20: =IF(ROUND($B$4*1440,0)<ROUND(D20*1440,0),"沈む前",IF(ROUND($B$4*1440,0)<ROUND(E20*1440,0),"薄明","暗い")) | G20: =IF(ROUND(D20*1440,0)=ROUND($E$9*1440,0),A20,"") | H20: =IF(AND(F20<>"沈む前",A20>=DATE($B$5,7,1)),A20,"") | I20: =IF(AND(F20<>"沈む前",A20<DATE($B$5,7,1)),A20,"")
A21: 46025 | B21: =TEXT(A21,"aaa") | C21: =IF(OR(WEEKDAY(A21,2)>5,COUNTIF('6_休日'!$A$4:$A$41,A21)>0),0,1) | D21: =INDEX('4_日の入り'!$B$4:$AX$368,3,$B$6) | E21: =INDEX('5_薄明の終わり'!$B$4:$AX$368,3,$B$6) | F21: =IF(ROUND($B$4*1440,0)<ROUND(D21*1440,0),"沈む前",IF(ROUND($B$4*1440,0)<ROUND(E21*1440,0),"薄明","暗い")) | G21: =IF(ROUND(D21*1440,0)=ROUND($E$9*1440,0),A21,"") | H21: =IF(AND(F21<>"沈む前",A21>=DATE($B$5,7,1)),A21,"") | I21: =IF(AND(F21<>"沈む前",A21<DATE($B$5,7,1)),A21,"")
A22: 46026 | B22: =TEXT(A22,"aaa") | C22: =IF(OR(WEEKDAY(A22,2)>5,COUNTIF('6_休日'!$A$4:$A$41,A22)>0),0,1) | D22: =INDEX('4_日の入り'!$B$4:$AX$368,4,$B$6) | E22: =INDEX('5_薄明の終わり'!$B$4:$AX$368,4,$B$6) | F22: =IF(ROUND($B$4*1440,0)<ROUND(D22*1440,0),"沈む前",IF(ROUND($B$4*1440,0)<ROUND(E22*1440,0),"薄明","暗い")) | G22: =IF(ROUND(D22*1440,0)=ROUND($E$9*1440,0),A22,"") | H22: =IF(AND(F22<>"沈む前",A22>=DATE($B$5,7,1)),A22,"") | I22: =IF(AND(F22<>"沈む前",A22<DATE($B$5,7,1)),A22,"")
A23: 46027 | B23: =TEXT(A23,"aaa") | C23: =IF(OR(WEEKDAY(A23,2)>5,COUNTIF('6_休日'!$A$4:$A$41,A23)>0),0,1) | D23: =INDEX('4_日の入り'!$B$4:$AX$368,5,$B$6) | E23: =INDEX('5_薄明の終わり'!$B$4:$AX$368,5,$B$6) | F23: =IF(ROUND($B$4*1440,0)<ROUND(D23*1440,0),"沈む前",IF(ROUND($B$4*1440,0)<ROUND(E23*1440,0),"薄明","暗い")) | G23: =IF(ROUND(D23*1440,0)=ROUND($E$9*1440,0),A23,"") | H23: =IF(AND(F23<>"沈む前",A23>=DATE($B$5,7,1)),A23,"") | I23: =IF(AND(F23<>"沈む前",A23<DATE($B$5,7,1)),A23,"")
A24: 46028 | B24: =TEXT(A24,"aaa") | C24: =IF(OR(WEEKDAY(A24,2)>5,COUNTIF('6_休日'!$A$4:$A$41,A24)>0),0,1) | D24: =INDEX('4_日の入り'!$B$4:$AX$368,6,$B$6) | E24: =INDEX('5_薄明の終わり'!$B$4:$AX$368,6,$B$6) | F24: =IF(ROUND($B$4*1440,0)<ROUND(D24*1440,0),"沈む前",IF(ROUND($B$4*1440,0)<ROUND(E24*1440,0),"薄明","暗い")) | G24: =IF(ROUND(D24*1440,0)=ROUND($E$9*1440,0),A24,"") | H24: =IF(AND(F24<>"沈む前",A24>=DATE($B$5,7,1)),A24,"") | I24: =IF(AND(F24<>"沈む前",A24<DATE($B$5,7,1)),A24,"")
A25: 46029 | B25: =TEXT(A25,"aaa") | C25: =IF(OR(WEEKDAY(A25,2)>5,COUNTIF('6_休日'!$A$4:$A$41,A25)>0),0,1) | D25: =INDEX('4_日の入り'!$B$4:$AX$368,7,$B$6) | E25: =INDEX('5_薄明の終わり'!$B$4:$AX$368,7,$B$6) | F25: =IF(ROUND($B$4*1440,0)<ROUND(D25*1440,0),"沈む前",IF(ROUND($B$4*1440,0)<ROUND(E25*1440,0),"薄明","暗い")) | G25: =IF(ROUND(D25*1440,0)=ROUND($E$9*1440,0),A25,"") | H25: =IF(AND(F25<>"沈む前",A25>=DATE($B$5,7,1)),A25,"") | I25: =IF(AND(F25<>"沈む前",A25<DATE($B$5,7,1)),A25,"")
A26: 46030 | B26: =TEXT(A26,"aaa") | C26: =IF(OR(WEEKDAY(A26,2)>5,COUNTIF('6_休日'!$A$4:$A$41,A26)>0),0,1) | D26: =INDEX('4_日の入り'!$B$4:$AX$368,8,$B$6) | E26: =INDEX('5_薄明の終わり'!$B$4:$AX$368,8,$B$6) | F26: =IF(ROUND($B$4*1440,0)<ROUND(D26*1440,0),"沈む前",IF(ROUND($B$4*1440,0)<ROUND(E26*1440,0),"薄明","暗い")) | G26: =IF(ROUND(D26*1440,0)=ROUND($E$9*1440,0),A26,"") | H26: =IF(AND(F26<>"沈む前",A26>=DATE($B$5,7,1)),A26,"") | I26: =IF(AND(F26<>"沈む前",A26<DATE($B$5,7,1)),A26,"")
A27: 46031 | B27: =TEXT(A27,"aaa") | C27: =IF(OR(WEEKDAY(A27,2)>5,COUNTIF('6_休日'!$A$4:$A$41,A27)>0),0,1) | D27: =INDEX('4_日の入り'!$B$4:$AX$368,9,$B$6) | E27: =INDEX('5_薄明の終わり'!$B$4:$AX$368,9,$B$6) | F27: =IF(ROUND($B$4*1440,0)<ROUND(D27*1440,0),"沈む前",IF(ROUND($B$4*1440,0)<ROUND(E27*1440,0),"薄明","暗い")) | G27: =IF(ROUND(D27*1440,0)=ROUND($E$9*1440,0),A27,"") | H27: =IF(AND(F27<>"沈む前",A27>=DATE($B$5,7,1)),A27,"") | I27: =IF(AND(F27<>"沈む前",A27<DATE($B$5,7,1)),A27,"")
A28: 46032 | B28: =TEXT(A28,"aaa") | C28: =IF(OR(WEEKDAY(A28,2)>5,COUNTIF('6_休日'!$A$4:$A$41,A28)>0),0,1) | D28: =INDEX('4_日の入り'!$B$4:$AX$368,10,$B$6) | E28: =INDEX('5_薄明の終わり'!$B$4:$AX$368,10,$B$6) | F28: =IF(ROUND($B$4*1440,0)<ROUND(D28*1440,0),"沈む前",IF(ROUND($B$4*1440,0)<ROUND(E28*1440,0),"薄明","暗い")) | G28: =IF(ROUND(D28*1440,0)=ROUND($E$9*1440,0),A28,"") | H28: =IF(AND(F28<>"沈む前",A28>=DATE($B$5,7,1)),A28,"") | I28: =IF(AND(F28<>"沈む前",A28<DATE($B$5,7,1)),A28,"")
A29: 46033 | B29: =TEXT(A29,"aaa") | C29: =IF(OR(WEEKDAY(A29,2)>5,COUNTIF('6_休日'!$A$4:$A$41,A29)>0),0,1) | D29: =INDEX('4_日の入り'!$B$4:$AX$368,11,$B$6) | E29: =INDEX('5_薄明の終わり'!$B$4:$AX$368,11,$B$6) | F29: =IF(ROUND($B$4*1440,0)<ROUND(D29*1440,0),"沈む前",IF(ROUND($B$4*1440,0)<ROUND(E29*1440,0),"薄明","暗い")) | G29: =IF(ROUND(D29*1440,0)=ROUND($E$9*1440,0),A29,"") | H29: =IF(AND(F29<>"沈む前",A29>=DATE($B$5,7,1)),A29,"") | I29: =IF(AND(F29<>"沈む前",A29<DATE($B$5,7,1)),A29,"")
A30: 46034 | B30: =TEXT(A30,"aaa") | C30: =IF(OR(WEEKDAY(A30,2)>5,COUNTIF('6_休日'!$A$4:$A$41,A30)>0),0,1) | D30: =INDEX('4_日の入り'!$B$4:$AX$368,12,$B$6) | E30: =INDEX('5_薄明の終わり'!$B$4:$AX$368,12,$B$6) | F30: =IF(ROUND($B$4*1440,0)<ROUND(D30*1440,0),"沈む前",IF(ROUND($B$4*1440,0)<ROUND(E30*1440,0),"薄明","暗い")) | G30: =IF(ROUND(D30*1440,0)=ROUND($E$9*1440,0),A30,"") | H30: =IF(AND(F30<>"沈む前",A30>=DATE($B$5,7,1)),A30,"") | I30: =IF(AND(F30<>"沈む前",A30<DATE($B$5,7,1)),A30,"")
A31: 46035 | B31: =TEXT(A31,"aaa") | C31: =IF(OR(WEEKDAY(A31,2)>5,COUNTIF('6_休日'!$A$4:$A$41,A31)>0),0,1) | D31: =INDEX('4_日の入り'!$B$4:$AX$368,13,$B$6) | E31: =INDEX('5_薄明の終わり'!$B$4:$AX$368,13,$B$6) | F31: =IF(ROUND($B$4*1440,0)<ROUND(D31*1440,0),"沈む前",IF(ROUND($B$4*1440,0)<ROUND(E31*1440,0),"薄明","暗い")) | G31: =IF(ROUND(D31*1440,0)=ROUND($E$9*1440,0),A31,"") | H31: =IF(AND(F31<>"沈む前",A31>=DATE($B$5,7,1)),A31,"") | I31: =IF(AND(F31<>"沈む前",A31<DATE($B$5,7,1)),A31,"")
A32: 46036 | B32: =TEXT(A32,"aaa") | C32: =IF(OR(WEEKDAY(A32,2)>5,COUNTIF('6_休日'!$A$4:$A$41,A32)>0),0,1) | D32: =INDEX('4_日の入り'!$B$4:$AX$368,14,$B$6) | E32: =INDEX('5_薄明の終わり'!$B$4:$AX$368,14,$B$6) | F32: =IF(ROUND($B$4*1440,0)<ROUND(D32*1440,0),"沈む前",IF(ROUND($B$4*1440,0)<ROUND(E32*1440,0),"薄明","暗い")) | G32: =IF(ROUND(D32*1440,0)=ROUND($E$9*1440,0),A32,"") | H32: =IF(AND(F32<>"沈む前",A32>=DATE($B$5,7,1)),A32,"") | I32: =IF(AND(F32<>"沈む前",A32<DATE($B$5,7,1)),A32,"")
A33: 46037 | B33: =TEXT(A33,"aaa") | C33: =IF(OR(WEEKDAY(A33,2)>5,COUNTIF('6_休日'!$A$4:$A$41,A33)>0),0,1) | D33: =INDEX('4_日の入り'!$B$4:$AX$368,15,$B$6) | E33: =INDEX('5_薄明の終わり'!$B$4:$AX$368,15,$B$6) | F33: =IF(ROUND($B$4*1440,0)<ROUND(D33*1440,0),"沈む前",IF(ROUND($B$4*1440,0)<ROUND(E33*1440,0),"薄明","暗い")) | G33: =IF(ROUND(D33*1440,0)=ROUND($E$9*1440,0),A33,"") | H33: =IF(AND(F33<>"沈む前",A33>=DATE($B$5,7,1)),A33,"") | I33: =IF(AND(F33<>"沈む前",A33<DATE($B$5,7,1)),A33,"")
A34: 46038 | B34: =TEXT(A34,"aaa") | C34: =IF(OR(WEEKDAY(A34,2)>5,COUNTIF('6_休日'!$A$4:$A$41,A34)>0),0,1) | D34: =INDEX('4_日の入り'!$B$4:$AX$368,16,$B$6) | E34: =INDEX('5_薄明の終わり'!$B$4:$AX$368,16,$B$6) | F34: =IF(ROUND($B$4*1440,0)<ROUND(D34*1440,0),"沈む前",IF(ROUND($B$4*1440,0)<ROUND(E34*1440,0),"薄明","暗い")) | G34: =IF(ROUND(D34*1440,0)=ROUND($E$9*1440,0),A34,"") | H34: =IF(AND(F34<>"沈む前",A34>=DATE($B$5,7,1)),A34,"") | I34: =IF(AND(F34<>"沈む前",A34<DATE($B$5,7,1)),A34,"")
A35: 46039 | B35: =TEXT(A35,"aaa") | C35: =IF(OR(WEEKDAY(A35,2)>5,COUNTIF('6_休日'!$A$4:$A$41,A35)>0),0,1) | D35: =INDEX('4_日の入り'!$B$4:$AX$368,17,$B$6) | E35: =INDEX('5_薄明の終わり'!$B$4:$AX$368,17,$B$6) | F35: =IF(ROUND($B$4*1440,0)<ROUND(D35*1440,0),"沈む前",IF(ROUND($B$4*1440,0)<ROUND(E35*1440,0),"薄明","暗い")) | G35: =IF(ROUND(D35*1440,0)=ROUND($E$9*1440,0),A35,"") | H35: =IF(AND(F35<>"沈む前",A35>=DATE($B$5,7,1)),A35,"") | I35: =IF(AND(F35<>"沈む前",A35<DATE($B$5,7,1)),A35,"")
A36: 46040 | B36: =TEXT(A36,"aaa") | C36: =IF(OR(WEEKDAY(A36,2)>5,COUNTIF('6_休日'!$A$4:$A$41,A36)>0),0,1) | D36: =INDEX('4_日の入り'!$B$4:$AX$368,18,$B$6) | E36: =INDEX('5_薄明の終わり'!$B$4:$AX$368,18,$B$6) | F36: =IF(ROUND($B$4*1440,0)<ROUND(D36*1440,0),"沈む前",IF(ROUND($B$4*1440,0)<ROUND(E36*1440,0),"薄明","暗い")) | G36: =IF(ROUND(D36*1440,0)=ROUND($E$9*1440,0),A36,"") | H36: =IF(AND(F36<>"沈む前",A36>=DATE($B$5,7,1)),A36,"") | I36: =IF(AND(F36<>"沈む前",A36<DATE($B$5,7,1)),A36,"")
A37: 46041 | B37: =TEXT(A37,"aaa") | C37: =IF(OR(WEEKDAY(A37,2)>5,COUNTIF('6_休日'!$A$4:$A$41,A37)>0),0,1) | D37: =INDEX('4_日の入り'!$B$4:$AX$368,19,$B$6) | E37: =INDEX('5_薄明の終わり'!$B$4:$AX$368,19,$B$6) | F37: =IF(ROUND($B$4*1440,0)<ROUND(D37*1440,0),"沈む前",IF(ROUND($B$4*1440,0)<ROUND(E37*1440,0),"薄明","暗い")) | G37: =IF(ROUND(D37*1440,0)=ROUND($E$9*1440,0),A37,"") | H37: =IF(AND(F37<>"沈む前",A37>=DATE($B$5,7,1)),A37,"") | I37: =IF(AND(F37<>"沈む前",A37<DATE($B$5,7,1)),A37,"")
A38: 46042 | B38: =TEXT(A38,"aaa") | C38: =IF(OR(WEEKDAY(A38,2)>5,COUNTIF('6_休日'!$A$4:$A$41,A38)>0),0,1) | D38: =INDEX('4_日の入り'!$B$4:$AX$368,20,$B$6) | E38: =INDEX('5_薄明の終わり'!$B$4:$AX$368,20,$B$6) | F38: =IF(ROUND($B$4*1440,0)<ROUND(D38*1440,0),"沈む前",IF(ROUND($B$4*1440,0)<ROUND(E38*1440,0),"薄明","暗い")) | G38: =IF(ROUND(D38*1440,0)=ROUND($E$9*1440,0),A38,"") | H38: =IF(AND(F38<>"沈む前",A38>=DATE($B$5,7,1)),A38,"") | I38: =IF(AND(F38<>"沈む前",A38<DATE($B$5,7,1)),A38,"")
A39: 46043 | B39: =TEXT(A39,"aaa") | C39: =IF(OR(WEEKDAY(A39,2)>5,COUNTIF('6_休日'!$A$4:$A$41,A39)>0),0,1) | D39: =INDEX('4_日の入り'!$B$4:$AX$368,21,$B$6) | E39: =INDEX('5_薄明の終わり'!$B$4:$AX$368,21,$B$6) | F39: =IF(ROUND($B$4*1440,0)<ROUND(D39*1440,0),"沈む前",IF(ROUND($B$4*1440,0)<ROUND(E39*1440,0),"薄明","暗い")) | G39: =IF(ROUND(D39*1440,0)=ROUND($E$9*1440,0),A39,"") | H39: =IF(AND(F39<>"沈む前",A39>=DATE($B$5,7,1)),A39,"") | I39: =IF(AND(F39<>"沈む前",A39<DATE($B$5,7,1)),A39,"")
A40: 46044 | B40: =TEXT(A40,"aaa") | C40: =IF(OR(WEEKDAY(A40,2)>5,COUNTIF('6_休日'!$A$4:$A$41,A40)>0),0,1) | D40: =INDEX('4_日の入り'!$B$4:$AX$368,22,$B$6) | E40: =INDEX('5_薄明の終わり'!$B$4:$AX$368,22,$B$6) | F40: =IF(ROUND($B$4*1440,0)<ROUND(D40*1440,0),"沈む前",IF(ROUND($B$4*1440,0)<ROUND(E40*1440,0),"薄明","暗い")) | G40: =IF(ROUND(D40*1440,0)=ROUND($E$9*1440,0),A40,"") | H40: =IF(AND(F40<>"沈む前",A40>=DATE($B$5,7,1)),A40,"") | I40: =IF(AND(F40<>"沈む前",A40<DATE($B$5,7,1)),A40,"")
A41: 46045 | B41: =TEXT(A41,"aaa") | C41: =IF(OR(WEEKDAY(A41,2)>5,COUNTIF('6_休日'!$A$4:$A$41,A41)>0),0,1) | D41: =INDEX('4_日の入り'!$B$4:$AX$368,23,$B$6) | E41: =INDEX('5_薄明の終わり'!$B$4:$AX$368,23,$B$6) | F41: =IF(ROUND($B$4*1440,0)<ROUND(D41*1440,0),"沈む前",IF(ROUND($B$4*1440,0)<ROUND(E41*1440,0),"薄明","暗い")) | G41: =IF(ROUND(D41*1440,0)=ROUND($E$9*1440,0),A41,"") | H41: =IF(AND(F41<>"沈む前",A41>=DATE($B$5,7,1)),A41,"") | I41: =IF(AND(F41<>"沈む前",A41<DATE($B$5,7,1)),A41,"")
A42: 46046 | B42: =TEXT(A42,"aaa") | C42: =IF(OR(WEEKDAY(A42,2)>5,COUNTIF('6_休日'!$A$4:$A$41,A42)>0),0,1) | D42: =INDEX('4_日の入り'!$B$4:$AX$368,24,$B$6) | E42: =INDEX('5_薄明の終わり'!$B$4:$AX$368,24,$B$6) | F42: =IF(ROUND($B$4*1440,0)<ROUND(D42*1440,0),"沈む前",IF(ROUND($B$4*1440,0)<ROUND(E42*1440,0),"薄明","暗い")) | G42: =IF(ROUND(D42*1440,0)=ROUND($E$9*1440,0),A42,"") | H42: =IF(AND(F42<>"沈む前",A42>=DATE($B$5,7,1)),A42,"") | I42: =IF(AND(F42<>"沈む前",A42<DATE($B$5,7,1)),A42,"")
A43: 46047 | B43: =TEXT(A43,"aaa") | C43: =IF(OR(WEEKDAY(A43,2)>5,COUNTIF('6_休日'!$A$4:$A$41,A43)>0),0,1) | D43: =INDEX('4_日の入り'!$B$4:$AX$368,25,$B$6) | E43: =INDEX('5_薄明の終わり'!$B$4:$AX$368,25,$B$6) | F43: =IF(ROUND($B$4*1440,0)<ROUND(D43*1440,0),"沈む前",IF(ROUND($B$4*1440,0)<ROUND(E43*1440,0),"薄明","暗い")) | G43: =IF(ROUND(D43*1440,0)=ROUND($E$9*1440,0),A43,"") | H43: =IF(AND(F43<>"沈む前",A43>=DATE($B$5,7,1)),A43,"") | I43: =IF(AND(F43<>"沈む前",A43<DATE($B$5,7,1)),A43,"")
...

Sheet 2_地点別
A1: 49地点を3つの時刻で比べる。黄色の時刻は変えられる
A2: 日の入り後は、その時刻が日の入りと同じ分か後の日。暗いは、常用薄明の終わりと同じ分か後の日
A4: 退社する時刻 | D4: 0.70833333 | F4: 0.72916667 | H4: 0.75
A5: 地点 | B5: 一番早い日の入り | C5: 冬至の日の入り | D5: 日の入り後 | E5: 暗い | F5: 日の入り後 | G5: 暗い | H5: 日の入り後 | I5: 暗い
A6: 札幌 | B6: =MIN(INDEX('4_日の入り'!$B$4:$AX$368,0,1)) | C6: =INDEX('4_日の入り'!$B$4:$AX$368,356,1) | D6: =SUMPRODUCT(--(ROUND(INDEX('4_日の入り'!$B$4:$AX$368,0,1)*1440,0)<=ROUND(D$4*1440,0))) | E6: =SUMPRODUCT(--(ROUND(INDEX('5_薄明の終わり'!$B$4:$AX$368,0,1)*1440,0)<=ROUND(D$4*1440,0))) | F6: =SUMPRODUCT(--(ROUND(INDEX('4_日の入り'!$B$4:$AX$368,0,1)*1440,0)<=ROUND(F$4*1440,0))) | G6: =SUMPRODUCT(--(ROUND(INDEX('5_薄明の終わり'!$B$4:$AX$368,0,1)*1440,0)<=ROUND(F$4*1440,0))) | H6: =SUMPRODUCT(--(ROUND(INDEX('4_日の入り'!$B$4:$AX$368,0,1)*1440,0)<=ROUND(H$4*1440,0))) | I6: =SUMPRODUCT(--(ROUND(INDEX('5_薄明の終わり'!$B$4:$AX$368,0,1)*1440,0)<=ROUND(H$4*1440,0)))
A7: 根室 | B7: =MIN(INDEX('4_日の入り'!$B$4:$AX$368,0,2)) | C7: =INDEX('4_日の入り'!$B$4:$AX$368,356,2) | D7: =SUMPRODUCT(--(ROUND(INDEX('4_日の入り'!$B$4:$AX$368,0,2)*1440,0)<=ROUND(D$4*1440,0))) | E7: =SUMPRODUCT(--(ROUND(INDEX('5_薄明の終わり'!$B$4:$AX$368,0,2)*1440,0)<=ROUND(D$4*1440,0))) | F7: =SUMPRODUCT(--(ROUND(INDEX('4_日の入り'!$B$4:$AX$368,0,2)*1440,0)<=ROUND(F$4*1440,0))) | G7: =SUMPRODUCT(--(ROUND(INDEX('5_薄明の終わり'!$B$4:$AX$368,0,2)*1440,0)<=ROUND(F$4*1440,0))) | H7: =SUMPRODUCT(--(ROUND(INDEX('4_日の入り'!$B$4:$AX$368,0,2)*1440,0)<=ROUND(H$4*1440,0))) | I7: =SUMPRODUCT(--(ROUND(INDEX('5_薄明の終わり'!$B$4:$AX$368,0,2)*1440,0)<=ROUND(H$4*1440,0)))
A8: 青森 | B8: =MIN(INDEX('4_日の入り'!$B$4:$AX$368,0,3)) | C8: =INDEX('4_日の入り'!$B$4:$AX$368,356,3) | D8: =SUMPRODUCT(--(ROUND(INDEX('4_日の入り'!$B$4:$AX$368,0,3)*1440,0)<=ROUND(D$4*1440,0))) | E8: =SUMPRODUCT(--(ROUND(INDEX('5_薄明の終わり'!$B$4:$AX$368,0,3)*1440,0)<=ROUND(D$4*1440,0))) | F8: =SUMPRODUCT(--(ROUND(INDEX('4_日の入り'!$B$4:$AX$368,0,3)*1440,0)<=ROUND(F$4*1440,0))) | G8: =SUMPRODUCT(--(ROUND(INDEX('5_薄明の終わり'!$B$4:$AX$368,0,3)*1440,0)<=ROUND(F$4*1440,0))) | H8: =SUMPRODUCT(--(ROUND(INDEX('4_日の入り'!$B$4:$AX$368,0,3)*1440,0)<=ROUND(H$4*1440,0))) | I8: =SUMPRODUCT(--(ROUND(INDEX('5_薄明の終わり'!$B$4:$AX$368,0,3)*1440,0)<=ROUND(H$4*1440,0)))
A9: 盛岡 | B9: =MIN(INDEX('4_日の入り'!$B$4:$AX$368,0,4)) | C9: =INDEX('4_日の入り'!$B$4:$AX$368,356,4) | D9: =SUMPRODUCT(--(ROUND(INDEX('4_日の入り'!$B$4:$AX$368,0,4)*1440,0)<=ROUND(D$4*1440,0))) | E9: =SUMPRODUCT(--(ROUND(INDEX('5_薄明の終わり'!$B$4:$AX$368,0,4)*1440,0)<=ROUND(D$4*1440,0))) | F9: =SUMPRODUCT(--(ROUND(INDEX('4_日の入り'!$B$4:$AX$368,0,4)*1440,0)<=ROUND(F$4*1440,0))) | G9: =SUMPRODUCT(--(ROUND(INDEX('5_薄明の終わり'!$B$4:$AX$368,0,4)*1440,0)<=ROUND(F$4*1440,0))) | H9: =SUMPRODUCT(--(ROUND(INDEX('4_日の入り'!$B$4:$AX$368,0,4)*1440,0)<=ROUND(H$4*1440,0))) | I9: =SUMPRODUCT(--(ROUND(INDEX('5_薄明の終わり'!$B$4:$AX$368,0,4)*1440,0)<=ROUND(H$4*1440,0)))
A10: 仙台 | B10: =MIN(INDEX('4_日の入り'!$B$4:$AX$368,0,5)) | C10: =INDEX('4_日の入り'!$B$4:$AX$368,356,5) | D10: =SUMPRODUCT(--(ROUND(INDEX('4_日の入り'!$B$4:$AX$368,0,5)*1440,0)<=ROUND(D$4*1440,0))) | E10: =SUMPRODUCT(--(ROUND(INDEX('5_薄明の終わり'!$B$4:$AX$368,0,5)*1440,0)<=ROUND(D$4*1440,0))) | F10: =SUMPRODUCT(--(ROUND(INDEX('4_日の入り'!$B$4:$AX$368,0,5)*1440,0)<=ROUND(F$4*1440,0))) | G10: =SUMPRODUCT(--(ROUND(INDEX('5_薄明の終わり'!$B$4:$AX$368,0,5)*1440,0)<=ROUND(F$4*1440,0))) | H10: =SUMPRODUCT(--(ROUND(INDEX('4_日の入り'!$B$4:$AX$368,0,5)*1440,0)<=ROUND(H$4*1440,0))) | I10: =SUMPRODUCT(--(ROUND(INDEX('5_薄明の終わり'!$B$4:$AX$368,0,5)*1440,0)<=ROUND(H$4*1440,0)))
A11: 秋田 | B11: =MIN(INDEX('4_日の入り'!$B$4:$AX$368,0,6)) | C11: =INDEX('4_日の入り'!$B$4:$AX$368,356,6) | D11: =SUMPRODUCT(--(ROUND(INDEX('4_日の入り'!$B$4:$AX$368,0,6)*1440,0)<=ROUND(D$4*1440,0))) | E11: =SUMPRODUCT(--(ROUND(INDEX('5_薄明の終わり'!$B$4:$AX$368,0,6)*1440,0)<=ROUND(D$4*1440,0))) | F11: =SUMPRODUCT(--(ROUND(INDEX('4_日の入り'!$B$4:$AX$368,0,6)*1440,0)<=ROUND(F$4*1440,0))) | G11: =SUMPRODUCT(--(ROUND(INDEX('5_薄明の終わり'!$B$4:$AX$368,0,6)*1440,0)<=ROUND(F$4*1440,0))) | H11: =SUMPRODUCT(--(ROUND(INDEX('4_日の入り'!$B$4:$AX$368,0,6)*1440,0)<=ROUND(H$4*1440,0))) | I11: =SUMPRODUCT(--(ROUND(INDEX('5_薄明の終わり'!$B$4:$AX$368,0,6)*1440,0)<=ROUND(H$4*1440,0)))
A12: 山形 | B12: =MIN(INDEX('4_日の入り'!$B$4:$AX$368,0,7)) | C12: =INDEX('4_日の入り'!$B$4:$AX$368,356,7) | D12: =SUMPRODUCT(--(ROUND(INDEX('4_日の入り'!$B$4:$AX$368,0,7)*1440,0)<=ROUND(D$4*1440,0))) | E12: =SUMPRODUCT(--(ROUND(INDEX('5_薄明の終わり'!$B$4:$AX$368,0,7)*1440,0)<=ROUND(D$4*1440,0))) | F12: =SUMPRODUCT(--(ROUND(INDEX('4_日の入り'!$B$4:$AX$368,0,7)*1440,0)<=ROUND(F$4*1440,0))) | G12: =SUMPRODUCT(--(ROUND(INDEX('5_薄明の終わり'!$B$4:$AX$368,0,7)*1440,0)<=ROUND(F$4*1440,0))) | H12: =SUMPRODUCT(--(ROUND(INDEX('4_日の入り'!$B$4:$AX$368,0,7)*1440,0)<=ROUND(H$4*1440,0))) | I12: =SUMPRODUCT(--(ROUND(INDEX('5_薄明の終わり'!$B$4:$AX$368,0,7)*1440,0)<=ROUND(H$4*1440,0)))
A13: 福島 | B13: =MIN(INDEX('4_日の入り'!$B$4:$AX$368,0,8)) | C13: =INDEX('4_日の入り'!$B$4:$AX$368,356,8) | D13: =SUMPRODUCT(--(ROUND(INDEX('4_日の入り'!$B$4:$AX$368,0,8)*1440,0)<=ROUND(D$4*1440,0))) | E13: =SUMPRODUCT(--(ROUND(INDEX('5_薄明の終わり'!$B$4:$AX$368,0,8)*1440,0)<=ROUND(D$4*1440,0))) | F13: =SUMPRODUCT(--(ROUND(INDEX('4_日の入り'!$B$4:$AX$368,0,8)*1440,0)<=ROUND(F$4*1440,0))) | G13: =SUMPRODUCT(--(ROUND(INDEX('5_薄明の終わり'!$B$4:$AX$368,0,8)*1440,0)<=ROUND(F$4*1440,0))) | H13: =SUMPRODUCT(--(ROUND(INDEX('4_日の入り'!$B$4:$AX$368,0,8)*1440,0)<=ROUND(H$4*1440,0))) | I13: =SUMPRODUCT(--(ROUND(INDEX('5_薄明の終わり'!$B$4:$AX$368,0,8)*1440,0)<=ROUND(H$4*1440,0)))
A14: 水戸 | B14: =MIN(INDEX('4_日の入り'!$B$4:$AX$368,0,9)) | C14: =INDEX('4_日の入り'!$B$4:$AX$368,356,9) | D14: =SUMPRODUCT(--(ROUND(INDEX('4_日の入り'!$B$4:$AX$368,0,9)*1440,0)<=ROUND(D$4*1440,0))) | E14: =SUMPRODUCT(--(ROUND(INDEX('5_薄明の終わり'!$B$4:$AX$368,0,9)*1440,0)<=ROUND(D$4*1440,0))) | F14: =SUMPRODUCT(--(ROUND(INDEX('4_日の入り'!$B$4:$AX$368,0,9)*1440,0)<=ROUND(F$4*1440,0))) | G14: =SUMPRODUCT(--(ROUND(INDEX('5_薄明の終わり'!$B$4:$AX$368,0,9)*1440,0)<=ROUND(F$4*1440,0))) | H14: =SUMPRODUCT(--(ROUND(INDEX('4_日の入り'!$B$4:$AX$368,0,9)*1440,0)<=ROUND(H$4*1440,0))) | I14: =SUMPRODUCT(--(ROUND(INDEX('5_薄明の終わり'!$B$4:$AX$368,0,9)*1440,0)<=ROUND(H$4*1440,0)))
A15: 宇都宮 | B15: =MIN(INDEX('4_日の入り'!$B$4:$AX$368,0,10)) | C15: =INDEX('4_日の入り'!$B$4:$AX$368,356,10) | D15: =SUMPRODUCT(--(ROUND(INDEX('4_日の入り'!$B$4:$AX$368,0,10)*1440,0)<=ROUND(D$4*1440,0))) | E15: =SUMPRODUCT(--(ROUND(INDEX('5_薄明の終わり'!$B$4:$AX$368,0,10)*1440,0)<=ROUND(D$4*1440,0))) | F15: =SUMPRODUCT(--(ROUND(INDEX('4_日の入り'!$B$4:$AX$368,0,10)*1440,0)<=ROUND(F$4*1440,0))) | G15: =SUMPRODUCT(--(ROUND(INDEX('5_薄明の終わり'!$B$4:$AX$368,0,10)*1440,0)<=ROUND(F$4*1440,0))) | H15: =SUMPRODUCT(--(ROUND(INDEX('4_日の入り'!$B$4:$AX$368,0,10)*1440,0)<=ROUND(H$4*1440,0))) | I15: =SUMPRODUCT(--(ROUND(INDEX('5_薄明の終わり'!$B$4:$AX$368,0,10)*1440,0)<=ROUND(H$4*1440,0)))
A16: 前橋 | B16: =MIN(INDEX('4_日の入り'!$B$4:$AX$368,0,11)) | C16: =INDEX('4_日の入り'!$B$4:$AX$368,356,11) | D16: =SUMPRODUCT(--(ROUND(INDEX('4_日の入り'!$B$4:$AX$368,0,11)*1440,0)<=ROUND(D$4*1440,0))) | E16: =SUMPRODUCT(--(ROUND(INDEX('5_薄明の終わり'!$B$4:$AX$368,0,11)*1440,0)<=ROUND(D$4*1440,0))) | F16: =SUMPRODUCT(--(ROUND(INDEX('4_日の入り'!$B$4:$AX$368,0,11)*1440,0)<=ROUND(F$4*1440,0))) | G16: =SUMPRODUCT(--(ROUND(INDEX('5_薄明の終わり'!$B$4:$AX$368,0,11)*1440,0)<=ROUND(F$4*1440,0))) | H16: =SUMPRODUCT(--(ROUND(INDEX('4_日の入り'!$B$4:$AX$368,0,11)*1440,0)<=ROUND(H$4*1440,0))) | I16: =SUMPRODUCT(--(ROUND(INDEX('5_薄明の終わり'!$B$4:$AX$368,0,11)*1440,0)<=ROUND(H$4*1440,0)))
A17: さいたま | B17: =MIN(INDEX('4_日の入り'!$B$4:$AX$368,0,12)) | C17: =INDEX('4_日の入り'!$B$4:$AX$368,356,12) | D17: =SUMPRODUCT(--(ROUND(INDEX('4_日の入り'!$B$4:$AX$368,0,12)*1440,0)<=ROUND(D$4*1440,0))) | E17: =SUMPRODUCT(--(ROUND(INDEX('5_薄明の終わり'!$B$4:$AX$368,0,12)*1440,0)<=ROUND(D$4*1440,0))) | F17: =SUMPRODUCT(--(ROUND(INDEX('4_日の入り'!$B$4:$AX$368,0,12)*1440,0)<=ROUND(F$4*1440,0))) | G17: =SUMPRODUCT(--(ROUND(INDEX('5_薄明の終わり'!$B$4:$AX$368,0,12)*1440,0)<=ROUND(F$4*1440,0))) | H17: =SUMPRODUCT(--(ROUND(INDEX('4_日の入り'!$B$4:$AX$368,0,12)*1440,0)<=ROUND(H$4*1440,0))) | I17: =SUMPRODUCT(--(ROUND(INDEX('5_薄明の終わり'!$B$4:$AX$368,0,12)*1440,0)<=ROUND(H$4*1440,0)))
A18: 千葉 | B18: =MIN(INDEX('4_日の入り'!$B$4:$AX$368,0,13)) | C18: =INDEX('4_日の入り'!$B$4:$AX$368,356,13) | D18: =SUMPRODUCT(--(ROUND(INDEX('4_日の入り'!$B$4:$AX$368,0,13)*1440,0)<=ROUND(D$4*1440,0))) | E18: =SUMPRODUCT(--(ROUND(INDEX('5_薄明の終わり'!$B$4:$AX$368,0,13)*1440,0)<=ROUND(D$4*1440,0))) | F18: =SUMPRODUCT(--(ROUND(INDEX('4_日の入り'!$B$4:$AX$368,0,13)*1440,0)<=ROUND(F$4*1440,0))) | G18: =SUMPRODUCT(--(ROUND(INDEX('5_薄明の終わり'!$B$4:$AX$368,0,13)*1440,0)<=ROUND(F$4*1440,0))) | H18: =SUMPRODUCT(--(ROUND(INDEX('4_日の入り'!$B$4:$AX$368,0,13)*1440,0)<=ROUND(H$4*1440,0))) | I18: =SUMPRODUCT(--(ROUND(INDEX('5_薄明の終わり'!$B$4:$AX$368,0,13)*1440,0)<=ROUND(H$4*1440,0)))
A19: 東京 | B19: =MIN(INDEX('4_日の入り'!$B$4:$AX$368,0,14)) | C19: =INDEX('4_日の入り'!$B$4:$AX$368,356,14) | D19: =SUMPRODUCT(--(ROUND(INDEX('4_日の入り'!$B$4:$AX$368,0,14)*1440,0)<=ROUND(D$4*1440,0))) | E19: =SUMPRODUCT(--(ROUND(INDEX('5_薄明の終わり'!$B$4:$AX$368,0,14)*1440,0)<=ROUND(D$4*1440,0))) | F19: =SUMPRODUCT(--(ROUND(INDEX('4_日の入り'!$B$4:$AX$368,0,14)*1440,0)<=ROUND(F$4*1440,0))) | G19: =SUMPRODUCT(--(ROUND(INDEX('5_薄明の終わり'!$B$4:$AX$368,0,14)*1440,0)<=ROUND(F$4*1440,0))) | H19: =SUMPRODUCT(--(ROUND(INDEX('4_日の入り'!$B$4:$AX$368,0,14)*1440,0)<=ROUND(H$4*1440,0))) | I19: =SUMPRODUCT(--(ROUND(INDEX('5_薄明の終わり'!$B$4:$AX$368,0,14)*1440,0)<=ROUND(H$4*1440,0)))
A20: 小笠原（父島） | B20: =MIN(INDEX('4_日の入り'!$B$4:$AX$368,0,15)) | C20: =INDEX('4_日の入り'!$B$4:$AX$368,356,15) | D20: =SUMPRODUCT(--(ROUND(INDEX('4_日の入り'!$B$4:$AX$368,0,15)*1440,0)<=ROUND(D$4*1440,0))) | E20: =SUMPRODUCT(--(ROUND(INDEX('5_薄明の終わり'!$B$4:$AX$368,0,15)*1440,0)<=ROUND(D$4*1440,0))) | F20: =SUMPRODUCT(--(ROUND(INDEX('4_日の入り'!$B$4:$AX$368,0,15)*1440,0)<=ROUND(F$4*1440,0))) | G20: =SUMPRODUCT(--(ROUND(INDEX('5_薄明の終わり'!$B$4:$AX$368,0,15)*1440,0)<=ROUND(F$4*1440,0))) | H20: =SUMPRODUCT(--(ROUND(INDEX('4_日の入り'!$B$4:$AX$368,0,15)*1440,0)<=ROUND(H$4*1440,0))) | I20: =SUMPRODUCT(--(ROUND(INDEX('5_薄明の終わり'!$B$4:$AX$368,0,15)*1440,0)<=ROUND(H$4*1440,0)))
A21: 横浜 | B21: =MIN(INDEX('4_日の入り'!$B$4:$AX$368,0,16)) | C21: =INDEX('4_日の入り'!$B$4:$AX$368,356,16) | D21: =SUMPRODUCT(--(ROUND(INDEX('4_日の入り'!$B$4:$AX$368,0,16)*1440,0)<=ROUND(D$4*1440,0))) | E21: =SUMPRODUCT(--(ROUND(INDEX('5_薄明の終わり'!$B$4:$AX$368,0,16)*1440,0)<=ROUND(D$4*1440,0))) | F21: =SUMPRODUCT(--(ROUND(INDEX('4_日の入り'!$B$4:$AX$368,0,16)*1440,0)<=ROUND(F$4*1440,0))) | G21: =SUMPRODUCT(--(ROUND(INDEX('5_薄明の終わり'!$B$4:$AX$368,0,16)*1440,0)<=ROUND(F$4*1440,0))) | H21: =SUMPRODUCT(--(ROUND(INDEX('4_日の入り'!$B$4:$AX$368,0,16)*1440,0)<=ROUND(H$4*1440,0))) | I21: =SUMPRODUCT(--(ROUND(INDEX('5_薄明の終わり'!$B$4:$AX$368,0,16)*1440,0)<=ROUND(H$4*1440,0)))
A22: 新潟 | B22: =MIN(INDEX('4_日の入り'!$B$4:$AX$368,0,17)) | C22: =INDEX('4_日の入り'!$B$4:$AX$368,356,17) | D22: =SUMPRODUCT(--(ROUND(INDEX('4_日の入り'!$B$4:$AX$368,0,17)*1440,0)<=ROUND(D$4*1440,0))) | E22: =SUMPRODUCT(--(ROUND(INDEX('5_薄明の終わり'!$B$4:$AX$368,0,17)*1440,0)<=ROUND(D$4*1440,0))) | F22: =SUMPRODUCT(--(ROUND(INDEX('4_日の入り'!$B$4:$AX$368,0,17)*1440,0)<=ROUND(F$4*1440,0))) | G22: =SUMPRODUCT(--(ROUND(INDEX('5_薄明の終わり'!$B$4:$AX$368,0,17)*1440,0)<=ROUND(F$4*1440,0))) | H22: =SUMPRODUCT(--(ROUND(INDEX('4_日の入り'!$B$4:$AX$368,0,17)*1440,0)<=ROUND(H$4*1440,0))) | I22: =SUMPRODUCT(--(ROUND(INDEX('5_薄明の終わり'!$B$4:$AX$368,0,17)*1440,0)<=ROUND(H$4*1440,0)))
A23: 富山 | B23: =MIN(INDEX('4_日の入り'!$B$4:$AX$368,0,18)) | C23: =INDEX('4_日の入り'!$B$4:$AX$368,356,18) | D23: =SUMPRODUCT(--(ROUND(INDEX('4_日の入り'!$B$4:$AX$368,0,18)*1440,0)<=ROUND(D$4*1440,0))) | E23: =SUMPRODUCT(--(ROUND(INDEX('5_薄明の終わり'!$B$4:$AX$368,0,18)*1440,0)<=ROUND(D$4*1440,0))) | F23: =SUMPRODUCT(--(ROUND(INDEX('4_日の入り'!$B$4:$AX$368,0,18)*1440,0)<=ROUND(F$4*1440,0))) | G23: =SUMPRODUCT(--(ROUND(INDEX('5_薄明の終わり'!$B$4:$AX$368,0,18)*1440,0)<=ROUND(F$4*1440,0))) | H23: =SUMPRODUCT(--(ROUND(INDEX('4_日の入り'!$B$4:$AX$368,0,18)*1440,0)<=ROUND(H$4*1440,0))) | I23: =SUMPRODUCT(--(ROUND(INDEX('5_薄明の終わり'!$B$4:$AX$368,0,18)*1440,0)<=ROUND(H$4*1440,0)))
A24: 金沢 | B24: =MIN(INDEX('4_日の入り'!$B$4:$AX$368,0,19)) | C24: =INDEX('4_日の入り'!$B$4:$AX$368,356,19) | D24: =SUMPRODUCT(--(ROUND(INDEX('4_日の入り'!$B$4:$AX$368,0,19)*1440,0)<=ROUND(D$4*1440,0))) | E24: =SUMPRODUCT(--(ROUND(INDEX('5_薄明の終わり'!$B$4:$AX$368,0,19)*1440,0)<=ROUND(D$4*1440,0))) | F24: =SUMPRODUCT(--(ROUND(INDEX('4_日の入り'!$B$4:$AX$368,0,19)*1440,0)<=ROUND(F$4*1440,0))) | G24: =SUMPRODUCT(--(ROUND(INDEX('5_薄明の終わり'!$B$4:$AX$368,0,19)*1440,0)<=ROUND(F$4*1440,0))) | H24: =SUMPRODUCT(--(ROUND(INDEX('4_日の入り'!$B$4:$AX$368,0,19)*1440,0)<=ROUND(H$4*1440,0))) | I24: =SUMPRODUCT(--(ROUND(INDEX('5_薄明の終わり'!$B$4:$AX$368,0,19)*1440,0)<=ROUND(H$4*1440,0)))
A25: 福井 | B25: =MIN(INDEX('4_日の入り'!$B$4:$AX$368,0,20)) | C25: =INDEX('4_日の入り'!$B$4:$AX$368,356,20) | D25: =SUMPRODUCT(--(ROUND(INDEX('4_日の入り'!$B$4:$AX$368,0,20)*1440,0)<=ROUND(D$4*1440,0))) | E25: =SUMPRODUCT(--(ROUND(INDEX('5_薄明の終わり'!$B$4:$AX$368,0,20)*1440,0)<=ROUND(D$4*1440,0))) | F25: =SUMPRODUCT(--(ROUND(INDEX('4_日の入り'!$B$4:$AX$368,0,20)*1440,0)<=ROUND(F$4*1440,0))) | G25: =SUMPRODUCT(--(ROUND(INDEX('5_薄明の終わり'!$B$4:$AX$368,0,20)*1440,0)<=ROUND(F$4*1440,0))) | H25: =SUMPRODUCT(--(ROUND(INDEX('4_日の入り'!$B$4:$AX$368,0,20)*1440,0)<=ROUND(H$4*1440,0))) | I25: =SUMPRODUCT(--(ROUND(INDEX('5_薄明の終わり'!$B$4:$AX$368,0,20)*1440,0)<=ROUND(H$4*1440,0)))
A26: 甲府 | B26: =MIN(INDEX('4_日の入り'!$B$4:$AX$368,0,21)) | C26: =INDEX('4_日の入り'!$B$4:$AX$368,356,21) | D26: =SUMPRODUCT(--(ROUND(INDEX('4_日の入り'!$B$4:$AX$368,0,21)*1440,0)<=ROUND(D$4*1440,0))) | E26: =SUMPRODUCT(--(ROUND(INDEX('5_薄明の終わり'!$B$4:$AX$368,0,21)*1440,0)<=ROUND(D$4*1440,0))) | F26: =SUMPRODUCT(--(ROUND(INDEX('4_日の入り'!$B$4:$AX$368,0,21)*1440,0)<=ROUND(F$4*1440,0))) | G26: =SUMPRODUCT(--(ROUND(INDEX('5_薄明の終わり'!$B$4:$AX$368,0,21)*1440,0)<=ROUND(F$4*1440,0))) | H26: =SUMPRODUCT(--(ROUND(INDEX('4_日の入り'!$B$4:$AX$368,0,21)*1440,0)<=ROUND(H$4*1440,0))) | I26: =SUMPRODUCT(--(ROUND(INDEX('5_薄明の終わり'!$B$4:$AX$368,0,21)*1440,0)<=ROUND(H$4*1440,0)))
A27: 長野 | B27: =MIN(INDEX('4_日の入り'!$B$4:$AX$368,0,22)) | C27: =INDEX('4_日の入り'!$B$4:$AX$368,356,22) | D27: =SUMPRODUCT(--(ROUND(INDEX('4_日の入り'!$B$4:$AX$368,0,22)*1440,0)<=ROUND(D$4*1440,0))) | E27: =SUMPRODUCT(--(ROUND(INDEX('5_薄明の終わり'!$B$4:$AX$368,0,22)*1440,0)<=ROUND(D$4*1440,0))) | F27: =SUMPRODUCT(--(ROUND(INDEX('4_日の入り'!$B$4:$AX$368,0,22)*1440,0)<=ROUND(F$4*1440,0))) | G27: =SUMPRODUCT(--(ROUND(INDEX('5_薄明の終わり'!$B$4:$AX$368,0,22)*1440,0)<=ROUND(F$4*1440,0))) | H27: =SUMPRODUCT(--(ROUND(INDEX('4_日の入り'!$B$4:$AX$368,0,22)*1440,0)<=ROUND(H$4*1440,0))) | I27: =SUMPRODUCT(--(ROUND(INDEX('5_薄明の終わり'!$B$4:$AX$368,0,22)*1440,0)<=ROUND(H$4*1440,0)))
A28: 岐阜 | B28: =MIN(INDEX('4_日の入り'!$B$4:$AX$368,0,23)) | C28: =INDEX('4_日の入り'!$B$4:$AX$368,356,23) | D28: =SUMPRODUCT(--(ROUND(INDEX('4_日の入り'!$B$4:$AX$368,0,23)*1440,0)<=ROUND(D$4*1440,0))) | E28: =SUMPRODUCT(--(ROUND(INDEX('5_薄明の終わり'!$B$4:$AX$368,0,23)*1440,0)<=ROUND(D$4*1440,0))) | F28: =SUMPRODUCT(--(ROUND(INDEX('4_日の入り'!$B$4:$AX$368,0,23)*1440,0)<=ROUND(F$4*1440,0))) | G28: =SUMPRODUCT(--(ROUND(INDEX('5_薄明の終わり'!$B$4:$AX$368,0,23)*1440,0)<=ROUND(F$4*1440,0))) | H28: =SUMPRODUCT(--(ROUND(INDEX('4_日の入り'!$B$4:$AX$368,0,23)*1440,0)<=ROUND(H$4*1440,0))) | I28: =SUMPRODUCT(--(ROUND(INDEX('5_薄明の終わり'!$B$4:$AX$368,0,23)*1440,0)<=ROUND(H$4*1440,0)))
A29: 静岡 | B29: =MIN(INDEX('4_日の入り'!$B$4:$AX$368,0,24)) | C29: =INDEX('4_日の入り'!$B$4:$AX$368,356,24) | D29: =SUMPRODUCT(--(ROUND(INDEX('4_日の入り'!$B$4:$AX$368,0,24)*1440,0)<=ROUND(D$4*1440,0))) | E29: =SUMPRODUCT(--(ROUND(INDEX('5_薄明の終わり'!$B$4:$AX$368,0,24)*1440,0)<=ROUND(D$4*1440,0))) | F29: =SUMPRODUCT(--(ROUND(INDEX('4_日の入り'!$B$4:$AX$368,0,24)*1440,0)<=ROUND(F$4*1440,0))) | G29: =SUMPRODUCT(--(ROUND(INDEX('5_薄明の終わり'!$B$4:$AX$368,0,24)*1440,0)<=ROUND(F$4*1440,0))) | H29: =SUMPRODUCT(--(ROUND(INDEX('4_日の入り'!$B$4:$AX$368,0,24)*1440,0)<=ROUND(H$4*1440,0))) | I29: =SUMPRODUCT(--(ROUND(INDEX('5_薄明の終わり'!$B$4:$AX$368,0,24)*1440,0)<=ROUND(H$4*1440,0)))
A30: 名古屋 | B30: =MIN(INDEX('4_日の入り'!$B$4:$AX$368,0,25)) | C30: =INDEX('4_日の入り'!$B$4:$AX$368,356,25) | D30: =SUMPRODUCT(--(ROUND(INDEX('4_日の入り'!$B$4:$AX$368,0,25)*1440,0)<=ROUND(D$4*1440,0))) | E30: =SUMPRODUCT(--(ROUND(INDEX('5_薄明の終わり'!$B$4:$AX$368,0,25)*1440,0)<=ROUND(D$4*1440,0))) | F30: =SUMPRODUCT(--(ROUND(INDEX('4_日の入り'!$B$4:$AX$368,0,25)*1440,0)<=ROUND(F$4*1440,0))) | G30: =SUMPRODUCT(--(ROUND(INDEX('5_薄明の終わり'!$B$4:$AX$368,0,25)*1440,0)<=ROUND(F$4*1440,0))) | H30: =SUMPRODUCT(--(ROUND(INDEX('4_日の入り'!$B$4:$AX$368,0,25)*1440,0)<=ROUND(H$4*1440,0))) | I30: =SUMPRODUCT(--(ROUND(INDEX('5_薄明の終わり'!$B$4:$AX$368,0,25)*1440,0)<=ROUND(H$4*1440,0)))
A31: 津 | B31: =MIN(INDEX('4_日の入り'!$B$4:$AX$368,0,26)) | C31: =INDEX('4_日の入り'!$B$4:$AX$368,356,26) | D31: =SUMPRODUCT(--(ROUND(INDEX('4_日の入り'!$B$4:$AX$368,0,26)*1440,0)<=ROUND(D$4*1440,0))) | E31: =SUMPRODUCT(--(ROUND(INDEX('5_薄明の終わり'!$B$4:$AX$368,0,26)*1440,0)<=ROUND(D$4*1440,0))) | F31: =SUMPRODUCT(--(ROUND(INDEX('4_日の入り'!$B$4:$AX$368,0,26)*1440,0)<=ROUND(F$4*1440,0))) | G31: =SUMPRODUCT(--(ROUND(INDEX('5_薄明の終わり'!$B$4:$AX$368,0,26)*1440,0)<=ROUND(F$4*1440,0))) | H31: =SUMPRODUCT(--(ROUND(INDEX('4_日の入り'!$B$4:$AX$368,0,26)*1440,0)<=ROUND(H$4*1440,0))) | I31: =SUMPRODUCT(--(ROUND(INDEX('5_薄明の終わり'!$B$4:$AX$368,0,26)*1440,0)<=ROUND(H$4*1440,0)))
A32: 大津 | B32: =MIN(INDEX('4_日の入り'!$B$4:$AX$368,0,27)) | C32: =INDEX('4_日の入り'!$B$4:$AX$368,356,27) | D32: =SUMPRODUCT(--(ROUND(INDEX('4_日の入り'!$B$4:$AX$368,0,27)*1440,0)<=ROUND(D$4*1440,0))) | E32: =SUMPRODUCT(--(ROUND(INDEX('5_薄明の終わり'!$B$4:$AX$368,0,27)*1440,0)<=ROUND(D$4*1440,0))) | F32: =SUMPRODUCT(--(ROUND(INDEX('4_日の入り'!$B$4:$AX$368,0,27)*1440,0)<=ROUND(F$4*1440,0))) | G32: =SUMPRODUCT(--(ROUND(INDEX('5_薄明の終わり'!$B$4:$AX$368,0,27)*1440,0)<=ROUND(F$4*1440,0))) | H32: =SUMPRODUCT(--(ROUND(INDEX('4_日の入り'!$B$4:$AX$368,0,27)*1440,0)<=ROUND(H$4*1440,0))) | I32: =SUMPRODUCT(--(ROUND(INDEX('5_薄明の終わり'!$B$4:$AX$368,0,27)*1440,0)<=ROUND(H$4*1440,0)))
A33: 京都 | B33: =MIN(INDEX('4_日の入り'!$B$4:$AX$368,0,28)) | C33: =INDEX('4_日の入り'!$B$4:$AX$368,356,28) | D33: =SUMPRODUCT(--(ROUND(INDEX('4_日の入り'!$B$4:$AX$368,0,28)*1440,0)<=ROUND(D$4*1440,0))) | E33: =SUMPRODUCT(--(ROUND(INDEX('5_薄明の終わり'!$B$4:$AX$368,0,28)*1440,0)<=ROUND(D$4*1440,0))) | F33: =SUMPRODUCT(--(ROUND(INDEX('4_日の入り'!$B$4:$AX$368,0,28)*1440,0)<=ROUND(F$4*1440,0))) | G33: =SUMPRODUCT(--(ROUND(INDEX('5_薄明の終わり'!$B$4:$AX$368,0,28)*1440,0)<=ROUND(F$4*1440,0))) | H33: =SUMPRODUCT(--(ROUND(INDEX('4_日の入り'!$B$4:$AX$368,0,28)*1440,0)<=ROUND(H$4*1440,0))) | I33: =SUMPRODUCT(--(ROUND(INDEX('5_薄明の終わり'!$B$4:$AX$368,0,28)*1440,0)<=ROUND(H$4*1440,0)))
A34: 大阪 | B34: =MIN(INDEX('4_日の入り'!$B$4:$AX$368,0,29)) | C34: =INDEX('4_日の入り'!$B$4:$AX$368,356,29) | D34: =SUMPRODUCT(--(ROUND(INDEX('4_日の入り'!$B$4:$AX$368,0,29)*1440,0)<=ROUND(D$4*1440,0))) | E34: =SUMPRODUCT(--(ROUND(INDEX('5_薄明の終わり'!$B$4:$AX$368,0,29)*1440,0)<=ROUND(D$4*1440,0))) | F34: =SUMPRODUCT(--(ROUND(INDEX('4_日の入り'!$B$4:$AX$368,0,29)*1440,0)<=ROUND(F$4*1440,0))) | G34: =SUMPRODUCT(--(ROUND(INDEX('5_薄明の終わり'!$B$4:$AX$368,0,29)*1440,0)<=ROUND(F$4*1440,0))) | H34: =SUMPRODUCT(--(ROUND(INDEX('4_日の入り'!$B$4:$AX$368,0,29)*1440,0)<=ROUND(H$4*1440,0))) | I34: =SUMPRODUCT(--(ROUND(INDEX('5_薄明の終わり'!$B$4:$AX$368,0,29)*1440,0)<=ROUND(H$4*1440,0)))
A35: 神戸 | B35: =MIN(INDEX('4_日の入り'!$B$4:$AX$368,0,30)) | C35: =INDEX('4_日の入り'!$B$4:$AX$368,356,30) | D35: =SUMPRODUCT(--(ROUND(INDEX('4_日の入り'!$B$4:$AX$368,0,30)*1440,0)<=ROUND(D$4*1440,0))) | E35: =SUMPRODUCT(--(ROUND(INDEX('5_薄明の終わり'!$B$4:$AX$368,0,30)*1440,0)<=ROUND(D$4*1440,0))) | F35: =SUMPRODUCT(--(ROUND(INDEX('4_日の入り'!$B$4:$AX$368,0,30)*1440,0)<=ROUND(F$4*1440,0))) | G35: =SUMPRODUCT(--(ROUND(INDEX('5_薄明の終わり'!$B$4:$AX$368,0,30)*1440,0)<=ROUND(F$4*1440,0))) | H35: =SUMPRODUCT(--(ROUND(INDEX('4_日の入り'!$B$4:$AX$368,0,30)*1440,0)<=ROUND(H$4*1440,0))) | I35: =SUMPRODUCT(--(ROUND(INDEX('5_薄明の終わり'!$B$4:$AX$368,0,30)*1440,0)<=ROUND(H$4*1440,0)))
A36: 奈良 | B36: =MIN(INDEX('4_日の入り'!$B$4:$AX$368,0,31)) | C36: =INDEX('4_日の入り'!$B$4:$AX$368,356,31) | D36: =SUMPRODUCT(--(ROUND(INDEX('4_日の入り'!$B$4:$AX$368,0,31)*1440,0)<=ROUND(D$4*1440,0))) | E36: =SUMPRODUCT(--(ROUND(INDEX('5_薄明の終わり'!$B$4:$AX$368,0,31)*1440,0)<=ROUND(D$4*1440,0))) | F36: =SUMPRODUCT(--(ROUND(INDEX('4_日の入り'!$B$4:$AX$368,0,31)*1440,0)<=ROUND(F$4*1440,0))) | G36: =SUMPRODUCT(--(ROUND(INDEX('5_薄明の終わり'!$B$4:$AX$368,0,31)*1440,0)<=ROUND(F$4*1440,0))) | H36: =SUMPRODUCT(--(ROUND(INDEX('4_日の入り'!$B$4:$AX$368,0,31)*1440,0)<=ROUND(H$4*1440,0))) | I36: =SUMPRODUCT(--(ROUND(INDEX('5_薄明の終わり'!$B$4:$AX$368,0,31)*1440,0)<=ROUND(H$4*1440,0)))
A37: 和歌山 | B37: =MIN(INDEX('4_日の入り'!$B$4:$AX$368,0,32)) | C37: =INDEX('4_日の入り'!$B$4:$AX$368,356,32) | D37: =SUMPRODUCT(--(ROUND(INDEX('4_日の入り'!$B$4:$AX$368,0,32)*1440,0)<=ROUND(D$4*1440,0))) | E37: =SUMPRODUCT(--(ROUND(INDEX('5_薄明の終わり'!$B$4:$AX$368,0,32)*1440,0)<=ROUND(D$4*1440,0))) | F37: =SUMPRODUCT(--(ROUND(INDEX('4_日の入り'!$B$4:$AX$368,0,32)*1440,0)<=ROUND(F$4*1440,0))) | G37: =SUMPRODUCT(--(ROUND(INDEX('5_薄明の終わり'!$B$4:$AX$368,0,32)*1440,0)<=ROUND(F$4*1440,0))) | H37: =SUMPRODUCT(--(ROUND(INDEX('4_日の入り'!$B$4:$AX$368,0,32)*1440,0)<=ROUND(H$4*1440,0))) | I37: =SUMPRODUCT(--(ROUND(INDEX('5_薄明の終わり'!$B$4:$AX$368,0,32)*1440,0)<=ROUND(H$4*1440,0)))
A38: 鳥取 | B38: =MIN(INDEX('4_日の入り'!$B$4:$AX$368,0,33)) | C38: =INDEX('4_日の入り'!$B$4:$AX$368,356,33) | D38: =SUMPRODUCT(--(ROUND(INDEX('4_日の入り'!$B$4:$AX$368,0,33)*1440,0)<=ROUND(D$4*1440,0))) | E38: =SUMPRODUCT(--(ROUND(INDEX('5_薄明の終わり'!$B$4:$AX$368,0,33)*1440,0)<=ROUND(D$4*1440,0))) | F38: =SUMPRODUCT(--(ROUND(INDEX('4_日の入り'!$B$4:$AX$368,0,33)*1440,0)<=ROUND(F$4*1440,0))) | G38: =SUMPRODUCT(--(ROUND(INDEX('5_薄明の終わり'!$B$4:$AX$368,0,33)*1440,0)<=ROUND(F$4*1440,0))) | H38: =SUMPRODUCT(--(ROUND(INDEX('4_日の入り'!$B$4:$AX$368,0,33)*1440,0)<=ROUND(H$4*1440,0))) | I38: =SUMPRODUCT(--(ROUND(INDEX('5_薄明の終わり'!$B$4:$AX$368,0,33)*1440,0)<=ROUND(H$4*1440,0)))
A39: 松江 | B39: =MIN(INDEX('4_日の入り'!$B$4:$AX$368,0,34)) | C39: =INDEX('4_日の入り'!$B$4:$AX$368,356,34) | D39: =SUMPRODUCT(--(ROUND(INDEX('4_日の入り'!$B$4:$AX$368,0,34)*1440,0)<=ROUND(D$4*1440,0))) | E39: =SUMPRODUCT(--(ROUND(INDEX('5_薄明の終わり'!$B$4:$AX$368,0,34)*1440,0)<=ROUND(D$4*1440,0))) | F39: =SUMPRODUCT(--(ROUND(INDEX('4_日の入り'!$B$4:$AX$368,0,34)*1440,0)<=ROUND(F$4*1440,0))) | G39: =SUMPRODUCT(--(ROUND(INDEX('5_薄明の終わり'!$B$4:$AX$368,0,34)*1440,0)<=ROUND(F$4*1440,0))) | H39: =SUMPRODUCT(--(ROUND(INDEX('4_日の入り'!$B$4:$AX$368,0,34)*1440,0)<=ROUND(H$4*1440,0))) | I39: =SUMPRODUCT(--(ROUND(INDEX('5_薄明の終わり'!$B$4:$AX$368,0,34)*1440,0)<=ROUND(H$4*1440,0)))
A40: 岡山 | B40: =MIN(INDEX('4_日の入り'!$B$4:$AX$368,0,35)) | C40: =INDEX('4_日の入り'!$B$4:$AX$368,356,35) | D40: =SUMPRODUCT(--(ROUND(INDEX('4_日の入り'!$B$4:$AX$368,0,35)*1440,0)<=ROUND(D$4*1440,0))) | E40: =SUMPRODUCT(--(ROUND(INDEX('5_薄明の終わり'!$B$4:$AX$368,0,35)*1440,0)<=ROUND(D$4*1440,0))) | F40: =SUMPRODUCT(--(ROUND(INDEX('4_日の入り'!$B$4:$AX$368,0,35)*1440,0)<=ROUND(F$4*1440,0))) | G40: =SUMPRODUCT(--(ROUND(INDEX('5_薄明の終わり'!$B$4:$AX$368,0,35)*1440,0)<=ROUND(F$4*1440,0))) | H40: =SUMPRODUCT(--(ROUND(INDEX('4_日の入り'!$B$4:$AX$368,0,35)*1440,0)<=ROUND(H$4*1440,0))) | I40: =SUMPRODUCT(--(ROUND(INDEX('5_薄明の終わり'!$B$4:$AX$368,0,35)*1440,0)<=ROUND(H$4*1440,0)))
A41: 広島 | B41: =MIN(INDEX('4_日の入り'!$B$4:$AX$368,0,36)) | C41: =INDEX('4_日の入り'!$B$4:$AX$368,356,36) | D41: =SUMPRODUCT(--(ROUND(INDEX('4_日の入り'!$B$4:$AX$368,0,36)*1440,0)<=ROUND(D$4*1440,0))) | E41: =SUMPRODUCT(--(ROUND(INDEX('5_薄明の終わり'!$B$4:$AX$368,0,36)*1440,0)<=ROUND(D$4*1440,0))) | F41: =SUMPRODUCT(--(ROUND(INDEX('4_日の入り'!$B$4:$AX$368,0,36)*1440,0)<=ROUND(F$4*1440,0))) | G41: =SUMPRODUCT(--(ROUND(INDEX('5_薄明の終わり'!$B$4:$AX$368,0,36)*1440,0)<=ROUND(F$4*1440,0))) | H41: =SUMPRODUCT(--(ROUND(INDEX('4_日の入り'!$B$4:$AX$368,0,36)*1440,0)<=ROUND(H$4*1440,0))) | I41: =SUMPRODUCT(--(ROUND(INDEX('5_薄明の終わり'!$B$4:$AX$368,0,36)*1440,0)<=ROUND(H$4*1440,0)))
...

Sheet 3_失敗例
A1: 数え方を間違えた例。東京の2026年
A3: 日付 | B3: 日の入り（時刻の値） | C3: 日の入り（文字で貼った） | E3: 1. 時刻を文字のまま数えた（17:00に出る）
A4: 46023 | B4: 0.69305556 | C4: 16:38 | E4: 時刻の値で数えた日の入り後の日 | F4: =COUNTIF($B$4:$B$368,"<="&TIME(17,0,0))
A5: 46024 | B5: 0.69375 | C5: 16:39 | E5: 文字のまま COUNTIF | F5: =COUNTIF($C$4:$C$368,"<="&TIME(17,0,0))
A6: 46025 | B6: 0.69444444 | C6: 16:40 | E6: 文字のまま SUMPRODUCT | F6: =SUMPRODUCT(--($C$4:$C$368<=TIME(17,0,0)))
A7: 46026 | B7: 0.69513889 | C7: 16:41 | E7: 文字を時刻に直して SUMPRODUCT | F7: =SUMPRODUCT(--(ROUND(TIMEVALUE($C$4:$C$368)*1440,0)<=17*60))
A8: 46027 | B8: 0.69583333 | C8: 16:42
A9: 46028 | B9: 0.69583333 | C9: 16:42
A10: 46029 | B10: 0.69652778 | C10: 16:43 | E10: 2. 冬至の日の入りを1年で一番早いと思った（16:30に出る）
A11: 46030 | B11: 0.69722222 | C11: 16:44 | E11: 冬至（12月22日）の日の入り | F11: =INDEX($B$4:$B$368,356)
A12: 46031 | B12: 0.69791667 | C12: 16:45 | E12: 冬至で判定すると | F12: =IF(ROUND(TIME(16,30,0)*1440,0)<ROUND(F11*1440,0),"毎日沈む前に出られる","沈んだ後")
A13: 46032 | B13: 0.69861111 | C13: 16:46 | E13: 16:30に日の入り後になる日 | F13: =SUMPRODUCT(--(ROUND($B$4:$B$368*1440,0)<=16*60+30))
A14: 46033 | B14: 0.69930556 | C14: 16:47 | E14: その最初の日 | F14: =_xlfn.AGGREGATE(15,6,$A$4:$A$368/(ROUND($B$4:$B$368*1440,0)<=16*60+30),1)
A15: 46034 | B15: 0.7 | C15: 16:48 | E15: その最後の日 | F15: =_xlfn.AGGREGATE(14,6,$A$4:$A$368/(ROUND($B$4:$B$368*1440,0)<=16*60+30),1)
A16: 46035 | B16: 0.70069444 | C16: 16:49
A17: 46036 | B17: 0.70138889 | C17: 16:50 | E17: 3. 日の入りの時刻だけで「暗い」と数えた（17:00に出る）
A18: 46037 | B18: 0.70208333 | C18: 16:51 | E18: 日の入り後の日 | F18: ='2_地点別'!D19
A19: 46038 | B19: 0.70277778 | C19: 16:52 | E19: そのうち灯りが要る暗さの日 | F19: ='2_地点別'!E19
A20: 46039 | B20: 0.70347222 | C20: 16:53
A21: 46040 | B21: 0.70416667 | C21: 16:54
A22: 46041 | B22: 0.70486111 | C22: 16:55
A23: 46042 | B23: 0.70555556 | C23: 16:56
A24: 46043 | B24: 0.70625 | C24: 16:57
A25: 46044 | B25: 0.70694444 | C25: 16:58
A26: 46045 | B26: 0.70763889 | C26: 16:59
A27: 46046 | B27: 0.70833333 | C27: 17:00
A28: 46047 | B28: 0.70902778 | C28: 17:01
A29: 46048 | B29: 0.70972222 | C29: 17:02
A30: 46049 | B30: 0.71041667 | C30: 17:03
A31: 46050 | B31: 0.71111111 | C31: 17:04
... A368: 46387 | B368: 0.69236111 | C368: 16:37

Sheet 4_日の入り
A1: 日の入りの時刻（太陽の上辺が地平線に一致する時刻）
A2: 国立天文台暦計算室の値。2026年10月6日に取得。分の値で、秒は暦計算室の表に出ていない
A3: 日付 | B3: 札幌 | C3: 根室 | D3: 青森 | E3: 盛岡 | F3: 仙台 | G3: 秋田 | H3: 山形 | I3: 福島 | J3: 水戸 | K3: 宇都宮 | L3: 前橋 | M3: さいたま | N3: 千葉 | O3: 東京 | P3: 小笠原（父島） | Q3: 横浜 | R3: 新潟 | S3: 富山 | T3: 金沢 | U3: 福井 | V3: 甲府 | W3: 長野 | X3: 岐阜 | Y3: 静岡 | Z3: 名古屋 | AA3: 津 | AB3: 大津 | AC3: 京都 | AD3: 大阪 | AE3: 神戸 | AF3: 奈良 | AG3: 和歌山 | AH3: 鳥取 | AI3: 松江 | AJ3: 岡山 | AK3: 広島 | AL3: 山口 | AM3: 徳島 | AN3: 高松 | AO3: 松山 | AP3: 高知 | AQ3: 福岡 | AR3: 佐賀 | AS3: 長崎 | AT3: 熊本 | AU3: 大分 | AV3: 宮崎 | AW3: 鹿児島 | AX3: 那覇
A4: 46023 | B4: 0.67361111 | C4: 0.66111111 | D4: 0.68055556 | E4: 0.68194444 | F4: 0.68541667 | G4: 0.68472222 | H4: 0.68680556 | I4: 0.6875 | J4: 0.69027778 | K4: 0.69097222 | L4: 0.69375 | M4: 0.69305556 | N4: 0.69236111 | O4: 0.69305556 | P4: 0.70069444 | Q4: 0.69375 | R4: 0.69097222 | S4: 0.69861111 | T4: 0.7 | U4: 0.70208333 | V4: 0.69652778 | W4: 0.69583333 | X4: 0.70208333 | Y4: 0.69861111 | Z4: 0.70208333 | AA4: 0.70416667 | AB4: 0.70555556 | AC4: 0.70555556 | AD4: 0.70694444 | AE4: 0.70763889 | AF4: 0.70625 | AG4: 0.70833333 | AH4: 0.70902778 | AI4: 0.7125 | AJ4: 0.71111111 | AK4: 0.71597222 | AL4: 0.71875 | AM4: 0.71041667 | AN4: 0.71180556 | AO4: 0.71597222 | AP4: 0.71458333 | AQ4: 0.72291667 | AR4: 0.72361111 | AS4: 0.72569444 | AT4: 0.72361111 | AU4: 0.72013889 | AV4: 0.72291667 | AW4: 0.72569444 | AX4: 0.74236111
A5: 46024 | B5: 0.67430556 | C5: 0.66180556 | D5: 0.68125 | E5: 0.68194444 | F5: 0.68611111 | G5: 0.68472222 | H5: 0.6875 | I5: 0.68819444 | J5: 0.69027778 | K5: 0.69166667 | L5: 0.69444444 | M5: 0.69375 | N5: 0.69305556 | O5: 0.69375 | P5: 0.70138889 | Q5: 0.69444444 | R5: 0.69166667 | S5: 0.69930556 | T5: 0.70069444 | U5: 0.70277778 | V5: 0.69722222 | W5: 0.69652778 | X5: 0.70277778 | Y5: 0.69861111 | Z5: 0.70277778 | AA5: 0.70416667 | AB5: 0.70555556 | AC5: 0.70625 | AD5: 0.70763889 | AE5: 0.70833333 | AF5: 0.70625 | AG5: 0.70902778 | AH5: 0.70972222 | AI5: 0.7125 | AJ5: 0.71180556 | AK5: 0.71666667 | AL5: 0.71944444 | AM5: 0.71111111 | AN5: 0.71180556 | AO5: 0.71666667 | AP5: 0.71458333 | AQ5: 0.72361111 | AR5: 0.72430556 | AS5: 0.72638889 | AT5: 0.72361111 | AU5: 0.72083333 | AV5: 0.72361111 | AW5: 0.72638889 | AX5: 0.74305556
A6: 46025 | B6: 0.675 | C6: 0.6625 | D6: 0.68194444 | E6: 0.68263889 | F6: 0.68611111 | G6: 0.68541667 | H6: 0.68819444 | I6: 0.68819444 | J6: 0.69097222 | K6: 0.69236111 | L6: 0.69513889 | M6: 0.69444444 | N6: 0.69375 | O6: 0.69444444 | P6: 0.70138889 | Q6: 0.69513889 | R6: 0.69236111 | S6: 0.69930556 | T6: 0.70138889 | U6: 0.70347222 | V6: 0.69791667 | W6: 0.69722222 | X6: 0.70277778 | Y6: 0.69930556 | Z6: 0.70347222 | AA6: 0.70486111 | AB6: 0.70625 | AC6: 0.70694444 | AD6: 0.70833333 | AE6: 0.70902778 | AF6: 0.70694444 | AG6: 0.70972222 | AH6: 0.70972222 | AI6: 0.71319444 | AJ6: 0.7125 | AK6: 0.71666667 | AL6: 0.72013889 | AM6: 0.71180556 | AN6: 0.7125 | AO6: 0.71736111 | AP6: 0.71527778 | AQ6: 0.72430556 | AR6: 0.725 | AS6: 0.72708333 | AT6: 0.72430556 | AU6: 0.72152778 | AV6: 0.72430556 | AW6: 0.72708333 | AX6: 0.74305556
A7: 46026 | B7: 0.67569444 | C7: 0.66319444 | D7: 0.68194444 | E7: 0.68333333 | F7: 0.68680556 | G7: 0.68611111 | H7: 0.68819444 | I7: 0.68888889 | J7: 0.69166667 | K7: 0.69305556 | L7: 0.69583333 | M7: 0.69513889 | N7: 0.69375 | O7: 0.69513889 | P7: 0.70208333 | Q7: 0.69583333 | R7: 0.69305556 | S7: 0.7 | T7: 0.70208333 | U7: 0.70416667 | V7: 0.69791667 | W7: 0.69722222 | X7: 0.70347222 | Y7: 0.7 | Z7: 0.70347222 | AA7: 0.70555556 | AB7: 0.70694444 | AC7: 0.70694444 | AD7: 0.70833333 | AE7: 0.70972222 | AF7: 0.70763889 | AG7: 0.71041667 | AH7: 0.71041667 | AI7: 0.71388889 | AJ7: 0.71319444 | AK7: 0.71736111 | AL7: 0.72083333 | AM7: 0.7125 | AN7: 0.71319444 | AO7: 0.71736111 | AP7: 0.71597222 | AQ7: 0.72430556 | AR7: 0.72569444 | AS7: 0.72777778 | AT7: 0.725 | AU7: 0.72152778 | AV7: 0.72430556 | AW7: 0.72777778 | AX7: 0.74375
A8: 46027 | B8: 0.67638889 | C8: 0.66388889 | D8: 0.68263889 | E8: 0.68402778 | F8: 0.6875 | G8: 0.68680556 | H8: 0.68888889 | I8: 0.68958333 | J8: 0.69236111 | K8: 0.69375 | L8: 0.69583333 | M8: 0.69513889 | N8: 0.69444444 | O8: 0.69583333 | P8: 0.70277778 | Q8: 0.69652778 | R8: 0.69305556 | S8: 0.70069444 | T8: 0.70277778 | U8: 0.70486111 | V8: 0.69861111 | W8: 0.69791667 | X8: 0.70416667 | Y8: 0.70069444 | Z8: 0.70416667 | AA8: 0.70625 | AB8: 0.70763889 | AC8: 0.70763889 | AD8: 0.70902778 | AE8: 0.70972222 | AF8: 0.70833333 | AG8: 0.71111111 | AH8: 0.71111111 | AI8: 0.71458333 | AJ8: 0.71319444 | AK8: 0.71805556 | AL8: 0.72083333 | AM8: 0.7125 | AN8: 0.71388889 | AO8: 0.71805556 | AP8: 0.71666667 | AQ8: 0.725 | AR8: 0.72569444 | AS8: 0.72777778 | AT8: 0.72569444 | AU8: 0.72222222 | AV8: 0.725 | AW8: 0.72777778 | AX8: 0.74444444
A9: 46028 | B9: 0.67708333 | C9: 0.66458333 | D9: 0.68333333 | E9: 0.68472222 | F9: 0.68819444 | G9: 0.6875 | H9: 0.68958333 | I9: 0.69027778 | J9: 0.69305556 | K9: 0.69444444 | L9: 0.69652778 | M9: 0.69583333 | N9: 0.69513889 | O9: 0.69583333 | P9: 0.70277778 | Q9: 0.69652778 | R9: 0.69375 | S9: 0.70138889 | T9: 0.70277778 | U9: 0.70555556 | V9: 0.69930556 | W9: 0.69861111 | X9: 0.70486111 | Y9: 0.70138889 | Z9: 0.70486111 | AA9: 0.70694444 | AB9: 0.70833333 | AC9: 0.70833333 | AD9: 0.70972222 | AE9: 0.71041667 | AF9: 0.70902778 | AG9: 0.71111111 | AH9: 0.71180556 | AI9: 0.71527778 | AJ9: 0.71388889 | AK9: 0.71875 | AL9: 0.72152778 | AM9: 0.71319444 | AN9: 0.71458333 | AO9: 0.71875 | AP9: 0.71736111 | AQ9: 0.72569444 | AR9: 0.72638889 | AS9: 0.72847222 | AT9: 0.72638889 | AU9: 0.72291667 | AV9: 0.72569444 | AW9: 0.72847222 | AX9: 0.74444444
A10: 46029 | B10: 0.67777778 | C10: 0.66527778 | D10: 0.68402778 | E10: 0.68541667 | F10: 0.68888889 | G10: 0.68819444 | H10: 0.69027778 | I10: 0.69097222 | J10: 0.69375 | K10: 0.69444444 | L10: 0.69722222 | M10: 0.69652778 | N10: 0.69583333 | O10: 0.69652778 | P10: 0.70347222 | Q10: 0.69722222 | R10: 0.69444444 | S10: 0.70208333 | T10: 0.70347222 | U10: 0.70555556 | V10: 0.7 | W10: 0.69930556 | X10: 0.70555556 | Y10: 0.70138889 | Z10: 0.70555556 | AA10: 0.70763889 | AB10: 0.70833333 | AC10: 0.70902778 | AD10: 0.71041667 | AE10: 0.71111111 | AF10: 0.70902778 | AG10: 0.71180556 | AH10: 0.7125 | AI10: 0.71597222 | AJ10: 0.71458333 | AK10: 0.71944444 | AL10: 0.72222222 | AM10: 0.71388889 | AN10: 0.71458333 | AO10: 0.71944444 | AP10: 0.71736111 | AQ10: 0.72638889 | AR10: 0.72708333 | AS10: 0.72916667 | AT10: 0.72638889 | AU10: 0.72361111 | AV10: 0.72638889 | AW10: 0.72916667 | AX10: 0.74513889
A11: 46030 | B11: 0.67847222 | C11: 0.66597222 | D11: 0.68472222 | E11: 0.68611111 | F11: 0.68958333 | G11: 0.68888889 | H11: 0.69097222 | I11: 0.69166667 | J11: 0.69375 | K11: 0.69513889 | L11: 0.69791667 | M11: 0.69722222 | N11: 0.69652778 | O11: 0.69722222 | P11: 0.70416667 | Q11: 0.69791667 | R11: 0.69513889 | S11: 0.70277778 | T11: 0.70416667 | U11: 0.70625 | V11: 0.70069444 | W11: 0.7 | X11: 0.70625 | Y11: 0.70208333 | Z11: 0.70625 | AA11: 0.70763889 | AB11: 0.70902778 | AC11: 0.70972222 | AD11: 0.71111111 | AE11: 0.71180556 | AF11: 0.70972222 | AG11: 0.7125 | AH11: 0.71319444 | AI11: 0.71597222 | AJ11: 0.71527778 | AK11: 0.72013889 | AL11: 0.72291667 | AM11: 0.71458333 | AN11: 0.71527778 | AO11: 0.72013889 | AP11: 0.71805556 | AQ11: 0.72708333 | AR11: 0.72777778 | AS11: 0.72986111 | AT11: 0.72708333 | AU11: 0.72430556 | AV11: 0.72708333 | AW11: 0.72986111 | AX11: 0.74583333
A12: 46031 | B12: 0.67916667 | C12: 0.66666667 | D12: 0.68541667 | E12: 0.68680556 | F12: 0.69027778 | G12: 0.68958333 | H12: 0.69166667 | I12: 0.69236111 | J12: 0.69444444 | K12: 0.69583333 | L12: 0.69861111 | M12: 0.69791667 | N12: 0.69722222 | O12: 0.69791667 | P12: 0.70486111 | Q12: 0.69861111 | R12: 0.69583333 | S12: 0.70347222 | T12: 0.70486111 | U12: 0.70694444 | V12: 0.70138889 | W12: 0.70069444 | X12: 0.70694444 | Y12: 0.70277778 | Z12: 0.70694444 | AA12: 0.70833333 | AB12: 0.70972222 | AC12: 0.71041667 | AD12: 0.71180556 | AE12: 0.7125 | AF12: 0.71041667 | AG12: 0.71319444 | AH12: 0.71388889 | AI12: 0.71666667 | AJ12: 0.71597222 | AK12: 0.72013889 | AL12: 0.72361111 | AM12: 0.71527778 | AN12: 0.71597222 | AO12: 0.72013889 | AP12: 0.71875 | AQ12: 0.72777778 | AR12: 0.72847222 | AS12: 0.73055556 | AT12: 0.72777778 | AU12: 0.72430556 | AV12: 0.72708333 | AW12: 0.72986111 | AX12: 0.74583333
A13: 46032 | B13: 0.67986111 | C13: 0.66736111 | D13: 0.68611111 | E13: 0.6875 | F13: 0.69097222 | G13: 0.69027778 | H13: 0.69236111 | I13: 0.69305556 | J13: 0.69513889 | K13: 0.69652778 | L13: 0.69930556 | M13: 0.69861111 | N13: 0.69791667 | O13: 0.69861111 | P13: 0.70486111 | Q13: 0.69930556 | R13: 0.69652778 | S13: 0.70416667 | T13: 0.70555556 | U13: 0.70763889 | V13: 0.70208333 | W13: 0.70138889 | X13: 0.70763889 | Y13: 0.70347222 | Z13: 0.70763889 | AA13: 0.70902778 | AB13: 0.71041667 | AC13: 0.71111111 | AD13: 0.71180556 | AE13: 0.71319444 | AF13: 0.71111111 | AG13: 0.71388889 | AH13: 0.71388889 | AI13: 0.71736111 | AJ13: 0.71666667 | AK13: 0.72083333 | AL13: 0.72430556 | AM13: 0.71597222 | AN13: 0.71666667 | AO13: 0.72083333 | AP13: 0.71944444 | AQ13: 0.72777778 | AR13: 0.72916667 | AS13: 0.73055556 | AT13: 0.72847222 | AU13: 0.725 | AV13: 0.72777778 | AW13: 0.73055556 | AX13: 0.74652778
A14: 46033 | B14: 0.68055556 | C14: 0.66805556 | D14: 0.68680556 | E14: 0.68819444 | F14: 0.69166667 | G14: 0.69097222 | H14: 0.69305556 | I14: 0.69375 | J14: 0.69583333 | K14: 0.69722222 | L14: 0.7 | M14: 0.69930556 | N14: 0.69861111 | O14: 0.69930556 | P14: 0.70555556 | Q14: 0.7 | R14: 0.69722222 | S14: 0.70416667 | T14: 0.70625 | U14: 0.70833333 | V14: 0.70277778 | W14: 0.70208333 | X14: 0.70763889 | Y14: 0.70416667 | Z14: 0.70763889 | AA14: 0.70972222 | AB14: 0.71111111 | AC14: 0.71111111 | AD14: 0.7125 | AE14: 0.71388889 | AF14: 0.71180556 | AG14: 0.71458333 | AH14: 0.71458333 | AI14: 0.71805556 | AJ14: 0.71736111 | AK14: 0.72152778 | AL14: 0.725 | AM14: 0.71666667 | AN14: 0.71736111 | AO14: 0.72152778 | AP14: 0.72013889 | AQ14: 0.72847222 | AR14: 0.72916667 | AS14: 0.73125 | AT14: 0.72916667 | AU14: 0.72569444 | AV14: 0.72847222 | AW14: 0.73125 | AX14: 0.74722222
A15: 46034 | B15: 0.68125 | C15: 0.66875 | D15: 0.6875 | E15: 0.68888889 | F15: 0.69236111 | G15: 0.69166667 | H15: 0.69375 | I15: 0.69444444 | J15: 0.69652778 | K15: 0.69791667 | L15: 0.70069444 | M15: 0.7 | N15: 0.69930556 | O15: 0.7 | P15: 0.70625 | Q15: 0.70069444 | R15: 0.69791667 | S15: 0.70486111 | T15: 0.70694444 | U15: 0.70902778 | V15: 0.70347222 | W15: 0.70277778 | X15: 0.70833333 | Y15: 0.70486111 | Z15: 0.70833333 | AA15: 0.71041667 | AB15: 0.71180556 | AC15: 0.71180556 | AD15: 0.71319444 | AE15: 0.71388889 | AF15: 0.7125 | AG15: 0.71527778 | AH15: 0.71527778 | AI15: 0.71875 | AJ15: 0.71736111 | AK15: 0.72222222 | AL15: 0.72569444 | AM15: 0.71666667 | AN15: 0.71805556 | AO15: 0.72222222 | AP15: 0.72083333 | AQ15: 0.72916667 | AR15: 0.72986111 | AS15: 0.73194444 | AT15: 0.72986111 | AU15: 0.72638889 | AV15: 0.72916667 | AW15: 0.73194444 | AX15: 0.74791667
... A368: 46387 | B368: 0.67291667 | C368: 0.66041667 | D368: 0.67986111 | E368: 0.68125 | F368: 0.68472222 | G368: 0.68402778 | H368: 0.68611111 | I368: 0.68680556 | J368: 0.68958333 | K368: 0.69027778 | L368: 0.69305556 | M368: 0.69236111 | N368: 0.69166667 | O368: 0.69236111 | P368: 0.7 | Q368: 0.69305556 | R368: 0.69027778 | S368: 0.69791667 | T368: 0.69930556 | U368: 0.70138889 | V368: 0.69583333 | W368: 0.69513889 | X368: 0.70138889 | Y368: 0.69791667 | Z368: 0.70138889 | AA368: 0.70347222 | AB368: 0.70486111 | AC368: 0.70486111 | AD368: 0.70625 | AE368: 0.70694444 | AF368: 0.70555556 | AG368: 0.70763889 | AH368: 0.70833333 | AI368: 0.71180556 | AJ368: 0.71041667 | AK368: 0.71527778 | AL368: 0.71805556 | AM368: 0.70972222 | AN368: 0.71111111 | AO368: 0.71527778 | AP368: 0.71388889 | AQ368: 0.72222222 | AR368: 0.72291667 | AS368: 0.725 | AT368: 0.72291667 | AU368: 0.71944444 | AV368: 0.72222222 | AW368: 0.725 | AX368: 0.74166667

Sheet 5_薄明の終わり
A1: 常用薄明が終わる時刻（太陽の中心高度が-6度になる時刻）
A2: 国立天文台暦計算室の値。2026年10月6日に取得。分の値で、秒は暦計算室の表に出ていない
A3: 日付 | B3: 札幌 | C3: 根室 | D3: 青森 | E3: 盛岡 | F3: 仙台 | G3: 秋田 | H3: 山形 | I3: 福島 | J3: 水戸 | K3: 宇都宮 | L3: 前橋 | M3: さいたま | N3: 千葉 | O3: 東京 | P3: 小笠原（父島） | Q3: 横浜 | R3: 新潟 | S3: 富山 | T3: 金沢 | U3: 福井 | V3: 甲府 | W3: 長野 | X3: 岐阜 | Y3: 静岡 | Z3: 名古屋 | AA3: 津 | AB3: 大津 | AC3: 京都 | AD3: 大阪 | AE3: 神戸 | AF3: 奈良 | AG3: 和歌山 | AH3: 鳥取 | AI3: 松江 | AJ3: 岡山 | AK3: 広島 | AL3: 山口 | AM3: 徳島 | AN3: 高松 | AO3: 松山 | AP3: 高知 | AQ3: 福岡 | AR3: 佐賀 | AS3: 長崎 | AT3: 熊本 | AU3: 大分 | AV3: 宮崎 | AW3: 鹿児島 | AX3: 那覇
A4: 46023 | B4: 0.69583333 | C4: 0.68402778 | D4: 0.70208333 | E4: 0.70277778 | F4: 0.70555556 | G4: 0.70555556 | H4: 0.70694444 | I4: 0.70763889 | J4: 0.70972222 | K4: 0.71111111 | L4: 0.71388889 | M4: 0.71319444 | N4: 0.71180556 | O4: 0.71319444 | P4: 0.71805556 | Q4: 0.71319444 | R4: 0.71111111 | S4: 0.71805556 | T4: 0.72013889 | U4: 0.72222222 | V4: 0.71597222 | W4: 0.71597222 | X4: 0.72152778 | Y4: 0.71805556 | Z4: 0.72152778 | AA4: 0.72361111 | AB4: 0.725 | AC4: 0.725 | AD4: 0.72638889 | AE4: 0.72708333 | AF4: 0.725 | AG4: 0.72777778 | AH4: 0.72847222 | AI4: 0.73194444 | AJ4: 0.73055556 | AK4: 0.73541667 | AL4: 0.73819444 | AM4: 0.72986111 | AN4: 0.73055556 | AO4: 0.73472222 | AP4: 0.73333333 | AQ4: 0.74166667 | AR4: 0.74305556 | AS4: 0.74444444 | AT4: 0.74236111 | AU4: 0.73888889 | AV4: 0.74166667 | AW4: 0.74444444 | AX4: 0.75972222
A5: 46024 | B5: 0.69652778 | C5: 0.68402778 | D5: 0.70208333 | E5: 0.70277778 | F5: 0.70625 | G5: 0.70625 | H5: 0.70763889 | I5: 0.70833333 | J5: 0.71041667 | K5: 0.71180556 | L5: 0.71388889 | M5: 0.71319444 | N5: 0.7125 | O5: 0.71319444 | P5: 0.71875 | Q5: 0.71388889 | R5: 0.71180556 | S5: 0.71875 | T5: 0.72083333 | U5: 0.72291667 | V5: 0.71666667 | W5: 0.71597222 | X5: 0.72222222 | Y5: 0.71805556 | Z5: 0.72222222 | AA5: 0.72361111 | AB5: 0.725 | AC5: 0.72569444 | AD5: 0.72708333 | AE5: 0.72777778 | AF5: 0.72569444 | AG5: 0.72847222 | AH5: 0.72916667 | AI5: 0.73263889 | AJ5: 0.73125 | AK5: 0.73541667 | AL5: 0.73888889 | AM5: 0.73055556 | AN5: 0.73125 | AO5: 0.73541667 | AP5: 0.73402778 | AQ5: 0.74236111 | AR5: 0.74305556 | AS5: 0.74513889 | AT5: 0.74305556 | AU5: 0.73958333 | AV5: 0.74236111 | AW5: 0.74513889 | AX5: 0.76041667
A6: 46025 | B6: 0.69722222 | C6: 0.68472222 | D6: 0.70277778 | E6: 0.70347222 | F6: 0.70694444 | G6: 0.70625 | H6: 0.70833333 | I6: 0.70902778 | J6: 0.71111111 | K6: 0.7125 | L6: 0.71458333 | M6: 0.71388889 | N6: 0.71319444 | O6: 0.71388889 | P6: 0.71944444 | Q6: 0.71458333 | R6: 0.7125 | S6: 0.71944444 | T6: 0.72083333 | U6: 0.72291667 | V6: 0.71736111 | W6: 0.71666667 | X6: 0.72291667 | Y6: 0.71875 | Z6: 0.72222222 | AA6: 0.72430556 | AB6: 0.72569444 | AC6: 0.72569444 | AD6: 0.72708333 | AE6: 0.72777778 | AF6: 0.72638889 | AG6: 0.72847222 | AH6: 0.72986111 | AI6: 0.73263889 | AJ6: 0.73194444 | AK6: 0.73611111 | AL6: 0.73888889 | AM6: 0.73055556 | AN6: 0.73194444 | AO6: 0.73611111 | AP6: 0.73402778 | AQ6: 0.74305556 | AR6: 0.74375 | AS6: 0.74583333 | AT6: 0.74305556 | AU6: 0.74027778 | AV6: 0.74236111 | AW6: 0.74513889 | AX6: 0.76041667
A7: 46026 | B7: 0.69791667 | C7: 0.68541667 | D7: 0.70347222 | E7: 0.70416667 | F7: 0.70763889 | G7: 0.70694444 | H7: 0.70902778 | I7: 0.70902778 | J7: 0.71111111 | K7: 0.7125 | L7: 0.71527778 | M7: 0.71458333 | N7: 0.71388889 | O7: 0.71458333 | P7: 0.71944444 | Q7: 0.71527778 | R7: 0.71319444 | S7: 0.72013889 | T7: 0.72152778 | U7: 0.72361111 | V7: 0.71805556 | W7: 0.71736111 | X7: 0.72291667 | Y7: 0.71944444 | Z7: 0.72291667 | AA7: 0.725 | AB7: 0.72638889 | AC7: 0.72638889 | AD7: 0.72777778 | AE7: 0.72847222 | AF7: 0.72708333 | AG7: 0.72916667 | AH7: 0.72986111 | AI7: 0.73333333 | AJ7: 0.73194444 | AK7: 0.73680556 | AL7: 0.73958333 | AM7: 0.73125 | AN7: 0.73194444 | AO7: 0.73680556 | AP7: 0.73472222 | AQ7: 0.74375 | AR7: 0.74444444 | AS7: 0.74652778 | AT7: 0.74375 | AU7: 0.74097222 | AV7: 0.74305556 | AW7: 0.74583333 | AX7: 0.76111111
A8: 46027 | B8: 0.69861111 | C8: 0.68611111 | D8: 0.70416667 | E8: 0.70486111 | F8: 0.70763889 | G8: 0.70763889 | H8: 0.70972222 | I8: 0.70972222 | J8: 0.71180556 | K8: 0.71319444 | L8: 0.71597222 | M8: 0.71527778 | N8: 0.71388889 | O8: 0.71527778 | P8: 0.72013889 | Q8: 0.71597222 | R8: 0.71388889 | S8: 0.72083333 | T8: 0.72222222 | U8: 0.72430556 | V8: 0.71805556 | W8: 0.71805556 | X8: 0.72361111 | Y8: 0.72013889 | Z8: 0.72361111 | AA8: 0.72569444 | AB8: 0.72708333 | AC8: 0.72708333 | AD8: 0.72847222 | AE8: 0.72916667 | AF8: 0.72708333 | AG8: 0.72986111 | AH8: 0.73055556 | AI8: 0.73402778 | AJ8: 0.73263889 | AK8: 0.7375 | AL8: 0.74027778 | AM8: 0.73194444 | AN8: 0.73263889 | AO8: 0.73680556 | AP8: 0.73541667 | AQ8: 0.74375 | AR8: 0.74513889 | AS8: 0.74652778 | AT8: 0.74444444 | AU8: 0.74097222 | AV8: 0.74375 | AW8: 0.74652778 | AX8: 0.76180556
A9: 46028 | B9: 0.69930556 | C9: 0.68680556 | D9: 0.70486111 | E9: 0.70555556 | F9: 0.70833333 | G9: 0.70833333 | H9: 0.70972222 | I9: 0.71041667 | J9: 0.7125 | K9: 0.71388889 | L9: 0.71666667 | M9: 0.71527778 | N9: 0.71458333 | O9: 0.71597222 | P9: 0.72083333 | Q9: 0.71597222 | R9: 0.71388889 | S9: 0.72083333 | T9: 0.72291667 | U9: 0.725 | V9: 0.71875 | W9: 0.71875 | X9: 0.72430556 | Y9: 0.72013889 | Z9: 0.72430556 | AA9: 0.72569444 | AB9: 0.72708333 | AC9: 0.72777778 | AD9: 0.72916667 | AE9: 0.72986111 | AF9: 0.72777778 | AG9: 0.73055556 | AH9: 0.73125 | AI9: 0.73472222 | AJ9: 0.73333333 | AK9: 0.7375 | AL9: 0.74097222 | AM9: 0.73263889 | AN9: 0.73333333 | AO9: 0.7375 | AP9: 0.73611111 | AQ9: 0.74444444 | AR9: 0.74513889 | AS9: 0.74722222 | AT9: 0.74513889 | AU9: 0.74166667 | AV9: 0.74444444 | AW9: 0.74722222 | AX9: 0.76180556
A10: 46029 | B10: 0.7 | C10: 0.6875 | D10: 0.70555556 | E10: 0.70625 | F10: 0.70902778 | G10: 0.70902778 | H10: 0.71041667 | I10: 0.71111111 | J10: 0.71319444 | K10: 0.71458333 | L10: 0.71666667 | M10: 0.71597222 | N10: 0.71527778 | O10: 0.71597222 | P10: 0.72083333 | Q10: 0.71666667 | R10: 0.71458333 | S10: 0.72152778 | T10: 0.72361111 | U10: 0.72569444 | V10: 0.71944444 | W10: 0.71875 | X10: 0.725 | Y10: 0.72083333 | Z10: 0.725 | AA10: 0.72638889 | AB10: 0.72777778 | AC10: 0.72847222 | AD10: 0.72916667 | AE10: 0.73055556 | AF10: 0.72847222 | AG10: 0.73125 | AH10: 0.73194444 | AI10: 0.73541667 | AJ10: 0.73402778 | AK10: 0.73819444 | AL10: 0.74166667 | AM10: 0.73263889 | AN10: 0.73402778 | AO10: 0.73819444 | AP10: 0.73680556 | AQ10: 0.74513889 | AR10: 0.74583333 | AS10: 0.74791667 | AT10: 0.74513889 | AU10: 0.74236111 | AV10: 0.74444444 | AW10: 0.74722222 | AX10: 0.7625
A11: 46030 | B11: 0.70069444 | C11: 0.68819444 | D11: 0.70625 | E11: 0.70694444 | F11: 0.70972222 | G11: 0.70972222 | H11: 0.71111111 | I11: 0.71180556 | J11: 0.71388889 | K11: 0.71527778 | L11: 0.71736111 | M11: 0.71666667 | N11: 0.71597222 | O11: 0.71666667 | P11: 0.72152778 | Q11: 0.71736111 | R11: 0.71527778 | S11: 0.72222222 | T11: 0.72430556 | U11: 0.72569444 | V11: 0.72013889 | W11: 0.71944444 | X11: 0.72569444 | Y11: 0.72152778 | Z11: 0.72569444 | AA11: 0.72708333 | AB11: 0.72847222 | AC11: 0.72916667 | AD11: 0.72986111 | AE11: 0.73055556 | AF11: 0.72916667 | AG11: 0.73125 | AH11: 0.73263889 | AI11: 0.73541667 | AJ11: 0.73402778 | AK11: 0.73888889 | AL11: 0.74166667 | AM11: 0.73333333 | AN11: 0.73472222 | AO11: 0.73888889 | AP11: 0.73680556 | AQ11: 0.74583333 | AR11: 0.74652778 | AS11: 0.74861111 | AT11: 0.74583333 | AU11: 0.74305556 | AV11: 0.74513889 | AW11: 0.74791667 | AX11: 0.76319444
A12: 46031 | B12: 0.70138889 | C12: 0.68888889 | D12: 0.70694444 | E12: 0.70763889 | F12: 0.71041667 | G12: 0.71041667 | H12: 0.71180556 | I12: 0.7125 | J12: 0.71458333 | K12: 0.71597222 | L12: 0.71805556 | M12: 0.71736111 | N12: 0.71666667 | O12: 0.71736111 | P12: 0.72222222 | Q12: 0.71805556 | R12: 0.71597222 | S12: 0.72291667 | T12: 0.725 | U12: 0.72638889 | V12: 0.72083333 | W12: 0.72013889 | X12: 0.72569444 | Y12: 0.72222222 | Z12: 0.72569444 | AA12: 0.72777778 | AB12: 0.72916667 | AC12: 0.72916667 | AD12: 0.73055556 | AE12: 0.73125 | AF12: 0.72986111 | AG12: 0.73194444 | AH12: 0.73263889 | AI12: 0.73611111 | AJ12: 0.73472222 | AK12: 0.73958333 | AL12: 0.74236111 | AM12: 0.73402778 | AN12: 0.73541667 | AO12: 0.73958333 | AP12: 0.7375 | AQ12: 0.74652778 | AR12: 0.74722222 | AS12: 0.74861111 | AT12: 0.74652778 | AU12: 0.74305556 | AV12: 0.74583333 | AW12: 0.74861111 | AX12: 0.76319444
A13: 46032 | B13: 0.70208333 | C13: 0.68958333 | D13: 0.70763889 | E13: 0.70833333 | F13: 0.71111111 | G13: 0.71111111 | H13: 0.7125 | I13: 0.71319444 | J13: 0.71458333 | K13: 0.71597222 | L13: 0.71875 | M13: 0.71805556 | N13: 0.71736111 | O13: 0.71805556 | P13: 0.72291667 | Q13: 0.71875 | R13: 0.71666667 | S13: 0.72361111 | T13: 0.725 | U13: 0.72708333 | V13: 0.72152778 | W13: 0.72083333 | X13: 0.72638889 | Y13: 0.72291667 | Z13: 0.72638889 | AA13: 0.72847222 | AB13: 0.72986111 | AC13: 0.72986111 | AD13: 0.73125 | AE13: 0.73194444 | AF13: 0.73055556 | AG13: 0.73263889 | AH13: 0.73333333 | AI13: 0.73680556 | AJ13: 0.73541667 | AK13: 0.74027778 | AL13: 0.74305556 | AM13: 0.73472222 | AN13: 0.73541667 | AO13: 0.74027778 | AP13: 0.73819444 | AQ13: 0.74652778 | AR13: 0.74791667 | AS13: 0.74930556 | AT13: 0.74722222 | AU13: 0.74375 | AV13: 0.74652778 | AW13: 0.74930556 | AX13: 0.76388889
