Workbook

Sheet 配布
A1: 配ったときの控え | E1: 黄色の3列に、配ったときの中身を貼る
A2: 番号 | B2: 取引先 | C2: 金額 | D2: キーの重複 | E2: 戻りでの状態 | F2: 戻りの金額 | G2: 差
A3: 1000 | B3: 取引先00 | C3: 400000 | D3: =IF($A3="","",IF(COUNTIF($A$3:$A$502,$A3)>1,"重複","")) | E3: =IF($A3="","",IF($D3<>"","キーが重複していて見られない",IF(COUNTIF(戻り!$A:$A,$A3)=0,"消えた",IF(VLOOKUP($A3,戻り!$A:$C,3,FALSE)<>$C3,"金額が変わった","")))) | F3: =IF($A3="","",IFERROR(VLOOKUP($A3,戻り!$A:$C,3,FALSE),"")) | G3: =IF(OR($F3="",$C3=""),"",$F3-$C3)
A4: 1001 | B4: 取引先01 | C4: 350000 | D4: =IF($A4="","",IF(COUNTIF($A$3:$A$502,$A4)>1,"重複","")) | E4: =IF($A4="","",IF($D4<>"","キーが重複していて見られない",IF(COUNTIF(戻り!$A:$A,$A4)=0,"消えた",IF(VLOOKUP($A4,戻り!$A:$C,3,FALSE)<>$C4,"金額が変わった","")))) | F4: =IF($A4="","",IFERROR(VLOOKUP($A4,戻り!$A:$C,3,FALSE),"")) | G4: =IF(OR($F4="",$C4=""),"",$F4-$C4)
A5: 1002 | B5: 取引先02 | C5: 246000 | D5: =IF($A5="","",IF(COUNTIF($A$3:$A$502,$A5)>1,"重複","")) | E5: =IF($A5="","",IF($D5<>"","キーが重複していて見られない",IF(COUNTIF(戻り!$A:$A,$A5)=0,"消えた",IF(VLOOKUP($A5,戻り!$A:$C,3,FALSE)<>$C5,"金額が変わった","")))) | F5: =IF($A5="","",IFERROR(VLOOKUP($A5,戻り!$A:$C,3,FALSE),"")) | G5: =IF(OR($F5="",$C5=""),"",$F5-$C5)
A6: 1003 | B6: 取引先03 | C6: 180000 | D6: =IF($A6="","",IF(COUNTIF($A$3:$A$502,$A6)>1,"重複","")) | E6: =IF($A6="","",IF($D6<>"","キーが重複していて見られない",IF(COUNTIF(戻り!$A:$A,$A6)=0,"消えた",IF(VLOOKUP($A6,戻り!$A:$C,3,FALSE)<>$C6,"金額が変わった","")))) | F6: =IF($A6="","",IFERROR(VLOOKUP($A6,戻り!$A:$C,3,FALSE),"")) | G6: =IF(OR($F6="",$C6=""),"",$F6-$C6)
A7: 1004 | B7: 取引先04 | C7: 404000 | D7: =IF($A7="","",IF(COUNTIF($A$3:$A$502,$A7)>1,"重複","")) | E7: =IF($A7="","",IF($D7<>"","キーが重複していて見られない",IF(COUNTIF(戻り!$A:$A,$A7)=0,"消えた",IF(VLOOKUP($A7,戻り!$A:$C,3,FALSE)<>$C7,"金額が変わった","")))) | F7: =IF($A7="","",IFERROR(VLOOKUP($A7,戻り!$A:$C,3,FALSE),"")) | G7: =IF(OR($F7="",$C7=""),"",$F7-$C7)
A8: 1005 | B8: 取引先05 | C8: 601000 | D8: =IF($A8="","",IF(COUNTIF($A$3:$A$502,$A8)>1,"重複","")) | E8: =IF($A8="","",IF($D8<>"","キーが重複していて見られない",IF(COUNTIF(戻り!$A:$A,$A8)=0,"消えた",IF(VLOOKUP($A8,戻り!$A:$C,3,FALSE)<>$C8,"金額が変わった","")))) | F8: =IF($A8="","",IFERROR(VLOOKUP($A8,戻り!$A:$C,3,FALSE),"")) | G8: =IF(OR($F8="",$C8=""),"",$F8-$C8)
A9: 1006 | B9: 取引先06 | C9: 716000 | D9: =IF($A9="","",IF(COUNTIF($A$3:$A$502,$A9)>1,"重複","")) | E9: =IF($A9="","",IF($D9<>"","キーが重複していて見られない",IF(COUNTIF(戻り!$A:$A,$A9)=0,"消えた",IF(VLOOKUP($A9,戻り!$A:$C,3,FALSE)<>$C9,"金額が変わった","")))) | F9: =IF($A9="","",IFERROR(VLOOKUP($A9,戻り!$A:$C,3,FALSE),"")) | G9: =IF(OR($F9="",$C9=""),"",$F9-$C9)
A10: 1007 | B10: 取引先07 | C10: 300000 | D10: =IF($A10="","",IF(COUNTIF($A$3:$A$502,$A10)>1,"重複","")) | E10: =IF($A10="","",IF($D10<>"","キーが重複していて見られない",IF(COUNTIF(戻り!$A:$A,$A10)=0,"消えた",IF(VLOOKUP($A10,戻り!$A:$C,3,FALSE)<>$C10,"金額が変わった","")))) | F10: =IF($A10="","",IFERROR(VLOOKUP($A10,戻り!$A:$C,3,FALSE),"")) | G10: =IF(OR($F10="",$C10=""),"",$F10-$C10)
A11: 1008 | B11: 取引先08 | C11: 576000 | D11: =IF($A11="","",IF(COUNTIF($A$3:$A$502,$A11)>1,"重複","")) | E11: =IF($A11="","",IF($D11<>"","キーが重複していて見られない",IF(COUNTIF(戻り!$A:$A,$A11)=0,"消えた",IF(VLOOKUP($A11,戻り!$A:$C,3,FALSE)<>$C11,"金額が変わった","")))) | F11: =IF($A11="","",IFERROR(VLOOKUP($A11,戻り!$A:$C,3,FALSE),"")) | G11: =IF(OR($F11="",$C11=""),"",$F11-$C11)
A12: 1009 | B12: 取引先09 | C12: 293000 | D12: =IF($A12="","",IF(COUNTIF($A$3:$A$502,$A12)>1,"重複","")) | E12: =IF($A12="","",IF($D12<>"","キーが重複していて見られない",IF(COUNTIF(戻り!$A:$A,$A12)=0,"消えた",IF(VLOOKUP($A12,戻り!$A:$C,3,FALSE)<>$C12,"金額が変わった","")))) | F12: =IF($A12="","",IFERROR(VLOOKUP($A12,戻り!$A:$C,3,FALSE),"")) | G12: =IF(OR($F12="",$C12=""),"",$F12-$C12)
A13: 1010 | B13: 取引先10 | C13: 402000 | D13: =IF($A13="","",IF(COUNTIF($A$3:$A$502,$A13)>1,"重複","")) | E13: =IF($A13="","",IF($D13<>"","キーが重複していて見られない",IF(COUNTIF(戻り!$A:$A,$A13)=0,"消えた",IF(VLOOKUP($A13,戻り!$A:$C,3,FALSE)<>$C13,"金額が変わった","")))) | F13: =IF($A13="","",IFERROR(VLOOKUP($A13,戻り!$A:$C,3,FALSE),"")) | G13: =IF(OR($F13="",$C13=""),"",$F13-$C13)
A14: 1011 | B14: 取引先11 | C14: 882000 | D14: =IF($A14="","",IF(COUNTIF($A$3:$A$502,$A14)>1,"重複","")) | E14: =IF($A14="","",IF($D14<>"","キーが重複していて見られない",IF(COUNTIF(戻り!$A:$A,$A14)=0,"消えた",IF(VLOOKUP($A14,戻り!$A:$C,3,FALSE)<>$C14,"金額が変わった","")))) | F14: =IF($A14="","",IFERROR(VLOOKUP($A14,戻り!$A:$C,3,FALSE),"")) | G14: =IF(OR($F14="",$C14=""),"",$F14-$C14)
... A32: 1029 | B32: 取引先09 | C32: 717000 | D32: =IF($A32="","",IF(COUNTIF($A$3:$A$502,$A32)>1,"重複","")) | E32: =IF($A32="","",IF($D32<>"","キーが重複していて見られない",IF(COUNTIF(戻り!$A:$A,$A32)=0,"消えた",IF(VLOOKUP($A32,戻り!$A:$C,3,FALSE)<>$C32,"金額が変わった","")))) | F32: =IF($A32="","",IFERROR(VLOOKUP($A32,戻り!$A:$C,3,FALSE),"")) | G32: =IF(OR($F32="",$C32=""),"",$F32-$C32)
D33: =IF($A33="","",IF(COUNTIF($A$3:$A$502,$A33)>1,"重複","")) | E33: =IF($A33="","",IF($D33<>"","キーが重複していて見られない",IF(COUNTIF(戻り!$A:$A,$A33)=0,"消えた",IF(VLOOKUP($A33,戻り!$A:$C,3,FALSE)<>$C33,"金額が変わった","")))) | F33: =IF($A33="","",IFERROR(VLOOKUP($A33,戻り!$A:$C,3,FALSE),"")) | G33: =IF(OR($F33="",$C33=""),"",$F33-$C33)
D34: =IF($A34="","",IF(COUNTIF($A$3:$A$502,$A34)>1,"重複","")) | E34: =IF($A34="","",IF($D34<>"","キーが重複していて見られない",IF(COUNTIF(戻り!$A:$A,$A34)=0,"消えた",IF(VLOOKUP($A34,戻り!$A:$C,3,FALSE)<>$C34,"金額が変わった","")))) | F34: =IF($A34="","",IFERROR(VLOOKUP($A34,戻り!$A:$C,3,FALSE),"")) | G34: =IF(OR($F34="",$C34=""),"",$F34-$C34)
D35: =IF($A35="","",IF(COUNTIF($A$3:$A$502,$A35)>1,"重複","")) | E35: =IF($A35="","",IF($D35<>"","キーが重複していて見られない",IF(COUNTIF(戻り!$A:$A,$A35)=0,"消えた",IF(VLOOKUP($A35,戻り!$A:$C,3,FALSE)<>$C35,"金額が変わった","")))) | F35: =IF($A35="","",IFERROR(VLOOKUP($A35,戻り!$A:$C,3,FALSE),"")) | G35: =IF(OR($F35="",$C35=""),"",$F35-$C35)
D36: =IF($A36="","",IF(COUNTIF($A$3:$A$502,$A36)>1,"重複","")) | E36: =IF($A36="","",IF($D36<>"","キーが重複していて見られない",IF(COUNTIF(戻り!$A:$A,$A36)=0,"消えた",IF(VLOOKUP($A36,戻り!$A:$C,3,FALSE)<>$C36,"金額が変わった","")))) | F36: =IF($A36="","",IFERROR(VLOOKUP($A36,戻り!$A:$C,3,FALSE),"")) | G36: =IF(OR($F36="",$C36=""),"",$F36-$C36)
D37: =IF($A37="","",IF(COUNTIF($A$3:$A$502,$A37)>1,"重複","")) | E37: =IF($A37="","",IF($D37<>"","キーが重複していて見られない",IF(COUNTIF(戻り!$A:$A,$A37)=0,"消えた",IF(VLOOKUP($A37,戻り!$A:$C,3,FALSE)<>$C37,"金額が変わった","")))) | F37: =IF($A37="","",IFERROR(VLOOKUP($A37,戻り!$A:$C,3,FALSE),"")) | G37: =IF(OR($F37="",$C37=""),"",$F37-$C37)
D38: =IF($A38="","",IF(COUNTIF($A$3:$A$502,$A38)>1,"重複","")) | E38: =IF($A38="","",IF($D38<>"","キーが重複していて見られない",IF(COUNTIF(戻り!$A:$A,$A38)=0,"消えた",IF(VLOOKUP($A38,戻り!$A:$C,3,FALSE)<>$C38,"金額が変わった","")))) | F38: =IF($A38="","",IFERROR(VLOOKUP($A38,戻り!$A:$C,3,FALSE),"")) | G38: =IF(OR($F38="",$C38=""),"",$F38-$C38)
D39: =IF($A39="","",IF(COUNTIF($A$3:$A$502,$A39)>1,"重複","")) | E39: =IF($A39="","",IF($D39<>"","キーが重複していて見られない",IF(COUNTIF(戻り!$A:$A,$A39)=0,"消えた",IF(VLOOKUP($A39,戻り!$A:$C,3,FALSE)<>$C39,"金額が変わった","")))) | F39: =IF($A39="","",IFERROR(VLOOKUP($A39,戻り!$A:$C,3,FALSE),"")) | G39: =IF(OR($F39="",$C39=""),"",$F39-$C39)
D40: =IF($A40="","",IF(COUNTIF($A$3:$A$502,$A40)>1,"重複","")) | E40: =IF($A40="","",IF($D40<>"","キーが重複していて見られない",IF(COUNTIF(戻り!$A:$A,$A40)=0,"消えた",IF(VLOOKUP($A40,戻り!$A:$C,3,FALSE)<>$C40,"金額が変わった","")))) | F40: =IF($A40="","",IFERROR(VLOOKUP($A40,戻り!$A:$C,3,FALSE),"")) | G40: =IF(OR($F40="",$C40=""),"",$F40-$C40)
D41: =IF($A41="","",IF(COUNTIF($A$3:$A$502,$A41)>1,"重複","")) | E41: =IF($A41="","",IF($D41<>"","キーが重複していて見られない",IF(COUNTIF(戻り!$A:$A,$A41)=0,"消えた",IF(VLOOKUP($A41,戻り!$A:$C,3,FALSE)<>$C41,"金額が変わった","")))) | F41: =IF($A41="","",IFERROR(VLOOKUP($A41,戻り!$A:$C,3,FALSE),"")) | G41: =IF(OR($F41="",$C41=""),"",$F41-$C41)
D42: =IF($A42="","",IF(COUNTIF($A$3:$A$502,$A42)>1,"重複","")) | E42: =IF($A42="","",IF($D42<>"","キーが重複していて見られない",IF(COUNTIF(戻り!$A:$A,$A42)=0,"消えた",IF(VLOOKUP($A42,戻り!$A:$C,3,FALSE)<>$C42,"金額が変わった","")))) | F42: =IF($A42="","",IFERROR(VLOOKUP($A42,戻り!$A:$C,3,FALSE),"")) | G42: =IF(OR($F42="",$C42=""),"",$F42-$C42)
D43: =IF($A43="","",IF(COUNTIF($A$3:$A$502,$A43)>1,"重複","")) | E43: =IF($A43="","",IF($D43<>"","キーが重複していて見られない",IF(COUNTIF(戻り!$A:$A,$A43)=0,"消えた",IF(VLOOKUP($A43,戻り!$A:$C,3,FALSE)<>$C43,"金額が変わった","")))) | F43: =IF($A43="","",IFERROR(VLOOKUP($A43,戻り!$A:$C,3,FALSE),"")) | G43: =IF(OR($F43="",$C43=""),"",$F43-$C43)
D44: =IF($A44="","",IF(COUNTIF($A$3:$A$502,$A44)>1,"重複","")) | E44: =IF($A44="","",IF($D44<>"","キーが重複していて見られない",IF(COUNTIF(戻り!$A:$A,$A44)=0,"消えた",IF(VLOOKUP($A44,戻り!$A:$C,3,FALSE)<>$C44,"金額が変わった","")))) | F44: =IF($A44="","",IFERROR(VLOOKUP($A44,戻り!$A:$C,3,FALSE),"")) | G44: =IF(OR($F44="",$C44=""),"",$F44-$C44)
... D502: =IF($A502="","",IF(COUNTIF($A$3:$A$502,$A502)>1,"重複","")) | E502: =IF($A502="","",IF($D502<>"","キーが重複していて見られない",IF(COUNTIF(戻り!$A:$A,$A502)=0,"消えた",IF(VLOOKUP($A502,戻り!$A:$C,3,FALSE)<>$C502,"金額が変わった","")))) | F502: =IF($A502="","",IFERROR(VLOOKUP($A502,戻り!$A:$C,3,FALSE),"")) | G502: =IF(OR($F502="",$C502=""),"",$F502-$C502)

Sheet 戻り
A1: 戻ってきたもの | E1: 黄色の3列に、戻ってきた中身を貼る
A2: 番号 | B2: 取引先 | C2: 金額 | D2: キーの重複 | E2: 配布にあるか
A3: 1000 | B3: 取引先00 | C3: 400000 | D3: =IF($A3="","",IF(COUNTIF($A$3:$A$502,$A3)>1,"重複","")) | E3: =IF($A3="","",IF(COUNTIF(配布!$A:$A,$A3)=0,"増えた",""))
A4: 1001 | B4: 取引先01 | C4: 350000 | D4: =IF($A4="","",IF(COUNTIF($A$3:$A$502,$A4)>1,"重複","")) | E4: =IF($A4="","",IF(COUNTIF(配布!$A:$A,$A4)=0,"増えた",""))
A5: 1002 | B5: 取引先02 | C5: 246000 | D5: =IF($A5="","",IF(COUNTIF($A$3:$A$502,$A5)>1,"重複","")) | E5: =IF($A5="","",IF(COUNTIF(配布!$A:$A,$A5)=0,"増えた",""))
A6: 1004 | B6: 取引先04 | C6: 404000 | D6: =IF($A6="","",IF(COUNTIF($A$3:$A$502,$A6)>1,"重複","")) | E6: =IF($A6="","",IF(COUNTIF(配布!$A:$A,$A6)=0,"増えた",""))
A7: 1005 | B7: 取引先05 | C7: 611000 | D7: =IF($A7="","",IF(COUNTIF($A$3:$A$502,$A7)>1,"重複","")) | E7: =IF($A7="","",IF(COUNTIF(配布!$A:$A,$A7)=0,"増えた",""))
A8: 2001 | B8: 新規01 | C8: 240000 | D8: =IF($A8="","",IF(COUNTIF($A$3:$A$502,$A8)>1,"重複","")) | E8: =IF($A8="","",IF(COUNTIF(配布!$A:$A,$A8)=0,"増えた",""))
A9: 1006 | B9: 取引先06 | C9: 716000 | D9: =IF($A9="","",IF(COUNTIF($A$3:$A$502,$A9)>1,"重複","")) | E9: =IF($A9="","",IF(COUNTIF(配布!$A:$A,$A9)=0,"増えた",""))
A10: 1007 | B10: 取引先07 | C10: 300000 | D10: =IF($A10="","",IF(COUNTIF($A$3:$A$502,$A10)>1,"重複","")) | E10: =IF($A10="","",IF(COUNTIF(配布!$A:$A,$A10)=0,"増えた",""))
A11: 1008 | B11: 取引先08 | C11: 576000 | D11: =IF($A11="","",IF(COUNTIF($A$3:$A$502,$A11)>1,"重複","")) | E11: =IF($A11="","",IF(COUNTIF(配布!$A:$A,$A11)=0,"増えた",""))
A12: 1009 | B12: 取引先09 | C12: 293000 | D12: =IF($A12="","",IF(COUNTIF($A$3:$A$502,$A12)>1,"重複","")) | E12: =IF($A12="","",IF(COUNTIF(配布!$A:$A,$A12)=0,"増えた",""))
A13: 1010 | B13: 取引先10 | C13: 402000 | D13: =IF($A13="","",IF(COUNTIF($A$3:$A$502,$A13)>1,"重複","")) | E13: =IF($A13="","",IF(COUNTIF(配布!$A:$A,$A13)=0,"増えた",""))
A14: 1012 | B14: 取引先12 | C14: 759000 | D14: =IF($A14="","",IF(COUNTIF($A$3:$A$502,$A14)>1,"重複","")) | E14: =IF($A14="","",IF(COUNTIF(配布!$A:$A,$A14)=0,"増えた",""))
... A31: 1029 | B31: 取引先09 | C31: 717000 | D31: =IF($A31="","",IF(COUNTIF($A$3:$A$502,$A31)>1,"重複","")) | E31: =IF($A31="","",IF(COUNTIF(配布!$A:$A,$A31)=0,"増えた",""))
D32: =IF($A32="","",IF(COUNTIF($A$3:$A$502,$A32)>1,"重複","")) | E32: =IF($A32="","",IF(COUNTIF(配布!$A:$A,$A32)=0,"増えた",""))
D33: =IF($A33="","",IF(COUNTIF($A$3:$A$502,$A33)>1,"重複","")) | E33: =IF($A33="","",IF(COUNTIF(配布!$A:$A,$A33)=0,"増えた",""))
D34: =IF($A34="","",IF(COUNTIF($A$3:$A$502,$A34)>1,"重複","")) | E34: =IF($A34="","",IF(COUNTIF(配布!$A:$A,$A34)=0,"増えた",""))
D35: =IF($A35="","",IF(COUNTIF($A$3:$A$502,$A35)>1,"重複","")) | E35: =IF($A35="","",IF(COUNTIF(配布!$A:$A,$A35)=0,"増えた",""))
D36: =IF($A36="","",IF(COUNTIF($A$3:$A$502,$A36)>1,"重複","")) | E36: =IF($A36="","",IF(COUNTIF(配布!$A:$A,$A36)=0,"増えた",""))
D37: =IF($A37="","",IF(COUNTIF($A$3:$A$502,$A37)>1,"重複","")) | E37: =IF($A37="","",IF(COUNTIF(配布!$A:$A,$A37)=0,"増えた",""))
D38: =IF($A38="","",IF(COUNTIF($A$3:$A$502,$A38)>1,"重複","")) | E38: =IF($A38="","",IF(COUNTIF(配布!$A:$A,$A38)=0,"増えた",""))
D39: =IF($A39="","",IF(COUNTIF($A$3:$A$502,$A39)>1,"重複","")) | E39: =IF($A39="","",IF(COUNTIF(配布!$A:$A,$A39)=0,"増えた",""))
D40: =IF($A40="","",IF(COUNTIF($A$3:$A$502,$A40)>1,"重複","")) | E40: =IF($A40="","",IF(COUNTIF(配布!$A:$A,$A40)=0,"増えた",""))
D41: =IF($A41="","",IF(COUNTIF($A$3:$A$502,$A41)>1,"重複","")) | E41: =IF($A41="","",IF(COUNTIF(配布!$A:$A,$A41)=0,"増えた",""))
D42: =IF($A42="","",IF(COUNTIF($A$3:$A$502,$A42)>1,"重複","")) | E42: =IF($A42="","",IF(COUNTIF(配布!$A:$A,$A42)=0,"増えた",""))
D43: =IF($A43="","",IF(COUNTIF($A$3:$A$502,$A43)>1,"重複","")) | E43: =IF($A43="","",IF(COUNTIF(配布!$A:$A,$A43)=0,"増えた",""))
... D502: =IF($A502="","",IF(COUNTIF($A$3:$A$502,$A502)>1,"重複","")) | E502: =IF($A502="","",IF(COUNTIF(配布!$A:$A,$A502)=0,"増えた",""))

Sheet 突合
A1: 突き合わせた結果
A3: 配った行数 | B3: =COUNTA(配布!$A$3:$A$502)
A4: 戻ってきた行数 | B4: =COUNTA(戻り!$A$3:$A$502)
A5: 消えた | B5: =COUNTIF(配布!$E$3:$E$502,"消えた") | D5: ← 配布にあって戻りにない行。上書きで消された行がここに出る
A6: 増えた | B6: =COUNTIF(戻り!$E$3:$E$502,"増えた") | D6: ← 戻りにあって配布にない行。勝手に足された行
A7: 金額が変わった | B7: =COUNTIF(配布!$E$3:$E$502,"金額が変わった") | D7: ← 番号は同じで金額だけ違う行
A8: キーが重複している | B8: =COUNTIF(配布!$D$3:$D$502,"重複")+COUNTIF(戻り!$D$3:$D$502,"重複") | D8: ← 番号が重なっている行。VLOOKUP は最初の1件しか見ないので突き合わせにならない
A9: 人が見る行数 | B9: =$B$5+$B$6+$B$7+$B$8
A10: 配った金額の合計 | B10: =SUM(配布!$C$3:$C$502)
A11: 戻った金額の合計 | B11: =SUM(戻り!$C$3:$C$502)
A12: 差額 | B12: =$B$11-$B$10

Sheet 使い方
A1: 配ったブックが戻ってきたら
A3: 配る前に、配った中身のコピーを取っておく。これがないと、あとから何も比べられない。
A4: 戻ってきたら、配ったときの控えを「配布」に、戻ってきた中身を「戻り」に貼る。
A6: 突き合わせは番号で行う。行番号で比べてはいけない。1行消えるだけで、それより下が全部ずれる。
A7: 番号がない表なら、取引先と日付をつないだ列を作って、それを番号の代わりにする。
A9: 番号が重なっていると突き合わせにならない。VLOOKUP は最初に見つけた1件しか見ないからだ。
A10: 「キーの重複」に印が出た行は、番号を振り直してからもう一度貼る。
A12: 「消えた」に出た行が、上書きで落ちた行。戻した本人に聞く前に、差額まで見ておく。
A13: 「金額が変わった」は、直したのか壊したのかが分からない。差の列で桁が動いていないかを見る。
A15: 同じブックを何人にも回すなら、回す順番を決めて1人ずつにする。同時に配ると、最後の人が全部を上書きする。
