Workbook

Sheet 診断
A1: VLOOKUP が合わないときに見るところ | F1: 黄色の列に検索値を貼る。赤は直せない行
A2: 検索値 | B2: そのままの結果 | C2: 直した結果 | D2: 見立て | E2: 余計な文字数 | F2: 型 | G2: 直した値 | I2: 数えると
A3: 1003 | B3: =IF($A3="","",IFERROR(VLOOKUP($A3,マスタ!$A$3:$B$502,2,FALSE),"#N/A")) | C3: =IF($A3="","",IFERROR(VLOOKUP($G3,マスタ!$A$3:$B$502,2,FALSE),"#N/A")) | D3: =IF($A3="","",IF($B3<>"#N/A","そのまま見つかる",IF($C3<>"#N/A",IF($E3>0,"余計な文字が付いている","型か全角半角のちがい"),"マスタに無い"))) | E3: =IF($A3="","",LEN($A3)-LEN($G3)) | F3: =IF($A3="","",IF(ISTEXT($A3),"文字列","数値")) | G3: =IF($A3="","",IFERROR(VALUE(TRIM(SUBSTITUTE(SUBSTITUTE(ASC($A3),CHAR(160),""),CHAR(10),""))),TRIM(SUBSTITUTE(SUBSTITUTE(ASC($A3),CHAR(160),""),CHAR(10),"")))) | I3: 貼った件数 | J3: =COUNTA($A$3:$A$502)
A4: 1007 | B4: =IF($A4="","",IFERROR(VLOOKUP($A4,マスタ!$A$3:$B$502,2,FALSE),"#N/A")) | C4: =IF($A4="","",IFERROR(VLOOKUP($G4,マスタ!$A$3:$B$502,2,FALSE),"#N/A")) | D4: =IF($A4="","",IF($B4<>"#N/A","そのまま見つかる",IF($C4<>"#N/A",IF($E4>0,"余計な文字が付いている","型か全角半角のちがい"),"マスタに無い"))) | E4: =IF($A4="","",LEN($A4)-LEN($G4)) | F4: =IF($A4="","",IF(ISTEXT($A4),"文字列","数値")) | G4: =IF($A4="","",IFERROR(VALUE(TRIM(SUBSTITUTE(SUBSTITUTE(ASC($A4),CHAR(160),""),CHAR(10),""))),TRIM(SUBSTITUTE(SUBSTITUTE(ASC($A4),CHAR(160),""),CHAR(10),"")))) | I4: そのまま見つかる | J4: =COUNTIF($D$3:$D$502,"そのまま見つかる")
A5: 1012 | B5: =IF($A5="","",IFERROR(VLOOKUP($A5,マスタ!$A$3:$B$502,2,FALSE),"#N/A")) | C5: =IF($A5="","",IFERROR(VLOOKUP($G5,マスタ!$A$3:$B$502,2,FALSE),"#N/A")) | D5: =IF($A5="","",IF($B5<>"#N/A","そのまま見つかる",IF($C5<>"#N/A",IF($E5>0,"余計な文字が付いている","型か全角半角のちがい"),"マスタに無い"))) | E5: =IF($A5="","",LEN($A5)-LEN($G5)) | F5: =IF($A5="","",IF(ISTEXT($A5),"文字列","数値")) | G5: =IF($A5="","",IFERROR(VALUE(TRIM(SUBSTITUTE(SUBSTITUTE(ASC($A5),CHAR(160),""),CHAR(10),""))),TRIM(SUBSTITUTE(SUBSTITUTE(ASC($A5),CHAR(160),""),CHAR(10),"")))) | I5: 直せば見つかる | J5: =COUNTIF($D$3:$D$502,"余計な文字が付いている")+COUNTIF($D$3:$D$502,"型か全角半角のちがい")
A6: 1018 | B6: =IF($A6="","",IFERROR(VLOOKUP($A6,マスタ!$A$3:$B$502,2,FALSE),"#N/A")) | C6: =IF($A6="","",IFERROR(VLOOKUP($G6,マスタ!$A$3:$B$502,2,FALSE),"#N/A")) | D6: =IF($A6="","",IF($B6<>"#N/A","そのまま見つかる",IF($C6<>"#N/A",IF($E6>0,"余計な文字が付いている","型か全角半角のちがい"),"マスタに無い"))) | E6: =IF($A6="","",LEN($A6)-LEN($G6)) | F6: =IF($A6="","",IF(ISTEXT($A6),"文字列","数値")) | G6: =IF($A6="","",IFERROR(VALUE(TRIM(SUBSTITUTE(SUBSTITUTE(ASC($A6),CHAR(160),""),CHAR(10),""))),TRIM(SUBSTITUTE(SUBSTITUTE(ASC($A6),CHAR(160),""),CHAR(10),"")))) | I6: マスタに無い | J6: =COUNTIF($D$3:$D$502,"マスタに無い")
A7: １０２５ | B7: =IF($A7="","",IFERROR(VLOOKUP($A7,マスタ!$A$3:$B$502,2,FALSE),"#N/A")) | C7: =IF($A7="","",IFERROR(VLOOKUP($G7,マスタ!$A$3:$B$502,2,FALSE),"#N/A")) | D7: =IF($A7="","",IF($B7<>"#N/A","そのまま見つかる",IF($C7<>"#N/A",IF($E7>0,"余計な文字が付いている","型か全角半角のちがい"),"マスタに無い"))) | E7: =IF($A7="","",LEN($A7)-LEN($G7)) | F7: =IF($A7="","",IF(ISTEXT($A7),"文字列","数値")) | G7: =IF($A7="","",IFERROR(VALUE(TRIM(SUBSTITUTE(SUBSTITUTE(ASC($A7),CHAR(160),""),CHAR(10),""))),TRIM(SUBSTITUTE(SUBSTITUTE(ASC($A7),CHAR(160),""),CHAR(10),""))))
A8: 6001 | B8: =IF($A8="","",IFERROR(VLOOKUP($A8,マスタ!$A$3:$B$502,2,FALSE),"#N/A")) | C8: =IF($A8="","",IFERROR(VLOOKUP($G8,マスタ!$A$3:$B$502,2,FALSE),"#N/A")) | D8: =IF($A8="","",IF($B8<>"#N/A","そのまま見つかる",IF($C8<>"#N/A",IF($E8>0,"余計な文字が付いている","型か全角半角のちがい"),"マスタに無い"))) | E8: =IF($A8="","",LEN($A8)-LEN($G8)) | F8: =IF($A8="","",IF(ISTEXT($A8),"文字列","数値")) | G8: =IF($A8="","",IFERROR(VALUE(TRIM(SUBSTITUTE(SUBSTITUTE(ASC($A8),CHAR(160),""),CHAR(10),""))),TRIM(SUBSTITUTE(SUBSTITUTE(ASC($A8),CHAR(160),""),CHAR(10),""))))
A9: 1030 | B9: =IF($A9="","",IFERROR(VLOOKUP($A9,マスタ!$A$3:$B$502,2,FALSE),"#N/A")) | C9: =IF($A9="","",IFERROR(VLOOKUP($G9,マスタ!$A$3:$B$502,2,FALSE),"#N/A")) | D9: =IF($A9="","",IF($B9<>"#N/A","そのまま見つかる",IF($C9<>"#N/A",IF($E9>0,"余計な文字が付いている","型か全角半角のちがい"),"マスタに無い"))) | E9: =IF($A9="","",LEN($A9)-LEN($G9)) | F9: =IF($A9="","",IF(ISTEXT($A9),"文字列","数値")) | G9: =IF($A9="","",IFERROR(VALUE(TRIM(SUBSTITUTE(SUBSTITUTE(ASC($A9),CHAR(160),""),CHAR(10),""))),TRIM(SUBSTITUTE(SUBSTITUTE(ASC($A9),CHAR(160),""),CHAR(10),""))))
B10: =IF($A10="","",IFERROR(VLOOKUP($A10,マスタ!$A$3:$B$502,2,FALSE),"#N/A")) | C10: =IF($A10="","",IFERROR(VLOOKUP($G10,マスタ!$A$3:$B$502,2,FALSE),"#N/A")) | D10: =IF($A10="","",IF($B10<>"#N/A","そのまま見つかる",IF($C10<>"#N/A",IF($E10>0,"余計な文字が付いている","型か全角半角のちがい"),"マスタに無い"))) | E10: =IF($A10="","",LEN($A10)-LEN($G10)) | F10: =IF($A10="","",IF(ISTEXT($A10),"文字列","数値")) | G10: =IF($A10="","",IFERROR(VALUE(TRIM(SUBSTITUTE(SUBSTITUTE(ASC($A10),CHAR(160),""),CHAR(10),""))),TRIM(SUBSTITUTE(SUBSTITUTE(ASC($A10),CHAR(160),""),CHAR(10),""))))
B11: =IF($A11="","",IFERROR(VLOOKUP($A11,マスタ!$A$3:$B$502,2,FALSE),"#N/A")) | C11: =IF($A11="","",IFERROR(VLOOKUP($G11,マスタ!$A$3:$B$502,2,FALSE),"#N/A")) | D11: =IF($A11="","",IF($B11<>"#N/A","そのまま見つかる",IF($C11<>"#N/A",IF($E11>0,"余計な文字が付いている","型か全角半角のちがい"),"マスタに無い"))) | E11: =IF($A11="","",LEN($A11)-LEN($G11)) | F11: =IF($A11="","",IF(ISTEXT($A11),"文字列","数値")) | G11: =IF($A11="","",IFERROR(VALUE(TRIM(SUBSTITUTE(SUBSTITUTE(ASC($A11),CHAR(160),""),CHAR(10),""))),TRIM(SUBSTITUTE(SUBSTITUTE(ASC($A11),CHAR(160),""),CHAR(10),""))))
B12: =IF($A12="","",IFERROR(VLOOKUP($A12,マスタ!$A$3:$B$502,2,FALSE),"#N/A")) | C12: =IF($A12="","",IFERROR(VLOOKUP($G12,マスタ!$A$3:$B$502,2,FALSE),"#N/A")) | D12: =IF($A12="","",IF($B12<>"#N/A","そのまま見つかる",IF($C12<>"#N/A",IF($E12>0,"余計な文字が付いている","型か全角半角のちがい"),"マスタに無い"))) | E12: =IF($A12="","",LEN($A12)-LEN($G12)) | F12: =IF($A12="","",IF(ISTEXT($A12),"文字列","数値")) | G12: =IF($A12="","",IFERROR(VALUE(TRIM(SUBSTITUTE(SUBSTITUTE(ASC($A12),CHAR(160),""),CHAR(10),""))),TRIM(SUBSTITUTE(SUBSTITUTE(ASC($A12),CHAR(160),""),CHAR(10),""))))
B13: =IF($A13="","",IFERROR(VLOOKUP($A13,マスタ!$A$3:$B$502,2,FALSE),"#N/A")) | C13: =IF($A13="","",IFERROR(VLOOKUP($G13,マスタ!$A$3:$B$502,2,FALSE),"#N/A")) | D13: =IF($A13="","",IF($B13<>"#N/A","そのまま見つかる",IF($C13<>"#N/A",IF($E13>0,"余計な文字が付いている","型か全角半角のちがい"),"マスタに無い"))) | E13: =IF($A13="","",LEN($A13)-LEN($G13)) | F13: =IF($A13="","",IF(ISTEXT($A13),"文字列","数値")) | G13: =IF($A13="","",IFERROR(VALUE(TRIM(SUBSTITUTE(SUBSTITUTE(ASC($A13),CHAR(160),""),CHAR(10),""))),TRIM(SUBSTITUTE(SUBSTITUTE(ASC($A13),CHAR(160),""),CHAR(10),""))))
B14: =IF($A14="","",IFERROR(VLOOKUP($A14,マスタ!$A$3:$B$502,2,FALSE),"#N/A")) | C14: =IF($A14="","",IFERROR(VLOOKUP($G14,マスタ!$A$3:$B$502,2,FALSE),"#N/A")) | D14: =IF($A14="","",IF($B14<>"#N/A","そのまま見つかる",IF($C14<>"#N/A",IF($E14>0,"余計な文字が付いている","型か全角半角のちがい"),"マスタに無い"))) | E14: =IF($A14="","",LEN($A14)-LEN($G14)) | F14: =IF($A14="","",IF(ISTEXT($A14),"文字列","数値")) | G14: =IF($A14="","",IFERROR(VALUE(TRIM(SUBSTITUTE(SUBSTITUTE(ASC($A14),CHAR(160),""),CHAR(10),""))),TRIM(SUBSTITUTE(SUBSTITUTE(ASC($A14),CHAR(160),""),CHAR(10),""))))
B15: =IF($A15="","",IFERROR(VLOOKUP($A15,マスタ!$A$3:$B$502,2,FALSE),"#N/A")) | C15: =IF($A15="","",IFERROR(VLOOKUP($G15,マスタ!$A$3:$B$502,2,FALSE),"#N/A")) | D15: =IF($A15="","",IF($B15<>"#N/A","そのまま見つかる",IF($C15<>"#N/A",IF($E15>0,"余計な文字が付いている","型か全角半角のちがい"),"マスタに無い"))) | E15: =IF($A15="","",LEN($A15)-LEN($G15)) | F15: =IF($A15="","",IF(ISTEXT($A15),"文字列","数値")) | G15: =IF($A15="","",IFERROR(VALUE(TRIM(SUBSTITUTE(SUBSTITUTE(ASC($A15),CHAR(160),""),CHAR(10),""))),TRIM(SUBSTITUTE(SUBSTITUTE(ASC($A15),CHAR(160),""),CHAR(10),""))))
B16: =IF($A16="","",IFERROR(VLOOKUP($A16,マスタ!$A$3:$B$502,2,FALSE),"#N/A")) | C16: =IF($A16="","",IFERROR(VLOOKUP($G16,マスタ!$A$3:$B$502,2,FALSE),"#N/A")) | D16: =IF($A16="","",IF($B16<>"#N/A","そのまま見つかる",IF($C16<>"#N/A",IF($E16>0,"余計な文字が付いている","型か全角半角のちがい"),"マスタに無い"))) | E16: =IF($A16="","",LEN($A16)-LEN($G16)) | F16: =IF($A16="","",IF(ISTEXT($A16),"文字列","数値")) | G16: =IF($A16="","",IFERROR(VALUE(TRIM(SUBSTITUTE(SUBSTITUTE(ASC($A16),CHAR(160),""),CHAR(10),""))),TRIM(SUBSTITUTE(SUBSTITUTE(ASC($A16),CHAR(160),""),CHAR(10),""))))
B17: =IF($A17="","",IFERROR(VLOOKUP($A17,マスタ!$A$3:$B$502,2,FALSE),"#N/A")) | C17: =IF($A17="","",IFERROR(VLOOKUP($G17,マスタ!$A$3:$B$502,2,FALSE),"#N/A")) | D17: =IF($A17="","",IF($B17<>"#N/A","そのまま見つかる",IF($C17<>"#N/A",IF($E17>0,"余計な文字が付いている","型か全角半角のちがい"),"マスタに無い"))) | E17: =IF($A17="","",LEN($A17)-LEN($G17)) | F17: =IF($A17="","",IF(ISTEXT($A17),"文字列","数値")) | G17: =IF($A17="","",IFERROR(VALUE(TRIM(SUBSTITUTE(SUBSTITUTE(ASC($A17),CHAR(160),""),CHAR(10),""))),TRIM(SUBSTITUTE(SUBSTITUTE(ASC($A17),CHAR(160),""),CHAR(10),""))))
B18: =IF($A18="","",IFERROR(VLOOKUP($A18,マスタ!$A$3:$B$502,2,FALSE),"#N/A")) | C18: =IF($A18="","",IFERROR(VLOOKUP($G18,マスタ!$A$3:$B$502,2,FALSE),"#N/A")) | D18: =IF($A18="","",IF($B18<>"#N/A","そのまま見つかる",IF($C18<>"#N/A",IF($E18>0,"余計な文字が付いている","型か全角半角のちがい"),"マスタに無い"))) | E18: =IF($A18="","",LEN($A18)-LEN($G18)) | F18: =IF($A18="","",IF(ISTEXT($A18),"文字列","数値")) | G18: =IF($A18="","",IFERROR(VALUE(TRIM(SUBSTITUTE(SUBSTITUTE(ASC($A18),CHAR(160),""),CHAR(10),""))),TRIM(SUBSTITUTE(SUBSTITUTE(ASC($A18),CHAR(160),""),CHAR(10),""))))
B19: =IF($A19="","",IFERROR(VLOOKUP($A19,マスタ!$A$3:$B$502,2,FALSE),"#N/A")) | C19: =IF($A19="","",IFERROR(VLOOKUP($G19,マスタ!$A$3:$B$502,2,FALSE),"#N/A")) | D19: =IF($A19="","",IF($B19<>"#N/A","そのまま見つかる",IF($C19<>"#N/A",IF($E19>0,"余計な文字が付いている","型か全角半角のちがい"),"マスタに無い"))) | E19: =IF($A19="","",LEN($A19)-LEN($G19)) | F19: =IF($A19="","",IF(ISTEXT($A19),"文字列","数値")) | G19: =IF($A19="","",IFERROR(VALUE(TRIM(SUBSTITUTE(SUBSTITUTE(ASC($A19),CHAR(160),""),CHAR(10),""))),TRIM(SUBSTITUTE(SUBSTITUTE(ASC($A19),CHAR(160),""),CHAR(10),""))))
B20: =IF($A20="","",IFERROR(VLOOKUP($A20,マスタ!$A$3:$B$502,2,FALSE),"#N/A")) | C20: =IF($A20="","",IFERROR(VLOOKUP($G20,マスタ!$A$3:$B$502,2,FALSE),"#N/A")) | D20: =IF($A20="","",IF($B20<>"#N/A","そのまま見つかる",IF($C20<>"#N/A",IF($E20>0,"余計な文字が付いている","型か全角半角のちがい"),"マスタに無い"))) | E20: =IF($A20="","",LEN($A20)-LEN($G20)) | F20: =IF($A20="","",IF(ISTEXT($A20),"文字列","数値")) | G20: =IF($A20="","",IFERROR(VALUE(TRIM(SUBSTITUTE(SUBSTITUTE(ASC($A20),CHAR(160),""),CHAR(10),""))),TRIM(SUBSTITUTE(SUBSTITUTE(ASC($A20),CHAR(160),""),CHAR(10),""))))
B21: =IF($A21="","",IFERROR(VLOOKUP($A21,マスタ!$A$3:$B$502,2,FALSE),"#N/A")) | C21: =IF($A21="","",IFERROR(VLOOKUP($G21,マスタ!$A$3:$B$502,2,FALSE),"#N/A")) | D21: =IF($A21="","",IF($B21<>"#N/A","そのまま見つかる",IF($C21<>"#N/A",IF($E21>0,"余計な文字が付いている","型か全角半角のちがい"),"マスタに無い"))) | E21: =IF($A21="","",LEN($A21)-LEN($G21)) | F21: =IF($A21="","",IF(ISTEXT($A21),"文字列","数値")) | G21: =IF($A21="","",IFERROR(VALUE(TRIM(SUBSTITUTE(SUBSTITUTE(ASC($A21),CHAR(160),""),CHAR(10),""))),TRIM(SUBSTITUTE(SUBSTITUTE(ASC($A21),CHAR(160),""),CHAR(10),""))))
... B502: =IF($A502="","",IFERROR(VLOOKUP($A502,マスタ!$A$3:$B$502,2,FALSE),"#N/A")) | C502: =IF($A502="","",IFERROR(VLOOKUP($G502,マスタ!$A$3:$B$502,2,FALSE),"#N/A")) | D502: =IF($A502="","",IF($B502<>"#N/A","そのまま見つかる",IF($C502<>"#N/A",IF($E502>0,"余計な文字が付いている","型か全角半角のちがい"),"マスタに無い"))) | E502: =IF($A502="","",LEN($A502)-LEN($G502)) | F502: =IF($A502="","",IF(ISTEXT($A502),"文字列","数値")) | G502: =IF($A502="","",IFERROR(VALUE(TRIM(SUBSTITUTE(SUBSTITUTE(ASC($A502),CHAR(160),""),CHAR(10),""))),TRIM(SUBSTITUTE(SUBSTITUTE(ASC($A502),CHAR(160),""),CHAR(10),""))))

Sheet マスタ
A1: 引きにいく先 | D1: 1列目が探す値。ここは数値なら数値でそろえる
A2: 社員番号 | B2: 氏名
A3: 1001 | B3: 社員001
A4: 1002 | B4: 社員002
A5: 1003 | B5: 社員003
A6: 1004 | B6: 社員004
A7: 1005 | B7: 社員005
A8: 1006 | B8: 社員006
A9: 1007 | B9: 社員007
A10: 1008 | B10: 社員008
A11: 1009 | B11: 社員009
A12: 1010 | B12: 社員010
A13: 1011 | B13: 社員011
A14: 1012 | B14: 社員012
... A42: 1040 | B42: 社員040

Sheet 使い方
A1: VLOOKUP が合わないとき
A3: 検索値を「診断」のA列に貼る。マスタは「マスタ」シートに貼る。
A4: 見立ての列が「そのまま見つかる」なら問題ない。「マスタに無い」なら直しようがない。
A5: その間の2つが直せるもので、余計な文字か、型か全角半角のちがいになる。
A7: 直す式はこの形にしている。
A8: VLOOKUP(VALUE(TRIM(SUBSTITUTE(SUBSTITUTE(ASC(検索値),CHAR(160),""),CHAR(10),""))),範囲,2,FALSE)
A9: ASC で全角を半角に、SUBSTITUTE で改行なしの空白と改行を落とし、TRIM で前後の空白を取り、
A10: VALUE で数値に直す。マスタの1列目が文字列なら VALUE は外す。
A12: TRIM は半角の空白と全角の空白を取るが、CHAR(160) の空白と改行は取らない。
A13: ウェブページから貼ると CHAR(160) が混ざる。「余計な文字数」が0でないのにTRIMで直らないときはこれを疑う。
A15: 第4引数の FALSE を省いてはいけない。省くと近い値を返すので、マスタに無い番号でも実在する名前が返る。
A16: #N/A が出ないので、間違いに気づけなくなる。
A18: マスタの1列目が検索値の列であることも確かめる。2列目以降を探すことはできない。
