Workbook

Sheet 1_祝日
A1: 祝日の一覧（内閣府のCSV）と会社の休み。黄色を足せる
A3: 日付 | B3: 名前 | D3: 会社の休み | E3: メモ
A4: 46023 | B4: 元日
A5: 46034 | B5: 成人の日
A6: 46064 | B6: 建国記念の日
A7: 46076 | B7: 天皇誕生日
A8: 46101 | B8: 春分の日
A9: 46141 | B9: 昭和の日
A10: 46145 | B10: 憲法記念日
A11: 46146 | B11: みどりの日
A12: 46147 | B12: こどもの日
A13: 46148 | B13: 休日
A14: 46223 | B14: 海の日
A15: 46245 | B15: 山の日
... A39: 46753 | B39: 元日（CSVになし）

Sheet 2_暦
A1: 2027年の暦。有給を入れる日に、E列で 1 を入れる
A2: 数える年 | B2: 2027 | E2: 有給の日数 | F2: =COUNTIF($E$7:$E$433,1)
A3: 年末年始12/29〜1/3も休み | B3: 0 | C3: 1で休み。0なら土日祝と会社の休みだけ | E3: 休みの日に入れた有給 | F3: =COUNTIFS($D$7:$D$433,1,$E$7:$E$433,1)
E4: いま一番長い連休 | F4: =MAX($J$7:$J$433)
A6: 日付 | B6: 曜日 | C6: 祝日 | D6: 休み | E6: 有給 | F6: 休み計 | G6: 前から | H6: 後ろから | I6: 注意 | J6: 連休の長さ | K6: 出勤日の番号
A7: =DATE($B$2-1,12,1)+0 | B7: =TEXT(A7,"aaa") | C7: =IFERROR(VLOOKUP(A7,'1_祝日'!$A$4:$B$83,2,FALSE),"") | D7: =IF(OR(WEEKDAY(A7,2)>=6,C7<>"",COUNTIF('1_祝日'!$D$4:$D$43,A7)>0,AND($B$3=1,OR(AND(MONTH(A7)=12,DAY(A7)>=29),AND(MONTH(A7)=1,DAY(A7)<=3)))),1,0) | F7: =IF(OR(D7=1,E7=1),1,0) | G7: =F7 | H7: =IF(F7=1,H8+1,0) | I7: =IF(AND(D7=1,E7=1),"もとから休み","") | J7: =IF(F7=1,G7+H7-1,"") | K7: =IF(D7=0,COUNTIF($D$7:D7,0),"")
A8: =DATE($B$2-1,12,1)+1 | B8: =TEXT(A8,"aaa") | C8: =IFERROR(VLOOKUP(A8,'1_祝日'!$A$4:$B$83,2,FALSE),"") | D8: =IF(OR(WEEKDAY(A8,2)>=6,C8<>"",COUNTIF('1_祝日'!$D$4:$D$43,A8)>0,AND($B$3=1,OR(AND(MONTH(A8)=12,DAY(A8)>=29),AND(MONTH(A8)=1,DAY(A8)<=3)))),1,0) | F8: =IF(OR(D8=1,E8=1),1,0) | G8: =IF(F8=1,G7+1,0) | H8: =IF(F8=1,H9+1,0) | I8: =IF(AND(D8=1,E8=1),"もとから休み","") | J8: =IF(F8=1,G8+H8-1,"") | K8: =IF(D8=0,COUNTIF($D$7:D8,0),"")
A9: =DATE($B$2-1,12,1)+2 | B9: =TEXT(A9,"aaa") | C9: =IFERROR(VLOOKUP(A9,'1_祝日'!$A$4:$B$83,2,FALSE),"") | D9: =IF(OR(WEEKDAY(A9,2)>=6,C9<>"",COUNTIF('1_祝日'!$D$4:$D$43,A9)>0,AND($B$3=1,OR(AND(MONTH(A9)=12,DAY(A9)>=29),AND(MONTH(A9)=1,DAY(A9)<=3)))),1,0) | F9: =IF(OR(D9=1,E9=1),1,0) | G9: =IF(F9=1,G8+1,0) | H9: =IF(F9=1,H10+1,0) | I9: =IF(AND(D9=1,E9=1),"もとから休み","") | J9: =IF(F9=1,G9+H9-1,"") | K9: =IF(D9=0,COUNTIF($D$7:D9,0),"")
A10: =DATE($B$2-1,12,1)+3 | B10: =TEXT(A10,"aaa") | C10: =IFERROR(VLOOKUP(A10,'1_祝日'!$A$4:$B$83,2,FALSE),"") | D10: =IF(OR(WEEKDAY(A10,2)>=6,C10<>"",COUNTIF('1_祝日'!$D$4:$D$43,A10)>0,AND($B$3=1,OR(AND(MONTH(A10)=12,DAY(A10)>=29),AND(MONTH(A10)=1,DAY(A10)<=3)))),1,0) | F10: =IF(OR(D10=1,E10=1),1,0) | G10: =IF(F10=1,G9+1,0) | H10: =IF(F10=1,H11+1,0) | I10: =IF(AND(D10=1,E10=1),"もとから休み","") | J10: =IF(F10=1,G10+H10-1,"") | K10: =IF(D10=0,COUNTIF($D$7:D10,0),"")
A11: =DATE($B$2-1,12,1)+4 | B11: =TEXT(A11,"aaa") | C11: =IFERROR(VLOOKUP(A11,'1_祝日'!$A$4:$B$83,2,FALSE),"") | D11: =IF(OR(WEEKDAY(A11,2)>=6,C11<>"",COUNTIF('1_祝日'!$D$4:$D$43,A11)>0,AND($B$3=1,OR(AND(MONTH(A11)=12,DAY(A11)>=29),AND(MONTH(A11)=1,DAY(A11)<=3)))),1,0) | F11: =IF(OR(D11=1,E11=1),1,0) | G11: =IF(F11=1,G10+1,0) | H11: =IF(F11=1,H12+1,0) | I11: =IF(AND(D11=1,E11=1),"もとから休み","") | J11: =IF(F11=1,G11+H11-1,"") | K11: =IF(D11=0,COUNTIF($D$7:D11,0),"")
A12: =DATE($B$2-1,12,1)+5 | B12: =TEXT(A12,"aaa") | C12: =IFERROR(VLOOKUP(A12,'1_祝日'!$A$4:$B$83,2,FALSE),"") | D12: =IF(OR(WEEKDAY(A12,2)>=6,C12<>"",COUNTIF('1_祝日'!$D$4:$D$43,A12)>0,AND($B$3=1,OR(AND(MONTH(A12)=12,DAY(A12)>=29),AND(MONTH(A12)=1,DAY(A12)<=3)))),1,0) | F12: =IF(OR(D12=1,E12=1),1,0) | G12: =IF(F12=1,G11+1,0) | H12: =IF(F12=1,H13+1,0) | I12: =IF(AND(D12=1,E12=1),"もとから休み","") | J12: =IF(F12=1,G12+H12-1,"") | K12: =IF(D12=0,COUNTIF($D$7:D12,0),"")
A13: =DATE($B$2-1,12,1)+6 | B13: =TEXT(A13,"aaa") | C13: =IFERROR(VLOOKUP(A13,'1_祝日'!$A$4:$B$83,2,FALSE),"") | D13: =IF(OR(WEEKDAY(A13,2)>=6,C13<>"",COUNTIF('1_祝日'!$D$4:$D$43,A13)>0,AND($B$3=1,OR(AND(MONTH(A13)=12,DAY(A13)>=29),AND(MONTH(A13)=1,DAY(A13)<=3)))),1,0) | F13: =IF(OR(D13=1,E13=1),1,0) | G13: =IF(F13=1,G12+1,0) | H13: =IF(F13=1,H14+1,0) | I13: =IF(AND(D13=1,E13=1),"もとから休み","") | J13: =IF(F13=1,G13+H13-1,"") | K13: =IF(D13=0,COUNTIF($D$7:D13,0),"")
A14: =DATE($B$2-1,12,1)+7 | B14: =TEXT(A14,"aaa") | C14: =IFERROR(VLOOKUP(A14,'1_祝日'!$A$4:$B$83,2,FALSE),"") | D14: =IF(OR(WEEKDAY(A14,2)>=6,C14<>"",COUNTIF('1_祝日'!$D$4:$D$43,A14)>0,AND($B$3=1,OR(AND(MONTH(A14)=12,DAY(A14)>=29),AND(MONTH(A14)=1,DAY(A14)<=3)))),1,0) | F14: =IF(OR(D14=1,E14=1),1,0) | G14: =IF(F14=1,G13+1,0) | H14: =IF(F14=1,H15+1,0) | I14: =IF(AND(D14=1,E14=1),"もとから休み","") | J14: =IF(F14=1,G14+H14-1,"") | K14: =IF(D14=0,COUNTIF($D$7:D14,0),"")
A15: =DATE($B$2-1,12,1)+8 | B15: =TEXT(A15,"aaa") | C15: =IFERROR(VLOOKUP(A15,'1_祝日'!$A$4:$B$83,2,FALSE),"") | D15: =IF(OR(WEEKDAY(A15,2)>=6,C15<>"",COUNTIF('1_祝日'!$D$4:$D$43,A15)>0,AND($B$3=1,OR(AND(MONTH(A15)=12,DAY(A15)>=29),AND(MONTH(A15)=1,DAY(A15)<=3)))),1,0) | F15: =IF(OR(D15=1,E15=1),1,0) | G15: =IF(F15=1,G14+1,0) | H15: =IF(F15=1,H16+1,0) | I15: =IF(AND(D15=1,E15=1),"もとから休み","") | J15: =IF(F15=1,G15+H15-1,"") | K15: =IF(D15=0,COUNTIF($D$7:D15,0),"")
A16: =DATE($B$2-1,12,1)+9 | B16: =TEXT(A16,"aaa") | C16: =IFERROR(VLOOKUP(A16,'1_祝日'!$A$4:$B$83,2,FALSE),"") | D16: =IF(OR(WEEKDAY(A16,2)>=6,C16<>"",COUNTIF('1_祝日'!$D$4:$D$43,A16)>0,AND($B$3=1,OR(AND(MONTH(A16)=12,DAY(A16)>=29),AND(MONTH(A16)=1,DAY(A16)<=3)))),1,0) | F16: =IF(OR(D16=1,E16=1),1,0) | G16: =IF(F16=1,G15+1,0) | H16: =IF(F16=1,H17+1,0) | I16: =IF(AND(D16=1,E16=1),"もとから休み","") | J16: =IF(F16=1,G16+H16-1,"") | K16: =IF(D16=0,COUNTIF($D$7:D16,0),"")
A17: =DATE($B$2-1,12,1)+10 | B17: =TEXT(A17,"aaa") | C17: =IFERROR(VLOOKUP(A17,'1_祝日'!$A$4:$B$83,2,FALSE),"") | D17: =IF(OR(WEEKDAY(A17,2)>=6,C17<>"",COUNTIF('1_祝日'!$D$4:$D$43,A17)>0,AND($B$3=1,OR(AND(MONTH(A17)=12,DAY(A17)>=29),AND(MONTH(A17)=1,DAY(A17)<=3)))),1,0) | F17: =IF(OR(D17=1,E17=1),1,0) | G17: =IF(F17=1,G16+1,0) | H17: =IF(F17=1,H18+1,0) | I17: =IF(AND(D17=1,E17=1),"もとから休み","") | J17: =IF(F17=1,G17+H17-1,"") | K17: =IF(D17=0,COUNTIF($D$7:D17,0),"")
A18: =DATE($B$2-1,12,1)+11 | B18: =TEXT(A18,"aaa") | C18: =IFERROR(VLOOKUP(A18,'1_祝日'!$A$4:$B$83,2,FALSE),"") | D18: =IF(OR(WEEKDAY(A18,2)>=6,C18<>"",COUNTIF('1_祝日'!$D$4:$D$43,A18)>0,AND($B$3=1,OR(AND(MONTH(A18)=12,DAY(A18)>=29),AND(MONTH(A18)=1,DAY(A18)<=3)))),1,0) | F18: =IF(OR(D18=1,E18=1),1,0) | G18: =IF(F18=1,G17+1,0) | H18: =IF(F18=1,H19+1,0) | I18: =IF(AND(D18=1,E18=1),"もとから休み","") | J18: =IF(F18=1,G18+H18-1,"") | K18: =IF(D18=0,COUNTIF($D$7:D18,0),"")
A19: =DATE($B$2-1,12,1)+12 | B19: =TEXT(A19,"aaa") | C19: =IFERROR(VLOOKUP(A19,'1_祝日'!$A$4:$B$83,2,FALSE),"") | D19: =IF(OR(WEEKDAY(A19,2)>=6,C19<>"",COUNTIF('1_祝日'!$D$4:$D$43,A19)>0,AND($B$3=1,OR(AND(MONTH(A19)=12,DAY(A19)>=29),AND(MONTH(A19)=1,DAY(A19)<=3)))),1,0) | F19: =IF(OR(D19=1,E19=1),1,0) | G19: =IF(F19=1,G18+1,0) | H19: =IF(F19=1,H20+1,0) | I19: =IF(AND(D19=1,E19=1),"もとから休み","") | J19: =IF(F19=1,G19+H19-1,"") | K19: =IF(D19=0,COUNTIF($D$7:D19,0),"")
A20: =DATE($B$2-1,12,1)+13 | B20: =TEXT(A20,"aaa") | C20: =IFERROR(VLOOKUP(A20,'1_祝日'!$A$4:$B$83,2,FALSE),"") | D20: =IF(OR(WEEKDAY(A20,2)>=6,C20<>"",COUNTIF('1_祝日'!$D$4:$D$43,A20)>0,AND($B$3=1,OR(AND(MONTH(A20)=12,DAY(A20)>=29),AND(MONTH(A20)=1,DAY(A20)<=3)))),1,0) | F20: =IF(OR(D20=1,E20=1),1,0) | G20: =IF(F20=1,G19+1,0) | H20: =IF(F20=1,H21+1,0) | I20: =IF(AND(D20=1,E20=1),"もとから休み","") | J20: =IF(F20=1,G20+H20-1,"") | K20: =IF(D20=0,COUNTIF($D$7:D20,0),"")
A21: =DATE($B$2-1,12,1)+14 | B21: =TEXT(A21,"aaa") | C21: =IFERROR(VLOOKUP(A21,'1_祝日'!$A$4:$B$83,2,FALSE),"") | D21: =IF(OR(WEEKDAY(A21,2)>=6,C21<>"",COUNTIF('1_祝日'!$D$4:$D$43,A21)>0,AND($B$3=1,OR(AND(MONTH(A21)=12,DAY(A21)>=29),AND(MONTH(A21)=1,DAY(A21)<=3)))),1,0) | F21: =IF(OR(D21=1,E21=1),1,0) | G21: =IF(F21=1,G20+1,0) | H21: =IF(F21=1,H22+1,0) | I21: =IF(AND(D21=1,E21=1),"もとから休み","") | J21: =IF(F21=1,G21+H21-1,"") | K21: =IF(D21=0,COUNTIF($D$7:D21,0),"")
A22: =DATE($B$2-1,12,1)+15 | B22: =TEXT(A22,"aaa") | C22: =IFERROR(VLOOKUP(A22,'1_祝日'!$A$4:$B$83,2,FALSE),"") | D22: =IF(OR(WEEKDAY(A22,2)>=6,C22<>"",COUNTIF('1_祝日'!$D$4:$D$43,A22)>0,AND($B$3=1,OR(AND(MONTH(A22)=12,DAY(A22)>=29),AND(MONTH(A22)=1,DAY(A22)<=3)))),1,0) | F22: =IF(OR(D22=1,E22=1),1,0) | G22: =IF(F22=1,G21+1,0) | H22: =IF(F22=1,H23+1,0) | I22: =IF(AND(D22=1,E22=1),"もとから休み","") | J22: =IF(F22=1,G22+H22-1,"") | K22: =IF(D22=0,COUNTIF($D$7:D22,0),"")
A23: =DATE($B$2-1,12,1)+16 | B23: =TEXT(A23,"aaa") | C23: =IFERROR(VLOOKUP(A23,'1_祝日'!$A$4:$B$83,2,FALSE),"") | D23: =IF(OR(WEEKDAY(A23,2)>=6,C23<>"",COUNTIF('1_祝日'!$D$4:$D$43,A23)>0,AND($B$3=1,OR(AND(MONTH(A23)=12,DAY(A23)>=29),AND(MONTH(A23)=1,DAY(A23)<=3)))),1,0) | F23: =IF(OR(D23=1,E23=1),1,0) | G23: =IF(F23=1,G22+1,0) | H23: =IF(F23=1,H24+1,0) | I23: =IF(AND(D23=1,E23=1),"もとから休み","") | J23: =IF(F23=1,G23+H23-1,"") | K23: =IF(D23=0,COUNTIF($D$7:D23,0),"")
A24: =DATE($B$2-1,12,1)+17 | B24: =TEXT(A24,"aaa") | C24: =IFERROR(VLOOKUP(A24,'1_祝日'!$A$4:$B$83,2,FALSE),"") | D24: =IF(OR(WEEKDAY(A24,2)>=6,C24<>"",COUNTIF('1_祝日'!$D$4:$D$43,A24)>0,AND($B$3=1,OR(AND(MONTH(A24)=12,DAY(A24)>=29),AND(MONTH(A24)=1,DAY(A24)<=3)))),1,0) | F24: =IF(OR(D24=1,E24=1),1,0) | G24: =IF(F24=1,G23+1,0) | H24: =IF(F24=1,H25+1,0) | I24: =IF(AND(D24=1,E24=1),"もとから休み","") | J24: =IF(F24=1,G24+H24-1,"") | K24: =IF(D24=0,COUNTIF($D$7:D24,0),"")
A25: =DATE($B$2-1,12,1)+18 | B25: =TEXT(A25,"aaa") | C25: =IFERROR(VLOOKUP(A25,'1_祝日'!$A$4:$B$83,2,FALSE),"") | D25: =IF(OR(WEEKDAY(A25,2)>=6,C25<>"",COUNTIF('1_祝日'!$D$4:$D$43,A25)>0,AND($B$3=1,OR(AND(MONTH(A25)=12,DAY(A25)>=29),AND(MONTH(A25)=1,DAY(A25)<=3)))),1,0) | F25: =IF(OR(D25=1,E25=1),1,0) | G25: =IF(F25=1,G24+1,0) | H25: =IF(F25=1,H26+1,0) | I25: =IF(AND(D25=1,E25=1),"もとから休み","") | J25: =IF(F25=1,G25+H25-1,"") | K25: =IF(D25=0,COUNTIF($D$7:D25,0),"")
A26: =DATE($B$2-1,12,1)+19 | B26: =TEXT(A26,"aaa") | C26: =IFERROR(VLOOKUP(A26,'1_祝日'!$A$4:$B$83,2,FALSE),"") | D26: =IF(OR(WEEKDAY(A26,2)>=6,C26<>"",COUNTIF('1_祝日'!$D$4:$D$43,A26)>0,AND($B$3=1,OR(AND(MONTH(A26)=12,DAY(A26)>=29),AND(MONTH(A26)=1,DAY(A26)<=3)))),1,0) | F26: =IF(OR(D26=1,E26=1),1,0) | G26: =IF(F26=1,G25+1,0) | H26: =IF(F26=1,H27+1,0) | I26: =IF(AND(D26=1,E26=1),"もとから休み","") | J26: =IF(F26=1,G26+H26-1,"") | K26: =IF(D26=0,COUNTIF($D$7:D26,0),"")
A27: =DATE($B$2-1,12,1)+20 | B27: =TEXT(A27,"aaa") | C27: =IFERROR(VLOOKUP(A27,'1_祝日'!$A$4:$B$83,2,FALSE),"") | D27: =IF(OR(WEEKDAY(A27,2)>=6,C27<>"",COUNTIF('1_祝日'!$D$4:$D$43,A27)>0,AND($B$3=1,OR(AND(MONTH(A27)=12,DAY(A27)>=29),AND(MONTH(A27)=1,DAY(A27)<=3)))),1,0) | F27: =IF(OR(D27=1,E27=1),1,0) | G27: =IF(F27=1,G26+1,0) | H27: =IF(F27=1,H28+1,0) | I27: =IF(AND(D27=1,E27=1),"もとから休み","") | J27: =IF(F27=1,G27+H27-1,"") | K27: =IF(D27=0,COUNTIF($D$7:D27,0),"")
A28: =DATE($B$2-1,12,1)+21 | B28: =TEXT(A28,"aaa") | C28: =IFERROR(VLOOKUP(A28,'1_祝日'!$A$4:$B$83,2,FALSE),"") | D28: =IF(OR(WEEKDAY(A28,2)>=6,C28<>"",COUNTIF('1_祝日'!$D$4:$D$43,A28)>0,AND($B$3=1,OR(AND(MONTH(A28)=12,DAY(A28)>=29),AND(MONTH(A28)=1,DAY(A28)<=3)))),1,0) | F28: =IF(OR(D28=1,E28=1),1,0) | G28: =IF(F28=1,G27+1,0) | H28: =IF(F28=1,H29+1,0) | I28: =IF(AND(D28=1,E28=1),"もとから休み","") | J28: =IF(F28=1,G28+H28-1,"") | K28: =IF(D28=0,COUNTIF($D$7:D28,0),"")
A29: =DATE($B$2-1,12,1)+22 | B29: =TEXT(A29,"aaa") | C29: =IFERROR(VLOOKUP(A29,'1_祝日'!$A$4:$B$83,2,FALSE),"") | D29: =IF(OR(WEEKDAY(A29,2)>=6,C29<>"",COUNTIF('1_祝日'!$D$4:$D$43,A29)>0,AND($B$3=1,OR(AND(MONTH(A29)=12,DAY(A29)>=29),AND(MONTH(A29)=1,DAY(A29)<=3)))),1,0) | F29: =IF(OR(D29=1,E29=1),1,0) | G29: =IF(F29=1,G28+1,0) | H29: =IF(F29=1,H30+1,0) | I29: =IF(AND(D29=1,E29=1),"もとから休み","") | J29: =IF(F29=1,G29+H29-1,"") | K29: =IF(D29=0,COUNTIF($D$7:D29,0),"")
A30: =DATE($B$2-1,12,1)+23 | B30: =TEXT(A30,"aaa") | C30: =IFERROR(VLOOKUP(A30,'1_祝日'!$A$4:$B$83,2,FALSE),"") | D30: =IF(OR(WEEKDAY(A30,2)>=6,C30<>"",COUNTIF('1_祝日'!$D$4:$D$43,A30)>0,AND($B$3=1,OR(AND(MONTH(A30)=12,DAY(A30)>=29),AND(MONTH(A30)=1,DAY(A30)<=3)))),1,0) | F30: =IF(OR(D30=1,E30=1),1,0) | G30: =IF(F30=1,G29+1,0) | H30: =IF(F30=1,H31+1,0) | I30: =IF(AND(D30=1,E30=1),"もとから休み","") | J30: =IF(F30=1,G30+H30-1,"") | K30: =IF(D30=0,COUNTIF($D$7:D30,0),"")
A31: =DATE($B$2-1,12,1)+24 | B31: =TEXT(A31,"aaa") | C31: =IFERROR(VLOOKUP(A31,'1_祝日'!$A$4:$B$83,2,FALSE),"") | D31: =IF(OR(WEEKDAY(A31,2)>=6,C31<>"",COUNTIF('1_祝日'!$D$4:$D$43,A31)>0,AND($B$3=1,OR(AND(MONTH(A31)=12,DAY(A31)>=29),AND(MONTH(A31)=1,DAY(A31)<=3)))),1,0) | F31: =IF(OR(D31=1,E31=1),1,0) | G31: =IF(F31=1,G30+1,0) | H31: =IF(F31=1,H32+1,0) | I31: =IF(AND(D31=1,E31=1),"もとから休み","") | J31: =IF(F31=1,G31+H31-1,"") | K31: =IF(D31=0,COUNTIF($D$7:D31,0),"")
A32: =DATE($B$2-1,12,1)+25 | B32: =TEXT(A32,"aaa") | C32: =IFERROR(VLOOKUP(A32,'1_祝日'!$A$4:$B$83,2,FALSE),"") | D32: =IF(OR(WEEKDAY(A32,2)>=6,C32<>"",COUNTIF('1_祝日'!$D$4:$D$43,A32)>0,AND($B$3=1,OR(AND(MONTH(A32)=12,DAY(A32)>=29),AND(MONTH(A32)=1,DAY(A32)<=3)))),1,0) | F32: =IF(OR(D32=1,E32=1),1,0) | G32: =IF(F32=1,G31+1,0) | H32: =IF(F32=1,H33+1,0) | I32: =IF(AND(D32=1,E32=1),"もとから休み","") | J32: =IF(F32=1,G32+H32-1,"") | K32: =IF(D32=0,COUNTIF($D$7:D32,0),"")
A33: =DATE($B$2-1,12,1)+26 | B33: =TEXT(A33,"aaa") | C33: =IFERROR(VLOOKUP(A33,'1_祝日'!$A$4:$B$83,2,FALSE),"") | D33: =IF(OR(WEEKDAY(A33,2)>=6,C33<>"",COUNTIF('1_祝日'!$D$4:$D$43,A33)>0,AND($B$3=1,OR(AND(MONTH(A33)=12,DAY(A33)>=29),AND(MONTH(A33)=1,DAY(A33)<=3)))),1,0) | F33: =IF(OR(D33=1,E33=1),1,0) | G33: =IF(F33=1,G32+1,0) | H33: =IF(F33=1,H34+1,0) | I33: =IF(AND(D33=1,E33=1),"もとから休み","") | J33: =IF(F33=1,G33+H33-1,"") | K33: =IF(D33=0,COUNTIF($D$7:D33,0),"")
A34: =DATE($B$2-1,12,1)+27 | B34: =TEXT(A34,"aaa") | C34: =IFERROR(VLOOKUP(A34,'1_祝日'!$A$4:$B$83,2,FALSE),"") | D34: =IF(OR(WEEKDAY(A34,2)>=6,C34<>"",COUNTIF('1_祝日'!$D$4:$D$43,A34)>0,AND($B$3=1,OR(AND(MONTH(A34)=12,DAY(A34)>=29),AND(MONTH(A34)=1,DAY(A34)<=3)))),1,0) | F34: =IF(OR(D34=1,E34=1),1,0) | G34: =IF(F34=1,G33+1,0) | H34: =IF(F34=1,H35+1,0) | I34: =IF(AND(D34=1,E34=1),"もとから休み","") | J34: =IF(F34=1,G34+H34-1,"") | K34: =IF(D34=0,COUNTIF($D$7:D34,0),"")
A35: =DATE($B$2-1,12,1)+28 | B35: =TEXT(A35,"aaa") | C35: =IFERROR(VLOOKUP(A35,'1_祝日'!$A$4:$B$83,2,FALSE),"") | D35: =IF(OR(WEEKDAY(A35,2)>=6,C35<>"",COUNTIF('1_祝日'!$D$4:$D$43,A35)>0,AND($B$3=1,OR(AND(MONTH(A35)=12,DAY(A35)>=29),AND(MONTH(A35)=1,DAY(A35)<=3)))),1,0) | F35: =IF(OR(D35=1,E35=1),1,0) | G35: =IF(F35=1,G34+1,0) | H35: =IF(F35=1,H36+1,0) | I35: =IF(AND(D35=1,E35=1),"もとから休み","") | J35: =IF(F35=1,G35+H35-1,"") | K35: =IF(D35=0,COUNTIF($D$7:D35,0),"")
A36: =DATE($B$2-1,12,1)+29 | B36: =TEXT(A36,"aaa") | C36: =IFERROR(VLOOKUP(A36,'1_祝日'!$A$4:$B$83,2,FALSE),"") | D36: =IF(OR(WEEKDAY(A36,2)>=6,C36<>"",COUNTIF('1_祝日'!$D$4:$D$43,A36)>0,AND($B$3=1,OR(AND(MONTH(A36)=12,DAY(A36)>=29),AND(MONTH(A36)=1,DAY(A36)<=3)))),1,0) | F36: =IF(OR(D36=1,E36=1),1,0) | G36: =IF(F36=1,G35+1,0) | H36: =IF(F36=1,H37+1,0) | I36: =IF(AND(D36=1,E36=1),"もとから休み","") | J36: =IF(F36=1,G36+H36-1,"") | K36: =IF(D36=0,COUNTIF($D$7:D36,0),"")
A37: =DATE($B$2-1,12,1)+30 | B37: =TEXT(A37,"aaa") | C37: =IFERROR(VLOOKUP(A37,'1_祝日'!$A$4:$B$83,2,FALSE),"") | D37: =IF(OR(WEEKDAY(A37,2)>=6,C37<>"",COUNTIF('1_祝日'!$D$4:$D$43,A37)>0,AND($B$3=1,OR(AND(MONTH(A37)=12,DAY(A37)>=29),AND(MONTH(A37)=1,DAY(A37)<=3)))),1,0) | F37: =IF(OR(D37=1,E37=1),1,0) | G37: =IF(F37=1,G36+1,0) | H37: =IF(F37=1,H38+1,0) | I37: =IF(AND(D37=1,E37=1),"もとから休み","") | J37: =IF(F37=1,G37+H37-1,"") | K37: =IF(D37=0,COUNTIF($D$7:D37,0),"")
A38: =DATE($B$2-1,12,1)+31 | B38: =TEXT(A38,"aaa") | C38: =IFERROR(VLOOKUP(A38,'1_祝日'!$A$4:$B$83,2,FALSE),"") | D38: =IF(OR(WEEKDAY(A38,2)>=6,C38<>"",COUNTIF('1_祝日'!$D$4:$D$43,A38)>0,AND($B$3=1,OR(AND(MONTH(A38)=12,DAY(A38)>=29),AND(MONTH(A38)=1,DAY(A38)<=3)))),1,0) | F38: =IF(OR(D38=1,E38=1),1,0) | G38: =IF(F38=1,G37+1,0) | H38: =IF(F38=1,H39+1,0) | I38: =IF(AND(D38=1,E38=1),"もとから休み","") | J38: =IF(F38=1,G38+H38-1,"") | K38: =IF(D38=0,COUNTIF($D$7:D38,0),"")
A39: =DATE($B$2-1,12,1)+32 | B39: =TEXT(A39,"aaa") | C39: =IFERROR(VLOOKUP(A39,'1_祝日'!$A$4:$B$83,2,FALSE),"") | D39: =IF(OR(WEEKDAY(A39,2)>=6,C39<>"",COUNTIF('1_祝日'!$D$4:$D$43,A39)>0,AND($B$3=1,OR(AND(MONTH(A39)=12,DAY(A39)>=29),AND(MONTH(A39)=1,DAY(A39)<=3)))),1,0) | F39: =IF(OR(D39=1,E39=1),1,0) | G39: =IF(F39=1,G38+1,0) | H39: =IF(F39=1,H40+1,0) | I39: =IF(AND(D39=1,E39=1),"もとから休み","") | J39: =IF(F39=1,G39+H39-1,"") | K39: =IF(D39=0,COUNTIF($D$7:D39,0),"")
A40: =DATE($B$2-1,12,1)+33 | B40: =TEXT(A40,"aaa") | C40: =IFERROR(VLOOKUP(A40,'1_祝日'!$A$4:$B$83,2,FALSE),"") | D40: =IF(OR(WEEKDAY(A40,2)>=6,C40<>"",COUNTIF('1_祝日'!$D$4:$D$43,A40)>0,AND($B$3=1,OR(AND(MONTH(A40)=12,DAY(A40)>=29),AND(MONTH(A40)=1,DAY(A40)<=3)))),1,0) | F40: =IF(OR(D40=1,E40=1),1,0) | G40: =IF(F40=1,G39+1,0) | H40: =IF(F40=1,H41+1,0) | I40: =IF(AND(D40=1,E40=1),"もとから休み","") | J40: =IF(F40=1,G40+H40-1,"") | K40: =IF(D40=0,COUNTIF($D$7:D40,0),"")
A41: =DATE($B$2-1,12,1)+34 | B41: =TEXT(A41,"aaa") | C41: =IFERROR(VLOOKUP(A41,'1_祝日'!$A$4:$B$83,2,FALSE),"") | D41: =IF(OR(WEEKDAY(A41,2)>=6,C41<>"",COUNTIF('1_祝日'!$D$4:$D$43,A41)>0,AND($B$3=1,OR(AND(MONTH(A41)=12,DAY(A41)>=29),AND(MONTH(A41)=1,DAY(A41)<=3)))),1,0) | F41: =IF(OR(D41=1,E41=1),1,0) | G41: =IF(F41=1,G40+1,0) | H41: =IF(F41=1,H42+1,0) | I41: =IF(AND(D41=1,E41=1),"もとから休み","") | J41: =IF(F41=1,G41+H41-1,"") | K41: =IF(D41=0,COUNTIF($D$7:D41,0),"")
...

Sheet 3_最長
A1: 有給をk日使ったときの最長の連休。出勤日を並べて、続けてk日休んだ場合を全部数える
A2: 数える年 | B2: ='2_暦'!B2
C3: 0 | D3: 1 | E3: 2 | F3: 3 | G3: 4 | H3: 5 | I3: 6 | J3: 7 | K3: 8 | L3: 9 | M3: 10
A4: 番号 | B4: 出勤日 | C4: k=0 | D4: k=1 | E4: k=2 | F4: k=3 | G4: k=4 | H4: k=5 | I4: k=6 | J4: k=7 | K4: k=8 | L4: k=9 | M4: k=10 | P4: 有給の日数 | Q4: 最長の連休 | R4: 休み始め | S4: 休み終わり | T4: 有給の初日 | U4: 有給の最終日 | V4: 前より延びた日数 | W4: 同じ長さの取り方
A5: 1 | B5: =IFERROR(INDEX('2_暦'!$A$7:$A$433,MATCH(A5,'2_暦'!$K$7:$K$433,0)),"") | C5: =IF(OR($A5=1,$B5=""),"",IF(OR(YEAR($B5-1)=$B$2,YEAR(INDEX($B$5:$B$344,$A5-1)+1)=$B$2),$B5-INDEX($B$5:$B$344,$A5-1)-1,"")) | D5: =IF(OR($A5=1,$B5="",$A5+D$3>340),"",IF(INDEX($B$5:$B$344,$A5+D$3)="","",IF(AND(YEAR($B5)=$B$2,YEAR(INDEX($B$5:$B$344,$A5+D$3-1))=$B$2),INDEX($B$5:$B$344,$A5+D$3)-INDEX($B$5:$B$344,$A5-1)-1,""))) | E5: =IF(OR($A5=1,$B5="",$A5+E$3>340),"",IF(INDEX($B$5:$B$344,$A5+E$3)="","",IF(AND(YEAR($B5)=$B$2,YEAR(INDEX($B$5:$B$344,$A5+E$3-1))=$B$2),INDEX($B$5:$B$344,$A5+E$3)-INDEX($B$5:$B$344,$A5-1)-1,""))) | F5: =IF(OR($A5=1,$B5="",$A5+F$3>340),"",IF(INDEX($B$5:$B$344,$A5+F$3)="","",IF(AND(YEAR($B5)=$B$2,YEAR(INDEX($B$5:$B$344,$A5+F$3-1))=$B$2),INDEX($B$5:$B$344,$A5+F$3)-INDEX($B$5:$B$344,$A5-1)-1,""))) | G5: =IF(OR($A5=1,$B5="",$A5+G$3>340),"",IF(INDEX($B$5:$B$344,$A5+G$3)="","",IF(AND(YEAR($B5)=$B$2,YEAR(INDEX($B$5:$B$344,$A5+G$3-1))=$B$2),INDEX($B$5:$B$344,$A5+G$3)-INDEX($B$5:$B$344,$A5-1)-1,""))) | H5: =IF(OR($A5=1,$B5="",$A5+H$3>340),"",IF(INDEX($B$5:$B$344,$A5+H$3)="","",IF(AND(YEAR($B5)=$B$2,YEAR(INDEX($B$5:$B$344,$A5+H$3-1))=$B$2),INDEX($B$5:$B$344,$A5+H$3)-INDEX($B$5:$B$344,$A5-1)-1,""))) | I5: =IF(OR($A5=1,$B5="",$A5+I$3>340),"",IF(INDEX($B$5:$B$344,$A5+I$3)="","",IF(AND(YEAR($B5)=$B$2,YEAR(INDEX($B$5:$B$344,$A5+I$3-1))=$B$2),INDEX($B$5:$B$344,$A5+I$3)-INDEX($B$5:$B$344,$A5-1)-1,""))) | J5: =IF(OR($A5=1,$B5="",$A5+J$3>340),"",IF(INDEX($B$5:$B$344,$A5+J$3)="","",IF(AND(YEAR($B5)=$B$2,YEAR(INDEX($B$5:$B$344,$A5+J$3-1))=$B$2),INDEX($B$5:$B$344,$A5+J$3)-INDEX($B$5:$B$344,$A5-1)-1,""))) | K5: =IF(OR($A5=1,$B5="",$A5+K$3>340),"",IF(INDEX($B$5:$B$344,$A5+K$3)="","",IF(AND(YEAR($B5)=$B$2,YEAR(INDEX($B$5:$B$344,$A5+K$3-1))=$B$2),INDEX($B$5:$B$344,$A5+K$3)-INDEX($B$5:$B$344,$A5-1)-1,""))) | ... M5: =IF(OR($A5=1,$B5="",$A5+M$3>340),"",IF(INDEX($B$5:$B$344,$A5+M$3)="","",IF(AND(YEAR($B5)=$B$2,YEAR(INDEX($B$5:$B$344,$A5+M$3-1))=$B$2),INDEX($B$5:$B$344,$A5+M$3)-INDEX($B$5:$B$344,$A5-1)-1,""))) | P5: 0 | Q5: =MAX($C$5:$C$344) | R5: =INDEX($B$5:$B$344,MATCH($Q5,$C$5:$C$344,0)-1)+1 | S5: =INDEX($B$5:$B$344,MATCH($Q5,$C$5:$C$344,0))-1 | T5: なし | U5: なし | W5: =COUNTIF($C$5:$C$344,$Q5)
A6: 2 | B6: =IFERROR(INDEX('2_暦'!$A$7:$A$433,MATCH(A6,'2_暦'!$K$7:$K$433,0)),"") | C6: =IF(OR($A6=1,$B6=""),"",IF(OR(YEAR($B6-1)=$B$2,YEAR(INDEX($B$5:$B$344,$A6-1)+1)=$B$2),$B6-INDEX($B$5:$B$344,$A6-1)-1,"")) | D6: =IF(OR($A6=1,$B6="",$A6+D$3>340),"",IF(INDEX($B$5:$B$344,$A6+D$3)="","",IF(AND(YEAR($B6)=$B$2,YEAR(INDEX($B$5:$B$344,$A6+D$3-1))=$B$2),INDEX($B$5:$B$344,$A6+D$3)-INDEX($B$5:$B$344,$A6-1)-1,""))) | E6: =IF(OR($A6=1,$B6="",$A6+E$3>340),"",IF(INDEX($B$5:$B$344,$A6+E$3)="","",IF(AND(YEAR($B6)=$B$2,YEAR(INDEX($B$5:$B$344,$A6+E$3-1))=$B$2),INDEX($B$5:$B$344,$A6+E$3)-INDEX($B$5:$B$344,$A6-1)-1,""))) | F6: =IF(OR($A6=1,$B6="",$A6+F$3>340),"",IF(INDEX($B$5:$B$344,$A6+F$3)="","",IF(AND(YEAR($B6)=$B$2,YEAR(INDEX($B$5:$B$344,$A6+F$3-1))=$B$2),INDEX($B$5:$B$344,$A6+F$3)-INDEX($B$5:$B$344,$A6-1)-1,""))) | G6: =IF(OR($A6=1,$B6="",$A6+G$3>340),"",IF(INDEX($B$5:$B$344,$A6+G$3)="","",IF(AND(YEAR($B6)=$B$2,YEAR(INDEX($B$5:$B$344,$A6+G$3-1))=$B$2),INDEX($B$5:$B$344,$A6+G$3)-INDEX($B$5:$B$344,$A6-1)-1,""))) | H6: =IF(OR($A6=1,$B6="",$A6+H$3>340),"",IF(INDEX($B$5:$B$344,$A6+H$3)="","",IF(AND(YEAR($B6)=$B$2,YEAR(INDEX($B$5:$B$344,$A6+H$3-1))=$B$2),INDEX($B$5:$B$344,$A6+H$3)-INDEX($B$5:$B$344,$A6-1)-1,""))) | I6: =IF(OR($A6=1,$B6="",$A6+I$3>340),"",IF(INDEX($B$5:$B$344,$A6+I$3)="","",IF(AND(YEAR($B6)=$B$2,YEAR(INDEX($B$5:$B$344,$A6+I$3-1))=$B$2),INDEX($B$5:$B$344,$A6+I$3)-INDEX($B$5:$B$344,$A6-1)-1,""))) | J6: =IF(OR($A6=1,$B6="",$A6+J$3>340),"",IF(INDEX($B$5:$B$344,$A6+J$3)="","",IF(AND(YEAR($B6)=$B$2,YEAR(INDEX($B$5:$B$344,$A6+J$3-1))=$B$2),INDEX($B$5:$B$344,$A6+J$3)-INDEX($B$5:$B$344,$A6-1)-1,""))) | K6: =IF(OR($A6=1,$B6="",$A6+K$3>340),"",IF(INDEX($B$5:$B$344,$A6+K$3)="","",IF(AND(YEAR($B6)=$B$2,YEAR(INDEX($B$5:$B$344,$A6+K$3-1))=$B$2),INDEX($B$5:$B$344,$A6+K$3)-INDEX($B$5:$B$344,$A6-1)-1,""))) | ... M6: =IF(OR($A6=1,$B6="",$A6+M$3>340),"",IF(INDEX($B$5:$B$344,$A6+M$3)="","",IF(AND(YEAR($B6)=$B$2,YEAR(INDEX($B$5:$B$344,$A6+M$3-1))=$B$2),INDEX($B$5:$B$344,$A6+M$3)-INDEX($B$5:$B$344,$A6-1)-1,""))) | P6: 1 | Q6: =MAX($D$5:$D$344) | R6: =INDEX($B$5:$B$344,MATCH($Q6,$D$5:$D$344,0)-1)+1 | S6: =INDEX($B$5:$B$344,MATCH($Q6,$D$5:$D$344,0)+1)-1 | T6: =INDEX($B$5:$B$344,MATCH($Q6,$D$5:$D$344,0)) | U6: =INDEX($B$5:$B$344,MATCH($Q6,$D$5:$D$344,0)+0) | V6: =Q6-Q5 | W6: =COUNTIF($D$5:$D$344,$Q6)
A7: 3 | B7: =IFERROR(INDEX('2_暦'!$A$7:$A$433,MATCH(A7,'2_暦'!$K$7:$K$433,0)),"") | C7: =IF(OR($A7=1,$B7=""),"",IF(OR(YEAR($B7-1)=$B$2,YEAR(INDEX($B$5:$B$344,$A7-1)+1)=$B$2),$B7-INDEX($B$5:$B$344,$A7-1)-1,"")) | D7: =IF(OR($A7=1,$B7="",$A7+D$3>340),"",IF(INDEX($B$5:$B$344,$A7+D$3)="","",IF(AND(YEAR($B7)=$B$2,YEAR(INDEX($B$5:$B$344,$A7+D$3-1))=$B$2),INDEX($B$5:$B$344,$A7+D$3)-INDEX($B$5:$B$344,$A7-1)-1,""))) | E7: =IF(OR($A7=1,$B7="",$A7+E$3>340),"",IF(INDEX($B$5:$B$344,$A7+E$3)="","",IF(AND(YEAR($B7)=$B$2,YEAR(INDEX($B$5:$B$344,$A7+E$3-1))=$B$2),INDEX($B$5:$B$344,$A7+E$3)-INDEX($B$5:$B$344,$A7-1)-1,""))) | F7: =IF(OR($A7=1,$B7="",$A7+F$3>340),"",IF(INDEX($B$5:$B$344,$A7+F$3)="","",IF(AND(YEAR($B7)=$B$2,YEAR(INDEX($B$5:$B$344,$A7+F$3-1))=$B$2),INDEX($B$5:$B$344,$A7+F$3)-INDEX($B$5:$B$344,$A7-1)-1,""))) | G7: =IF(OR($A7=1,$B7="",$A7+G$3>340),"",IF(INDEX($B$5:$B$344,$A7+G$3)="","",IF(AND(YEAR($B7)=$B$2,YEAR(INDEX($B$5:$B$344,$A7+G$3-1))=$B$2),INDEX($B$5:$B$344,$A7+G$3)-INDEX($B$5:$B$344,$A7-1)-1,""))) | H7: =IF(OR($A7=1,$B7="",$A7+H$3>340),"",IF(INDEX($B$5:$B$344,$A7+H$3)="","",IF(AND(YEAR($B7)=$B$2,YEAR(INDEX($B$5:$B$344,$A7+H$3-1))=$B$2),INDEX($B$5:$B$344,$A7+H$3)-INDEX($B$5:$B$344,$A7-1)-1,""))) | I7: =IF(OR($A7=1,$B7="",$A7+I$3>340),"",IF(INDEX($B$5:$B$344,$A7+I$3)="","",IF(AND(YEAR($B7)=$B$2,YEAR(INDEX($B$5:$B$344,$A7+I$3-1))=$B$2),INDEX($B$5:$B$344,$A7+I$3)-INDEX($B$5:$B$344,$A7-1)-1,""))) | J7: =IF(OR($A7=1,$B7="",$A7+J$3>340),"",IF(INDEX($B$5:$B$344,$A7+J$3)="","",IF(AND(YEAR($B7)=$B$2,YEAR(INDEX($B$5:$B$344,$A7+J$3-1))=$B$2),INDEX($B$5:$B$344,$A7+J$3)-INDEX($B$5:$B$344,$A7-1)-1,""))) | K7: =IF(OR($A7=1,$B7="",$A7+K$3>340),"",IF(INDEX($B$5:$B$344,$A7+K$3)="","",IF(AND(YEAR($B7)=$B$2,YEAR(INDEX($B$5:$B$344,$A7+K$3-1))=$B$2),INDEX($B$5:$B$344,$A7+K$3)-INDEX($B$5:$B$344,$A7-1)-1,""))) | ... M7: =IF(OR($A7=1,$B7="",$A7+M$3>340),"",IF(INDEX($B$5:$B$344,$A7+M$3)="","",IF(AND(YEAR($B7)=$B$2,YEAR(INDEX($B$5:$B$344,$A7+M$3-1))=$B$2),INDEX($B$5:$B$344,$A7+M$3)-INDEX($B$5:$B$344,$A7-1)-1,""))) | P7: 2 | Q7: =MAX($E$5:$E$344) | R7: =INDEX($B$5:$B$344,MATCH($Q7,$E$5:$E$344,0)-1)+1 | S7: =INDEX($B$5:$B$344,MATCH($Q7,$E$5:$E$344,0)+2)-1 | T7: =INDEX($B$5:$B$344,MATCH($Q7,$E$5:$E$344,0)) | U7: =INDEX($B$5:$B$344,MATCH($Q7,$E$5:$E$344,0)+1) | V7: =Q7-Q6 | W7: =COUNTIF($E$5:$E$344,$Q7)
A8: 4 | B8: =IFERROR(INDEX('2_暦'!$A$7:$A$433,MATCH(A8,'2_暦'!$K$7:$K$433,0)),"") | C8: =IF(OR($A8=1,$B8=""),"",IF(OR(YEAR($B8-1)=$B$2,YEAR(INDEX($B$5:$B$344,$A8-1)+1)=$B$2),$B8-INDEX($B$5:$B$344,$A8-1)-1,"")) | D8: =IF(OR($A8=1,$B8="",$A8+D$3>340),"",IF(INDEX($B$5:$B$344,$A8+D$3)="","",IF(AND(YEAR($B8)=$B$2,YEAR(INDEX($B$5:$B$344,$A8+D$3-1))=$B$2),INDEX($B$5:$B$344,$A8+D$3)-INDEX($B$5:$B$344,$A8-1)-1,""))) | E8: =IF(OR($A8=1,$B8="",$A8+E$3>340),"",IF(INDEX($B$5:$B$344,$A8+E$3)="","",IF(AND(YEAR($B8)=$B$2,YEAR(INDEX($B$5:$B$344,$A8+E$3-1))=$B$2),INDEX($B$5:$B$344,$A8+E$3)-INDEX($B$5:$B$344,$A8-1)-1,""))) | F8: =IF(OR($A8=1,$B8="",$A8+F$3>340),"",IF(INDEX($B$5:$B$344,$A8+F$3)="","",IF(AND(YEAR($B8)=$B$2,YEAR(INDEX($B$5:$B$344,$A8+F$3-1))=$B$2),INDEX($B$5:$B$344,$A8+F$3)-INDEX($B$5:$B$344,$A8-1)-1,""))) | G8: =IF(OR($A8=1,$B8="",$A8+G$3>340),"",IF(INDEX($B$5:$B$344,$A8+G$3)="","",IF(AND(YEAR($B8)=$B$2,YEAR(INDEX($B$5:$B$344,$A8+G$3-1))=$B$2),INDEX($B$5:$B$344,$A8+G$3)-INDEX($B$5:$B$344,$A8-1)-1,""))) | H8: =IF(OR($A8=1,$B8="",$A8+H$3>340),"",IF(INDEX($B$5:$B$344,$A8+H$3)="","",IF(AND(YEAR($B8)=$B$2,YEAR(INDEX($B$5:$B$344,$A8+H$3-1))=$B$2),INDEX($B$5:$B$344,$A8+H$3)-INDEX($B$5:$B$344,$A8-1)-1,""))) | I8: =IF(OR($A8=1,$B8="",$A8+I$3>340),"",IF(INDEX($B$5:$B$344,$A8+I$3)="","",IF(AND(YEAR($B8)=$B$2,YEAR(INDEX($B$5:$B$344,$A8+I$3-1))=$B$2),INDEX($B$5:$B$344,$A8+I$3)-INDEX($B$5:$B$344,$A8-1)-1,""))) | J8: =IF(OR($A8=1,$B8="",$A8+J$3>340),"",IF(INDEX($B$5:$B$344,$A8+J$3)="","",IF(AND(YEAR($B8)=$B$2,YEAR(INDEX($B$5:$B$344,$A8+J$3-1))=$B$2),INDEX($B$5:$B$344,$A8+J$3)-INDEX($B$5:$B$344,$A8-1)-1,""))) | K8: =IF(OR($A8=1,$B8="",$A8+K$3>340),"",IF(INDEX($B$5:$B$344,$A8+K$3)="","",IF(AND(YEAR($B8)=$B$2,YEAR(INDEX($B$5:$B$344,$A8+K$3-1))=$B$2),INDEX($B$5:$B$344,$A8+K$3)-INDEX($B$5:$B$344,$A8-1)-1,""))) | ... M8: =IF(OR($A8=1,$B8="",$A8+M$3>340),"",IF(INDEX($B$5:$B$344,$A8+M$3)="","",IF(AND(YEAR($B8)=$B$2,YEAR(INDEX($B$5:$B$344,$A8+M$3-1))=$B$2),INDEX($B$5:$B$344,$A8+M$3)-INDEX($B$5:$B$344,$A8-1)-1,""))) | P8: 3 | Q8: =MAX($F$5:$F$344) | R8: =INDEX($B$5:$B$344,MATCH($Q8,$F$5:$F$344,0)-1)+1 | S8: =INDEX($B$5:$B$344,MATCH($Q8,$F$5:$F$344,0)+3)-1 | T8: =INDEX($B$5:$B$344,MATCH($Q8,$F$5:$F$344,0)) | U8: =INDEX($B$5:$B$344,MATCH($Q8,$F$5:$F$344,0)+2) | V8: =Q8-Q7 | W8: =COUNTIF($F$5:$F$344,$Q8)
A9: 5 | B9: =IFERROR(INDEX('2_暦'!$A$7:$A$433,MATCH(A9,'2_暦'!$K$7:$K$433,0)),"") | C9: =IF(OR($A9=1,$B9=""),"",IF(OR(YEAR($B9-1)=$B$2,YEAR(INDEX($B$5:$B$344,$A9-1)+1)=$B$2),$B9-INDEX($B$5:$B$344,$A9-1)-1,"")) | D9: =IF(OR($A9=1,$B9="",$A9+D$3>340),"",IF(INDEX($B$5:$B$344,$A9+D$3)="","",IF(AND(YEAR($B9)=$B$2,YEAR(INDEX($B$5:$B$344,$A9+D$3-1))=$B$2),INDEX($B$5:$B$344,$A9+D$3)-INDEX($B$5:$B$344,$A9-1)-1,""))) | E9: =IF(OR($A9=1,$B9="",$A9+E$3>340),"",IF(INDEX($B$5:$B$344,$A9+E$3)="","",IF(AND(YEAR($B9)=$B$2,YEAR(INDEX($B$5:$B$344,$A9+E$3-1))=$B$2),INDEX($B$5:$B$344,$A9+E$3)-INDEX($B$5:$B$344,$A9-1)-1,""))) | F9: =IF(OR($A9=1,$B9="",$A9+F$3>340),"",IF(INDEX($B$5:$B$344,$A9+F$3)="","",IF(AND(YEAR($B9)=$B$2,YEAR(INDEX($B$5:$B$344,$A9+F$3-1))=$B$2),INDEX($B$5:$B$344,$A9+F$3)-INDEX($B$5:$B$344,$A9-1)-1,""))) | G9: =IF(OR($A9=1,$B9="",$A9+G$3>340),"",IF(INDEX($B$5:$B$344,$A9+G$3)="","",IF(AND(YEAR($B9)=$B$2,YEAR(INDEX($B$5:$B$344,$A9+G$3-1))=$B$2),INDEX($B$5:$B$344,$A9+G$3)-INDEX($B$5:$B$344,$A9-1)-1,""))) | H9: =IF(OR($A9=1,$B9="",$A9+H$3>340),"",IF(INDEX($B$5:$B$344,$A9+H$3)="","",IF(AND(YEAR($B9)=$B$2,YEAR(INDEX($B$5:$B$344,$A9+H$3-1))=$B$2),INDEX($B$5:$B$344,$A9+H$3)-INDEX($B$5:$B$344,$A9-1)-1,""))) | I9: =IF(OR($A9=1,$B9="",$A9+I$3>340),"",IF(INDEX($B$5:$B$344,$A9+I$3)="","",IF(AND(YEAR($B9)=$B$2,YEAR(INDEX($B$5:$B$344,$A9+I$3-1))=$B$2),INDEX($B$5:$B$344,$A9+I$3)-INDEX($B$5:$B$344,$A9-1)-1,""))) | J9: =IF(OR($A9=1,$B9="",$A9+J$3>340),"",IF(INDEX($B$5:$B$344,$A9+J$3)="","",IF(AND(YEAR($B9)=$B$2,YEAR(INDEX($B$5:$B$344,$A9+J$3-1))=$B$2),INDEX($B$5:$B$344,$A9+J$3)-INDEX($B$5:$B$344,$A9-1)-1,""))) | K9: =IF(OR($A9=1,$B9="",$A9+K$3>340),"",IF(INDEX($B$5:$B$344,$A9+K$3)="","",IF(AND(YEAR($B9)=$B$2,YEAR(INDEX($B$5:$B$344,$A9+K$3-1))=$B$2),INDEX($B$5:$B$344,$A9+K$3)-INDEX($B$5:$B$344,$A9-1)-1,""))) | ... M9: =IF(OR($A9=1,$B9="",$A9+M$3>340),"",IF(INDEX($B$5:$B$344,$A9+M$3)="","",IF(AND(YEAR($B9)=$B$2,YEAR(INDEX($B$5:$B$344,$A9+M$3-1))=$B$2),INDEX($B$5:$B$344,$A9+M$3)-INDEX($B$5:$B$344,$A9-1)-1,""))) | P9: 4 | Q9: =MAX($G$5:$G$344) | R9: =INDEX($B$5:$B$344,MATCH($Q9,$G$5:$G$344,0)-1)+1 | S9: =INDEX($B$5:$B$344,MATCH($Q9,$G$5:$G$344,0)+4)-1 | T9: =INDEX($B$5:$B$344,MATCH($Q9,$G$5:$G$344,0)) | U9: =INDEX($B$5:$B$344,MATCH($Q9,$G$5:$G$344,0)+3) | V9: =Q9-Q8 | W9: =COUNTIF($G$5:$G$344,$Q9)
A10: 6 | B10: =IFERROR(INDEX('2_暦'!$A$7:$A$433,MATCH(A10,'2_暦'!$K$7:$K$433,0)),"") | C10: =IF(OR($A10=1,$B10=""),"",IF(OR(YEAR($B10-1)=$B$2,YEAR(INDEX($B$5:$B$344,$A10-1)+1)=$B$2),$B10-INDEX($B$5:$B$344,$A10-1)-1,"")) | D10: =IF(OR($A10=1,$B10="",$A10+D$3>340),"",IF(INDEX($B$5:$B$344,$A10+D$3)="","",IF(AND(YEAR($B10)=$B$2,YEAR(INDEX($B$5:$B$344,$A10+D$3-1))=$B$2),INDEX($B$5:$B$344,$A10+D$3)-INDEX($B$5:$B$344,$A10-1)-1,""))) | E10: =IF(OR($A10=1,$B10="",$A10+E$3>340),"",IF(INDEX($B$5:$B$344,$A10+E$3)="","",IF(AND(YEAR($B10)=$B$2,YEAR(INDEX($B$5:$B$344,$A10+E$3-1))=$B$2),INDEX($B$5:$B$344,$A10+E$3)-INDEX($B$5:$B$344,$A10-1)-1,""))) | F10: =IF(OR($A10=1,$B10="",$A10+F$3>340),"",IF(INDEX($B$5:$B$344,$A10+F$3)="","",IF(AND(YEAR($B10)=$B$2,YEAR(INDEX($B$5:$B$344,$A10+F$3-1))=$B$2),INDEX($B$5:$B$344,$A10+F$3)-INDEX($B$5:$B$344,$A10-1)-1,""))) | G10: =IF(OR($A10=1,$B10="",$A10+G$3>340),"",IF(INDEX($B$5:$B$344,$A10+G$3)="","",IF(AND(YEAR($B10)=$B$2,YEAR(INDEX($B$5:$B$344,$A10+G$3-1))=$B$2),INDEX($B$5:$B$344,$A10+G$3)-INDEX($B$5:$B$344,$A10-1)-1,""))) | H10: =IF(OR($A10=1,$B10="",$A10+H$3>340),"",IF(INDEX($B$5:$B$344,$A10+H$3)="","",IF(AND(YEAR($B10)=$B$2,YEAR(INDEX($B$5:$B$344,$A10+H$3-1))=$B$2),INDEX($B$5:$B$344,$A10+H$3)-INDEX($B$5:$B$344,$A10-1)-1,""))) | I10: =IF(OR($A10=1,$B10="",$A10+I$3>340),"",IF(INDEX($B$5:$B$344,$A10+I$3)="","",IF(AND(YEAR($B10)=$B$2,YEAR(INDEX($B$5:$B$344,$A10+I$3-1))=$B$2),INDEX($B$5:$B$344,$A10+I$3)-INDEX($B$5:$B$344,$A10-1)-1,""))) | J10: =IF(OR($A10=1,$B10="",$A10+J$3>340),"",IF(INDEX($B$5:$B$344,$A10+J$3)="","",IF(AND(YEAR($B10)=$B$2,YEAR(INDEX($B$5:$B$344,$A10+J$3-1))=$B$2),INDEX($B$5:$B$344,$A10+J$3)-INDEX($B$5:$B$344,$A10-1)-1,""))) | K10: =IF(OR($A10=1,$B10="",$A10+K$3>340),"",IF(INDEX($B$5:$B$344,$A10+K$3)="","",IF(AND(YEAR($B10)=$B$2,YEAR(INDEX($B$5:$B$344,$A10+K$3-1))=$B$2),INDEX($B$5:$B$344,$A10+K$3)-INDEX($B$5:$B$344,$A10-1)-1,""))) | ... M10: =IF(OR($A10=1,$B10="",$A10+M$3>340),"",IF(INDEX($B$5:$B$344,$A10+M$3)="","",IF(AND(YEAR($B10)=$B$2,YEAR(INDEX($B$5:$B$344,$A10+M$3-1))=$B$2),INDEX($B$5:$B$344,$A10+M$3)-INDEX($B$5:$B$344,$A10-1)-1,""))) | P10: 5 | Q10: =MAX($H$5:$H$344) | R10: =INDEX($B$5:$B$344,MATCH($Q10,$H$5:$H$344,0)-1)+1 | S10: =INDEX($B$5:$B$344,MATCH($Q10,$H$5:$H$344,0)+5)-1 | T10: =INDEX($B$5:$B$344,MATCH($Q10,$H$5:$H$344,0)) | U10: =INDEX($B$5:$B$344,MATCH($Q10,$H$5:$H$344,0)+4) | V10: =Q10-Q9 | W10: =COUNTIF($H$5:$H$344,$Q10)
A11: 7 | B11: =IFERROR(INDEX('2_暦'!$A$7:$A$433,MATCH(A11,'2_暦'!$K$7:$K$433,0)),"") | C11: =IF(OR($A11=1,$B11=""),"",IF(OR(YEAR($B11-1)=$B$2,YEAR(INDEX($B$5:$B$344,$A11-1)+1)=$B$2),$B11-INDEX($B$5:$B$344,$A11-1)-1,"")) | D11: =IF(OR($A11=1,$B11="",$A11+D$3>340),"",IF(INDEX($B$5:$B$344,$A11+D$3)="","",IF(AND(YEAR($B11)=$B$2,YEAR(INDEX($B$5:$B$344,$A11+D$3-1))=$B$2),INDEX($B$5:$B$344,$A11+D$3)-INDEX($B$5:$B$344,$A11-1)-1,""))) | E11: =IF(OR($A11=1,$B11="",$A11+E$3>340),"",IF(INDEX($B$5:$B$344,$A11+E$3)="","",IF(AND(YEAR($B11)=$B$2,YEAR(INDEX($B$5:$B$344,$A11+E$3-1))=$B$2),INDEX($B$5:$B$344,$A11+E$3)-INDEX($B$5:$B$344,$A11-1)-1,""))) | F11: =IF(OR($A11=1,$B11="",$A11+F$3>340),"",IF(INDEX($B$5:$B$344,$A11+F$3)="","",IF(AND(YEAR($B11)=$B$2,YEAR(INDEX($B$5:$B$344,$A11+F$3-1))=$B$2),INDEX($B$5:$B$344,$A11+F$3)-INDEX($B$5:$B$344,$A11-1)-1,""))) | G11: =IF(OR($A11=1,$B11="",$A11+G$3>340),"",IF(INDEX($B$5:$B$344,$A11+G$3)="","",IF(AND(YEAR($B11)=$B$2,YEAR(INDEX($B$5:$B$344,$A11+G$3-1))=$B$2),INDEX($B$5:$B$344,$A11+G$3)-INDEX($B$5:$B$344,$A11-1)-1,""))) | H11: =IF(OR($A11=1,$B11="",$A11+H$3>340),"",IF(INDEX($B$5:$B$344,$A11+H$3)="","",IF(AND(YEAR($B11)=$B$2,YEAR(INDEX($B$5:$B$344,$A11+H$3-1))=$B$2),INDEX($B$5:$B$344,$A11+H$3)-INDEX($B$5:$B$344,$A11-1)-1,""))) | I11: =IF(OR($A11=1,$B11="",$A11+I$3>340),"",IF(INDEX($B$5:$B$344,$A11+I$3)="","",IF(AND(YEAR($B11)=$B$2,YEAR(INDEX($B$5:$B$344,$A11+I$3-1))=$B$2),INDEX($B$5:$B$344,$A11+I$3)-INDEX($B$5:$B$344,$A11-1)-1,""))) | J11: =IF(OR($A11=1,$B11="",$A11+J$3>340),"",IF(INDEX($B$5:$B$344,$A11+J$3)="","",IF(AND(YEAR($B11)=$B$2,YEAR(INDEX($B$5:$B$344,$A11+J$3-1))=$B$2),INDEX($B$5:$B$344,$A11+J$3)-INDEX($B$5:$B$344,$A11-1)-1,""))) | K11: =IF(OR($A11=1,$B11="",$A11+K$3>340),"",IF(INDEX($B$5:$B$344,$A11+K$3)="","",IF(AND(YEAR($B11)=$B$2,YEAR(INDEX($B$5:$B$344,$A11+K$3-1))=$B$2),INDEX($B$5:$B$344,$A11+K$3)-INDEX($B$5:$B$344,$A11-1)-1,""))) | ... M11: =IF(OR($A11=1,$B11="",$A11+M$3>340),"",IF(INDEX($B$5:$B$344,$A11+M$3)="","",IF(AND(YEAR($B11)=$B$2,YEAR(INDEX($B$5:$B$344,$A11+M$3-1))=$B$2),INDEX($B$5:$B$344,$A11+M$3)-INDEX($B$5:$B$344,$A11-1)-1,""))) | P11: 6 | Q11: =MAX($I$5:$I$344) | R11: =INDEX($B$5:$B$344,MATCH($Q11,$I$5:$I$344,0)-1)+1 | S11: =INDEX($B$5:$B$344,MATCH($Q11,$I$5:$I$344,0)+6)-1 | T11: =INDEX($B$5:$B$344,MATCH($Q11,$I$5:$I$344,0)) | U11: =INDEX($B$5:$B$344,MATCH($Q11,$I$5:$I$344,0)+5) | V11: =Q11-Q10 | W11: =COUNTIF($I$5:$I$344,$Q11)
A12: 8 | B12: =IFERROR(INDEX('2_暦'!$A$7:$A$433,MATCH(A12,'2_暦'!$K$7:$K$433,0)),"") | C12: =IF(OR($A12=1,$B12=""),"",IF(OR(YEAR($B12-1)=$B$2,YEAR(INDEX($B$5:$B$344,$A12-1)+1)=$B$2),$B12-INDEX($B$5:$B$344,$A12-1)-1,"")) | D12: =IF(OR($A12=1,$B12="",$A12+D$3>340),"",IF(INDEX($B$5:$B$344,$A12+D$3)="","",IF(AND(YEAR($B12)=$B$2,YEAR(INDEX($B$5:$B$344,$A12+D$3-1))=$B$2),INDEX($B$5:$B$344,$A12+D$3)-INDEX($B$5:$B$344,$A12-1)-1,""))) | E12: =IF(OR($A12=1,$B12="",$A12+E$3>340),"",IF(INDEX($B$5:$B$344,$A12+E$3)="","",IF(AND(YEAR($B12)=$B$2,YEAR(INDEX($B$5:$B$344,$A12+E$3-1))=$B$2),INDEX($B$5:$B$344,$A12+E$3)-INDEX($B$5:$B$344,$A12-1)-1,""))) | F12: =IF(OR($A12=1,$B12="",$A12+F$3>340),"",IF(INDEX($B$5:$B$344,$A12+F$3)="","",IF(AND(YEAR($B12)=$B$2,YEAR(INDEX($B$5:$B$344,$A12+F$3-1))=$B$2),INDEX($B$5:$B$344,$A12+F$3)-INDEX($B$5:$B$344,$A12-1)-1,""))) | G12: =IF(OR($A12=1,$B12="",$A12+G$3>340),"",IF(INDEX($B$5:$B$344,$A12+G$3)="","",IF(AND(YEAR($B12)=$B$2,YEAR(INDEX($B$5:$B$344,$A12+G$3-1))=$B$2),INDEX($B$5:$B$344,$A12+G$3)-INDEX($B$5:$B$344,$A12-1)-1,""))) | H12: =IF(OR($A12=1,$B12="",$A12+H$3>340),"",IF(INDEX($B$5:$B$344,$A12+H$3)="","",IF(AND(YEAR($B12)=$B$2,YEAR(INDEX($B$5:$B$344,$A12+H$3-1))=$B$2),INDEX($B$5:$B$344,$A12+H$3)-INDEX($B$5:$B$344,$A12-1)-1,""))) | I12: =IF(OR($A12=1,$B12="",$A12+I$3>340),"",IF(INDEX($B$5:$B$344,$A12+I$3)="","",IF(AND(YEAR($B12)=$B$2,YEAR(INDEX($B$5:$B$344,$A12+I$3-1))=$B$2),INDEX($B$5:$B$344,$A12+I$3)-INDEX($B$5:$B$344,$A12-1)-1,""))) | J12: =IF(OR($A12=1,$B12="",$A12+J$3>340),"",IF(INDEX($B$5:$B$344,$A12+J$3)="","",IF(AND(YEAR($B12)=$B$2,YEAR(INDEX($B$5:$B$344,$A12+J$3-1))=$B$2),INDEX($B$5:$B$344,$A12+J$3)-INDEX($B$5:$B$344,$A12-1)-1,""))) | K12: =IF(OR($A12=1,$B12="",$A12+K$3>340),"",IF(INDEX($B$5:$B$344,$A12+K$3)="","",IF(AND(YEAR($B12)=$B$2,YEAR(INDEX($B$5:$B$344,$A12+K$3-1))=$B$2),INDEX($B$5:$B$344,$A12+K$3)-INDEX($B$5:$B$344,$A12-1)-1,""))) | ... M12: =IF(OR($A12=1,$B12="",$A12+M$3>340),"",IF(INDEX($B$5:$B$344,$A12+M$3)="","",IF(AND(YEAR($B12)=$B$2,YEAR(INDEX($B$5:$B$344,$A12+M$3-1))=$B$2),INDEX($B$5:$B$344,$A12+M$3)-INDEX($B$5:$B$344,$A12-1)-1,""))) | P12: 7 | Q12: =MAX($J$5:$J$344) | R12: =INDEX($B$5:$B$344,MATCH($Q12,$J$5:$J$344,0)-1)+1 | S12: =INDEX($B$5:$B$344,MATCH($Q12,$J$5:$J$344,0)+7)-1 | T12: =INDEX($B$5:$B$344,MATCH($Q12,$J$5:$J$344,0)) | U12: =INDEX($B$5:$B$344,MATCH($Q12,$J$5:$J$344,0)+6) | V12: =Q12-Q11 | W12: =COUNTIF($J$5:$J$344,$Q12)
A13: 9 | B13: =IFERROR(INDEX('2_暦'!$A$7:$A$433,MATCH(A13,'2_暦'!$K$7:$K$433,0)),"") | C13: =IF(OR($A13=1,$B13=""),"",IF(OR(YEAR($B13-1)=$B$2,YEAR(INDEX($B$5:$B$344,$A13-1)+1)=$B$2),$B13-INDEX($B$5:$B$344,$A13-1)-1,"")) | D13: =IF(OR($A13=1,$B13="",$A13+D$3>340),"",IF(INDEX($B$5:$B$344,$A13+D$3)="","",IF(AND(YEAR($B13)=$B$2,YEAR(INDEX($B$5:$B$344,$A13+D$3-1))=$B$2),INDEX($B$5:$B$344,$A13+D$3)-INDEX($B$5:$B$344,$A13-1)-1,""))) | E13: =IF(OR($A13=1,$B13="",$A13+E$3>340),"",IF(INDEX($B$5:$B$344,$A13+E$3)="","",IF(AND(YEAR($B13)=$B$2,YEAR(INDEX($B$5:$B$344,$A13+E$3-1))=$B$2),INDEX($B$5:$B$344,$A13+E$3)-INDEX($B$5:$B$344,$A13-1)-1,""))) | F13: =IF(OR($A13=1,$B13="",$A13+F$3>340),"",IF(INDEX($B$5:$B$344,$A13+F$3)="","",IF(AND(YEAR($B13)=$B$2,YEAR(INDEX($B$5:$B$344,$A13+F$3-1))=$B$2),INDEX($B$5:$B$344,$A13+F$3)-INDEX($B$5:$B$344,$A13-1)-1,""))) | G13: =IF(OR($A13=1,$B13="",$A13+G$3>340),"",IF(INDEX($B$5:$B$344,$A13+G$3)="","",IF(AND(YEAR($B13)=$B$2,YEAR(INDEX($B$5:$B$344,$A13+G$3-1))=$B$2),INDEX($B$5:$B$344,$A13+G$3)-INDEX($B$5:$B$344,$A13-1)-1,""))) | H13: =IF(OR($A13=1,$B13="",$A13+H$3>340),"",IF(INDEX($B$5:$B$344,$A13+H$3)="","",IF(AND(YEAR($B13)=$B$2,YEAR(INDEX($B$5:$B$344,$A13+H$3-1))=$B$2),INDEX($B$5:$B$344,$A13+H$3)-INDEX($B$5:$B$344,$A13-1)-1,""))) | I13: =IF(OR($A13=1,$B13="",$A13+I$3>340),"",IF(INDEX($B$5:$B$344,$A13+I$3)="","",IF(AND(YEAR($B13)=$B$2,YEAR(INDEX($B$5:$B$344,$A13+I$3-1))=$B$2),INDEX($B$5:$B$344,$A13+I$3)-INDEX($B$5:$B$344,$A13-1)-1,""))) | J13: =IF(OR($A13=1,$B13="",$A13+J$3>340),"",IF(INDEX($B$5:$B$344,$A13+J$3)="","",IF(AND(YEAR($B13)=$B$2,YEAR(INDEX($B$5:$B$344,$A13+J$3-1))=$B$2),INDEX($B$5:$B$344,$A13+J$3)-INDEX($B$5:$B$344,$A13-1)-1,""))) | K13: =IF(OR($A13=1,$B13="",$A13+K$3>340),"",IF(INDEX($B$5:$B$344,$A13+K$3)="","",IF(AND(YEAR($B13)=$B$2,YEAR(INDEX($B$5:$B$344,$A13+K$3-1))=$B$2),INDEX($B$5:$B$344,$A13+K$3)-INDEX($B$5:$B$344,$A13-1)-1,""))) | ... M13: =IF(OR($A13=1,$B13="",$A13+M$3>340),"",IF(INDEX($B$5:$B$344,$A13+M$3)="","",IF(AND(YEAR($B13)=$B$2,YEAR(INDEX($B$5:$B$344,$A13+M$3-1))=$B$2),INDEX($B$5:$B$344,$A13+M$3)-INDEX($B$5:$B$344,$A13-1)-1,""))) | P13: 8 | Q13: =MAX($K$5:$K$344) | R13: =INDEX($B$5:$B$344,MATCH($Q13,$K$5:$K$344,0)-1)+1 | S13: =INDEX($B$5:$B$344,MATCH($Q13,$K$5:$K$344,0)+8)-1 | T13: =INDEX($B$5:$B$344,MATCH($Q13,$K$5:$K$344,0)) | U13: =INDEX($B$5:$B$344,MATCH($Q13,$K$5:$K$344,0)+7) | V13: =Q13-Q12 | W13: =COUNTIF($K$5:$K$344,$Q13)
A14: 10 | B14: =IFERROR(INDEX('2_暦'!$A$7:$A$433,MATCH(A14,'2_暦'!$K$7:$K$433,0)),"") | C14: =IF(OR($A14=1,$B14=""),"",IF(OR(YEAR($B14-1)=$B$2,YEAR(INDEX($B$5:$B$344,$A14-1)+1)=$B$2),$B14-INDEX($B$5:$B$344,$A14-1)-1,"")) | D14: =IF(OR($A14=1,$B14="",$A14+D$3>340),"",IF(INDEX($B$5:$B$344,$A14+D$3)="","",IF(AND(YEAR($B14)=$B$2,YEAR(INDEX($B$5:$B$344,$A14+D$3-1))=$B$2),INDEX($B$5:$B$344,$A14+D$3)-INDEX($B$5:$B$344,$A14-1)-1,""))) | E14: =IF(OR($A14=1,$B14="",$A14+E$3>340),"",IF(INDEX($B$5:$B$344,$A14+E$3)="","",IF(AND(YEAR($B14)=$B$2,YEAR(INDEX($B$5:$B$344,$A14+E$3-1))=$B$2),INDEX($B$5:$B$344,$A14+E$3)-INDEX($B$5:$B$344,$A14-1)-1,""))) | F14: =IF(OR($A14=1,$B14="",$A14+F$3>340),"",IF(INDEX($B$5:$B$344,$A14+F$3)="","",IF(AND(YEAR($B14)=$B$2,YEAR(INDEX($B$5:$B$344,$A14+F$3-1))=$B$2),INDEX($B$5:$B$344,$A14+F$3)-INDEX($B$5:$B$344,$A14-1)-1,""))) | G14: =IF(OR($A14=1,$B14="",$A14+G$3>340),"",IF(INDEX($B$5:$B$344,$A14+G$3)="","",IF(AND(YEAR($B14)=$B$2,YEAR(INDEX($B$5:$B$344,$A14+G$3-1))=$B$2),INDEX($B$5:$B$344,$A14+G$3)-INDEX($B$5:$B$344,$A14-1)-1,""))) | H14: =IF(OR($A14=1,$B14="",$A14+H$3>340),"",IF(INDEX($B$5:$B$344,$A14+H$3)="","",IF(AND(YEAR($B14)=$B$2,YEAR(INDEX($B$5:$B$344,$A14+H$3-1))=$B$2),INDEX($B$5:$B$344,$A14+H$3)-INDEX($B$5:$B$344,$A14-1)-1,""))) | I14: =IF(OR($A14=1,$B14="",$A14+I$3>340),"",IF(INDEX($B$5:$B$344,$A14+I$3)="","",IF(AND(YEAR($B14)=$B$2,YEAR(INDEX($B$5:$B$344,$A14+I$3-1))=$B$2),INDEX($B$5:$B$344,$A14+I$3)-INDEX($B$5:$B$344,$A14-1)-1,""))) | J14: =IF(OR($A14=1,$B14="",$A14+J$3>340),"",IF(INDEX($B$5:$B$344,$A14+J$3)="","",IF(AND(YEAR($B14)=$B$2,YEAR(INDEX($B$5:$B$344,$A14+J$3-1))=$B$2),INDEX($B$5:$B$344,$A14+J$3)-INDEX($B$5:$B$344,$A14-1)-1,""))) | K14: =IF(OR($A14=1,$B14="",$A14+K$3>340),"",IF(INDEX($B$5:$B$344,$A14+K$3)="","",IF(AND(YEAR($B14)=$B$2,YEAR(INDEX($B$5:$B$344,$A14+K$3-1))=$B$2),INDEX($B$5:$B$344,$A14+K$3)-INDEX($B$5:$B$344,$A14-1)-1,""))) | ... M14: =IF(OR($A14=1,$B14="",$A14+M$3>340),"",IF(INDEX($B$5:$B$344,$A14+M$3)="","",IF(AND(YEAR($B14)=$B$2,YEAR(INDEX($B$5:$B$344,$A14+M$3-1))=$B$2),INDEX($B$5:$B$344,$A14+M$3)-INDEX($B$5:$B$344,$A14-1)-1,""))) | P14: 9 | Q14: =MAX($L$5:$L$344) | R14: =INDEX($B$5:$B$344,MATCH($Q14,$L$5:$L$344,0)-1)+1 | S14: =INDEX($B$5:$B$344,MATCH($Q14,$L$5:$L$344,0)+9)-1 | T14: =INDEX($B$5:$B$344,MATCH($Q14,$L$5:$L$344,0)) | U14: =INDEX($B$5:$B$344,MATCH($Q14,$L$5:$L$344,0)+8) | V14: =Q14-Q13 | W14: =COUNTIF($L$5:$L$344,$Q14)
A15: 11 | B15: =IFERROR(INDEX('2_暦'!$A$7:$A$433,MATCH(A15,'2_暦'!$K$7:$K$433,0)),"") | C15: =IF(OR($A15=1,$B15=""),"",IF(OR(YEAR($B15-1)=$B$2,YEAR(INDEX($B$5:$B$344,$A15-1)+1)=$B$2),$B15-INDEX($B$5:$B$344,$A15-1)-1,"")) | D15: =IF(OR($A15=1,$B15="",$A15+D$3>340),"",IF(INDEX($B$5:$B$344,$A15+D$3)="","",IF(AND(YEAR($B15)=$B$2,YEAR(INDEX($B$5:$B$344,$A15+D$3-1))=$B$2),INDEX($B$5:$B$344,$A15+D$3)-INDEX($B$5:$B$344,$A15-1)-1,""))) | E15: =IF(OR($A15=1,$B15="",$A15+E$3>340),"",IF(INDEX($B$5:$B$344,$A15+E$3)="","",IF(AND(YEAR($B15)=$B$2,YEAR(INDEX($B$5:$B$344,$A15+E$3-1))=$B$2),INDEX($B$5:$B$344,$A15+E$3)-INDEX($B$5:$B$344,$A15-1)-1,""))) | F15: =IF(OR($A15=1,$B15="",$A15+F$3>340),"",IF(INDEX($B$5:$B$344,$A15+F$3)="","",IF(AND(YEAR($B15)=$B$2,YEAR(INDEX($B$5:$B$344,$A15+F$3-1))=$B$2),INDEX($B$5:$B$344,$A15+F$3)-INDEX($B$5:$B$344,$A15-1)-1,""))) | G15: =IF(OR($A15=1,$B15="",$A15+G$3>340),"",IF(INDEX($B$5:$B$344,$A15+G$3)="","",IF(AND(YEAR($B15)=$B$2,YEAR(INDEX($B$5:$B$344,$A15+G$3-1))=$B$2),INDEX($B$5:$B$344,$A15+G$3)-INDEX($B$5:$B$344,$A15-1)-1,""))) | H15: =IF(OR($A15=1,$B15="",$A15+H$3>340),"",IF(INDEX($B$5:$B$344,$A15+H$3)="","",IF(AND(YEAR($B15)=$B$2,YEAR(INDEX($B$5:$B$344,$A15+H$3-1))=$B$2),INDEX($B$5:$B$344,$A15+H$3)-INDEX($B$5:$B$344,$A15-1)-1,""))) | I15: =IF(OR($A15=1,$B15="",$A15+I$3>340),"",IF(INDEX($B$5:$B$344,$A15+I$3)="","",IF(AND(YEAR($B15)=$B$2,YEAR(INDEX($B$5:$B$344,$A15+I$3-1))=$B$2),INDEX($B$5:$B$344,$A15+I$3)-INDEX($B$5:$B$344,$A15-1)-1,""))) | J15: =IF(OR($A15=1,$B15="",$A15+J$3>340),"",IF(INDEX($B$5:$B$344,$A15+J$3)="","",IF(AND(YEAR($B15)=$B$2,YEAR(INDEX($B$5:$B$344,$A15+J$3-1))=$B$2),INDEX($B$5:$B$344,$A15+J$3)-INDEX($B$5:$B$344,$A15-1)-1,""))) | K15: =IF(OR($A15=1,$B15="",$A15+K$3>340),"",IF(INDEX($B$5:$B$344,$A15+K$3)="","",IF(AND(YEAR($B15)=$B$2,YEAR(INDEX($B$5:$B$344,$A15+K$3-1))=$B$2),INDEX($B$5:$B$344,$A15+K$3)-INDEX($B$5:$B$344,$A15-1)-1,""))) | ... M15: =IF(OR($A15=1,$B15="",$A15+M$3>340),"",IF(INDEX($B$5:$B$344,$A15+M$3)="","",IF(AND(YEAR($B15)=$B$2,YEAR(INDEX($B$5:$B$344,$A15+M$3-1))=$B$2),INDEX($B$5:$B$344,$A15+M$3)-INDEX($B$5:$B$344,$A15-1)-1,""))) | P15: 10 | Q15: =MAX($M$5:$M$344) | R15: =INDEX($B$5:$B$344,MATCH($Q15,$M$5:$M$344,0)-1)+1 | S15: =INDEX($B$5:$B$344,MATCH($Q15,$M$5:$M$344,0)+10)-1 | T15: =INDEX($B$5:$B$344,MATCH($Q15,$M$5:$M$344,0)) | U15: =INDEX($B$5:$B$344,MATCH($Q15,$M$5:$M$344,0)+9) | V15: =Q15-Q14 | W15: =COUNTIF($M$5:$M$344,$Q15)
A16: 12 | B16: =IFERROR(INDEX('2_暦'!$A$7:$A$433,MATCH(A16,'2_暦'!$K$7:$K$433,0)),"") | C16: =IF(OR($A16=1,$B16=""),"",IF(OR(YEAR($B16-1)=$B$2,YEAR(INDEX($B$5:$B$344,$A16-1)+1)=$B$2),$B16-INDEX($B$5:$B$344,$A16-1)-1,"")) | D16: =IF(OR($A16=1,$B16="",$A16+D$3>340),"",IF(INDEX($B$5:$B$344,$A16+D$3)="","",IF(AND(YEAR($B16)=$B$2,YEAR(INDEX($B$5:$B$344,$A16+D$3-1))=$B$2),INDEX($B$5:$B$344,$A16+D$3)-INDEX($B$5:$B$344,$A16-1)-1,""))) | E16: =IF(OR($A16=1,$B16="",$A16+E$3>340),"",IF(INDEX($B$5:$B$344,$A16+E$3)="","",IF(AND(YEAR($B16)=$B$2,YEAR(INDEX($B$5:$B$344,$A16+E$3-1))=$B$2),INDEX($B$5:$B$344,$A16+E$3)-INDEX($B$5:$B$344,$A16-1)-1,""))) | F16: =IF(OR($A16=1,$B16="",$A16+F$3>340),"",IF(INDEX($B$5:$B$344,$A16+F$3)="","",IF(AND(YEAR($B16)=$B$2,YEAR(INDEX($B$5:$B$344,$A16+F$3-1))=$B$2),INDEX($B$5:$B$344,$A16+F$3)-INDEX($B$5:$B$344,$A16-1)-1,""))) | G16: =IF(OR($A16=1,$B16="",$A16+G$3>340),"",IF(INDEX($B$5:$B$344,$A16+G$3)="","",IF(AND(YEAR($B16)=$B$2,YEAR(INDEX($B$5:$B$344,$A16+G$3-1))=$B$2),INDEX($B$5:$B$344,$A16+G$3)-INDEX($B$5:$B$344,$A16-1)-1,""))) | H16: =IF(OR($A16=1,$B16="",$A16+H$3>340),"",IF(INDEX($B$5:$B$344,$A16+H$3)="","",IF(AND(YEAR($B16)=$B$2,YEAR(INDEX($B$5:$B$344,$A16+H$3-1))=$B$2),INDEX($B$5:$B$344,$A16+H$3)-INDEX($B$5:$B$344,$A16-1)-1,""))) | I16: =IF(OR($A16=1,$B16="",$A16+I$3>340),"",IF(INDEX($B$5:$B$344,$A16+I$3)="","",IF(AND(YEAR($B16)=$B$2,YEAR(INDEX($B$5:$B$344,$A16+I$3-1))=$B$2),INDEX($B$5:$B$344,$A16+I$3)-INDEX($B$5:$B$344,$A16-1)-1,""))) | J16: =IF(OR($A16=1,$B16="",$A16+J$3>340),"",IF(INDEX($B$5:$B$344,$A16+J$3)="","",IF(AND(YEAR($B16)=$B$2,YEAR(INDEX($B$5:$B$344,$A16+J$3-1))=$B$2),INDEX($B$5:$B$344,$A16+J$3)-INDEX($B$5:$B$344,$A16-1)-1,""))) | K16: =IF(OR($A16=1,$B16="",$A16+K$3>340),"",IF(INDEX($B$5:$B$344,$A16+K$3)="","",IF(AND(YEAR($B16)=$B$2,YEAR(INDEX($B$5:$B$344,$A16+K$3-1))=$B$2),INDEX($B$5:$B$344,$A16+K$3)-INDEX($B$5:$B$344,$A16-1)-1,""))) | ... M16: =IF(OR($A16=1,$B16="",$A16+M$3>340),"",IF(INDEX($B$5:$B$344,$A16+M$3)="","",IF(AND(YEAR($B16)=$B$2,YEAR(INDEX($B$5:$B$344,$A16+M$3-1))=$B$2),INDEX($B$5:$B$344,$A16+M$3)-INDEX($B$5:$B$344,$A16-1)-1,"")))
A17: 13 | B17: =IFERROR(INDEX('2_暦'!$A$7:$A$433,MATCH(A17,'2_暦'!$K$7:$K$433,0)),"") | C17: =IF(OR($A17=1,$B17=""),"",IF(OR(YEAR($B17-1)=$B$2,YEAR(INDEX($B$5:$B$344,$A17-1)+1)=$B$2),$B17-INDEX($B$5:$B$344,$A17-1)-1,"")) | D17: =IF(OR($A17=1,$B17="",$A17+D$3>340),"",IF(INDEX($B$5:$B$344,$A17+D$3)="","",IF(AND(YEAR($B17)=$B$2,YEAR(INDEX($B$5:$B$344,$A17+D$3-1))=$B$2),INDEX($B$5:$B$344,$A17+D$3)-INDEX($B$5:$B$344,$A17-1)-1,""))) | E17: =IF(OR($A17=1,$B17="",$A17+E$3>340),"",IF(INDEX($B$5:$B$344,$A17+E$3)="","",IF(AND(YEAR($B17)=$B$2,YEAR(INDEX($B$5:$B$344,$A17+E$3-1))=$B$2),INDEX($B$5:$B$344,$A17+E$3)-INDEX($B$5:$B$344,$A17-1)-1,""))) | F17: =IF(OR($A17=1,$B17="",$A17+F$3>340),"",IF(INDEX($B$5:$B$344,$A17+F$3)="","",IF(AND(YEAR($B17)=$B$2,YEAR(INDEX($B$5:$B$344,$A17+F$3-1))=$B$2),INDEX($B$5:$B$344,$A17+F$3)-INDEX($B$5:$B$344,$A17-1)-1,""))) | G17: =IF(OR($A17=1,$B17="",$A17+G$3>340),"",IF(INDEX($B$5:$B$344,$A17+G$3)="","",IF(AND(YEAR($B17)=$B$2,YEAR(INDEX($B$5:$B$344,$A17+G$3-1))=$B$2),INDEX($B$5:$B$344,$A17+G$3)-INDEX($B$5:$B$344,$A17-1)-1,""))) | H17: =IF(OR($A17=1,$B17="",$A17+H$3>340),"",IF(INDEX($B$5:$B$344,$A17+H$3)="","",IF(AND(YEAR($B17)=$B$2,YEAR(INDEX($B$5:$B$344,$A17+H$3-1))=$B$2),INDEX($B$5:$B$344,$A17+H$3)-INDEX($B$5:$B$344,$A17-1)-1,""))) | I17: =IF(OR($A17=1,$B17="",$A17+I$3>340),"",IF(INDEX($B$5:$B$344,$A17+I$3)="","",IF(AND(YEAR($B17)=$B$2,YEAR(INDEX($B$5:$B$344,$A17+I$3-1))=$B$2),INDEX($B$5:$B$344,$A17+I$3)-INDEX($B$5:$B$344,$A17-1)-1,""))) | J17: =IF(OR($A17=1,$B17="",$A17+J$3>340),"",IF(INDEX($B$5:$B$344,$A17+J$3)="","",IF(AND(YEAR($B17)=$B$2,YEAR(INDEX($B$5:$B$344,$A17+J$3-1))=$B$2),INDEX($B$5:$B$344,$A17+J$3)-INDEX($B$5:$B$344,$A17-1)-1,""))) | K17: =IF(OR($A17=1,$B17="",$A17+K$3>340),"",IF(INDEX($B$5:$B$344,$A17+K$3)="","",IF(AND(YEAR($B17)=$B$2,YEAR(INDEX($B$5:$B$344,$A17+K$3-1))=$B$2),INDEX($B$5:$B$344,$A17+K$3)-INDEX($B$5:$B$344,$A17-1)-1,""))) | ... M17: =IF(OR($A17=1,$B17="",$A17+M$3>340),"",IF(INDEX($B$5:$B$344,$A17+M$3)="","",IF(AND(YEAR($B17)=$B$2,YEAR(INDEX($B$5:$B$344,$A17+M$3-1))=$B$2),INDEX($B$5:$B$344,$A17+M$3)-INDEX($B$5:$B$344,$A17-1)-1,""))) | P17: 有給1日で4連休以上になる日の数 | T17: =COUNTIF($D$5:$D$344,">=4")
A18: 14 | B18: =IFERROR(INDEX('2_暦'!$A$7:$A$433,MATCH(A18,'2_暦'!$K$7:$K$433,0)),"") | C18: =IF(OR($A18=1,$B18=""),"",IF(OR(YEAR($B18-1)=$B$2,YEAR(INDEX($B$5:$B$344,$A18-1)+1)=$B$2),$B18-INDEX($B$5:$B$344,$A18-1)-1,"")) | D18: =IF(OR($A18=1,$B18="",$A18+D$3>340),"",IF(INDEX($B$5:$B$344,$A18+D$3)="","",IF(AND(YEAR($B18)=$B$2,YEAR(INDEX($B$5:$B$344,$A18+D$3-1))=$B$2),INDEX($B$5:$B$344,$A18+D$3)-INDEX($B$5:$B$344,$A18-1)-1,""))) | E18: =IF(OR($A18=1,$B18="",$A18+E$3>340),"",IF(INDEX($B$5:$B$344,$A18+E$3)="","",IF(AND(YEAR($B18)=$B$2,YEAR(INDEX($B$5:$B$344,$A18+E$3-1))=$B$2),INDEX($B$5:$B$344,$A18+E$3)-INDEX($B$5:$B$344,$A18-1)-1,""))) | F18: =IF(OR($A18=1,$B18="",$A18+F$3>340),"",IF(INDEX($B$5:$B$344,$A18+F$3)="","",IF(AND(YEAR($B18)=$B$2,YEAR(INDEX($B$5:$B$344,$A18+F$3-1))=$B$2),INDEX($B$5:$B$344,$A18+F$3)-INDEX($B$5:$B$344,$A18-1)-1,""))) | G18: =IF(OR($A18=1,$B18="",$A18+G$3>340),"",IF(INDEX($B$5:$B$344,$A18+G$3)="","",IF(AND(YEAR($B18)=$B$2,YEAR(INDEX($B$5:$B$344,$A18+G$3-1))=$B$2),INDEX($B$5:$B$344,$A18+G$3)-INDEX($B$5:$B$344,$A18-1)-1,""))) | H18: =IF(OR($A18=1,$B18="",$A18+H$3>340),"",IF(INDEX($B$5:$B$344,$A18+H$3)="","",IF(AND(YEAR($B18)=$B$2,YEAR(INDEX($B$5:$B$344,$A18+H$3-1))=$B$2),INDEX($B$5:$B$344,$A18+H$3)-INDEX($B$5:$B$344,$A18-1)-1,""))) | I18: =IF(OR($A18=1,$B18="",$A18+I$3>340),"",IF(INDEX($B$5:$B$344,$A18+I$3)="","",IF(AND(YEAR($B18)=$B$2,YEAR(INDEX($B$5:$B$344,$A18+I$3-1))=$B$2),INDEX($B$5:$B$344,$A18+I$3)-INDEX($B$5:$B$344,$A18-1)-1,""))) | J18: =IF(OR($A18=1,$B18="",$A18+J$3>340),"",IF(INDEX($B$5:$B$344,$A18+J$3)="","",IF(AND(YEAR($B18)=$B$2,YEAR(INDEX($B$5:$B$344,$A18+J$3-1))=$B$2),INDEX($B$5:$B$344,$A18+J$3)-INDEX($B$5:$B$344,$A18-1)-1,""))) | K18: =IF(OR($A18=1,$B18="",$A18+K$3>340),"",IF(INDEX($B$5:$B$344,$A18+K$3)="","",IF(AND(YEAR($B18)=$B$2,YEAR(INDEX($B$5:$B$344,$A18+K$3-1))=$B$2),INDEX($B$5:$B$344,$A18+K$3)-INDEX($B$5:$B$344,$A18-1)-1,""))) | ... M18: =IF(OR($A18=1,$B18="",$A18+M$3>340),"",IF(INDEX($B$5:$B$344,$A18+M$3)="","",IF(AND(YEAR($B18)=$B$2,YEAR(INDEX($B$5:$B$344,$A18+M$3-1))=$B$2),INDEX($B$5:$B$344,$A18+M$3)-INDEX($B$5:$B$344,$A18-1)-1,""))) | P18: 有給2日で5連休以上になる取り方の数 | T18: =COUNTIF($E$5:$E$344,">=5")
A19: 15 | B19: =IFERROR(INDEX('2_暦'!$A$7:$A$433,MATCH(A19,'2_暦'!$K$7:$K$433,0)),"") | C19: =IF(OR($A19=1,$B19=""),"",IF(OR(YEAR($B19-1)=$B$2,YEAR(INDEX($B$5:$B$344,$A19-1)+1)=$B$2),$B19-INDEX($B$5:$B$344,$A19-1)-1,"")) | D19: =IF(OR($A19=1,$B19="",$A19+D$3>340),"",IF(INDEX($B$5:$B$344,$A19+D$3)="","",IF(AND(YEAR($B19)=$B$2,YEAR(INDEX($B$5:$B$344,$A19+D$3-1))=$B$2),INDEX($B$5:$B$344,$A19+D$3)-INDEX($B$5:$B$344,$A19-1)-1,""))) | E19: =IF(OR($A19=1,$B19="",$A19+E$3>340),"",IF(INDEX($B$5:$B$344,$A19+E$3)="","",IF(AND(YEAR($B19)=$B$2,YEAR(INDEX($B$5:$B$344,$A19+E$3-1))=$B$2),INDEX($B$5:$B$344,$A19+E$3)-INDEX($B$5:$B$344,$A19-1)-1,""))) | F19: =IF(OR($A19=1,$B19="",$A19+F$3>340),"",IF(INDEX($B$5:$B$344,$A19+F$3)="","",IF(AND(YEAR($B19)=$B$2,YEAR(INDEX($B$5:$B$344,$A19+F$3-1))=$B$2),INDEX($B$5:$B$344,$A19+F$3)-INDEX($B$5:$B$344,$A19-1)-1,""))) | G19: =IF(OR($A19=1,$B19="",$A19+G$3>340),"",IF(INDEX($B$5:$B$344,$A19+G$3)="","",IF(AND(YEAR($B19)=$B$2,YEAR(INDEX($B$5:$B$344,$A19+G$3-1))=$B$2),INDEX($B$5:$B$344,$A19+G$3)-INDEX($B$5:$B$344,$A19-1)-1,""))) | H19: =IF(OR($A19=1,$B19="",$A19+H$3>340),"",IF(INDEX($B$5:$B$344,$A19+H$3)="","",IF(AND(YEAR($B19)=$B$2,YEAR(INDEX($B$5:$B$344,$A19+H$3-1))=$B$2),INDEX($B$5:$B$344,$A19+H$3)-INDEX($B$5:$B$344,$A19-1)-1,""))) | I19: =IF(OR($A19=1,$B19="",$A19+I$3>340),"",IF(INDEX($B$5:$B$344,$A19+I$3)="","",IF(AND(YEAR($B19)=$B$2,YEAR(INDEX($B$5:$B$344,$A19+I$3-1))=$B$2),INDEX($B$5:$B$344,$A19+I$3)-INDEX($B$5:$B$344,$A19-1)-1,""))) | J19: =IF(OR($A19=1,$B19="",$A19+J$3>340),"",IF(INDEX($B$5:$B$344,$A19+J$3)="","",IF(AND(YEAR($B19)=$B$2,YEAR(INDEX($B$5:$B$344,$A19+J$3-1))=$B$2),INDEX($B$5:$B$344,$A19+J$3)-INDEX($B$5:$B$344,$A19-1)-1,""))) | K19: =IF(OR($A19=1,$B19="",$A19+K$3>340),"",IF(INDEX($B$5:$B$344,$A19+K$3)="","",IF(AND(YEAR($B19)=$B$2,YEAR(INDEX($B$5:$B$344,$A19+K$3-1))=$B$2),INDEX($B$5:$B$344,$A19+K$3)-INDEX($B$5:$B$344,$A19-1)-1,""))) | ... M19: =IF(OR($A19=1,$B19="",$A19+M$3>340),"",IF(INDEX($B$5:$B$344,$A19+M$3)="","",IF(AND(YEAR($B19)=$B$2,YEAR(INDEX($B$5:$B$344,$A19+M$3-1))=$B$2),INDEX($B$5:$B$344,$A19+M$3)-INDEX($B$5:$B$344,$A19-1)-1,""))) | P19: 有給なしの3連休以上の回数 | T19: =COUNTIF($C$5:$C$344,">=3")
A20: 16 | B20: =IFERROR(INDEX('2_暦'!$A$7:$A$433,MATCH(A20,'2_暦'!$K$7:$K$433,0)),"") | C20: =IF(OR($A20=1,$B20=""),"",IF(OR(YEAR($B20-1)=$B$2,YEAR(INDEX($B$5:$B$344,$A20-1)+1)=$B$2),$B20-INDEX($B$5:$B$344,$A20-1)-1,"")) | D20: =IF(OR($A20=1,$B20="",$A20+D$3>340),"",IF(INDEX($B$5:$B$344,$A20+D$3)="","",IF(AND(YEAR($B20)=$B$2,YEAR(INDEX($B$5:$B$344,$A20+D$3-1))=$B$2),INDEX($B$5:$B$344,$A20+D$3)-INDEX($B$5:$B$344,$A20-1)-1,""))) | E20: =IF(OR($A20=1,$B20="",$A20+E$3>340),"",IF(INDEX($B$5:$B$344,$A20+E$3)="","",IF(AND(YEAR($B20)=$B$2,YEAR(INDEX($B$5:$B$344,$A20+E$3-1))=$B$2),INDEX($B$5:$B$344,$A20+E$3)-INDEX($B$5:$B$344,$A20-1)-1,""))) | F20: =IF(OR($A20=1,$B20="",$A20+F$3>340),"",IF(INDEX($B$5:$B$344,$A20+F$3)="","",IF(AND(YEAR($B20)=$B$2,YEAR(INDEX($B$5:$B$344,$A20+F$3-1))=$B$2),INDEX($B$5:$B$344,$A20+F$3)-INDEX($B$5:$B$344,$A20-1)-1,""))) | G20: =IF(OR($A20=1,$B20="",$A20+G$3>340),"",IF(INDEX($B$5:$B$344,$A20+G$3)="","",IF(AND(YEAR($B20)=$B$2,YEAR(INDEX($B$5:$B$344,$A20+G$3-1))=$B$2),INDEX($B$5:$B$344,$A20+G$3)-INDEX($B$5:$B$344,$A20-1)-1,""))) | H20: =IF(OR($A20=1,$B20="",$A20+H$3>340),"",IF(INDEX($B$5:$B$344,$A20+H$3)="","",IF(AND(YEAR($B20)=$B$2,YEAR(INDEX($B$5:$B$344,$A20+H$3-1))=$B$2),INDEX($B$5:$B$344,$A20+H$3)-INDEX($B$5:$B$344,$A20-1)-1,""))) | I20: =IF(OR($A20=1,$B20="",$A20+I$3>340),"",IF(INDEX($B$5:$B$344,$A20+I$3)="","",IF(AND(YEAR($B20)=$B$2,YEAR(INDEX($B$5:$B$344,$A20+I$3-1))=$B$2),INDEX($B$5:$B$344,$A20+I$3)-INDEX($B$5:$B$344,$A20-1)-1,""))) | J20: =IF(OR($A20=1,$B20="",$A20+J$3>340),"",IF(INDEX($B$5:$B$344,$A20+J$3)="","",IF(AND(YEAR($B20)=$B$2,YEAR(INDEX($B$5:$B$344,$A20+J$3-1))=$B$2),INDEX($B$5:$B$344,$A20+J$3)-INDEX($B$5:$B$344,$A20-1)-1,""))) | K20: =IF(OR($A20=1,$B20="",$A20+K$3>340),"",IF(INDEX($B$5:$B$344,$A20+K$3)="","",IF(AND(YEAR($B20)=$B$2,YEAR(INDEX($B$5:$B$344,$A20+K$3-1))=$B$2),INDEX($B$5:$B$344,$A20+K$3)-INDEX($B$5:$B$344,$A20-1)-1,""))) | ... M20: =IF(OR($A20=1,$B20="",$A20+M$3>340),"",IF(INDEX($B$5:$B$344,$A20+M$3)="","",IF(AND(YEAR($B20)=$B$2,YEAR(INDEX($B$5:$B$344,$A20+M$3-1))=$B$2),INDEX($B$5:$B$344,$A20+M$3)-INDEX($B$5:$B$344,$A20-1)-1,"")))
A21: 17 | B21: =IFERROR(INDEX('2_暦'!$A$7:$A$433,MATCH(A21,'2_暦'!$K$7:$K$433,0)),"") | C21: =IF(OR($A21=1,$B21=""),"",IF(OR(YEAR($B21-1)=$B$2,YEAR(INDEX($B$5:$B$344,$A21-1)+1)=$B$2),$B21-INDEX($B$5:$B$344,$A21-1)-1,"")) | D21: =IF(OR($A21=1,$B21="",$A21+D$3>340),"",IF(INDEX($B$5:$B$344,$A21+D$3)="","",IF(AND(YEAR($B21)=$B$2,YEAR(INDEX($B$5:$B$344,$A21+D$3-1))=$B$2),INDEX($B$5:$B$344,$A21+D$3)-INDEX($B$5:$B$344,$A21-1)-1,""))) | E21: =IF(OR($A21=1,$B21="",$A21+E$3>340),"",IF(INDEX($B$5:$B$344,$A21+E$3)="","",IF(AND(YEAR($B21)=$B$2,YEAR(INDEX($B$5:$B$344,$A21+E$3-1))=$B$2),INDEX($B$5:$B$344,$A21+E$3)-INDEX($B$5:$B$344,$A21-1)-1,""))) | F21: =IF(OR($A21=1,$B21="",$A21+F$3>340),"",IF(INDEX($B$5:$B$344,$A21+F$3)="","",IF(AND(YEAR($B21)=$B$2,YEAR(INDEX($B$5:$B$344,$A21+F$3-1))=$B$2),INDEX($B$5:$B$344,$A21+F$3)-INDEX($B$5:$B$344,$A21-1)-1,""))) | G21: =IF(OR($A21=1,$B21="",$A21+G$3>340),"",IF(INDEX($B$5:$B$344,$A21+G$3)="","",IF(AND(YEAR($B21)=$B$2,YEAR(INDEX($B$5:$B$344,$A21+G$3-1))=$B$2),INDEX($B$5:$B$344,$A21+G$3)-INDEX($B$5:$B$344,$A21-1)-1,""))) | H21: =IF(OR($A21=1,$B21="",$A21+H$3>340),"",IF(INDEX($B$5:$B$344,$A21+H$3)="","",IF(AND(YEAR($B21)=$B$2,YEAR(INDEX($B$5:$B$344,$A21+H$3-1))=$B$2),INDEX($B$5:$B$344,$A21+H$3)-INDEX($B$5:$B$344,$A21-1)-1,""))) | I21: =IF(OR($A21=1,$B21="",$A21+I$3>340),"",IF(INDEX($B$5:$B$344,$A21+I$3)="","",IF(AND(YEAR($B21)=$B$2,YEAR(INDEX($B$5:$B$344,$A21+I$3-1))=$B$2),INDEX($B$5:$B$344,$A21+I$3)-INDEX($B$5:$B$344,$A21-1)-1,""))) | J21: =IF(OR($A21=1,$B21="",$A21+J$3>340),"",IF(INDEX($B$5:$B$344,$A21+J$3)="","",IF(AND(YEAR($B21)=$B$2,YEAR(INDEX($B$5:$B$344,$A21+J$3-1))=$B$2),INDEX($B$5:$B$344,$A21+J$3)-INDEX($B$5:$B$344,$A21-1)-1,""))) | K21: =IF(OR($A21=1,$B21="",$A21+K$3>340),"",IF(INDEX($B$5:$B$344,$A21+K$3)="","",IF(AND(YEAR($B21)=$B$2,YEAR(INDEX($B$5:$B$344,$A21+K$3-1))=$B$2),INDEX($B$5:$B$344,$A21+K$3)-INDEX($B$5:$B$344,$A21-1)-1,""))) | ... M21: =IF(OR($A21=1,$B21="",$A21+M$3>340),"",IF(INDEX($B$5:$B$344,$A21+M$3)="","",IF(AND(YEAR($B21)=$B$2,YEAR(INDEX($B$5:$B$344,$A21+M$3-1))=$B$2),INDEX($B$5:$B$344,$A21+M$3)-INDEX($B$5:$B$344,$A21-1)-1,"")))
A22: 18 | B22: =IFERROR(INDEX('2_暦'!$A$7:$A$433,MATCH(A22,'2_暦'!$K$7:$K$433,0)),"") | C22: =IF(OR($A22=1,$B22=""),"",IF(OR(YEAR($B22-1)=$B$2,YEAR(INDEX($B$5:$B$344,$A22-1)+1)=$B$2),$B22-INDEX($B$5:$B$344,$A22-1)-1,"")) | D22: =IF(OR($A22=1,$B22="",$A22+D$3>340),"",IF(INDEX($B$5:$B$344,$A22+D$3)="","",IF(AND(YEAR($B22)=$B$2,YEAR(INDEX($B$5:$B$344,$A22+D$3-1))=$B$2),INDEX($B$5:$B$344,$A22+D$3)-INDEX($B$5:$B$344,$A22-1)-1,""))) | E22: =IF(OR($A22=1,$B22="",$A22+E$3>340),"",IF(INDEX($B$5:$B$344,$A22+E$3)="","",IF(AND(YEAR($B22)=$B$2,YEAR(INDEX($B$5:$B$344,$A22+E$3-1))=$B$2),INDEX($B$5:$B$344,$A22+E$3)-INDEX($B$5:$B$344,$A22-1)-1,""))) | F22: =IF(OR($A22=1,$B22="",$A22+F$3>340),"",IF(INDEX($B$5:$B$344,$A22+F$3)="","",IF(AND(YEAR($B22)=$B$2,YEAR(INDEX($B$5:$B$344,$A22+F$3-1))=$B$2),INDEX($B$5:$B$344,$A22+F$3)-INDEX($B$5:$B$344,$A22-1)-1,""))) | G22: =IF(OR($A22=1,$B22="",$A22+G$3>340),"",IF(INDEX($B$5:$B$344,$A22+G$3)="","",IF(AND(YEAR($B22)=$B$2,YEAR(INDEX($B$5:$B$344,$A22+G$3-1))=$B$2),INDEX($B$5:$B$344,$A22+G$3)-INDEX($B$5:$B$344,$A22-1)-1,""))) | H22: =IF(OR($A22=1,$B22="",$A22+H$3>340),"",IF(INDEX($B$5:$B$344,$A22+H$3)="","",IF(AND(YEAR($B22)=$B$2,YEAR(INDEX($B$5:$B$344,$A22+H$3-1))=$B$2),INDEX($B$5:$B$344,$A22+H$3)-INDEX($B$5:$B$344,$A22-1)-1,""))) | I22: =IF(OR($A22=1,$B22="",$A22+I$3>340),"",IF(INDEX($B$5:$B$344,$A22+I$3)="","",IF(AND(YEAR($B22)=$B$2,YEAR(INDEX($B$5:$B$344,$A22+I$3-1))=$B$2),INDEX($B$5:$B$344,$A22+I$3)-INDEX($B$5:$B$344,$A22-1)-1,""))) | J22: =IF(OR($A22=1,$B22="",$A22+J$3>340),"",IF(INDEX($B$5:$B$344,$A22+J$3)="","",IF(AND(YEAR($B22)=$B$2,YEAR(INDEX($B$5:$B$344,$A22+J$3-1))=$B$2),INDEX($B$5:$B$344,$A22+J$3)-INDEX($B$5:$B$344,$A22-1)-1,""))) | K22: =IF(OR($A22=1,$B22="",$A22+K$3>340),"",IF(INDEX($B$5:$B$344,$A22+K$3)="","",IF(AND(YEAR($B22)=$B$2,YEAR(INDEX($B$5:$B$344,$A22+K$3-1))=$B$2),INDEX($B$5:$B$344,$A22+K$3)-INDEX($B$5:$B$344,$A22-1)-1,""))) | ... M22: =IF(OR($A22=1,$B22="",$A22+M$3>340),"",IF(INDEX($B$5:$B$344,$A22+M$3)="","",IF(AND(YEAR($B22)=$B$2,YEAR(INDEX($B$5:$B$344,$A22+M$3-1))=$B$2),INDEX($B$5:$B$344,$A22+M$3)-INDEX($B$5:$B$344,$A22-1)-1,"")))
