Workbook

Sheet 1_祝日
A1: 祝日の一覧（内閣府のCSV）と会社の休み。黄色を足せる
A3: 日付 | B3: 名前 | D3: 会社の休み | E3: メモ
A4: 46023 | B4: 元日
A5: 46034 | B5: 成人の日
A6: 46064 | B6: 建国記念の日
A7: 46076 | B7: 天皇誕生日
A8: 46101 | B8: 春分の日
A9: 46141 | B9: 昭和の日
A10: 46145 | B10: 憲法記念日
A11: 46146 | B11: みどりの日
A12: 46147 | B12: こどもの日
A13: 46148 | B13: 休日
A14: 46223 | B14: 海の日
A15: 46245 | B15: 山の日
... A39: 46753 | B39: 元日（CSVになし）

Sheet 2_暦
A1: 2027年の暦。有給を入れる日に、E列で 1 を入れる
A2: 数える年 | B2: 2027 | E2: 有給の日数 | F2: =COUNTIF($E$7:$E$433,1)
A3: 年末年始12/29〜1/3も休み | B3: 0 | C3: 1で休み。0なら土日祝と会社の休みだけ | E3: 休みの日に入れた有給 | F3: =COUNTIFS($D$7:$D$433,1,$E$7:$E$433,1)
E4: いま一番長い連休 | F4: =MAX($J$7:$J$433)
A6: 日付 | B6: 曜日 | C6: 祝日 | D6: 休み | E6: 有給 | F6: 休み計 | G6: 前から | H6: 後ろから | I6: 注意 | J6: 連休の長さ | K6: 出勤日の番号
A7: =DATE($B$2-1,12,1)+0 | B7: =TEXT(A7,"aaa") | C7: =IFERROR(VLOOKUP(A7,'1_祝日'!$A$4:$B$83,2,FALSE),"") | D7: =IF(OR(WEEKDAY(A7,2)>=6,C7<>"",COUNTIF('1_祝日'!$D$4:$D$43,A7)>0,AND($B$3=1,OR(AND(MONTH(A7)=12,DAY(A7)>=29),AND(MONTH(A7)=1,DAY(A7)<=3)))),1,0) | F7: =IF(OR(D7=1,E7=1),1,0) | G7: =F7 | H7: =IF(F7=1,H8+1,0) | I7: =IF(AND(D7=1,E7=1),"もとから休み","") | J7: =IF(F7=1,G7+H7-1,"") | K7: =IF(D7=0,COUNTIF($D$7:D7,0),"")
A8: =DATE($B$2-1,12,1)+1 | B8: =TEXT(A8,"aaa") | C8: =IFERROR(VLOOKUP(A8,'1_祝日'!$A$4:$B$83,2,FALSE),"") | D8: =IF(OR(WEEKDAY(A8,2)>=6,C8<>"",COUNTIF('1_祝日'!$D$4:$D$43,A8)>0,AND($B$3=1,OR(AND(MONTH(A8)=12,DAY(A8)>=29),AND(MONTH(A8)=1,DAY(A8)<=3)))),1,0) | F8: =IF(OR(D8=1,E8=1),1,0) | G8: =IF(F8=1,G7+1,0) | H8: =IF(F8=1,H9+1,0) | I8: =IF(AND(D8=1,E8=1),"もとから休み","") | J8: =IF(F8=1,G8+H8-1,"") | K8: =IF(D8=0,COUNTIF($D$7:D8,0),"")
A9: =DATE($B$2-1,12,1)+2 | B9: =TEXT(A9,"aaa") | C9: =IFERROR(VLOOKUP(A9,'1_祝日'!$A$4:$B$83,2,FALSE),"") | D9: =IF(OR(WEEKDAY(A9,2)>=6,C9<>"",COUNTIF('1_祝日'!$D$4:$D$43,A9)>0,AND($B$3=1,OR(AND(MONTH(A9)=12,DAY(A9)>=29),AND(MONTH(A9)=1,DAY(A9)<=3)))),1,0) | F9: =IF(OR(D9=1,E9=1),1,0) | G9: =IF(F9=1,G8+1,0) | H9: =IF(F9=1,H10+1,0) | I9: =IF(AND(D9=1,E9=1),"もとから休み","") | J9: =IF(F9=1,G9+H9-1,"") | K9: =IF(D9=0,COUNTIF($D$7:D9,0),"")
A10: =DATE($B$2-1,12,1)+3 | B10: =TEXT(A10,"aaa") | C10: =IFERROR(VLOOKUP(A10,'1_祝日'!$A$4:$B$83,2,FALSE),"") | D10: =IF(OR(WEEKDAY(A10,2)>=6,C10<>"",COUNTIF('1_祝日'!$D$4:$D$43,A10)>0,AND($B$3=1,OR(AND(MONTH(A10)=12,DAY(A10)>=29),AND(MONTH(A10)=1,DAY(A10)<=3)))),1,0) | F10: =IF(OR(D10=1,E10=1),1,0) | G10: =IF(F10=1,G9+1,0) | H10: =IF(F10=1,H11+1,0) | I10: =IF(AND(D10=1,E10=1),"もとから休み","") | J10: =IF(F10=1,G10+H10-1,"") | K10: =IF(D10=0,COUNTIF($D$7:D10,0),"")
A11: =DATE($B$2-1,12,1)+4 | B11: =TEXT(A11,"aaa") | C11: =IFERROR(VLOOKUP(A11,'1_祝日'!$A$4:$B$83,2,FALSE),"") | D11: =IF(OR(WEEKDAY(A11,2)>=6,C11<>"",COUNTIF('1_祝日'!$D$4:$D$43,A11)>0,AND($B$3=1,OR(AND(MONTH(A11)=12,DAY(A11)>=29),AND(MONTH(A11)=1,DAY(A11)<=3)))),1,0) | F11: =IF(OR(D11=1,E11=1),1,0) | G11: =IF(F11=1,G10+1,0) | H11: =IF(F11=1,H12+1,0) | I11: =IF(AND(D11=1,E11=1),"もとから休み","") | J11: =IF(F11=1,G11+H11-1,"") | K11: =IF(D11=0,COUNTIF($D$7:D11,0),"")
A12: =DATE($B$2-1,12,1)+5 | B12: =TEXT(A12,"aaa") | C12: =IFERROR(VLOOKUP(A12,'1_祝日'!$A$4:$B$83,2,FALSE),"") | D12: =IF(OR(WEEKDAY(A12,2)>=6,C12<>"",COUNTIF('1_祝日'!$D$4:$D$43,A12)>0,AND($B$3=1,OR(AND(MONTH(A12)=12,DAY(A12)>=29),AND(MONTH(A12)=1,DAY(A12)<=3)))),1,0) | F12: =IF(OR(D12=1,E12=1),1,0) | G12: =IF(F12=1,G11+1,0) | H12: =IF(F12=1,H13+1,0) | I12: =IF(AND(D12=1,E12=1),"もとから休み","") | J12: =IF(F12=1,G12+H12-1,"") | K12: =IF(D12=0,COUNTIF($D$7:D12,0),"")
A13: =DATE($B$2-1,12,1)+6 | B13: =TEXT(A13,"aaa") | C13: =IFERROR(VLOOKUP(A13,'1_祝日'!$A$4:$B$83,2,FALSE),"") | D13: =IF(OR(WEEKDAY(A13,2)>=6,C13<>"",COUNTIF('1_祝日'!$D$4:$D$43,A13)>0,AND($B$3=1,OR(AND(MONTH(A13)=12,DAY(A13)>=29),AND(MONTH(A13)=1,DAY(A13)<=3)))),1,0) | F13: =IF(OR(D13=1,E13=1),1,0) | G13: =IF(F13=1,G12+1,0) | H13: =IF(F13=1,H14+1,0) | I13: =IF(AND(D13=1,E13=1),"もとから休み","") | J13: =IF(F13=1,G13+H13-1,"") | K13: =IF(D13=0,COUNTIF($D$7:D13,0),"")
A14: =DATE($B$2-1,12,1)+7 | B14: =TEXT(A14,"aaa") | C14: =IFERROR(VLOOKUP(A14,'1_祝日'!$A$4:$B$83,2,FALSE),"") | D14: =IF(OR(WEEKDAY(A14,2)>=6,C14<>"",COUNTIF('1_祝日'!$D$4:$D$43,A14)>0,AND($B$3=1,OR(AND(MONTH(A14)=12,DAY(A14)>=29),AND(MONTH(A14)=1,DAY(A14)<=3)))),1,0) | F14: =IF(OR(D14=1,E14=1),1,0) | G14: =IF(F14=1,G13+1,0) | H14: =IF(F14=1,H15+1,0) | I14: =IF(AND(D14=1,E14=1),"もとから休み","") | J14: =IF(F14=1,G14+H14-1,"") | K14: =IF(D14=0,COUNTIF($D$7:D14,0),"")
A15: =DATE($B$2-1,12,1)+8 | B15: =TEXT(A15,"aaa") | C15: =IFERROR(VLOOKUP(A15,'1_祝日'!$A$4:$B$83,2,FALSE),"") | D15: =IF(OR(WEEKDAY(A15,2)>=6,C15<>"",COUNTIF('1_祝日'!$D$4:$D$43,A15)>0,AND($B$3=1,OR(AND(MONTH(A15)=12,DAY(A15)>=29),AND(MONTH(A15)=1,DAY(A15)<=3)))),1,0) | F15: =IF(OR(D15=1,E15=1),1,0) | G15: =IF(F15=1,G14+1,0) | H15: =IF(F15=1,H16+1,0) | I15: =IF(AND(D15=1,E15=1),"もとから休み","") | J15: =IF(F15=1,G15+H15-1,"") | K15: =IF(D15=0,COUNTIF($D$7:D15,0),"")
A16: =DATE($B$2-1,12,1)+9 | B16: =TEXT(A16,"aaa") | C16: =IFERROR(VLOOKUP(A16,'1_祝日'!$A$4:$B$83,2,FALSE),"") | D16: =IF(OR(WEEKDAY(A16,2)>=6,C16<>"",COUNTIF('1_祝日'!$D$4:$D$43,A16)>0,AND($B$3=1,OR(AND(MONTH(A16)=12,DAY(A16)>=29),AND(MONTH(A16)=1,DAY(A16)<=3)))),1,0) | F16: =IF(OR(D16=1,E16=1),1,0) | G16: =IF(F16=1,G15+1,0) | H16: =IF(F16=1,H17+1,0) | I16: =IF(AND(D16=1,E16=1),"もとから休み","") | J16: =IF(F16=1,G16+H16-1,"") | K16: =IF(D16=0,COUNTIF($D$7:D16,0),"")
A17: =DATE($B$2-1,12,1)+10 | B17: =TEXT(A17,"aaa") | C17: =IFERROR(VLOOKUP(A17,'1_祝日'!$A$4:$B$83,2,FALSE),"") | D17: =IF(OR(WEEKDAY(A17,2)>=6,C17<>"",COUNTIF('1_祝日'!$D$4:$D$43,A17)>0,AND($B$3=1,OR(AND(MONTH(A17)=12,DAY(A17)>=29),AND(MONTH(A17)=1,DAY(A17)<=3)))),1,0) | F17: =IF(OR(D17=1,E17=1),1,0) | G17: =IF(F17=1,G16+1,0) | H17: =IF(F17=1,H18+1,0) | I17: =IF(AND(D17=1,E17=1),"もとから休み","") | J17: =IF(F17=1,G17+H17-1,"") | K17: =IF(D17=0,COUNTIF($D$7:D17,0),"")
A18: =DATE($B$2-1,12,1)+11 | B18: =TEXT(A18,"aaa") | C18: =IFERROR(VLOOKUP(A18,'1_祝日'!$A$4:$B$83,2,FALSE),"") | D18: =IF(OR(WEEKDAY(A18,2)>=6,C18<>"",COUNTIF('1_祝日'!$D$4:$D$43,A18)>0,AND($B$3=1,OR(AND(MONTH(A18)=12,DAY(A18)>=29),AND(MONTH(A18)=1,DAY(A18)<=3)))),1,0) | F18: =IF(OR(D18=1,E18=1),1,0) | G18: =IF(F18=1,G17+1,0) | H18: =IF(F18=1,H19+1,0) | I18: =IF(AND(D18=1,E18=1),"もとから休み","") | J18: =IF(F18=1,G18+H18-1,"") | K18: =IF(D18=0,COUNTIF($D$7:D18,0),"")
A19: =DATE($B$2-1,12,1)+12 | B19: =TEXT(A19,"aaa") | C19: =IFERROR(VLOOKUP(A19,'1_祝日'!$A$4:$B$83,2,FALSE),"") | D19: =IF(OR(WEEKDAY(A19,2)>=6,C19<>"",COUNTIF('1_祝日'!$D$4:$D$43,A19)>0,AND($B$3=1,OR(AND(MONTH(A19)=12,DAY(A19)>=29),AND(MONTH(A19)=1,DAY(A19)<=3)))),1,0) | F19: =IF(OR(D19=1,E19=1),1,0) | G19: =IF(F19=1,G18+1,0) | H19: =IF(F19=1,H20+1,0) | I19: =IF(AND(D19=1,E19=1),"もとから休み","") | J19: =IF(F19=1,G19+H19-1,"") | K19: =IF(D19=0,COUNTIF($D$7:D19,0),"")
A20: =DATE($B$2-1,12,1)+13 | B20: =TEXT(A20,"aaa") | C20: =IFERROR(VLOOKUP(A20,'1_祝日'!$A$4:$B$83,2,FALSE),"") | D20: =IF(OR(WEEKDAY(A20,2)>=6,C20<>"",COUNTIF('1_祝日'!$D$4:$D$43,A20)>0,AND($B$3=1,OR(AND(MONTH(A20)=12,DAY(A20)>=29),AND(MONTH(A20)=1,DAY(A20)<=3)))),1,0) | F20: =IF(OR(D20=1,E20=1),1,0) | G20: =IF(F20=1,G19+1,0) | H20: =IF(F20=1,H21+1,0) | I20: =IF(AND(D20=1,E20=1),"もとから休み","") | J20: =IF(F20=1,G20+H20-1,"") | K20: =IF(D20=0,COUNTIF($D$7:D20,0),"")
A21: =DATE($B$2-1,12,1)+14 | B21: =TEXT(A21,"aaa") | C21: =IFERROR(VLOOKUP(A21,'1_祝日'!$A$4:$B$83,2,FALSE),"") | D21: =IF(OR(WEEKDAY(A21,2)>=6,C21<>"",COUNTIF('1_祝日'!$D$4:$D$43,A21)>0,AND($B$3=1,OR(AND(MONTH(A21)=12,DAY(A21)>=29),AND(MONTH(A21)=1,DAY(A21)<=3)))),1,0) | F21: =IF(OR(D21=1,E21=1),1,0) | G21: =IF(F21=1,G20+1,0) | H21: =IF(F21=1,H22+1,0) | I21: =IF(AND(D21=1,E21=1),"もとから休み","") | J21: =IF(F21=1,G21+H21-1,"") | K21: =IF(D21=0,COUNTIF($D$7:D21,0),"")
A22: =DATE($B$2-1,12,1)+15 | B22: =TEXT(A22,"aaa") | C22: =IFERROR(VLOOKUP(A22,'1_祝日'!$A$4:$B$83,2,FALSE),"") | D22: =IF(OR(WEEKDAY(A22,2)>=6,C22<>"",COUNTIF('1_祝日'!$D$4:$D$43,A22)>0,AND($B$3=1,OR(AND(MONTH(A22)=12,DAY(A22)>=29),AND(MONTH(A22)=1,DAY(A22)<=3)))),1,0) | F22: =IF(OR(D22=1,E22=1),1,0) | G22: =IF(F22=1,G21+1,0) | H22: =IF(F22=1,H23+1,0) | I22: =IF(AND(D22=1,E22=1),"もとから休み","") | J22: =IF(F22=1,G22+H22-1,"") | K22: =IF(D22=0,COUNTIF($D$7:D22,0),"")
A23: =DATE($B$2-1,12,1)+16 | B23: =TEXT(A23,"aaa") | C23: =IFERROR(VLOOKUP(A23,'1_祝日'!$A$4:$B$83,2,FALSE),"") | D23: =IF(OR(WEEKDAY(A23,2)>=6,C23<>"",COUNTIF('1_祝日'!$D$4:$D$43,A23)>0,AND($B$3=1,OR(AND(MONTH(A23)=12,DAY(A23)>=29),AND(MONTH(A23)=1,DAY(A23)<=3)))),1,0) | F23: =IF(OR(D23=1,E23=1),1,0) | G23: =IF(F23=1,G22+1,0) | H23: =IF(F23=1,H24+1,0) | I23: =IF(AND(D23=1,E23=1),"もとから休み","") | J23: =IF(F23=1,G23+H23-1,"") | K23: =IF(D23=0,COUNTIF($D$7:D23,0),"")
A24: =DATE($B$2-1,12,1)+17 | B24: =TEXT(A24,"aaa") | C24: =IFERROR(VLOOKUP(A24,'1_祝日'!$A$4:$B$83,2,FALSE),"") | D24: =IF(OR(WEEKDAY(A24,2)>=6,C24<>"",COUNTIF('1_祝日'!$D$4:$D$43,A24)>0,AND($B$3=1,OR(AND(MONTH(A24)=12,DAY(A24)>=29),AND(MONTH(A24)=1,DAY(A24)<=3)))),1,0) | F24: =IF(OR(D24=1,E24=1),1,0) | G24: =IF(F24=1,G23+1,0) | H24: =IF(F24=1,H25+1,0) | I24: =IF(AND(D24=1,E24=1),"もとから休み","") | J24: =IF(F24=1,G24+H24-1,"") | K24: =IF(D24=0,COUNTIF($D$7:D24,0),"")
A25: =DATE($B$2-1,12,1)+18 | B25: =TEXT(A25,"aaa") | C25: =IFERROR(VLOOKUP(A25,'1_祝日'!$A$4:$B$83,2,FALSE),"") | D25: =IF(OR(WEEKDAY(A25,2)>=6,C25<>"",COUNTIF('1_祝日'!$D$4:$D$43,A25)>0,AND($B$3=1,OR(AND(MONTH(A25)=12,DAY(A25)>=29),AND(MONTH(A25)=1,DAY(A25)<=3)))),1,0) | F25: =IF(OR(D25=1,E25=1),1,0) | G25: =IF(F25=1,G24+1,0) | H25: =IF(F25=1,H26+1,0) | I25: =IF(AND(D25=1,E25=1),"もとから休み","") | J25: =IF(F25=1,G25+H25-1,"") | K25: =IF(D25=0,COUNTIF($D$7:D25,0),"")
A26: =DATE($B$2-1,12,1)+19 | B26: =TEXT(A26,"aaa") | C26: =IFERROR(VLOOKUP(A26,'1_祝日'!$A$4:$B$83,2,FALSE),"") | D26: =IF(OR(WEEKDAY(A26,2)>=6,C26<>"",COUNTIF('1_祝日'!$D$4:$D$43,A26)>0,AND($B$3=1,OR(AND(MONTH(A26)=12,DAY(A26)>=29),AND(MONTH(A26)=1,DAY(A26)<=3)))),1,0) | F26: =IF(OR(D26=1,E26=1),1,0) | G26: =IF(F26=1,G25+1,0) | H26: =IF(F26=1,H27+1,0) | I26: =IF(AND(D26=1,E26=1),"もとから休み","") | J26: =IF(F26=1,G26+H26-1,"") | K26: =IF(D26=0,COUNTIF($D$7:D26,0),"")
A27: =DATE($B$2-1,12,1)+20 | B27: =TEXT(A27,"aaa") | C27: =IFERROR(VLOOKUP(A27,'1_祝日'!$A$4:$B$83,2,FALSE),"") | D27: =IF(OR(WEEKDAY(A27,2)>=6,C27<>"",COUNTIF('1_祝日'!$D$4:$D$43,A27)>0,AND($B$3=1,OR(AND(MONTH(A27)=12,DAY(A27)>=29),AND(MONTH(A27)=1,DAY(A27)<=3)))),1,0) | F27: =IF(OR(D27=1,E27=1),1,0) | G27: =IF(F27=1,G26+1,0) | H27: =IF(F27=1,H28+1,0) | I27: =IF(AND(D27=1,E27=1),"もとから休み","") | J27: =IF(F27=1,G27+H27-1,"") | K27: =IF(D27=0,COUNTIF($D$7:D27,0),"")
A28: =DATE($B$2-1,12,1)+21 | B28: =TEXT(A28,"aaa") | C28: =IFERROR(VLOOKUP(A28,'1_祝日'!$A$4:$B$83,2,FALSE),"") | D28: =IF(OR(WEEKDAY(A28,2)>=6,C28<>"",COUNTIF('1_祝日'!$D$4:$D$43,A28)>0,AND($B$3=1,OR(AND(MONTH(A28)=12,DAY(A28)>=29),AND(MONTH(A28)=1,DAY(A28)<=3)))),1,0) | F28: =IF(OR(D28=1,E28=1),1,0) | G28: =IF(F28=1,G27+1,0) | H28: =IF(F28=1,H29+1,0) | I28: =IF(AND(D28=1,E28=1),"もとから休み","") | J28: =IF(F28=1,G28+H28-1,"") | K28: =IF(D28=0,COUNTIF($D$7:D28,0),"")
A29: =DATE($B$2-1,12,1)+22 | B29: =TEXT(A29,"aaa") | C29: =IFERROR(VLOOKUP(A29,'1_祝日'!$A$4:$B$83,2,FALSE),"") | D29: =IF(OR(WEEKDAY(A29,2)>=6,C29<>"",COUNTIF('1_祝日'!$D$4:$D$43,A29)>0,AND($B$3=1,OR(AND(MONTH(A29)=12,DAY(A29)>=29),AND(MONTH(A29)=1,DAY(A29)<=3)))),1,0) | F29: =IF(OR(D29=1,E29=1),1,0) | G29: =IF(F29=1,G28+1,0) | H29: =IF(F29=1,H30+1,0) | I29: =IF(AND(D29=1,E29=1),"もとから休み","") | J29: =IF(F29=1,G29+H29-1,"") | K29: =IF(D29=0,COUNTIF($D$7:D29,0),"")
A30: =DATE($B$2-1,12,1)+23 | B30: =TEXT(A30,"aaa") | C30: =IFERROR(VLOOKUP(A30,'1_祝日'!$A$4:$B$83,2,FALSE),"") | D30: =IF(OR(WEEKDAY(A30,2)>=6,C30<>"",COUNTIF('1_祝日'!$D$4:$D$43,A30)>0,AND($B$3=1,OR(AND(MONTH(A30)=12,DAY(A30)>=29),AND(MONTH(A30)=1,DAY(A30)<=3)))),1,0) | F30: =IF(OR(D30=1,E30=1),1,0) | G30: =IF(F30=1,G29+1,0) | H30: =IF(F30=1,H31+1,0) | I30: =IF(AND(D30=1,E30=1),"もとから休み","") | J30: =IF(F30=1,G30+H30-1,"") | K30: =IF(D30=0,COUNTIF($D$7:D30,0),"")
A31: =DATE($B$2-1,12,1)+24 | B31: =TEXT(A31,"aaa") | C31: =IFERROR(VLOOKUP(A31,'1_祝日'!$A$4:$B$83,2,FALSE),"") | D31: =IF(OR(WEEKDAY(A31,2)>=6,C31<>"",COUNTIF('1_祝日'!$D$4:$D$43,A31)>0,AND($B$3=1,OR(AND(MONTH(A31)=12,DAY(A31)>=29),AND(MONTH(A31)=1,DAY(A31)<=3)))),1,0) | F31: =IF(OR(D31=1,E31=1),1,0) | G31: =IF(F31=1,G30+1,0) | H31: =IF(F31=1,H32+1,0) | I31: =IF(AND(D31=1,E31=1),"もとから休み","") | J31: =IF(F31=1,G31+H31-1,"") | K31: =IF(D31=0,COUNTIF($D$7:D31,0),"")
A32: =DATE($B$2-1,12,1)+25 | B32: =TEXT(A32,"aaa") | C32: =IFERROR(VLOOKUP(A32,'1_祝日'!$A$4:$B$83,2,FALSE),"") | D32: =IF(OR(WEEKDAY(A32,2)>=6,C32<>"",COUNTIF('1_祝日'!$D$4:$D$43,A32)>0,AND($B$3=1,OR(AND(MONTH(A32)=12,DAY(A32)>=29),AND(MONTH(A32)=1,DAY(A32)<=3)))),1,0) | F32: =IF(OR(D32=1,E32=1),1,0) | G32: =IF(F32=1,G31+1,0) | H32: =IF(F32=1,H33+1,0) | I32: =IF(AND(D32=1,E32=1),"もとから休み","") | J32: =IF(F32=1,G32+H32-1,"") | K32: =IF(D32=0,COUNTIF($D$7:D32,0),"")
A33: =DATE($B$2-1,12,1)+26 | B33: =TEXT(A33,"aaa") | C33: =IFERROR(VLOOKUP(A33,'1_祝日'!$A$4:$B$83,2,FALSE),"") | D33: =IF(OR(WEEKDAY(A33,2)>=6,C33<>"",COUNTIF('1_祝日'!$D$4:$D$43,A33)>0,AND($B$3=1,OR(AND(MONTH(A33)=12,DAY(A33)>=29),AND(MONTH(A33)=1,DAY(A33)<=3)))),1,0) | F33: =IF(OR(D33=1,E33=1),1,0) | G33: =IF(F33=1,G32+1,0) | H33: =IF(F33=1,H34+1,0) | I33: =IF(AND(D33=1,E33=1),"もとから休み","") | J33: =IF(F33=1,G33+H33-1,"") | K33: =IF(D33=0,COUNTIF($D$7:D33,0),"")
A34: =DATE($B$2-1,12,1)+27 | B34: =TEXT(A34,"aaa") | C34: =IFERROR(VLOOKUP(A34,'1_祝日'!$A$4:$B$83,2,FALSE),"") | D34: =IF(OR(WEEKDAY(A34,2)>=6,C34<>"",COUNTIF('1_祝日'!$D$4:$D$43,A34)>0,AND($B$3=1,OR(AND(MONTH(A34)=12,DAY(A34)>=29),AND(MONTH(A34)=1,DAY(A34)<=3)))),1,0) | F34: =IF(OR(D34=1,E34=1),1,0) | G34: =IF(F34=1,G33+1,0) | H34: =IF(F34=1,H35+1,0) | I34: =IF(AND(D34=1,E34=1),"もとから休み","") | J34: =IF(F34=1,G34+H34-1,"") | K34: =IF(D34=0,COUNTIF($D$7:D34,0),"")
A35: =DATE($B$2-1,12,1)+28 | B35: =TEXT(A35,"aaa") | C35: =IFERROR(VLOOKUP(A35,'1_祝日'!$A$4:$B$83,2,FALSE),"") | D35: =IF(OR(WEEKDAY(A35,2)>=6,C35<>"",COUNTIF('1_祝日'!$D$4:$D$43,A35)>0,AND($B$3=1,OR(AND(MONTH(A35)=12,DAY(A35)>=29),AND(MONTH(A35)=1,DAY(A35)<=3)))),1,0) | F35: =IF(OR(D35=1,E35=1),1,0) | G35: =IF(F35=1,G34+1,0) | H35: =IF(F35=1,H36+1,0) | I35: =IF(AND(D35=1,E35=1),"もとから休み","") | J35: =IF(F35=1,G35+H35-1,"") | K35: =IF(D35=0,COUNTIF($D$7:D35,0),"")
A36: =DATE($B$2-1,12,1)+29 | B36: =TEXT(A36,"aaa") | C36: =IFERROR(VLOOKUP(A36,'1_祝日'!$A$4:$B$83,2,FALSE),"") | D36: =IF(OR(WEEKDAY(A36,2)>=6,C36<>"",COUNTIF('1_祝日'!$D$4:$D$43,A36)>0,AND($B$3=1,OR(AND(MONTH(A36)=12,DAY(A36)>=29),AND(MONTH(A36)=1,DAY(A36)<=3)))),1,0) | F36: =IF(OR(D36=1,E36=1),1,0) | G36: =IF(F36=1,G35+1,0) | H36: =IF(F36=1,H37+1,0) | I36: =IF(AND(D36=1,E36=1),"もとから休み","") | J36: =IF(F36=1,G36+H36-1,"") | K36: =IF(D36=0,COUNTIF($D$7:D36,0),"")
A37: =DATE($B$2-1,12,1)+30 | B37: =TEXT(A37,"aaa") | C37: =IFERROR(VLOOKUP(A37,'1_祝日'!$A$4:$B$83,2,FALSE),"") | D37: =IF(OR(WEEKDAY(A37,2)>=6,C37<>"",COUNTIF('1_祝日'!$D$4:$D$43,A37)>0,AND($B$3=1,OR(AND(MONTH(A37)=12,DAY(A37)>=29),AND(MONTH(A37)=1,DAY(A37)<=3)))),1,0) | F37: =IF(OR(D37=1,E37=1),1,0) | G37: =IF(F37=1,G36+1,0) | H37: =IF(F37=1,H38+1,0) | I37: =IF(AND(D37=1,E37=1),"もとから休み","") | J37: =IF(F37=1,G37+H37-1,"") | K37: =IF(D37=0,COUNTIF($D$7:D37,0),"")
A38: =DATE($B$2-1,12,1)+31 | B38: =TEXT(A38,"aaa") | C38: =IFERROR(VLOOKUP(A38,'1_祝日'!$A$4:$B$83,2,FALSE),"") | D38: =IF(OR(WEEKDAY(A38,2)>=6,C38<>"",COUNTIF('1_祝日'!$D$4:$D$43,A38)>0,AND($B$3=1,OR(AND(MONTH(A38)=12,DAY(A38)>=29),AND(MONTH(A38)=1,DAY(A38)<=3)))),1,0) | F38: =IF(OR(D38=1,E38=1),1,0) | G38: =IF(F38=1,G37+1,0) | H38: =IF(F38=1,H39+1,0) | I38: =IF(AND(D38=1,E38=1),"もとから休み","") | J38: =IF(F38=1,G38+H38-1,"") | K38: =IF(D38=0,COUNTIF($D$7:D38,0),"")
A39: =DATE($B$2-1,12,1)+32 | B39: =TEXT(A39,"aaa") | C39: =IFERROR(VLOOKUP(A39,'1_祝日'!$A$4:$B$83,2,FALSE),"") | D39: =IF(OR(WEEKDAY(A39,2)>=6,C39<>"",COUNTIF('1_祝日'!$D$4:$D$43,A39)>0,AND($B$3=1,OR(AND(MONTH(A39)=12,DAY(A39)>=29),AND(MONTH(A39)=1,DAY(A39)<=3)))),1,0) | F39: =IF(OR(D39=1,E39=1),1,0) | G39: =IF(F39=1,G38+1,0) | H39: =IF(F39=1,H40+1,0) | I39: =IF(AND(D39=1,E39=1),"もとから休み","") | J39: =IF(F39=1,G39+H39-1,"") | K39: =IF(D39=0,COUNTIF($D$7:D39,0),"")
A40: =DATE($B$2-1,12,1)+33 | B40: =TEXT(A40,"aaa") | C40: =IFERROR(VLOOKUP(A40,'1_祝日'!$A$4:$B$83,2,FALSE),"") | D40: =IF(OR(WEEKDAY(A40,2)>=6,C40<>"",COUNTIF('1_祝日'!$D$4:$D$43,A40)>0,AND($B$3=1,OR(AND(MONTH(A40)=12,DAY(A40)>=29),AND(MONTH(A40)=1,DAY(A40)<=3)))),1,0) | F40: =IF(OR(D40=1,E40=1),1,0) | G40: =IF(F40=1,G39+1,0) | H40: =IF(F40=1,H41+1,0) | I40: =IF(AND(D40=1,E40=1),"もとから休み","") | J40: =IF(F40=1,G40+H40-1,"") | K40: =IF(D40=0,COUNTIF($D$7:D40,0),"")
A41: =DATE($B$2-1,12,1)+34 | B41: =TEXT(A41,"aaa") | C41: =IFERROR(VLOOKUP(A41,'1_祝日'!$A$4:$B$83,2,FALSE),"") | D41: =IF(OR(WEEKDAY(A41,2)>=6,C41<>"",COUNTIF('1_祝日'!$D$4:$D$43,A41)>0,AND($B$3=1,OR(AND(MONTH(A41)=12,DAY(A41)>=29),AND(MONTH(A41)=1,DAY(A41)<=3)))),1,0) | F41: =IF(OR(D41=1,E41=1),1,0) | G41: =IF(F41=1,G40+1,0) | H41: =IF(F41=1,H42+1,0) | I41: =IF(AND(D41=1,E41=1),"もとから休み","") | J41: =IF(F41=1,G41+H41-1,"") | K41: =IF(D41=0,COUNTIF($D$7:D41,0),"")
A42: =DATE($B$2-1,12,1)+35 | B42: =TEXT(A42,"aaa") | C42: =IFERROR(VLOOKUP(A42,'1_祝日'!$A$4:$B$83,2,FALSE),"") | D42: =IF(OR(WEEKDAY(A42,2)>=6,C42<>"",COUNTIF('1_祝日'!$D$4:$D$43,A42)>0,AND($B$3=1,OR(AND(MONTH(A42)=12,DAY(A42)>=29),AND(MONTH(A42)=1,DAY(A42)<=3)))),1,0) | F42: =IF(OR(D42=1,E42=1),1,0) | G42: =IF(F42=1,G41+1,0) | H42: =IF(F42=1,H43+1,0) | I42: =IF(AND(D42=1,E42=1),"もとから休み","") | J42: =IF(F42=1,G42+H42-1,"") | K42: =IF(D42=0,COUNTIF($D$7:D42,0),"")
A43: =DATE($B$2-1,12,1)+36 | B43: =TEXT(A43,"aaa") | C43: =IFERROR(VLOOKUP(A43,'1_祝日'!$A$4:$B$83,2,FALSE),"") | D43: =IF(OR(WEEKDAY(A43,2)>=6,C43<>"",COUNTIF('1_祝日'!$D$4:$D$43,A43)>0,AND($B$3=1,OR(AND(MONTH(A43)=12,DAY(A43)>=29),AND(MONTH(A43)=1,DAY(A43)<=3)))),1,0) | F43: =IF(OR(D43=1,E43=1),1,0) | G43: =IF(F43=1,G42+1,0) | H43: =IF(F43=1,H44+1,0) | I43: =IF(AND(D43=1,E43=1),"もとから休み","") | J43: =IF(F43=1,G43+H43-1,"") | K43: =IF(D43=0,COUNTIF($D$7:D43,0),"")
A44: =DATE($B$2-1,12,1)+37 | B44: =TEXT(A44,"aaa") | C44: =IFERROR(VLOOKUP(A44,'1_祝日'!$A$4:$B$83,2,FALSE),"") | D44: =IF(OR(WEEKDAY(A44,2)>=6,C44<>"",COUNTIF('1_祝日'!$D$4:$D$43,A44)>0,AND($B$3=1,OR(AND(MONTH(A44)=12,DAY(A44)>=29),AND(MONTH(A44)=1,DAY(A44)<=3)))),1,0) | F44: =IF(OR(D44=1,E44=1),1,0) | G44: =IF(F44=1,G43+1,0) | H44: =IF(F44=1,H45+1,0) | I44: =IF(AND(D44=1,E44=1),"もとから休み","") | J44: =IF(F44=1,G44+H44-1,"") | K44: =IF(D44=0,COUNTIF($D$7:D44,0),"")
A45: =DATE($B$2-1,12,1)+38 | B45: =TEXT(A45,"aaa") | C45: =IFERROR(VLOOKUP(A45,'1_祝日'!$A$4:$B$83,2,FALSE),"") | D45: =IF(OR(WEEKDAY(A45,2)>=6,C45<>"",COUNTIF('1_祝日'!$D$4:$D$43,A45)>0,AND($B$3=1,OR(AND(MONTH(A45)=12,DAY(A45)>=29),AND(MONTH(A45)=1,DAY(A45)<=3)))),1,0) | F45: =IF(OR(D45=1,E45=1),1,0) | G45: =IF(F45=1,G44+1,0) | H45: =IF(F45=1,H46+1,0) | I45: =IF(AND(D45=1,E45=1),"もとから休み","") | J45: =IF(F45=1,G45+H45-1,"") | K45: =IF(D45=0,COUNTIF($D$7:D45,0),"")
A46: =DATE($B$2-1,12,1)+39 | B46: =TEXT(A46,"aaa") | C46: =IFERROR(VLOOKUP(A46,'1_祝日'!$A$4:$B$83,2,FALSE),"") | D46: =IF(OR(WEEKDAY(A46,2)>=6,C46<>"",COUNTIF('1_祝日'!$D$4:$D$43,A46)>0,AND($B$3=1,OR(AND(MONTH(A46)=12,DAY(A46)>=29),AND(MONTH(A46)=1,DAY(A46)<=3)))),1,0) | F46: =IF(OR(D46=1,E46=1),1,0) | G46: =IF(F46=1,G45+1,0) | H46: =IF(F46=1,H47+1,0) | I46: =IF(AND(D46=1,E46=1),"もとから休み","") | J46: =IF(F46=1,G46+H46-1,"") | K46: =IF(D46=0,COUNTIF($D$7:D46,0),"")
A47: =DATE($B$2-1,12,1)+40 | B47: =TEXT(A47,"aaa") | C47: =IFERROR(VLOOKUP(A47,'1_祝日'!$A$4:$B$83,2,FALSE),"") | D47: =IF(OR(WEEKDAY(A47,2)>=6,C47<>"",COUNTIF('1_祝日'!$D$4:$D$43,A47)>0,AND($B$3=1,OR(AND(MONTH(A47)=12,DAY(A47)>=29),AND(MONTH(A47)=1,DAY(A47)<=3)))),1,0) | F47: =IF(OR(D47=1,E47=1),1,0) | G47: =IF(F47=1,G46+1,0) | H47: =IF(F47=1,H48+1,0) | I47: =IF(AND(D47=1,E47=1),"もとから休み","") | J47: =IF(F47=1,G47+H47-1,"") | K47: =IF(D47=0,COUNTIF($D$7:D47,0),"")
A48: =DATE($B$2-1,12,1)+41 | B48: =TEXT(A48,"aaa") | C48: =IFERROR(VLOOKUP(A48,'1_祝日'!$A$4:$B$83,2,FALSE),"") | D48: =IF(OR(WEEKDAY(A48,2)>=6,C48<>"",COUNTIF('1_祝日'!$D$4:$D$43,A48)>0,AND($B$3=1,OR(AND(MONTH(A48)=12,DAY(A48)>=29),AND(MONTH(A48)=1,DAY(A48)<=3)))),1,0) | F48: =IF(OR(D48=1,E48=1),1,0) | G48: =IF(F48=1,G47+1,0) | H48: =IF(F48=1,H49+1,0) | I48: =IF(AND(D48=1,E48=1),"もとから休み","") | J48: =IF(F48=1,G48+H48-1,"") | K48: =IF(D48=0,COUNTIF($D$7:D48,0),"")
A49: =DATE($B$2-1,12,1)+42 | B49: =TEXT(A49,"aaa") | C49: =IFERROR(VLOOKUP(A49,'1_祝日'!$A$4:$B$83,2,FALSE),"") | D49: =IF(OR(WEEKDAY(A49,2)>=6,C49<>"",COUNTIF('1_祝日'!$D$4:$D$43,A49)>0,AND($B$3=1,OR(AND(MONTH(A49)=12,DAY(A49)>=29),AND(MONTH(A49)=1,DAY(A49)<=3)))),1,0) | F49: =IF(OR(D49=1,E49=1),1,0) | G49: =IF(F49=1,G48+1,0) | H49: =IF(F49=1,H50+1,0) | I49: =IF(AND(D49=1,E49=1),"もとから休み","") | J49: =IF(F49=1,G49+H49-1,"") | K49: =IF(D49=0,COUNTIF($D$7:D49,0),"")
A50: =DATE($B$2-1,12,1)+43 | B50: =TEXT(A50,"aaa") | C50: =IFERROR(VLOOKUP(A50,'1_祝日'!$A$4:$B$83,2,FALSE),"") | D50: =IF(OR(WEEKDAY(A50,2)>=6,C50<>"",COUNTIF('1_祝日'!$D$4:$D$43,A50)>0,AND($B$3=1,OR(AND(MONTH(A50)=12,DAY(A50)>=29),AND(MONTH(A50)=1,DAY(A50)<=3)))),1,0) | F50: =IF(OR(D50=1,E50=1),1,0) | G50: =IF(F50=1,G49+1,0) | H50: =IF(F50=1,H51+1,0) | I50: =IF(AND(D50=1,E50=1),"もとから休み","") | J50: =IF(F50=1,G50+H50-1,"") | K50: =IF(D50=0,COUNTIF($D$7:D50,0),"")
A51: =DATE($B$2-1,12,1)+44 | B51: =TEXT(A51,"aaa") | C51: =IFERROR(VLOOKUP(A51,'1_祝日'!$A$4:$B$83,2,FALSE),"") | D51: =IF(OR(WEEKDAY(A51,2)>=6,C51<>"",COUNTIF('1_祝日'!$D$4:$D$43,A51)>0,AND($B$3=1,OR(AND(MONTH(A51)=12,DAY(A51)>=29),AND(MONTH(A51)=1,DAY(A51)<=3)))),1,0) | F51: =IF(OR(D51=1,E51=1),1,0) | G51: =IF(F51=1,G50+1,0) | H51: =IF(F51=1,H52+1,0) | I51: =IF(AND(D51=1,E51=1),"もとから休み","") | J51: =IF(F51=1,G51+H51-1,"") | K51: =IF(D51=0,COUNTIF($D$7:D51,0),"")
A52: =DATE($B$2-1,12,1)+45 | B52: =TEXT(A52,"aaa") | C52: =IFERROR(VLOOKUP(A52,'1_祝日'!$A$4:$B$83,2,FALSE),"") | D52: =IF(OR(WEEKDAY(A52,2)>=6,C52<>"",COUNTIF('1_祝日'!$D$4:$D$43,A52)>0,AND($B$3=1,OR(AND(MONTH(A52)=12,DAY(A52)>=29),AND(MONTH(A52)=1,DAY(A52)<=3)))),1,0) | F52: =IF(OR(D52=1,E52=1),1,0) | G52: =IF(F52=1,G51+1,0) | H52: =IF(F52=1,H53+1,0) | I52: =IF(AND(D52=1,E52=1),"もとから休み","") | J52: =IF(F52=1,G52+H52-1,"") | K52: =IF(D52=0,COUNTIF($D$7:D52,0),"")
A53: =DATE($B$2-1,12,1)+46 | B53: =TEXT(A53,"aaa") | C53: =IFERROR(VLOOKUP(A53,'1_祝日'!$A$4:$B$83,2,FALSE),"") | D53: =IF(OR(WEEKDAY(A53,2)>=6,C53<>"",COUNTIF('1_祝日'!$D$4:$D$43,A53)>0,AND($B$3=1,OR(AND(MONTH(A53)=12,DAY(A53)>=29),AND(MONTH(A53)=1,DAY(A53)<=3)))),1,0) | F53: =IF(OR(D53=1,E53=1),1,0) | G53: =IF(F53=1,G52+1,0) | H53: =IF(F53=1,H54+1,0) | I53: =IF(AND(D53=1,E53=1),"もとから休み","") | J53: =IF(F53=1,G53+H53-1,"") | K53: =IF(D53=0,COUNTIF($D$7:D53,0),"")
A54: =DATE($B$2-1,12,1)+47 | B54: =TEXT(A54,"aaa") | C54: =IFERROR(VLOOKUP(A54,'1_祝日'!$A$4:$B$83,2,FALSE),"") | D54: =IF(OR(WEEKDAY(A54,2)>=6,C54<>"",COUNTIF('1_祝日'!$D$4:$D$43,A54)>0,AND($B$3=1,OR(AND(MONTH(A54)=12,DAY(A54)>=29),AND(MONTH(A54)=1,DAY(A54)<=3)))),1,0) | F54: =IF(OR(D54=1,E54=1),1,0) | G54: =IF(F54=1,G53+1,0) | H54: =IF(F54=1,H55+1,0) | I54: =IF(AND(D54=1,E54=1),"もとから休み","") | J54: =IF(F54=1,G54+H54-1,"") | K54: =IF(D54=0,COUNTIF($D$7:D54,0),"")
A55: =DATE($B$2-1,12,1)+48 | B55: =TEXT(A55,"aaa") | C55: =IFERROR(VLOOKUP(A55,'1_祝日'!$A$4:$B$83,2,FALSE),"") | D55: =IF(OR(WEEKDAY(A55,2)>=6,C55<>"",COUNTIF('1_祝日'!$D$4:$D$43,A55)>0,AND($B$3=1,OR(AND(MONTH(A55)=12,DAY(A55)>=29),AND(MONTH(A55)=1,DAY(A55)<=3)))),1,0) | F55: =IF(OR(D55=1,E55=1),1,0) | G55: =IF(F55=1,G54+1,0) | H55: =IF(F55=1,H56+1,0) | I55: =IF(AND(D55=1,E55=1),"もとから休み","") | J55: =IF(F55=1,G55+H55-1,"") | K55: =IF(D55=0,COUNTIF($D$7:D55,0),"")
A56: =DATE($B$2-1,12,1)+49 | B56: =TEXT(A56,"aaa") | C56: =IFERROR(VLOOKUP(A56,'1_祝日'!$A$4:$B$83,2,FALSE),"") | D56: =IF(OR(WEEKDAY(A56,2)>=6,C56<>"",COUNTIF('1_祝日'!$D$4:$D$43,A56)>0,AND($B$3=1,OR(AND(MONTH(A56)=12,DAY(A56)>=29),AND(MONTH(A56)=1,DAY(A56)<=3)))),1,0) | F56: =IF(OR(D56=1,E56=1),1,0) | G56: =IF(F56=1,G55+1,0) | H56: =IF(F56=1,H57+1,0) | I56: =IF(AND(D56=1,E56=1),"もとから休み","") | J56: =IF(F56=1,G56+H56-1,"") | K56: =IF(D56=0,COUNTIF($D$7:D56,0),"")
A57: =DATE($B$2-1,12,1)+50 | B57: =TEXT(A57,"aaa") | C57: =IFERROR(VLOOKUP(A57,'1_祝日'!$A$4:$B$83,2,FALSE),"") | D57: =IF(OR(WEEKDAY(A57,2)>=6,C57<>"",COUNTIF('1_祝日'!$D$4:$D$43,A57)>0,AND($B$3=1,OR(AND(MONTH(A57)=12,DAY(A57)>=29),AND(MONTH(A57)=1,DAY(A57)<=3)))),1,0) | F57: =IF(OR(D57=1,E57=1),1,0) | G57: =IF(F57=1,G56+1,0) | H57: =IF(F57=1,H58+1,0) | I57: =IF(AND(D57=1,E57=1),"もとから休み","") | J57: =IF(F57=1,G57+H57-1,"") | K57: =IF(D57=0,COUNTIF($D$7:D57,0),"")
A58: =DATE($B$2-1,12,1)+51 | B58: =TEXT(A58,"aaa") | C58: =IFERROR(VLOOKUP(A58,'1_祝日'!$A$4:$B$83,2,FALSE),"") | D58: =IF(OR(WEEKDAY(A58,2)>=6,C58<>"",COUNTIF('1_祝日'!$D$4:$D$43,A58)>0,AND($B$3=1,OR(AND(MONTH(A58)=12,DAY(A58)>=29),AND(MONTH(A58)=1,DAY(A58)<=3)))),1,0) | F58: =IF(OR(D58=1,E58=1),1,0) | G58: =IF(F58=1,G57+1,0) | H58: =IF(F58=1,H59+1,0) | I58: =IF(AND(D58=1,E58=1),"もとから休み","") | J58: =IF(F58=1,G58+H58-1,"") | K58: =IF(D58=0,COUNTIF($D$7:D58,0),"")
A59: =DATE($B$2-1,12,1)+52 | B59: =TEXT(A59,"aaa") | C59: =IFERROR(VLOOKUP(A59,'1_祝日'!$A$4:$B$83,2,FALSE),"") | D59: =IF(OR(WEEKDAY(A59,2)>=6,C59<>"",COUNTIF('1_祝日'!$D$4:$D$43,A59)>0,AND($B$3=1,OR(AND(MONTH(A59)=12,DAY(A59)>=29),AND(MONTH(A59)=1,DAY(A59)<=3)))),1,0) | F59: =IF(OR(D59=1,E59=1),1,0) | G59: =IF(F59=1,G58+1,0) | H59: =IF(F59=1,H60+1,0) | I59: =IF(AND(D59=1,E59=1),"もとから休み","") | J59: =IF(F59=1,G59+H59-1,"") | K59: =IF(D59=0,COUNTIF($D$7:D59,0),"")
A60: =DATE($B$2-1,12,1)+53 | B60: =TEXT(A60,"aaa") | C60: =IFERROR(VLOOKUP(A60,'1_祝日'!$A$4:$B$83,2,FALSE),"") | D60: =IF(OR(WEEKDAY(A60,2)>=6,C60<>"",COUNTIF('1_祝日'!$D$4:$D$43,A60)>0,AND($B$3=1,OR(AND(MONTH(A60)=12,DAY(A60)>=29),AND(MONTH(A60)=1,DAY(A60)<=3)))),1,0) | F60: =IF(OR(D60=1,E60=1),1,0) | G60: =IF(F60=1,G59+1,0) | H60: =IF(F60=1,H61+1,0) | I60: =IF(AND(D60=1,E60=1),"もとから休み","") | J60: =IF(F60=1,G60+H60-1,"") | K60: =IF(D60=0,COUNTIF($D$7:D60,0),"")
A61: =DATE($B$2-1,12,1)+54 | B61: =TEXT(A61,"aaa") | C61: =IFERROR(VLOOKUP(A61,'1_祝日'!$A$4:$B$83,2,FALSE),"") | D61: =IF(OR(WEEKDAY(A61,2)>=6,C61<>"",COUNTIF('1_祝日'!$D$4:$D$43,A61)>0,AND($B$3=1,OR(AND(MONTH(A61)=12,DAY(A61)>=29),AND(MONTH(A61)=1,DAY(A61)<=3)))),1,0) | F61: =IF(OR(D61=1,E61=1),1,0) | G61: =IF(F61=1,G60+1,0) | H61: =IF(F61=1,H62+1,0) | I61: =IF(AND(D61=1,E61=1),"もとから休み","") | J61: =IF(F61=1,G61+H61-1,"") | K61: =IF(D61=0,COUNTIF($D$7:D61,0),"")
A62: =DATE($B$2-1,12,1)+55 | B62: =TEXT(A62,"aaa") | C62: =IFERROR(VLOOKUP(A62,'1_祝日'!$A$4:$B$83,2,FALSE),"") | D62: =IF(OR(WEEKDAY(A62,2)>=6,C62<>"",COUNTIF('1_祝日'!$D$4:$D$43,A62)>0,AND($B$3=1,OR(AND(MONTH(A62)=12,DAY(A62)>=29),AND(MONTH(A62)=1,DAY(A62)<=3)))),1,0) | F62: =IF(OR(D62=1,E62=1),1,0) | G62: =IF(F62=1,G61+1,0) | H62: =IF(F62=1,H63+1,0) | I62: =IF(AND(D62=1,E62=1),"もとから休み","") | J62: =IF(F62=1,G62+H62-1,"") | K62: =IF(D62=0,COUNTIF($D$7:D62,0),"")
A63: =DATE($B$2-1,12,1)+56 | B63: =TEXT(A63,"aaa") | C63: =IFERROR(VLOOKUP(A63,'1_祝日'!$A$4:$B$83,2,FALSE),"") | D63: =IF(OR(WEEKDAY(A63,2)>=6,C63<>"",COUNTIF('1_祝日'!$D$4:$D$43,A63)>0,AND($B$3=1,OR(AND(MONTH(A63)=12,DAY(A63)>=29),AND(MONTH(A63)=1,DAY(A63)<=3)))),1,0) | F63: =IF(OR(D63=1,E63=1),1,0) | G63: =IF(F63=1,G62+1,0) | H63: =IF(F63=1,H64+1,0) | I63: =IF(AND(D63=1,E63=1),"もとから休み","") | J63: =IF(F63=1,G63+H63-1,"") | K63: =IF(D63=0,COUNTIF($D$7:D63,0),"")
A64: =DATE($B$2-1,12,1)+57 | B64: =TEXT(A64,"aaa") | C64: =IFERROR(VLOOKUP(A64,'1_祝日'!$A$4:$B$83,2,FALSE),"") | D64: =IF(OR(WEEKDAY(A64,2)>=6,C64<>"",COUNTIF('1_祝日'!$D$4:$D$43,A64)>0,AND($B$3=1,OR(AND(MONTH(A64)=12,DAY(A64)>=29),AND(MONTH(A64)=1,DAY(A64)<=3)))),1,0) | F64: =IF(OR(D64=1,E64=1),1,0) | G64: =IF(F64=1,G63+1,0) | H64: =IF(F64=1,H65+1,0) | I64: =IF(AND(D64=1,E64=1),"もとから休み","") | J64: =IF(F64=1,G64+H64-1,"") | K64: =IF(D64=0,COUNTIF($D$7:D64,0),"")
A65: =DATE($B$2-1,12,1)+58 | B65: =TEXT(A65,"aaa") | C65: =IFERROR(VLOOKUP(A65,'1_祝日'!$A$4:$B$83,2,FALSE),"") | D65: =IF(OR(WEEKDAY(A65,2)>=6,C65<>"",COUNTIF('1_祝日'!$D$4:$D$43,A65)>0,AND($B$3=1,OR(AND(MONTH(A65)=12,DAY(A65)>=29),AND(MONTH(A65)=1,DAY(A65)<=3)))),1,0) | F65: =IF(OR(D65=1,E65=1),1,0) | G65: =IF(F65=1,G64+1,0) | H65: =IF(F65=1,H66+1,0) | I65: =IF(AND(D65=1,E65=1),"もとから休み","") | J65: =IF(F65=1,G65+H65-1,"") | K65: =IF(D65=0,COUNTIF($D$7:D65,0),"")
A66: =DATE($B$2-1,12,1)+59 | B66: =TEXT(A66,"aaa") | C66: =IFERROR(VLOOKUP(A66,'1_祝日'!$A$4:$B$83,2,FALSE),"") | D66: =IF(OR(WEEKDAY(A66,2)>=6,C66<>"",COUNTIF('1_祝日'!$D$4:$D$43,A66)>0,AND($B$3=1,OR(AND(MONTH(A66)=12,DAY(A66)>=29),AND(MONTH(A66)=1,DAY(A66)<=3)))),1,0) | F66: =IF(OR(D66=1,E66=1),1,0) | G66: =IF(F66=1,G65+1,0) | H66: =IF(F66=1,H67+1,0) | I66: =IF(AND(D66=1,E66=1),"もとから休み","") | J66: =IF(F66=1,G66+H66-1,"") | K66: =IF(D66=0,COUNTIF($D$7:D66,0),"")
A67: =DATE($B$2-1,12,1)+60 | B67: =TEXT(A67,"aaa") | C67: =IFERROR(VLOOKUP(A67,'1_祝日'!$A$4:$B$83,2,FALSE),"") | D67: =IF(OR(WEEKDAY(A67,2)>=6,C67<>"",COUNTIF('1_祝日'!$D$4:$D$43,A67)>0,AND($B$3=1,OR(AND(MONTH(A67)=12,DAY(A67)>=29),AND(MONTH(A67)=1,DAY(A67)<=3)))),1,0) | F67: =IF(OR(D67=1,E67=1),1,0) | G67: =IF(F67=1,G66+1,0) | H67: =IF(F67=1,H68+1,0) | I67: =IF(AND(D67=1,E67=1),"もとから休み","") | J67: =IF(F67=1,G67+H67-1,"") | K67: =IF(D67=0,COUNTIF($D$7:D67,0),"")
A68: =DATE($B$2-1,12,1)+61 | B68: =TEXT(A68,"aaa") | C68: =IFERROR(VLOOKUP(A68,'1_祝日'!$A$4:$B$83,2,FALSE),"") | D68: =IF(OR(WEEKDAY(A68,2)>=6,C68<>"",COUNTIF('1_祝日'!$D$4:$D$43,A68)>0,AND($B$3=1,OR(AND(MONTH(A68)=12,DAY(A68)>=29),AND(MONTH(A68)=1,DAY(A68)<=3)))),1,0) | F68: =IF(OR(D68=1,E68=1),1,0) | G68: =IF(F68=1,G67+1,0) | H68: =IF(F68=1,H69+1,0) | I68: =IF(AND(D68=1,E68=1),"もとから休み","") | J68: =IF(F68=1,G68+H68-1,"") | K68: =IF(D68=0,COUNTIF($D$7:D68,0),"")
A69: =DATE($B$2-1,12,1)+62 | B69: =TEXT(A69,"aaa") | C69: =IFERROR(VLOOKUP(A69,'1_祝日'!$A$4:$B$83,2,FALSE),"") | D69: =IF(OR(WEEKDAY(A69,2)>=6,C69<>"",COUNTIF('1_祝日'!$D$4:$D$43,A69)>0,AND($B$3=1,OR(AND(MONTH(A69)=12,DAY(A69)>=29),AND(MONTH(A69)=1,DAY(A69)<=3)))),1,0) | F69: =IF(OR(D69=1,E69=1),1,0) | G69: =IF(F69=1,G68+1,0) | H69: =IF(F69=1,H70+1,0) | I69: =IF(AND(D69=1,E69=1),"もとから休み","") | J69: =IF(F69=1,G69+H69-1,"") | K69: =IF(D69=0,COUNTIF($D$7:D69,0),"")
A70: =DATE($B$2-1,12,1)+63 | B70: =TEXT(A70,"aaa") | C70: =IFERROR(VLOOKUP(A70,'1_祝日'!$A$4:$B$83,2,FALSE),"") | D70: =IF(OR(WEEKDAY(A70,2)>=6,C70<>"",COUNTIF('1_祝日'!$D$4:$D$43,A70)>0,AND($B$3=1,OR(AND(MONTH(A70)=12,DAY(A70)>=29),AND(MONTH(A70)=1,DAY(A70)<=3)))),1,0) | F70: =IF(OR(D70=1,E70=1),1,0) | G70: =IF(F70=1,G69+1,0) | H70: =IF(F70=1,H71+1,0) | I70: =IF(AND(D70=1,E70=1),"もとから休み","") | J70: =IF(F70=1,G70+H70-1,"") | K70: =IF(D70=0,COUNTIF($D$7:D70,0),"")
A71: =DATE($B$2-1,12,1)+64 | B71: =TEXT(A71,"aaa") | C71: =IFERROR(VLOOKUP(A71,'1_祝日'!$A$4:$B$83,2,FALSE),"") | D71: =IF(OR(WEEKDAY(A71,2)>=6,C71<>"",COUNTIF('1_祝日'!$D$4:$D$43,A71)>0,AND($B$3=1,OR(AND(MONTH(A71)=12,DAY(A71)>=29),AND(MONTH(A71)=1,DAY(A71)<=3)))),1,0) | F71: =IF(OR(D71=1,E71=1),1,0) | G71: =IF(F71=1,G70+1,0) | H71: =IF(F71=1,H72+1,0) | I71: =IF(AND(D71=1,E71=1),"もとから休み","") | J71: =IF(F71=1,G71+H71-1,"") | K71: =IF(D71=0,COUNTIF($D$7:D71,0),"")
A72: =DATE($B$2-1,12,1)+65 | B72: =TEXT(A72,"aaa") | C72: =IFERROR(VLOOKUP(A72,'1_祝日'!$A$4:$B$83,2,FALSE),"") | D72: =IF(OR(WEEKDAY(A72,2)>=6,C72<>"",COUNTIF('1_祝日'!$D$4:$D$43,A72)>0,AND($B$3=1,OR(AND(MONTH(A72)=12,DAY(A72)>=29),AND(MONTH(A72)=1,DAY(A72)<=3)))),1,0) | F72: =IF(OR(D72=1,E72=1),1,0) | G72: =IF(F72=1,G71+1,0) | H72: =IF(F72=1,H73+1,0) | I72: =IF(AND(D72=1,E72=1),"もとから休み","") | J72: =IF(F72=1,G72+H72-1,"") | K72: =IF(D72=0,COUNTIF($D$7:D72,0),"")
A73: =DATE($B$2-1,12,1)+66 | B73: =TEXT(A73,"aaa") | C73: =IFERROR(VLOOKUP(A73,'1_祝日'!$A$4:$B$83,2,FALSE),"") | D73: =IF(OR(WEEKDAY(A73,2)>=6,C73<>"",COUNTIF('1_祝日'!$D$4:$D$43,A73)>0,AND($B$3=1,OR(AND(MONTH(A73)=12,DAY(A73)>=29),AND(MONTH(A73)=1,DAY(A73)<=3)))),1,0) | F73: =IF(OR(D73=1,E73=1),1,0) | G73: =IF(F73=1,G72+1,0) | H73: =IF(F73=1,H74+1,0) | I73: =IF(AND(D73=1,E73=1),"もとから休み","") | J73: =IF(F73=1,G73+H73-1,"") | K73: =IF(D73=0,COUNTIF($D$7:D73,0),"")
A74: =DATE($B$2-1,12,1)+67 | B74: =TEXT(A74,"aaa") | C74: =IFERROR(VLOOKUP(A74,'1_祝日'!$A$4:$B$83,2,FALSE),"") | D74: =IF(OR(WEEKDAY(A74,2)>=6,C74<>"",COUNTIF('1_祝日'!$D$4:$D$43,A74)>0,AND($B$3=1,OR(AND(MONTH(A74)=12,DAY(A74)>=29),AND(MONTH(A74)=1,DAY(A74)<=3)))),1,0) | F74: =IF(OR(D74=1,E74=1),1,0) | G74: =IF(F74=1,G73+1,0) | H74: =IF(F74=1,H75+1,0) | I74: =IF(AND(D74=1,E74=1),"もとから休み","") | J74: =IF(F74=1,G74+H74-1,"") | K74: =IF(D74=0,COUNTIF($D$7:D74,0),"")
A75: =DATE($B$2-1,12,1)+68 | B75: =TEXT(A75,"aaa") | C75: =IFERROR(VLOOKUP(A75,'1_祝日'!$A$4:$B$83,2,FALSE),"") | D75: =IF(OR(WEEKDAY(A75,2)>=6,C75<>"",COUNTIF('1_祝日'!$D$4:$D$43,A75)>0,AND($B$3=1,OR(AND(MONTH(A75)=12,DAY(A75)>=29),AND(MONTH(A75)=1,DAY(A75)<=3)))),1,0) | F75: =IF(OR(D75=1,E75=1),1,0) | G75: =IF(F75=1,G74+1,0) | H75: =IF(F75=1,H76+1,0) | I75: =IF(AND(D75=1,E75=1),"もとから休み","") | J75: =IF(F75=1,G75+H75-1,"") | K75: =IF(D75=0,COUNTIF($D$7:D75,0),"")
A76: =DATE($B$2-1,12,1)+69 | B76: =TEXT(A76,"aaa") | C76: =IFERROR(VLOOKUP(A76,'1_祝日'!$A$4:$B$83,2,FALSE),"") | D76: =IF(OR(WEEKDAY(A76,2)>=6,C76<>"",COUNTIF('1_祝日'!$D$4:$D$43,A76)>0,AND($B$3=1,OR(AND(MONTH(A76)=12,DAY(A76)>=29),AND(MONTH(A76)=1,DAY(A76)<=3)))),1,0) | F76: =IF(OR(D76=1,E76=1),1,0) | G76: =IF(F76=1,G75+1,0) | H76: =IF(F76=1,H77+1,0) | I76: =IF(AND(D76=1,E76=1),"もとから休み","") | J76: =IF(F76=1,G76+H76-1,"") | K76: =IF(D76=0,COUNTIF($D$7:D76,0),"")
A77: =DATE($B$2-1,12,1)+70 | B77: =TEXT(A77,"aaa") | C77: =IFERROR(VLOOKUP(A77,'1_祝日'!$A$4:$B$83,2,FALSE),"") | D77: =IF(OR(WEEKDAY(A77,2)>=6,C77<>"",COUNTIF('1_祝日'!$D$4:$D$43,A77)>0,AND($B$3=1,OR(AND(MONTH(A77)=12,DAY(A77)>=29),AND(MONTH(A77)=1,DAY(A77)<=3)))),1,0) | F77: =IF(OR(D77=1,E77=1),1,0) | G77: =IF(F77=1,G76+1,0) | H77: =IF(F77=1,H78+1,0) | I77: =IF(AND(D77=1,E77=1),"もとから休み","") | J77: =IF(F77=1,G77+H77-1,"") | K77: =IF(D77=0,COUNTIF($D$7:D77,0),"")
A78: =DATE($B$2-1,12,1)+71 | B78: =TEXT(A78,"aaa") | C78: =IFERROR(VLOOKUP(A78,'1_祝日'!$A$4:$B$83,2,FALSE),"") | D78: =IF(OR(WEEKDAY(A78,2)>=6,C78<>"",COUNTIF('1_祝日'!$D$4:$D$43,A78)>0,AND($B$3=1,OR(AND(MONTH(A78)=12,DAY(A78)>=29),AND(MONTH(A78)=1,DAY(A78)<=3)))),1,0) | F78: =IF(OR(D78=1,E78=1),1,0) | G78: =IF(F78=1,G77+1,0) | H78: =IF(F78=1,H79+1,0) | I78: =IF(AND(D78=1,E78=1),"もとから休み","") | J78: =IF(F78=1,G78+H78-1,"") | K78: =IF(D78=0,COUNTIF($D$7:D78,0),"")
A79: =DATE($B$2-1,12,1)+72 | B79: =TEXT(A79,"aaa") | C79: =IFERROR(VLOOKUP(A79,'1_祝日'!$A$4:$B$83,2,FALSE),"") | D79: =IF(OR(WEEKDAY(A79,2)>=6,C79<>"",COUNTIF('1_祝日'!$D$4:$D$43,A79)>0,AND($B$3=1,OR(AND(MONTH(A79)=12,DAY(A79)>=29),AND(MONTH(A79)=1,DAY(A79)<=3)))),1,0) | F79: =IF(OR(D79=1,E79=1),1,0) | G79: =IF(F79=1,G78+1,0) | H79: =IF(F79=1,H80+1,0) | I79: =IF(AND(D79=1,E79=1),"もとから休み","") | J79: =IF(F79=1,G79+H79-1,"") | K79: =IF(D79=0,COUNTIF($D$7:D79,0),"")
A80: =DATE($B$2-1,12,1)+73 | B80: =TEXT(A80,"aaa") | C80: =IFERROR(VLOOKUP(A80,'1_祝日'!$A$4:$B$83,2,FALSE),"") | D80: =IF(OR(WEEKDAY(A80,2)>=6,C80<>"",COUNTIF('1_祝日'!$D$4:$D$43,A80)>0,AND($B$3=1,OR(AND(MONTH(A80)=12,DAY(A80)>=29),AND(MONTH(A80)=1,DAY(A80)<=3)))),1,0) | F80: =IF(OR(D80=1,E80=1),1,0) | G80: =IF(F80=1,G79+1,0) | H80: =IF(F80=1,H81+1,0) | I80: =IF(AND(D80=1,E80=1),"もとから休み","") | J80: =IF(F80=1,G80+H80-1,"") | K80: =IF(D80=0,COUNTIF($D$7:D80,0),"")
A81: =DATE($B$2-1,12,1)+74 | B81: =TEXT(A81,"aaa") | C81: =IFERROR(VLOOKUP(A81,'1_祝日'!$A$4:$B$83,2,FALSE),"") | D81: =IF(OR(WEEKDAY(A81,2)>=6,C81<>"",COUNTIF('1_祝日'!$D$4:$D$43,A81)>0,AND($B$3=1,OR(AND(MONTH(A81)=12,DAY(A81)>=29),AND(MONTH(A81)=1,DAY(A81)<=3)))),1,0) | F81: =IF(OR(D81=1,E81=1),1,0) | G81: =IF(F81=1,G80+1,0) | H81: =IF(F81=1,H82+1,0) | I81: =IF(AND(D81=1,E81=1),"もとから休み","") | J81: =IF(F81=1,G81+H81-1,"") | K81: =IF(D81=0,COUNTIF($D$7:D81,0),"")
A82: =DATE($B$2-1,12,1)+75 | B82: =TEXT(A82,"aaa") | C82: =IFERROR(VLOOKUP(A82,'1_祝日'!$A$4:$B$83,2,FALSE),"") | D82: =IF(OR(WEEKDAY(A82,2)>=6,C82<>"",COUNTIF('1_祝日'!$D$4:$D$43,A82)>0,AND($B$3=1,OR(AND(MONTH(A82)=12,DAY(A82)>=29),AND(MONTH(A82)=1,DAY(A82)<=3)))),1,0) | F82: =IF(OR(D82=1,E82=1),1,0) | G82: =IF(F82=1,G81+1,0) | H82: =IF(F82=1,H83+1,0) | I82: =IF(AND(D82=1,E82=1),"もとから休み","") | J82: =IF(F82=1,G82+H82-1,"") | K82: =IF(D82=0,COUNTIF($D$7:D82,0),"")
A83: =DATE($B$2-1,12,1)+76 | B83: =TEXT(A83,"aaa") | C83: =IFERROR(VLOOKUP(A83,'1_祝日'!$A$4:$B$83,2,FALSE),"") | D83: =IF(OR(WEEKDAY(A83,2)>=6,C83<>"",COUNTIF('1_祝日'!$D$4:$D$43,A83)>0,AND($B$3=1,OR(AND(MONTH(A83)=12,DAY(A83)>=29),AND(MONTH(A83)=1,DAY(A83)<=3)))),1,0) | F83: =IF(OR(D83=1,E83=1),1,0) | G83: =IF(F83=1,G82+1,0) | H83: =IF(F83=1,H84+1,0) | I83: =IF(AND(D83=1,E83=1),"もとから休み","") | J83: =IF(F83=1,G83+H83-1,"") | K83: =IF(D83=0,COUNTIF($D$7:D83,0),"")
A84: =DATE($B$2-1,12,1)+77 | B84: =TEXT(A84,"aaa") | C84: =IFERROR(VLOOKUP(A84,'1_祝日'!$A$4:$B$83,2,FALSE),"") | D84: =IF(OR(WEEKDAY(A84,2)>=6,C84<>"",COUNTIF('1_祝日'!$D$4:$D$43,A84)>0,AND($B$3=1,OR(AND(MONTH(A84)=12,DAY(A84)>=29),AND(MONTH(A84)=1,DAY(A84)<=3)))),1,0) | F84: =IF(OR(D84=1,E84=1),1,0) | G84: =IF(F84=1,G83+1,0) | H84: =IF(F84=1,H85+1,0) | I84: =IF(AND(D84=1,E84=1),"もとから休み","") | J84: =IF(F84=1,G84+H84-1,"") | K84: =IF(D84=0,COUNTIF($D$7:D84,0),"")
A85: =DATE($B$2-1,12,1)+78 | B85: =TEXT(A85,"aaa") | C85: =IFERROR(VLOOKUP(A85,'1_祝日'!$A$4:$B$83,2,FALSE),"") | D85: =IF(OR(WEEKDAY(A85,2)>=6,C85<>"",COUNTIF('1_祝日'!$D$4:$D$43,A85)>0,AND($B$3=1,OR(AND(MONTH(A85)=12,DAY(A85)>=29),AND(MONTH(A85)=1,DAY(A85)<=3)))),1,0) | F85: =IF(OR(D85=1,E85=1),1,0) | G85: =IF(F85=1,G84+1,0) | H85: =IF(F85=1,H86+1,0) | I85: =IF(AND(D85=1,E85=1),"もとから休み","") | J85: =IF(F85=1,G85+H85-1,"") | K85: =IF(D85=0,COUNTIF($D$7:D85,0),"")
A86: =DATE($B$2-1,12,1)+79 | B86: =TEXT(A86,"aaa") | C86: =IFERROR(VLOOKUP(A86,'1_祝日'!$A$4:$B$83,2,FALSE),"") | D86: =IF(OR(WEEKDAY(A86,2)>=6,C86<>"",COUNTIF('1_祝日'!$D$4:$D$43,A86)>0,AND($B$3=1,OR(AND(MONTH(A86)=12,DAY(A86)>=29),AND(MONTH(A86)=1,DAY(A86)<=3)))),1,0) | F86: =IF(OR(D86=1,E86=1),1,0) | G86: =IF(F86=1,G85+1,0) | H86: =IF(F86=1,H87+1,0) | I86: =IF(AND(D86=1,E86=1),"もとから休み","") | J86: =IF(F86=1,G86+H86-1,"") | K86: =IF(D86=0,COUNTIF($D$7:D86,0),"")
A87: =DATE($B$2-1,12,1)+80 | B87: =TEXT(A87,"aaa") | C87: =IFERROR(VLOOKUP(A87,'1_祝日'!$A$4:$B$83,2,FALSE),"") | D87: =IF(OR(WEEKDAY(A87,2)>=6,C87<>"",COUNTIF('1_祝日'!$D$4:$D$43,A87)>0,AND($B$3=1,OR(AND(MONTH(A87)=12,DAY(A87)>=29),AND(MONTH(A87)=1,DAY(A87)<=3)))),1,0) | F87: =IF(OR(D87=1,E87=1),1,0) | G87: =IF(F87=1,G86+1,0) | H87: =IF(F87=1,H88+1,0) | I87: =IF(AND(D87=1,E87=1),"もとから休み","") | J87: =IF(F87=1,G87+H87-1,"") | K87: =IF(D87=0,COUNTIF($D$7:D87,0),"")
A88: =DATE($B$2-1,12,1)+81 | B88: =TEXT(A88,"aaa") | C88: =IFERROR(VLOOKUP(A88,'1_祝日'!$A$4:$B$83,2,FALSE),"") | D88: =IF(OR(WEEKDAY(A88,2)>=6,C88<>"",COUNTIF('1_祝日'!$D$4:$D$43,A88)>0,AND($B$3=1,OR(AND(MONTH(A88)=12,DAY(A88)>=29),AND(MONTH(A88)=1,DAY(A88)<=3)))),1,0) | F88: =IF(OR(D88=1,E88=1),1,0) | G88: =IF(F88=1,G87+1,0) | H88: =IF(F88=1,H89+1,0) | I88: =IF(AND(D88=1,E88=1),"もとから休み","") | J88: =IF(F88=1,G88+H88-1,"") | K88: =IF(D88=0,COUNTIF($D$7:D88,0),"")
A89: =DATE($B$2-1,12,1)+82 | B89: =TEXT(A89,"aaa") | C89: =IFERROR(VLOOKUP(A89,'1_祝日'!$A$4:$B$83,2,FALSE),"") | D89: =IF(OR(WEEKDAY(A89,2)>=6,C89<>"",COUNTIF('1_祝日'!$D$4:$D$43,A89)>0,AND($B$3=1,OR(AND(MONTH(A89)=12,DAY(A89)>=29),AND(MONTH(A89)=1,DAY(A89)<=3)))),1,0) | F89: =IF(OR(D89=1,E89=1),1,0) | G89: =IF(F89=1,G88+1,0) | H89: =IF(F89=1,H90+1,0) | I89: =IF(AND(D89=1,E89=1),"もとから休み","") | J89: =IF(F89=1,G89+H89-1,"") | K89: =IF(D89=0,COUNTIF($D$7:D89,0),"")
A90: =DATE($B$2-1,12,1)+83 | B90: =TEXT(A90,"aaa") | C90: =IFERROR(VLOOKUP(A90,'1_祝日'!$A$4:$B$83,2,FALSE),"") | D90: =IF(OR(WEEKDAY(A90,2)>=6,C90<>"",COUNTIF('1_祝日'!$D$4:$D$43,A90)>0,AND($B$3=1,OR(AND(MONTH(A90)=12,DAY(A90)>=29),AND(MONTH(A90)=1,DAY(A90)<=3)))),1,0) | F90: =IF(OR(D90=1,E90=1),1,0) | G90: =IF(F90=1,G89+1,0) | H90: =IF(F90=1,H91+1,0) | I90: =IF(AND(D90=1,E90=1),"もとから休み","") | J90: =IF(F90=1,G90+H90-1,"") | K90: =IF(D90=0,COUNTIF($D$7:D90,0),"")
A91: =DATE($B$2-1,12,1)+84 | B91: =TEXT(A91,"aaa") | C91: =IFERROR(VLOOKUP(A91,'1_祝日'!$A$4:$B$83,2,FALSE),"") | D91: =IF(OR(WEEKDAY(A91,2)>=6,C91<>"",COUNTIF('1_祝日'!$D$4:$D$43,A91)>0,AND($B$3=1,OR(AND(MONTH(A91)=12,DAY(A91)>=29),AND(MONTH(A91)=1,DAY(A91)<=3)))),1,0) | F91: =IF(OR(D91=1,E91=1),1,0) | G91: =IF(F91=1,G90+1,0) | H91: =IF(F91=1,H92+1,0) | I91: =IF(AND(D91=1,E91=1),"もとから休み","") | J91: =IF(F91=1,G91+H91-1,"") | K91: =IF(D91=0,COUNTIF($D$7:D91,0),"")
A92: =DATE($B$2-1,12,1)+85 | B92: =TEXT(A92,"aaa") | C92: =IFERROR(VLOOKUP(A92,'1_祝日'!$A$4:$B$83,2,FALSE),"") | D92: =IF(OR(WEEKDAY(A92,2)>=6,C92<>"",COUNTIF('1_祝日'!$D$4:$D$43,A92)>0,AND($B$3=1,OR(AND(MONTH(A92)=12,DAY(A92)>=29),AND(MONTH(A92)=1,DAY(A92)<=3)))),1,0) | F92: =IF(OR(D92=1,E92=1),1,0) | G92: =IF(F92=1,G91+1,0) | H92: =IF(F92=1,H93+1,0) | I92: =IF(AND(D92=1,E92=1),"もとから休み","") | J92: =IF(F92=1,G92+H92-1,"") | K92: =IF(D92=0,COUNTIF($D$7:D92,0),"")
A93: =DATE($B$2-1,12,1)+86 | B93: =TEXT(A93,"aaa") | C93: =IFERROR(VLOOKUP(A93,'1_祝日'!$A$4:$B$83,2,FALSE),"") | D93: =IF(OR(WEEKDAY(A93,2)>=6,C93<>"",COUNTIF('1_祝日'!$D$4:$D$43,A93)>0,AND($B$3=1,OR(AND(MONTH(A93)=12,DAY(A93)>=29),AND(MONTH(A93)=1,DAY(A93)<=3)))),1,0) | F93: =IF(OR(D93=1,E93=1),1,0) | G93: =IF(F93=1,G92+1,0) | H93: =IF(F93=1,H94+1,0) | I93: =IF(AND(D93=1,E93=1),"もとから休み","") | J93: =IF(F93=1,G93+H93-1,"") | K93: =IF(D93=0,COUNTIF($D$7:D93,0),"")
A94: =DATE($B$2-1,12,1)+87 | B94: =TEXT(A94,"aaa") | C94: =IFERROR(VLOOKUP(A94,'1_祝日'!$A$4:$B$83,2,FALSE),"") | D94: =IF(OR(WEEKDAY(A94,2)>=6,C94<>"",COUNTIF('1_祝日'!$D$4:$D$43,A94)>0,AND($B$3=1,OR(AND(MONTH(A94)=12,DAY(A94)>=29),AND(MONTH(A94)=1,DAY(A94)<=3)))),1,0) | F94: =IF(OR(D94=1,E94=1),1,0) | G94: =IF(F94=1,G93+1,0) | H94: =IF(F94=1,H95+1,0) | I94: =IF(AND(D94=1,E94=1),"もとから休み","") | J94: =IF(F94=1,G94+H94-1,"") | K94: =IF(D94=0,COUNTIF($D$7:D94,0),"")
A95: =DATE($B$2-1,12,1)+88 | B95: =TEXT(A95,"aaa") | C95: =IFERROR(VLOOKUP(A95,'1_祝日'!$A$4:$B$83,2,FALSE),"") | D95: =IF(OR(WEEKDAY(A95,2)>=6,C95<>"",COUNTIF('1_祝日'!$D$4:$D$43,A95)>0,AND($B$3=1,OR(AND(MONTH(A95)=12,DAY(A95)>=29),AND(MONTH(A95)=1,DAY(A95)<=3)))),1,0) | F95: =IF(OR(D95=1,E95=1),1,0) | G95: =IF(F95=1,G94+1,0) | H95: =IF(F95=1,H96+1,0) | I95: =IF(AND(D95=1,E95=1),"もとから休み","") | J95: =IF(F95=1,G95+H95-1,"") | K95: =IF(D95=0,COUNTIF($D$7:D95,0),"")
A96: =DATE($B$2-1,12,1)+89 | B96: =TEXT(A96,"aaa") | C96: =IFERROR(VLOOKUP(A96,'1_祝日'!$A$4:$B$83,2,FALSE),"") | D96: =IF(OR(WEEKDAY(A96,2)>=6,C96<>"",COUNTIF('1_祝日'!$D$4:$D$43,A96)>0,AND($B$3=1,OR(AND(MONTH(A96)=12,DAY(A96)>=29),AND(MONTH(A96)=1,DAY(A96)<=3)))),1,0) | F96: =IF(OR(D96=1,E96=1),1,0) | G96: =IF(F96=1,G95+1,0) | H96: =IF(F96=1,H97+1,0) | I96: =IF(AND(D96=1,E96=1),"もとから休み","") | J96: =IF(F96=1,G96+H96-1,"") | K96: =IF(D96=0,COUNTIF($D$7:D96,0),"")
A97: =DATE($B$2-1,12,1)+90 | B97: =TEXT(A97,"aaa") | C97: =IFERROR(VLOOKUP(A97,'1_祝日'!$A$4:$B$83,2,FALSE),"") | D97: =IF(OR(WEEKDAY(A97,2)>=6,C97<>"",COUNTIF('1_祝日'!$D$4:$D$43,A97)>0,AND($B$3=1,OR(AND(MONTH(A97)=12,DAY(A97)>=29),AND(MONTH(A97)=1,DAY(A97)<=3)))),1,0) | F97: =IF(OR(D97=1,E97=1),1,0) | G97: =IF(F97=1,G96+1,0) | H97: =IF(F97=1,H98+1,0) | I97: =IF(AND(D97=1,E97=1),"もとから休み","") | J97: =IF(F97=1,G97+H97-1,"") | K97: =IF(D97=0,COUNTIF($D$7:D97,0),"")
A98: =DATE($B$2-1,12,1)+91 | B98: =TEXT(A98,"aaa") | C98: =IFERROR(VLOOKUP(A98,'1_祝日'!$A$4:$B$83,2,FALSE),"") | D98: =IF(OR(WEEKDAY(A98,2)>=6,C98<>"",COUNTIF('1_祝日'!$D$4:$D$43,A98)>0,AND($B$3=1,OR(AND(MONTH(A98)=12,DAY(A98)>=29),AND(MONTH(A98)=1,DAY(A98)<=3)))),1,0) | F98: =IF(OR(D98=1,E98=1),1,0) | G98: =IF(F98=1,G97+1,0) | H98: =IF(F98=1,H99+1,0) | I98: =IF(AND(D98=1,E98=1),"もとから休み","") | J98: =IF(F98=1,G98+H98-1,"") | K98: =IF(D98=0,COUNTIF($D$7:D98,0),"")
A99: =DATE($B$2-1,12,1)+92 | B99: =TEXT(A99,"aaa") | C99: =IFERROR(VLOOKUP(A99,'1_祝日'!$A$4:$B$83,2,FALSE),"") | D99: =IF(OR(WEEKDAY(A99,2)>=6,C99<>"",COUNTIF('1_祝日'!$D$4:$D$43,A99)>0,AND($B$3=1,OR(AND(MONTH(A99)=12,DAY(A99)>=29),AND(MONTH(A99)=1,DAY(A99)<=3)))),1,0) | F99: =IF(OR(D99=1,E99=1),1,0) | G99: =IF(F99=1,G98+1,0) | H99: =IF(F99=1,H100+1,0) | I99: =IF(AND(D99=1,E99=1),"もとから休み","") | J99: =IF(F99=1,G99+H99-1,"") | K99: =IF(D99=0,COUNTIF($D$7:D99,0),"")
A100: =DATE($B$2-1,12,1)+93 | B100: =TEXT(A100,"aaa") | C100: =IFERROR(VLOOKUP(A100,'1_祝日'!$A$4:$B$83,2,FALSE),"") | D100: =IF(OR(WEEKDAY(A100,2)>=6,C100<>"",COUNTIF('1_祝日'!$D$4:$D$43,A100)>0,AND($B$3=1,OR(AND(MONTH(A100)=12,DAY(A100)>=29),AND(MONTH(A100)=1,DAY(A100)<=3)))),1,0) | F100: =IF(OR(D100=1,E100=1),1,0) | G100: =IF(F100=1,G99+1,0) | H100: =IF(F100=1,H101+1,0) | I100: =IF(AND(D100=1,E100=1),"もとから休み","") | J100: =IF(F100=1,G100+H100-1,"") | K100: =IF(D100=0,COUNTIF($D$7:D100,0),"")
A101: =DATE($B$2-1,12,1)+94 | B101: =TEXT(A101,"aaa") | C101: =IFERROR(VLOOKUP(A101,'1_祝日'!$A$4:$B$83,2,FALSE),"") | D101: =IF(OR(WEEKDAY(A101,2)>=6,C101<>"",COUNTIF('1_祝日'!$D$4:$D$43,A101)>0,AND($B$3=1,OR(AND(MONTH(A101)=12,DAY(A101)>=29),AND(MONTH(A101)=1,DAY(A101)<=3)))),1,0) | F101: =IF(OR(D101=1,E101=1),1,0) | G101: =IF(F101=1,G100+1,0) | H101: =IF(F101=1,H102+1,0) | I101: =IF(AND(D101=1,E101=1),"もとから休み","") | J101: =IF(F101=1,G101+H101-1,"") | K101: =IF(D101=0,COUNTIF($D$7:D101,0),"")
...

Sheet 3_最長
A1: 有給をk日使ったときの最長の連休。出勤日を並べて、続けてk日休んだ場合を全部数える
A2: 数える年 | B2: ='2_暦'!B2
C3: 0 | D3: 1 | E3: 2 | F3: 3 | G3: 4 | H3: 5 | I3: 6 | J3: 7 | K3: 8 | L3: 9 | M3: 10
A4: 番号 | B4: 出勤日 | C4: k=0 | D4: k=1 | E4: k=2 | F4: k=3 | G4: k=4 | H4: k=5 | I4: k=6 | J4: k=7 | K4: k=8 | L4: k=9 | M4: k=10 | P4: 有給の日数 | Q4: 最長の連休 | R4: 休み始め | S4: 休み終わり | T4: 有給の初日 | U4: 有給の最終日 | V4: 前より延びた日数 | W4: 同じ長さの取り方
A5: 1 | B5: =IFERROR(INDEX('2_暦'!$A$7:$A$433,MATCH(A5,'2_暦'!$K$7:$K$433,0)),"") | C5: =IF(OR($A5=1,$B5=""),"",IF(OR(YEAR($B5-1)=$B$2,YEAR(INDEX($B$5:$B$344,$A5-1)+1)=$B$2),$B5-INDEX($B$5:$B$344,$A5-1)-1,"")) | D5: =IF(OR($A5=1,$B5="",$A5+D$3>340),"",IF(INDEX($B$5:$B$344,$A5+D$3)="","",IF(AND(YEAR($B5)=$B$2,YEAR(INDEX($B$5:$B$344,$A5+D$3-1))=$B$2),INDEX($B$5:$B$344,$A5+D$3)-INDEX($B$5:$B$344,$A5-1)-1,""))) | E5: =IF(OR($A5=1,$B5="",$A5+E$3>340),"",IF(INDEX($B$5:$B$344,$A5+E$3)="","",IF(AND(YEAR($B5)=$B$2,YEAR(INDEX($B$5:$B$344,$A5+E$3-1))=$B$2),INDEX($B$5:$B$344,$A5+E$3)-INDEX($B$5:$B$344,$A5-1)-1,""))) | F5: =IF(OR($A5=1,$B5="",$A5+F$3>340),"",IF(INDEX($B$5:$B$344,$A5+F$3)="","",IF(AND(YEAR($B5)=$B$2,YEAR(INDEX($B$5:$B$344,$A5+F$3-1))=$B$2),INDEX($B$5:$B$344,$A5+F$3)-INDEX($B$5:$B$344,$A5-1)-1,""))) | G5: =IF(OR($A5=1,$B5="",$A5+G$3>340),"",IF(INDEX($B$5:$B$344,$A5+G$3)="","",IF(AND(YEAR($B5)=$B$2,YEAR(INDEX($B$5:$B$344,$A5+G$3-1))=$B$2),INDEX($B$5:$B$344,$A5+G$3)-INDEX($B$5:$B$344,$A5-1)-1,""))) | H5: =IF(OR($A5=1,$B5="",$A5+H$3>340),"",IF(INDEX($B$5:$B$344,$A5+H$3)="","",IF(AND(YEAR($B5)=$B$2,YEAR(INDEX($B$5:$B$344,$A5+H$3-1))=$B$2),INDEX($B$5:$B$344,$A5+H$3)-INDEX($B$5:$B$344,$A5-1)-1,""))) | I5: =IF(OR($A5=1,$B5="",$A5+I$3>340),"",IF(INDEX($B$5:$B$344,$A5+I$3)="","",IF(AND(YEAR($B5)=$B$2,YEAR(INDEX($B$5:$B$344,$A5+I$3-1))=$B$2),INDEX($B$5:$B$344,$A5+I$3)-INDEX($B$5:$B$344,$A5-1)-1,""))) | J5: =IF(OR($A5=1,$B5="",$A5+J$3>340),"",IF(INDEX($B$5:$B$344,$A5+J$3)="","",IF(AND(YEAR($B5)=$B$2,YEAR(INDEX($B$5:$B$344,$A5+J$3-1))=$B$2),INDEX($B$5:$B$344,$A5+J$3)-INDEX($B$5:$B$344,$A5-1)-1,""))) | K5: =IF(OR($A5=1,$B5="",$A5+K$3>340),"",IF(INDEX($B$5:$B$344,$A5+K$3)="","",IF(AND(YEAR($B5)=$B$2,YEAR(INDEX($B$5:$B$344,$A5+K$3-1))=$B$2),INDEX($B$5:$B$344,$A5+K$3)-INDEX($B$5:$B$344,$A5-1)-1,""))) | ... M5: =IF(OR($A5=1,$B5="",$A5+M$3>340),"",IF(INDEX($B$5:$B$344,$A5+M$3)="","",IF(AND(YEAR($B5)=$B$2,YEAR(INDEX($B$5:$B$344,$A5+M$3-1))=$B$2),INDEX($B$5:$B$344,$A5+M$3)-INDEX($B$5:$B$344,$A5-1)-1,""))) | P5: 0 | Q5: =MAX($C$5:$C$344) | R5: =INDEX($B$5:$B$344,MATCH($Q5,$C$5:$C$344,0)-1)+1 | S5: =INDEX($B$5:$B$344,MATCH($Q5,$C$5:$C$344,0))-1 | T5: なし | U5: なし | W5: =COUNTIF($C$5:$C$344,$Q5)
A6: 2 | B6: =IFERROR(INDEX('2_暦'!$A$7:$A$433,MATCH(A6,'2_暦'!$K$7:$K$433,0)),"") | C6: =IF(OR($A6=1,$B6=""),"",IF(OR(YEAR($B6-1)=$B$2,YEAR(INDEX($B$5:$B$344,$A6-1)+1)=$B$2),$B6-INDEX($B$5:$B$344,$A6-1)-1,"")) | D6: =IF(OR($A6=1,$B6="",$A6+D$3>340),"",IF(INDEX($B$5:$B$344,$A6+D$3)="","",IF(AND(YEAR($B6)=$B$2,YEAR(INDEX($B$5:$B$344,$A6+D$3-1))=$B$2),INDEX($B$5:$B$344,$A6+D$3)-INDEX($B$5:$B$344,$A6-1)-1,""))) | E6: =IF(OR($A6=1,$B6="",$A6+E$3>340),"",IF(INDEX($B$5:$B$344,$A6+E$3)="","",IF(AND(YEAR($B6)=$B$2,YEAR(INDEX($B$5:$B$344,$A6+E$3-1))=$B$2),INDEX($B$5:$B$344,$A6+E$3)-INDEX($B$5:$B$344,$A6-1)-1,""))) | F6: =IF(OR($A6=1,$B6="",$A6+F$3>340),"",IF(INDEX($B$5:$B$344,$A6+F$3)="","",IF(AND(YEAR($B6)=$B$2,YEAR(INDEX($B$5:$B$344,$A6+F$3-1))=$B$2),INDEX($B$5:$B$344,$A6+F$3)-INDEX($B$5:$B$344,$A6-1)-1,""))) | G6: =IF(OR($A6=1,$B6="",$A6+G$3>340),"",IF(INDEX($B$5:$B$344,$A6+G$3)="","",IF(AND(YEAR($B6)=$B$2,YEAR(INDEX($B$5:$B$344,$A6+G$3-1))=$B$2),INDEX($B$5:$B$344,$A6+G$3)-INDEX($B$5:$B$344,$A6-1)-1,""))) | H6: =IF(OR($A6=1,$B6="",$A6+H$3>340),"",IF(INDEX($B$5:$B$344,$A6+H$3)="","",IF(AND(YEAR($B6)=$B$2,YEAR(INDEX($B$5:$B$344,$A6+H$3-1))=$B$2),INDEX($B$5:$B$344,$A6+H$3)-INDEX($B$5:$B$344,$A6-1)-1,""))) | I6: =IF(OR($A6=1,$B6="",$A6+I$3>340),"",IF(INDEX($B$5:$B$344,$A6+I$3)="","",IF(AND(YEAR($B6)=$B$2,YEAR(INDEX($B$5:$B$344,$A6+I$3-1))=$B$2),INDEX($B$5:$B$344,$A6+I$3)-INDEX($B$5:$B$344,$A6-1)-1,""))) | J6: =IF(OR($A6=1,$B6="",$A6+J$3>340),"",IF(INDEX($B$5:$B$344,$A6+J$3)="","",IF(AND(YEAR($B6)=$B$2,YEAR(INDEX($B$5:$B$344,$A6+J$3-1))=$B$2),INDEX($B$5:$B$344,$A6+J$3)-INDEX($B$5:$B$344,$A6-1)-1,""))) | K6: =IF(OR($A6=1,$B6="",$A6+K$3>340),"",IF(INDEX($B$5:$B$344,$A6+K$3)="","",IF(AND(YEAR($B6)=$B$2,YEAR(INDEX($B$5:$B$344,$A6+K$3-1))=$B$2),INDEX($B$5:$B$344,$A6+K$3)-INDEX($B$5:$B$344,$A6-1)-1,""))) | ... M6: =IF(OR($A6=1,$B6="",$A6+M$3>340),"",IF(INDEX($B$5:$B$344,$A6+M$3)="","",IF(AND(YEAR($B6)=$B$2,YEAR(INDEX($B$5:$B$344,$A6+M$3-1))=$B$2),INDEX($B$5:$B$344,$A6+M$3)-INDEX($B$5:$B$344,$A6-1)-1,""))) | P6: 1 | Q6: =MAX($D$5:$D$344) | R6: =INDEX($B$5:$B$344,MATCH($Q6,$D$5:$D$344,0)-1)+1 | S6: =INDEX($B$5:$B$344,MATCH($Q6,$D$5:$D$344,0)+1)-1 | T6: =INDEX($B$5:$B$344,MATCH($Q6,$D$5:$D$344,0)) | U6: =INDEX($B$5:$B$344,MATCH($Q6,$D$5:$D$344,0)+0) | V6: =Q6-Q5 | W6: =COUNTIF($D$5:$D$344,$Q6)
A7: 3 | B7: =IFERROR(INDEX('2_暦'!$A$7:$A$433,MATCH(A7,'2_暦'!$K$7:$K$433,0)),"") | C7: =IF(OR($A7=1,$B7=""),"",IF(OR(YEAR($B7-1)=$B$2,YEAR(INDEX($B$5:$B$344,$A7-1)+1)=$B$2),$B7-INDEX($B$5:$B$344,$A7-1)-1,"")) | D7: =IF(OR($A7=1,$B7="",$A7+D$3>340),"",IF(INDEX($B$5:$B$344,$A7+D$3)="","",IF(AND(YEAR($B7)=$B$2,YEAR(INDEX($B$5:$B$344,$A7+D$3-1))=$B$2),INDEX($B$5:$B$344,$A7+D$3)-INDEX($B$5:$B$344,$A7-1)-1,""))) | E7: =IF(OR($A7=1,$B7="",$A7+E$3>340),"",IF(INDEX($B$5:$B$344,$A7+E$3)="","",IF(AND(YEAR($B7)=$B$2,YEAR(INDEX($B$5:$B$344,$A7+E$3-1))=$B$2),INDEX($B$5:$B$344,$A7+E$3)-INDEX($B$5:$B$344,$A7-1)-1,""))) | F7: =IF(OR($A7=1,$B7="",$A7+F$3>340),"",IF(INDEX($B$5:$B$344,$A7+F$3)="","",IF(AND(YEAR($B7)=$B$2,YEAR(INDEX($B$5:$B$344,$A7+F$3-1))=$B$2),INDEX($B$5:$B$344,$A7+F$3)-INDEX($B$5:$B$344,$A7-1)-1,""))) | G7: =IF(OR($A7=1,$B7="",$A7+G$3>340),"",IF(INDEX($B$5:$B$344,$A7+G$3)="","",IF(AND(YEAR($B7)=$B$2,YEAR(INDEX($B$5:$B$344,$A7+G$3-1))=$B$2),INDEX($B$5:$B$344,$A7+G$3)-INDEX($B$5:$B$344,$A7-1)-1,""))) | H7: =IF(OR($A7=1,$B7="",$A7+H$3>340),"",IF(INDEX($B$5:$B$344,$A7+H$3)="","",IF(AND(YEAR($B7)=$B$2,YEAR(INDEX($B$5:$B$344,$A7+H$3-1))=$B$2),INDEX($B$5:$B$344,$A7+H$3)-INDEX($B$5:$B$344,$A7-1)-1,""))) | I7: =IF(OR($A7=1,$B7="",$A7+I$3>340),"",IF(INDEX($B$5:$B$344,$A7+I$3)="","",IF(AND(YEAR($B7)=$B$2,YEAR(INDEX($B$5:$B$344,$A7+I$3-1))=$B$2),INDEX($B$5:$B$344,$A7+I$3)-INDEX($B$5:$B$344,$A7-1)-1,""))) | J7: =IF(OR($A7=1,$B7="",$A7+J$3>340),"",IF(INDEX($B$5:$B$344,$A7+J$3)="","",IF(AND(YEAR($B7)=$B$2,YEAR(INDEX($B$5:$B$344,$A7+J$3-1))=$B$2),INDEX($B$5:$B$344,$A7+J$3)-INDEX($B$5:$B$344,$A7-1)-1,""))) | K7: =IF(OR($A7=1,$B7="",$A7+K$3>340),"",IF(INDEX($B$5:$B$344,$A7+K$3)="","",IF(AND(YEAR($B7)=$B$2,YEAR(INDEX($B$5:$B$344,$A7+K$3-1))=$B$2),INDEX($B$5:$B$344,$A7+K$3)-INDEX($B$5:$B$344,$A7-1)-1,""))) | ... M7: =IF(OR($A7=1,$B7="",$A7+M$3>340),"",IF(INDEX($B$5:$B$344,$A7+M$3)="","",IF(AND(YEAR($B7)=$B$2,YEAR(INDEX($B$5:$B$344,$A7+M$3-1))=$B$2),INDEX($B$5:$B$344,$A7+M$3)-INDEX($B$5:$B$344,$A7-1)-1,""))) | P7: 2 | Q7: =MAX($E$5:$E$344) | R7: =INDEX($B$5:$B$344,MATCH($Q7,$E$5:$E$344,0)-1)+1 | S7: =INDEX($B$5:$B$344,MATCH($Q7,$E$5:$E$344,0)+2)-1 | T7: =INDEX($B$5:$B$344,MATCH($Q7,$E$5:$E$344,0)) | U7: =INDEX($B$5:$B$344,MATCH($Q7,$E$5:$E$344,0)+1) | V7: =Q7-Q6 | W7: =COUNTIF($E$5:$E$344,$Q7)
A8: 4 | B8: =IFERROR(INDEX('2_暦'!$A$7:$A$433,MATCH(A8,'2_暦'!$K$7:$K$433,0)),"") | C8: =IF(OR($A8=1,$B8=""),"",IF(OR(YEAR($B8-1)=$B$2,YEAR(INDEX($B$5:$B$344,$A8-1)+1)=$B$2),$B8-INDEX($B$5:$B$344,$A8-1)-1,"")) | D8: =IF(OR($A8=1,$B8="",$A8+D$3>340),"",IF(INDEX($B$5:$B$344,$A8+D$3)="","",IF(AND(YEAR($B8)=$B$2,YEAR(INDEX($B$5:$B$344,$A8+D$3-1))=$B$2),INDEX($B$5:$B$344,$A8+D$3)-INDEX($B$5:$B$344,$A8-1)-1,""))) | E8: =IF(OR($A8=1,$B8="",$A8+E$3>340),"",IF(INDEX($B$5:$B$344,$A8+E$3)="","",IF(AND(YEAR($B8)=$B$2,YEAR(INDEX($B$5:$B$344,$A8+E$3-1))=$B$2),INDEX($B$5:$B$344,$A8+E$3)-INDEX($B$5:$B$344,$A8-1)-1,""))) | F8: =IF(OR($A8=1,$B8="",$A8+F$3>340),"",IF(INDEX($B$5:$B$344,$A8+F$3)="","",IF(AND(YEAR($B8)=$B$2,YEAR(INDEX($B$5:$B$344,$A8+F$3-1))=$B$2),INDEX($B$5:$B$344,$A8+F$3)-INDEX($B$5:$B$344,$A8-1)-1,""))) | G8: =IF(OR($A8=1,$B8="",$A8+G$3>340),"",IF(INDEX($B$5:$B$344,$A8+G$3)="","",IF(AND(YEAR($B8)=$B$2,YEAR(INDEX($B$5:$B$344,$A8+G$3-1))=$B$2),INDEX($B$5:$B$344,$A8+G$3)-INDEX($B$5:$B$344,$A8-1)-1,""))) | H8: =IF(OR($A8=1,$B8="",$A8+H$3>340),"",IF(INDEX($B$5:$B$344,$A8+H$3)="","",IF(AND(YEAR($B8)=$B$2,YEAR(INDEX($B$5:$B$344,$A8+H$3-1))=$B$2),INDEX($B$5:$B$344,$A8+H$3)-INDEX($B$5:$B$344,$A8-1)-1,""))) | I8: =IF(OR($A8=1,$B8="",$A8+I$3>340),"",IF(INDEX($B$5:$B$344,$A8+I$3)="","",IF(AND(YEAR($B8)=$B$2,YEAR(INDEX($B$5:$B$344,$A8+I$3-1))=$B$2),INDEX($B$5:$B$344,$A8+I$3)-INDEX($B$5:$B$344,$A8-1)-1,""))) | J8: =IF(OR($A8=1,$B8="",$A8+J$3>340),"",IF(INDEX($B$5:$B$344,$A8+J$3)="","",IF(AND(YEAR($B8)=$B$2,YEAR(INDEX($B$5:$B$344,$A8+J$3-1))=$B$2),INDEX($B$5:$B$344,$A8+J$3)-INDEX($B$5:$B$344,$A8-1)-1,""))) | K8: =IF(OR($A8=1,$B8="",$A8+K$3>340),"",IF(INDEX($B$5:$B$344,$A8+K$3)="","",IF(AND(YEAR($B8)=$B$2,YEAR(INDEX($B$5:$B$344,$A8+K$3-1))=$B$2),INDEX($B$5:$B$344,$A8+K$3)-INDEX($B$5:$B$344,$A8-1)-1,""))) | ... M8: =IF(OR($A8=1,$B8="",$A8+M$3>340),"",IF(INDEX($B$5:$B$344,$A8+M$3)="","",IF(AND(YEAR($B8)=$B$2,YEAR(INDEX($B$5:$B$344,$A8+M$3-1))=$B$2),INDEX($B$5:$B$344,$A8+M$3)-INDEX($B$5:$B$344,$A8-1)-1,""))) | P8: 3 | Q8: =MAX($F$5:$F$344) | R8: =INDEX($B$5:$B$344,MATCH($Q8,$F$5:$F$344,0)-1)+1 | S8: =INDEX($B$5:$B$344,MATCH($Q8,$F$5:$F$344,0)+3)-1 | T8: =INDEX($B$5:$B$344,MATCH($Q8,$F$5:$F$344,0)) | U8: =INDEX($B$5:$B$344,MATCH($Q8,$F$5:$F$344,0)+2) | V8: =Q8-Q7 | W8: =COUNTIF($F$5:$F$344,$Q8)
A9: 5 | B9: =IFERROR(INDEX('2_暦'!$A$7:$A$433,MATCH(A9,'2_暦'!$K$7:$K$433,0)),"") | C9: =IF(OR($A9=1,$B9=""),"",IF(OR(YEAR($B9-1)=$B$2,YEAR(INDEX($B$5:$B$344,$A9-1)+1)=$B$2),$B9-INDEX($B$5:$B$344,$A9-1)-1,"")) | D9: =IF(OR($A9=1,$B9="",$A9+D$3>340),"",IF(INDEX($B$5:$B$344,$A9+D$3)="","",IF(AND(YEAR($B9)=$B$2,YEAR(INDEX($B$5:$B$344,$A9+D$3-1))=$B$2),INDEX($B$5:$B$344,$A9+D$3)-INDEX($B$5:$B$344,$A9-1)-1,""))) | E9: =IF(OR($A9=1,$B9="",$A9+E$3>340),"",IF(INDEX($B$5:$B$344,$A9+E$3)="","",IF(AND(YEAR($B9)=$B$2,YEAR(INDEX($B$5:$B$344,$A9+E$3-1))=$B$2),INDEX($B$5:$B$344,$A9+E$3)-INDEX($B$5:$B$344,$A9-1)-1,""))) | F9: =IF(OR($A9=1,$B9="",$A9+F$3>340),"",IF(INDEX($B$5:$B$344,$A9+F$3)="","",IF(AND(YEAR($B9)=$B$2,YEAR(INDEX($B$5:$B$344,$A9+F$3-1))=$B$2),INDEX($B$5:$B$344,$A9+F$3)-INDEX($B$5:$B$344,$A9-1)-1,""))) | G9: =IF(OR($A9=1,$B9="",$A9+G$3>340),"",IF(INDEX($B$5:$B$344,$A9+G$3)="","",IF(AND(YEAR($B9)=$B$2,YEAR(INDEX($B$5:$B$344,$A9+G$3-1))=$B$2),INDEX($B$5:$B$344,$A9+G$3)-INDEX($B$5:$B$344,$A9-1)-1,""))) | H9: =IF(OR($A9=1,$B9="",$A9+H$3>340),"",IF(INDEX($B$5:$B$344,$A9+H$3)="","",IF(AND(YEAR($B9)=$B$2,YEAR(INDEX($B$5:$B$344,$A9+H$3-1))=$B$2),INDEX($B$5:$B$344,$A9+H$3)-INDEX($B$5:$B$344,$A9-1)-1,""))) | I9: =IF(OR($A9=1,$B9="",$A9+I$3>340),"",IF(INDEX($B$5:$B$344,$A9+I$3)="","",IF(AND(YEAR($B9)=$B$2,YEAR(INDEX($B$5:$B$344,$A9+I$3-1))=$B$2),INDEX($B$5:$B$344,$A9+I$3)-INDEX($B$5:$B$344,$A9-1)-1,""))) | J9: =IF(OR($A9=1,$B9="",$A9+J$3>340),"",IF(INDEX($B$5:$B$344,$A9+J$3)="","",IF(AND(YEAR($B9)=$B$2,YEAR(INDEX($B$5:$B$344,$A9+J$3-1))=$B$2),INDEX($B$5:$B$344,$A9+J$3)-INDEX($B$5:$B$344,$A9-1)-1,""))) | K9: =IF(OR($A9=1,$B9="",$A9+K$3>340),"",IF(INDEX($B$5:$B$344,$A9+K$3)="","",IF(AND(YEAR($B9)=$B$2,YEAR(INDEX($B$5:$B$344,$A9+K$3-1))=$B$2),INDEX($B$5:$B$344,$A9+K$3)-INDEX($B$5:$B$344,$A9-1)-1,""))) | ... M9: =IF(OR($A9=1,$B9="",$A9+M$3>340),"",IF(INDEX($B$5:$B$344,$A9+M$3)="","",IF(AND(YEAR($B9)=$B$2,YEAR(INDEX($B$5:$B$344,$A9+M$3-1))=$B$2),INDEX($B$5:$B$344,$A9+M$3)-INDEX($B$5:$B$344,$A9-1)-1,""))) | P9: 4 | Q9: =MAX($G$5:$G$344) | R9: =INDEX($B$5:$B$344,MATCH($Q9,$G$5:$G$344,0)-1)+1 | S9: =INDEX($B$5:$B$344,MATCH($Q9,$G$5:$G$344,0)+4)-1 | T9: =INDEX($B$5:$B$344,MATCH($Q9,$G$5:$G$344,0)) | U9: =INDEX($B$5:$B$344,MATCH($Q9,$G$5:$G$344,0)+3) | V9: =Q9-Q8 | W9: =COUNTIF($G$5:$G$344,$Q9)
A10: 6 | B10: =IFERROR(INDEX('2_暦'!$A$7:$A$433,MATCH(A10,'2_暦'!$K$7:$K$433,0)),"") | C10: =IF(OR($A10=1,$B10=""),"",IF(OR(YEAR($B10-1)=$B$2,YEAR(INDEX($B$5:$B$344,$A10-1)+1)=$B$2),$B10-INDEX($B$5:$B$344,$A10-1)-1,"")) | D10: =IF(OR($A10=1,$B10="",$A10+D$3>340),"",IF(INDEX($B$5:$B$344,$A10+D$3)="","",IF(AND(YEAR($B10)=$B$2,YEAR(INDEX($B$5:$B$344,$A10+D$3-1))=$B$2),INDEX($B$5:$B$344,$A10+D$3)-INDEX($B$5:$B$344,$A10-1)-1,""))) | E10: =IF(OR($A10=1,$B10="",$A10+E$3>340),"",IF(INDEX($B$5:$B$344,$A10+E$3)="","",IF(AND(YEAR($B10)=$B$2,YEAR(INDEX($B$5:$B$344,$A10+E$3-1))=$B$2),INDEX($B$5:$B$344,$A10+E$3)-INDEX($B$5:$B$344,$A10-1)-1,""))) | F10: =IF(OR($A10=1,$B10="",$A10+F$3>340),"",IF(INDEX($B$5:$B$344,$A10+F$3)="","",IF(AND(YEAR($B10)=$B$2,YEAR(INDEX($B$5:$B$344,$A10+F$3-1))=$B$2),INDEX($B$5:$B$344,$A10+F$3)-INDEX($B$5:$B$344,$A10-1)-1,""))) | G10: =IF(OR($A10=1,$B10="",$A10+G$3>340),"",IF(INDEX($B$5:$B$344,$A10+G$3)="","",IF(AND(YEAR($B10)=$B$2,YEAR(INDEX($B$5:$B$344,$A10+G$3-1))=$B$2),INDEX($B$5:$B$344,$A10+G$3)-INDEX($B$5:$B$344,$A10-1)-1,""))) | H10: =IF(OR($A10=1,$B10="",$A10+H$3>340),"",IF(INDEX($B$5:$B$344,$A10+H$3)="","",IF(AND(YEAR($B10)=$B$2,YEAR(INDEX($B$5:$B$344,$A10+H$3-1))=$B$2),INDEX($B$5:$B$344,$A10+H$3)-INDEX($B$5:$B$344,$A10-1)-1,""))) | I10: =IF(OR($A10=1,$B10="",$A10+I$3>340),"",IF(INDEX($B$5:$B$344,$A10+I$3)="","",IF(AND(YEAR($B10)=$B$2,YEAR(INDEX($B$5:$B$344,$A10+I$3-1))=$B$2),INDEX($B$5:$B$344,$A10+I$3)-INDEX($B$5:$B$344,$A10-1)-1,""))) | J10: =IF(OR($A10=1,$B10="",$A10+J$3>340),"",IF(INDEX($B$5:$B$344,$A10+J$3)="","",IF(AND(YEAR($B10)=$B$2,YEAR(INDEX($B$5:$B$344,$A10+J$3-1))=$B$2),INDEX($B$5:$B$344,$A10+J$3)-INDEX($B$5:$B$344,$A10-1)-1,""))) | K10: =IF(OR($A10=1,$B10="",$A10+K$3>340),"",IF(INDEX($B$5:$B$344,$A10+K$3)="","",IF(AND(YEAR($B10)=$B$2,YEAR(INDEX($B$5:$B$344,$A10+K$3-1))=$B$2),INDEX($B$5:$B$344,$A10+K$3)-INDEX($B$5:$B$344,$A10-1)-1,""))) | ... M10: =IF(OR($A10=1,$B10="",$A10+M$3>340),"",IF(INDEX($B$5:$B$344,$A10+M$3)="","",IF(AND(YEAR($B10)=$B$2,YEAR(INDEX($B$5:$B$344,$A10+M$3-1))=$B$2),INDEX($B$5:$B$344,$A10+M$3)-INDEX($B$5:$B$344,$A10-1)-1,""))) | P10: 5 | Q10: =MAX($H$5:$H$344) | R10: =INDEX($B$5:$B$344,MATCH($Q10,$H$5:$H$344,0)-1)+1 | S10: =INDEX($B$5:$B$344,MATCH($Q10,$H$5:$H$344,0)+5)-1 | T10: =INDEX($B$5:$B$344,MATCH($Q10,$H$5:$H$344,0)) | U10: =INDEX($B$5:$B$344,MATCH($Q10,$H$5:$H$344,0)+4) | V10: =Q10-Q9 | W10: =COUNTIF($H$5:$H$344,$Q10)
A11: 7 | B11: =IFERROR(INDEX('2_暦'!$A$7:$A$433,MATCH(A11,'2_暦'!$K$7:$K$433,0)),"") | C11: =IF(OR($A11=1,$B11=""),"",IF(OR(YEAR($B11-1)=$B$2,YEAR(INDEX($B$5:$B$344,$A11-1)+1)=$B$2),$B11-INDEX($B$5:$B$344,$A11-1)-1,"")) | D11: =IF(OR($A11=1,$B11="",$A11+D$3>340),"",IF(INDEX($B$5:$B$344,$A11+D$3)="","",IF(AND(YEAR($B11)=$B$2,YEAR(INDEX($B$5:$B$344,$A11+D$3-1))=$B$2),INDEX($B$5:$B$344,$A11+D$3)-INDEX($B$5:$B$344,$A11-1)-1,""))) | E11: =IF(OR($A11=1,$B11="",$A11+E$3>340),"",IF(INDEX($B$5:$B$344,$A11+E$3)="","",IF(AND(YEAR($B11)=$B$2,YEAR(INDEX($B$5:$B$344,$A11+E$3-1))=$B$2),INDEX($B$5:$B$344,$A11+E$3)-INDEX($B$5:$B$344,$A11-1)-1,""))) | F11: =IF(OR($A11=1,$B11="",$A11+F$3>340),"",IF(INDEX($B$5:$B$344,$A11+F$3)="","",IF(AND(YEAR($B11)=$B$2,YEAR(INDEX($B$5:$B$344,$A11+F$3-1))=$B$2),INDEX($B$5:$B$344,$A11+F$3)-INDEX($B$5:$B$344,$A11-1)-1,""))) | G11: =IF(OR($A11=1,$B11="",$A11+G$3>340),"",IF(INDEX($B$5:$B$344,$A11+G$3)="","",IF(AND(YEAR($B11)=$B$2,YEAR(INDEX($B$5:$B$344,$A11+G$3-1))=$B$2),INDEX($B$5:$B$344,$A11+G$3)-INDEX($B$5:$B$344,$A11-1)-1,""))) | H11: =IF(OR($A11=1,$B11="",$A11+H$3>340),"",IF(INDEX($B$5:$B$344,$A11+H$3)="","",IF(AND(YEAR($B11)=$B$2,YEAR(INDEX($B$5:$B$344,$A11+H$3-1))=$B$2),INDEX($B$5:$B$344,$A11+H$3)-INDEX($B$5:$B$344,$A11-1)-1,""))) | I11: =IF(OR($A11=1,$B11="",$A11+I$3>340),"",IF(INDEX($B$5:$B$344,$A11+I$3)="","",IF(AND(YEAR($B11)=$B$2,YEAR(INDEX($B$5:$B$344,$A11+I$3-1))=$B$2),INDEX($B$5:$B$344,$A11+I$3)-INDEX($B$5:$B$344,$A11-1)-1,""))) | J11: =IF(OR($A11=1,$B11="",$A11+J$3>340),"",IF(INDEX($B$5:$B$344,$A11+J$3)="","",IF(AND(YEAR($B11)=$B$2,YEAR(INDEX($B$5:$B$344,$A11+J$3-1))=$B$2),INDEX($B$5:$B$344,$A11+J$3)-INDEX($B$5:$B$344,$A11-1)-1,""))) | K11: =IF(OR($A11=1,$B11="",$A11+K$3>340),"",IF(INDEX($B$5:$B$344,$A11+K$3)="","",IF(AND(YEAR($B11)=$B$2,YEAR(INDEX($B$5:$B$344,$A11+K$3-1))=$B$2),INDEX($B$5:$B$344,$A11+K$3)-INDEX($B$5:$B$344,$A11-1)-1,""))) | ... M11: =IF(OR($A11=1,$B11="",$A11+M$3>340),"",IF(INDEX($B$5:$B$344,$A11+M$3)="","",IF(AND(YEAR($B11)=$B$2,YEAR(INDEX($B$5:$B$344,$A11+M$3-1))=$B$2),INDEX($B$5:$B$344,$A11+M$3)-INDEX($B$5:$B$344,$A11-1)-1,""))) | P11: 6 | Q11: =MAX($I$5:$I$344) | R11: =INDEX($B$5:$B$344,MATCH($Q11,$I$5:$I$344,0)-1)+1 | S11: =INDEX($B$5:$B$344,MATCH($Q11,$I$5:$I$344,0)+6)-1 | T11: =INDEX($B$5:$B$344,MATCH($Q11,$I$5:$I$344,0)) | U11: =INDEX($B$5:$B$344,MATCH($Q11,$I$5:$I$344,0)+5) | V11: =Q11-Q10 | W11: =COUNTIF($I$5:$I$344,$Q11)
A12: 8 | B12: =IFERROR(INDEX('2_暦'!$A$7:$A$433,MATCH(A12,'2_暦'!$K$7:$K$433,0)),"") | C12: =IF(OR($A12=1,$B12=""),"",IF(OR(YEAR($B12-1)=$B$2,YEAR(INDEX($B$5:$B$344,$A12-1)+1)=$B$2),$B12-INDEX($B$5:$B$344,$A12-1)-1,"")) | D12: =IF(OR($A12=1,$B12="",$A12+D$3>340),"",IF(INDEX($B$5:$B$344,$A12+D$3)="","",IF(AND(YEAR($B12)=$B$2,YEAR(INDEX($B$5:$B$344,$A12+D$3-1))=$B$2),INDEX($B$5:$B$344,$A12+D$3)-INDEX($B$5:$B$344,$A12-1)-1,""))) | E12: =IF(OR($A12=1,$B12="",$A12+E$3>340),"",IF(INDEX($B$5:$B$344,$A12+E$3)="","",IF(AND(YEAR($B12)=$B$2,YEAR(INDEX($B$5:$B$344,$A12+E$3-1))=$B$2),INDEX($B$5:$B$344,$A12+E$3)-INDEX($B$5:$B$344,$A12-1)-1,""))) | F12: =IF(OR($A12=1,$B12="",$A12+F$3>340),"",IF(INDEX($B$5:$B$344,$A12+F$3)="","",IF(AND(YEAR($B12)=$B$2,YEAR(INDEX($B$5:$B$344,$A12+F$3-1))=$B$2),INDEX($B$5:$B$344,$A12+F$3)-INDEX($B$5:$B$344,$A12-1)-1,""))) | G12: =IF(OR($A12=1,$B12="",$A12+G$3>340),"",IF(INDEX($B$5:$B$344,$A12+G$3)="","",IF(AND(YEAR($B12)=$B$2,YEAR(INDEX($B$5:$B$344,$A12+G$3-1))=$B$2),INDEX($B$5:$B$344,$A12+G$3)-INDEX($B$5:$B$344,$A12-1)-1,""))) | H12: =IF(OR($A12=1,$B12="",$A12+H$3>340),"",IF(INDEX($B$5:$B$344,$A12+H$3)="","",IF(AND(YEAR($B12)=$B$2,YEAR(INDEX($B$5:$B$344,$A12+H$3-1))=$B$2),INDEX($B$5:$B$344,$A12+H$3)-INDEX($B$5:$B$344,$A12-1)-1,""))) | I12: =IF(OR($A12=1,$B12="",$A12+I$3>340),"",IF(INDEX($B$5:$B$344,$A12+I$3)="","",IF(AND(YEAR($B12)=$B$2,YEAR(INDEX($B$5:$B$344,$A12+I$3-1))=$B$2),INDEX($B$5:$B$344,$A12+I$3)-INDEX($B$5:$B$344,$A12-1)-1,""))) | J12: =IF(OR($A12=1,$B12="",$A12+J$3>340),"",IF(INDEX($B$5:$B$344,$A12+J$3)="","",IF(AND(YEAR($B12)=$B$2,YEAR(INDEX($B$5:$B$344,$A12+J$3-1))=$B$2),INDEX($B$5:$B$344,$A12+J$3)-INDEX($B$5:$B$344,$A12-1)-1,""))) | K12: =IF(OR($A12=1,$B12="",$A12+K$3>340),"",IF(INDEX($B$5:$B$344,$A12+K$3)="","",IF(AND(YEAR($B12)=$B$2,YEAR(INDEX($B$5:$B$344,$A12+K$3-1))=$B$2),INDEX($B$5:$B$344,$A12+K$3)-INDEX($B$5:$B$344,$A12-1)-1,""))) | ... M12: =IF(OR($A12=1,$B12="",$A12+M$3>340),"",IF(INDEX($B$5:$B$344,$A12+M$3)="","",IF(AND(YEAR($B12)=$B$2,YEAR(INDEX($B$5:$B$344,$A12+M$3-1))=$B$2),INDEX($B$5:$B$344,$A12+M$3)-INDEX($B$5:$B$344,$A12-1)-1,""))) | P12: 7 | Q12: =MAX($J$5:$J$344) | R12: =INDEX($B$5:$B$344,MATCH($Q12,$J$5:$J$344,0)-1)+1 | S12: =INDEX($B$5:$B$344,MATCH($Q12,$J$5:$J$344,0)+7)-1 | T12: =INDEX($B$5:$B$344,MATCH($Q12,$J$5:$J$344,0)) | U12: =INDEX($B$5:$B$344,MATCH($Q12,$J$5:$J$344,0)+6) | V12: =Q12-Q11 | W12: =COUNTIF($J$5:$J$344,$Q12)
A13: 9 | B13: =IFERROR(INDEX('2_暦'!$A$7:$A$433,MATCH(A13,'2_暦'!$K$7:$K$433,0)),"") | C13: =IF(OR($A13=1,$B13=""),"",IF(OR(YEAR($B13-1)=$B$2,YEAR(INDEX($B$5:$B$344,$A13-1)+1)=$B$2),$B13-INDEX($B$5:$B$344,$A13-1)-1,"")) | D13: =IF(OR($A13=1,$B13="",$A13+D$3>340),"",IF(INDEX($B$5:$B$344,$A13+D$3)="","",IF(AND(YEAR($B13)=$B$2,YEAR(INDEX($B$5:$B$344,$A13+D$3-1))=$B$2),INDEX($B$5:$B$344,$A13+D$3)-INDEX($B$5:$B$344,$A13-1)-1,""))) | E13: =IF(OR($A13=1,$B13="",$A13+E$3>340),"",IF(INDEX($B$5:$B$344,$A13+E$3)="","",IF(AND(YEAR($B13)=$B$2,YEAR(INDEX($B$5:$B$344,$A13+E$3-1))=$B$2),INDEX($B$5:$B$344,$A13+E$3)-INDEX($B$5:$B$344,$A13-1)-1,""))) | F13: =IF(OR($A13=1,$B13="",$A13+F$3>340),"",IF(INDEX($B$5:$B$344,$A13+F$3)="","",IF(AND(YEAR($B13)=$B$2,YEAR(INDEX($B$5:$B$344,$A13+F$3-1))=$B$2),INDEX($B$5:$B$344,$A13+F$3)-INDEX($B$5:$B$344,$A13-1)-1,""))) | G13: =IF(OR($A13=1,$B13="",$A13+G$3>340),"",IF(INDEX($B$5:$B$344,$A13+G$3)="","",IF(AND(YEAR($B13)=$B$2,YEAR(INDEX($B$5:$B$344,$A13+G$3-1))=$B$2),INDEX($B$5:$B$344,$A13+G$3)-INDEX($B$5:$B$344,$A13-1)-1,""))) | H13: =IF(OR($A13=1,$B13="",$A13+H$3>340),"",IF(INDEX($B$5:$B$344,$A13+H$3)="","",IF(AND(YEAR($B13)=$B$2,YEAR(INDEX($B$5:$B$344,$A13+H$3-1))=$B$2),INDEX($B$5:$B$344,$A13+H$3)-INDEX($B$5:$B$344,$A13-1)-1,""))) | I13: =IF(OR($A13=1,$B13="",$A13+I$3>340),"",IF(INDEX($B$5:$B$344,$A13+I$3)="","",IF(AND(YEAR($B13)=$B$2,YEAR(INDEX($B$5:$B$344,$A13+I$3-1))=$B$2),INDEX($B$5:$B$344,$A13+I$3)-INDEX($B$5:$B$344,$A13-1)-1,""))) | J13: =IF(OR($A13=1,$B13="",$A13+J$3>340),"",IF(INDEX($B$5:$B$344,$A13+J$3)="","",IF(AND(YEAR($B13)=$B$2,YEAR(INDEX($B$5:$B$344,$A13+J$3-1))=$B$2),INDEX($B$5:$B$344,$A13+J$3)-INDEX($B$5:$B$344,$A13-1)-1,""))) | K13: =IF(OR($A13=1,$B13="",$A13+K$3>340),"",IF(INDEX($B$5:$B$344,$A13+K$3)="","",IF(AND(YEAR($B13)=$B$2,YEAR(INDEX($B$5:$B$344,$A13+K$3-1))=$B$2),INDEX($B$5:$B$344,$A13+K$3)-INDEX($B$5:$B$344,$A13-1)-1,""))) | ... M13: =IF(OR($A13=1,$B13="",$A13+M$3>340),"",IF(INDEX($B$5:$B$344,$A13+M$3)="","",IF(AND(YEAR($B13)=$B$2,YEAR(INDEX($B$5:$B$344,$A13+M$3-1))=$B$2),INDEX($B$5:$B$344,$A13+M$3)-INDEX($B$5:$B$344,$A13-1)-1,""))) | P13: 8 | Q13: =MAX($K$5:$K$344) | R13: =INDEX($B$5:$B$344,MATCH($Q13,$K$5:$K$344,0)-1)+1 | S13: =INDEX($B$5:$B$344,MATCH($Q13,$K$5:$K$344,0)+8)-1 | T13: =INDEX($B$5:$B$344,MATCH($Q13,$K$5:$K$344,0)) | U13: =INDEX($B$5:$B$344,MATCH($Q13,$K$5:$K$344,0)+7) | V13: =Q13-Q12 | W13: =COUNTIF($K$5:$K$344,$Q13)
A14: 10 | B14: =IFERROR(INDEX('2_暦'!$A$7:$A$433,MATCH(A14,'2_暦'!$K$7:$K$433,0)),"") | C14: =IF(OR($A14=1,$B14=""),"",IF(OR(YEAR($B14-1)=$B$2,YEAR(INDEX($B$5:$B$344,$A14-1)+1)=$B$2),$B14-INDEX($B$5:$B$344,$A14-1)-1,"")) | D14: =IF(OR($A14=1,$B14="",$A14+D$3>340),"",IF(INDEX($B$5:$B$344,$A14+D$3)="","",IF(AND(YEAR($B14)=$B$2,YEAR(INDEX($B$5:$B$344,$A14+D$3-1))=$B$2),INDEX($B$5:$B$344,$A14+D$3)-INDEX($B$5:$B$344,$A14-1)-1,""))) | E14: =IF(OR($A14=1,$B14="",$A14+E$3>340),"",IF(INDEX($B$5:$B$344,$A14+E$3)="","",IF(AND(YEAR($B14)=$B$2,YEAR(INDEX($B$5:$B$344,$A14+E$3-1))=$B$2),INDEX($B$5:$B$344,$A14+E$3)-INDEX($B$5:$B$344,$A14-1)-1,""))) | F14: =IF(OR($A14=1,$B14="",$A14+F$3>340),"",IF(INDEX($B$5:$B$344,$A14+F$3)="","",IF(AND(YEAR($B14)=$B$2,YEAR(INDEX($B$5:$B$344,$A14+F$3-1))=$B$2),INDEX($B$5:$B$344,$A14+F$3)-INDEX($B$5:$B$344,$A14-1)-1,""))) | G14: =IF(OR($A14=1,$B14="",$A14+G$3>340),"",IF(INDEX($B$5:$B$344,$A14+G$3)="","",IF(AND(YEAR($B14)=$B$2,YEAR(INDEX($B$5:$B$344,$A14+G$3-1))=$B$2),INDEX($B$5:$B$344,$A14+G$3)-INDEX($B$5:$B$344,$A14-1)-1,""))) | H14: =IF(OR($A14=1,$B14="",$A14+H$3>340),"",IF(INDEX($B$5:$B$344,$A14+H$3)="","",IF(AND(YEAR($B14)=$B$2,YEAR(INDEX($B$5:$B$344,$A14+H$3-1))=$B$2),INDEX($B$5:$B$344,$A14+H$3)-INDEX($B$5:$B$344,$A14-1)-1,""))) | I14: =IF(OR($A14=1,$B14="",$A14+I$3>340),"",IF(INDEX($B$5:$B$344,$A14+I$3)="","",IF(AND(YEAR($B14)=$B$2,YEAR(INDEX($B$5:$B$344,$A14+I$3-1))=$B$2),INDEX($B$5:$B$344,$A14+I$3)-INDEX($B$5:$B$344,$A14-1)-1,""))) | J14: =IF(OR($A14=1,$B14="",$A14+J$3>340),"",IF(INDEX($B$5:$B$344,$A14+J$3)="","",IF(AND(YEAR($B14)=$B$2,YEAR(INDEX($B$5:$B$344,$A14+J$3-1))=$B$2),INDEX($B$5:$B$344,$A14+J$3)-INDEX($B$5:$B$344,$A14-1)-1,""))) | K14: =IF(OR($A14=1,$B14="",$A14+K$3>340),"",IF(INDEX($B$5:$B$344,$A14+K$3)="","",IF(AND(YEAR($B14)=$B$2,YEAR(INDEX($B$5:$B$344,$A14+K$3-1))=$B$2),INDEX($B$5:$B$344,$A14+K$3)-INDEX($B$5:$B$344,$A14-1)-1,""))) | ... M14: =IF(OR($A14=1,$B14="",$A14+M$3>340),"",IF(INDEX($B$5:$B$344,$A14+M$3)="","",IF(AND(YEAR($B14)=$B$2,YEAR(INDEX($B$5:$B$344,$A14+M$3-1))=$B$2),INDEX($B$5:$B$344,$A14+M$3)-INDEX($B$5:$B$344,$A14-1)-1,""))) | P14: 9 | Q14: =MAX($L$5:$L$344) | R14: =INDEX($B$5:$B$344,MATCH($Q14,$L$5:$L$344,0)-1)+1 | S14: =INDEX($B$5:$B$344,MATCH($Q14,$L$5:$L$344,0)+9)-1 | T14: =INDEX($B$5:$B$344,MATCH($Q14,$L$5:$L$344,0)) | U14: =INDEX($B$5:$B$344,MATCH($Q14,$L$5:$L$344,0)+8) | V14: =Q14-Q13 | W14: =COUNTIF($L$5:$L$344,$Q14)
A15: 11 | B15: =IFERROR(INDEX('2_暦'!$A$7:$A$433,MATCH(A15,'2_暦'!$K$7:$K$433,0)),"") | C15: =IF(OR($A15=1,$B15=""),"",IF(OR(YEAR($B15-1)=$B$2,YEAR(INDEX($B$5:$B$344,$A15-1)+1)=$B$2),$B15-INDEX($B$5:$B$344,$A15-1)-1,"")) | D15: =IF(OR($A15=1,$B15="",$A15+D$3>340),"",IF(INDEX($B$5:$B$344,$A15+D$3)="","",IF(AND(YEAR($B15)=$B$2,YEAR(INDEX($B$5:$B$344,$A15+D$3-1))=$B$2),INDEX($B$5:$B$344,$A15+D$3)-INDEX($B$5:$B$344,$A15-1)-1,""))) | E15: =IF(OR($A15=1,$B15="",$A15+E$3>340),"",IF(INDEX($B$5:$B$344,$A15+E$3)="","",IF(AND(YEAR($B15)=$B$2,YEAR(INDEX($B$5:$B$344,$A15+E$3-1))=$B$2),INDEX($B$5:$B$344,$A15+E$3)-INDEX($B$5:$B$344,$A15-1)-1,""))) | F15: =IF(OR($A15=1,$B15="",$A15+F$3>340),"",IF(INDEX($B$5:$B$344,$A15+F$3)="","",IF(AND(YEAR($B15)=$B$2,YEAR(INDEX($B$5:$B$344,$A15+F$3-1))=$B$2),INDEX($B$5:$B$344,$A15+F$3)-INDEX($B$5:$B$344,$A15-1)-1,""))) | G15: =IF(OR($A15=1,$B15="",$A15+G$3>340),"",IF(INDEX($B$5:$B$344,$A15+G$3)="","",IF(AND(YEAR($B15)=$B$2,YEAR(INDEX($B$5:$B$344,$A15+G$3-1))=$B$2),INDEX($B$5:$B$344,$A15+G$3)-INDEX($B$5:$B$344,$A15-1)-1,""))) | H15: =IF(OR($A15=1,$B15="",$A15+H$3>340),"",IF(INDEX($B$5:$B$344,$A15+H$3)="","",IF(AND(YEAR($B15)=$B$2,YEAR(INDEX($B$5:$B$344,$A15+H$3-1))=$B$2),INDEX($B$5:$B$344,$A15+H$3)-INDEX($B$5:$B$344,$A15-1)-1,""))) | I15: =IF(OR($A15=1,$B15="",$A15+I$3>340),"",IF(INDEX($B$5:$B$344,$A15+I$3)="","",IF(AND(YEAR($B15)=$B$2,YEAR(INDEX($B$5:$B$344,$A15+I$3-1))=$B$2),INDEX($B$5:$B$344,$A15+I$3)-INDEX($B$5:$B$344,$A15-1)-1,""))) | J15: =IF(OR($A15=1,$B15="",$A15+J$3>340),"",IF(INDEX($B$5:$B$344,$A15+J$3)="","",IF(AND(YEAR($B15)=$B$2,YEAR(INDEX($B$5:$B$344,$A15+J$3-1))=$B$2),INDEX($B$5:$B$344,$A15+J$3)-INDEX($B$5:$B$344,$A15-1)-1,""))) | K15: =IF(OR($A15=1,$B15="",$A15+K$3>340),"",IF(INDEX($B$5:$B$344,$A15+K$3)="","",IF(AND(YEAR($B15)=$B$2,YEAR(INDEX($B$5:$B$344,$A15+K$3-1))=$B$2),INDEX($B$5:$B$344,$A15+K$3)-INDEX($B$5:$B$344,$A15-1)-1,""))) | ... M15: =IF(OR($A15=1,$B15="",$A15+M$3>340),"",IF(INDEX($B$5:$B$344,$A15+M$3)="","",IF(AND(YEAR($B15)=$B$2,YEAR(INDEX($B$5:$B$344,$A15+M$3-1))=$B$2),INDEX($B$5:$B$344,$A15+M$3)-INDEX($B$5:$B$344,$A15-1)-1,""))) | P15: 10 | Q15: =MAX($M$5:$M$344) | R15: =INDEX($B$5:$B$344,MATCH($Q15,$M$5:$M$344,0)-1)+1 | S15: =INDEX($B$5:$B$344,MATCH($Q15,$M$5:$M$344,0)+10)-1 | T15: =INDEX($B$5:$B$344,MATCH($Q15,$M$5:$M$344,0)) | U15: =INDEX($B$5:$B$344,MATCH($Q15,$M$5:$M$344,0)+9) | V15: =Q15-Q14 | W15: =COUNTIF($M$5:$M$344,$Q15)
A16: 12 | B16: =IFERROR(INDEX('2_暦'!$A$7:$A$433,MATCH(A16,'2_暦'!$K$7:$K$433,0)),"") | C16: =IF(OR($A16=1,$B16=""),"",IF(OR(YEAR($B16-1)=$B$2,YEAR(INDEX($B$5:$B$344,$A16-1)+1)=$B$2),$B16-INDEX($B$5:$B$344,$A16-1)-1,"")) | D16: =IF(OR($A16=1,$B16="",$A16+D$3>340),"",IF(INDEX($B$5:$B$344,$A16+D$3)="","",IF(AND(YEAR($B16)=$B$2,YEAR(INDEX($B$5:$B$344,$A16+D$3-1))=$B$2),INDEX($B$5:$B$344,$A16+D$3)-INDEX($B$5:$B$344,$A16-1)-1,""))) | E16: =IF(OR($A16=1,$B16="",$A16+E$3>340),"",IF(INDEX($B$5:$B$344,$A16+E$3)="","",IF(AND(YEAR($B16)=$B$2,YEAR(INDEX($B$5:$B$344,$A16+E$3-1))=$B$2),INDEX($B$5:$B$344,$A16+E$3)-INDEX($B$5:$B$344,$A16-1)-1,""))) | F16: =IF(OR($A16=1,$B16="",$A16+F$3>340),"",IF(INDEX($B$5:$B$344,$A16+F$3)="","",IF(AND(YEAR($B16)=$B$2,YEAR(INDEX($B$5:$B$344,$A16+F$3-1))=$B$2),INDEX($B$5:$B$344,$A16+F$3)-INDEX($B$5:$B$344,$A16-1)-1,""))) | G16: =IF(OR($A16=1,$B16="",$A16+G$3>340),"",IF(INDEX($B$5:$B$344,$A16+G$3)="","",IF(AND(YEAR($B16)=$B$2,YEAR(INDEX($B$5:$B$344,$A16+G$3-1))=$B$2),INDEX($B$5:$B$344,$A16+G$3)-INDEX($B$5:$B$344,$A16-1)-1,""))) | H16: =IF(OR($A16=1,$B16="",$A16+H$3>340),"",IF(INDEX($B$5:$B$344,$A16+H$3)="","",IF(AND(YEAR($B16)=$B$2,YEAR(INDEX($B$5:$B$344,$A16+H$3-1))=$B$2),INDEX($B$5:$B$344,$A16+H$3)-INDEX($B$5:$B$344,$A16-1)-1,""))) | I16: =IF(OR($A16=1,$B16="",$A16+I$3>340),"",IF(INDEX($B$5:$B$344,$A16+I$3)="","",IF(AND(YEAR($B16)=$B$2,YEAR(INDEX($B$5:$B$344,$A16+I$3-1))=$B$2),INDEX($B$5:$B$344,$A16+I$3)-INDEX($B$5:$B$344,$A16-1)-1,""))) | J16: =IF(OR($A16=1,$B16="",$A16+J$3>340),"",IF(INDEX($B$5:$B$344,$A16+J$3)="","",IF(AND(YEAR($B16)=$B$2,YEAR(INDEX($B$5:$B$344,$A16+J$3-1))=$B$2),INDEX($B$5:$B$344,$A16+J$3)-INDEX($B$5:$B$344,$A16-1)-1,""))) | K16: =IF(OR($A16=1,$B16="",$A16+K$3>340),"",IF(INDEX($B$5:$B$344,$A16+K$3)="","",IF(AND(YEAR($B16)=$B$2,YEAR(INDEX($B$5:$B$344,$A16+K$3-1))=$B$2),INDEX($B$5:$B$344,$A16+K$3)-INDEX($B$5:$B$344,$A16-1)-1,""))) | ... M16: =IF(OR($A16=1,$B16="",$A16+M$3>340),"",IF(INDEX($B$5:$B$344,$A16+M$3)="","",IF(AND(YEAR($B16)=$B$2,YEAR(INDEX($B$5:$B$344,$A16+M$3-1))=$B$2),INDEX($B$5:$B$344,$A16+M$3)-INDEX($B$5:$B$344,$A16-1)-1,"")))
A17: 13 | B17: =IFERROR(INDEX('2_暦'!$A$7:$A$433,MATCH(A17,'2_暦'!$K$7:$K$433,0)),"") | C17: =IF(OR($A17=1,$B17=""),"",IF(OR(YEAR($B17-1)=$B$2,YEAR(INDEX($B$5:$B$344,$A17-1)+1)=$B$2),$B17-INDEX($B$5:$B$344,$A17-1)-1,"")) | D17: =IF(OR($A17=1,$B17="",$A17+D$3>340),"",IF(INDEX($B$5:$B$344,$A17+D$3)="","",IF(AND(YEAR($B17)=$B$2,YEAR(INDEX($B$5:$B$344,$A17+D$3-1))=$B$2),INDEX($B$5:$B$344,$A17+D$3)-INDEX($B$5:$B$344,$A17-1)-1,""))) | E17: =IF(OR($A17=1,$B17="",$A17+E$3>340),"",IF(INDEX($B$5:$B$344,$A17+E$3)="","",IF(AND(YEAR($B17)=$B$2,YEAR(INDEX($B$5:$B$344,$A17+E$3-1))=$B$2),INDEX($B$5:$B$344,$A17+E$3)-INDEX($B$5:$B$344,$A17-1)-1,""))) | F17: =IF(OR($A17=1,$B17="",$A17+F$3>340),"",IF(INDEX($B$5:$B$344,$A17+F$3)="","",IF(AND(YEAR($B17)=$B$2,YEAR(INDEX($B$5:$B$344,$A17+F$3-1))=$B$2),INDEX($B$5:$B$344,$A17+F$3)-INDEX($B$5:$B$344,$A17-1)-1,""))) | G17: =IF(OR($A17=1,$B17="",$A17+G$3>340),"",IF(INDEX($B$5:$B$344,$A17+G$3)="","",IF(AND(YEAR($B17)=$B$2,YEAR(INDEX($B$5:$B$344,$A17+G$3-1))=$B$2),INDEX($B$5:$B$344,$A17+G$3)-INDEX($B$5:$B$344,$A17-1)-1,""))) | H17: =IF(OR($A17=1,$B17="",$A17+H$3>340),"",IF(INDEX($B$5:$B$344,$A17+H$3)="","",IF(AND(YEAR($B17)=$B$2,YEAR(INDEX($B$5:$B$344,$A17+H$3-1))=$B$2),INDEX($B$5:$B$344,$A17+H$3)-INDEX($B$5:$B$344,$A17-1)-1,""))) | I17: =IF(OR($A17=1,$B17="",$A17+I$3>340),"",IF(INDEX($B$5:$B$344,$A17+I$3)="","",IF(AND(YEAR($B17)=$B$2,YEAR(INDEX($B$5:$B$344,$A17+I$3-1))=$B$2),INDEX($B$5:$B$344,$A17+I$3)-INDEX($B$5:$B$344,$A17-1)-1,""))) | J17: =IF(OR($A17=1,$B17="",$A17+J$3>340),"",IF(INDEX($B$5:$B$344,$A17+J$3)="","",IF(AND(YEAR($B17)=$B$2,YEAR(INDEX($B$5:$B$344,$A17+J$3-1))=$B$2),INDEX($B$5:$B$344,$A17+J$3)-INDEX($B$5:$B$344,$A17-1)-1,""))) | K17: =IF(OR($A17=1,$B17="",$A17+K$3>340),"",IF(INDEX($B$5:$B$344,$A17+K$3)="","",IF(AND(YEAR($B17)=$B$2,YEAR(INDEX($B$5:$B$344,$A17+K$3-1))=$B$2),INDEX($B$5:$B$344,$A17+K$3)-INDEX($B$5:$B$344,$A17-1)-1,""))) | ... M17: =IF(OR($A17=1,$B17="",$A17+M$3>340),"",IF(INDEX($B$5:$B$344,$A17+M$3)="","",IF(AND(YEAR($B17)=$B$2,YEAR(INDEX($B$5:$B$344,$A17+M$3-1))=$B$2),INDEX($B$5:$B$344,$A17+M$3)-INDEX($B$5:$B$344,$A17-1)-1,""))) | P17: 有給1日で4連休以上になる日の数 | T17: =COUNTIF($D$5:$D$344,">=4")
A18: 14 | B18: =IFERROR(INDEX('2_暦'!$A$7:$A$433,MATCH(A18,'2_暦'!$K$7:$K$433,0)),"") | C18: =IF(OR($A18=1,$B18=""),"",IF(OR(YEAR($B18-1)=$B$2,YEAR(INDEX($B$5:$B$344,$A18-1)+1)=$B$2),$B18-INDEX($B$5:$B$344,$A18-1)-1,"")) | D18: =IF(OR($A18=1,$B18="",$A18+D$3>340),"",IF(INDEX($B$5:$B$344,$A18+D$3)="","",IF(AND(YEAR($B18)=$B$2,YEAR(INDEX($B$5:$B$344,$A18+D$3-1))=$B$2),INDEX($B$5:$B$344,$A18+D$3)-INDEX($B$5:$B$344,$A18-1)-1,""))) | E18: =IF(OR($A18=1,$B18="",$A18+E$3>340),"",IF(INDEX($B$5:$B$344,$A18+E$3)="","",IF(AND(YEAR($B18)=$B$2,YEAR(INDEX($B$5:$B$344,$A18+E$3-1))=$B$2),INDEX($B$5:$B$344,$A18+E$3)-INDEX($B$5:$B$344,$A18-1)-1,""))) | F18: =IF(OR($A18=1,$B18="",$A18+F$3>340),"",IF(INDEX($B$5:$B$344,$A18+F$3)="","",IF(AND(YEAR($B18)=$B$2,YEAR(INDEX($B$5:$B$344,$A18+F$3-1))=$B$2),INDEX($B$5:$B$344,$A18+F$3)-INDEX($B$5:$B$344,$A18-1)-1,""))) | G18: =IF(OR($A18=1,$B18="",$A18+G$3>340),"",IF(INDEX($B$5:$B$344,$A18+G$3)="","",IF(AND(YEAR($B18)=$B$2,YEAR(INDEX($B$5:$B$344,$A18+G$3-1))=$B$2),INDEX($B$5:$B$344,$A18+G$3)-INDEX($B$5:$B$344,$A18-1)-1,""))) | H18: =IF(OR($A18=1,$B18="",$A18+H$3>340),"",IF(INDEX($B$5:$B$344,$A18+H$3)="","",IF(AND(YEAR($B18)=$B$2,YEAR(INDEX($B$5:$B$344,$A18+H$3-1))=$B$2),INDEX($B$5:$B$344,$A18+H$3)-INDEX($B$5:$B$344,$A18-1)-1,""))) | I18: =IF(OR($A18=1,$B18="",$A18+I$3>340),"",IF(INDEX($B$5:$B$344,$A18+I$3)="","",IF(AND(YEAR($B18)=$B$2,YEAR(INDEX($B$5:$B$344,$A18+I$3-1))=$B$2),INDEX($B$5:$B$344,$A18+I$3)-INDEX($B$5:$B$344,$A18-1)-1,""))) | J18: =IF(OR($A18=1,$B18="",$A18+J$3>340),"",IF(INDEX($B$5:$B$344,$A18+J$3)="","",IF(AND(YEAR($B18)=$B$2,YEAR(INDEX($B$5:$B$344,$A18+J$3-1))=$B$2),INDEX($B$5:$B$344,$A18+J$3)-INDEX($B$5:$B$344,$A18-1)-1,""))) | K18: =IF(OR($A18=1,$B18="",$A18+K$3>340),"",IF(INDEX($B$5:$B$344,$A18+K$3)="","",IF(AND(YEAR($B18)=$B$2,YEAR(INDEX($B$5:$B$344,$A18+K$3-1))=$B$2),INDEX($B$5:$B$344,$A18+K$3)-INDEX($B$5:$B$344,$A18-1)-1,""))) | ... M18: =IF(OR($A18=1,$B18="",$A18+M$3>340),"",IF(INDEX($B$5:$B$344,$A18+M$3)="","",IF(AND(YEAR($B18)=$B$2,YEAR(INDEX($B$5:$B$344,$A18+M$3-1))=$B$2),INDEX($B$5:$B$344,$A18+M$3)-INDEX($B$5:$B$344,$A18-1)-1,""))) | P18: 有給2日で5連休以上になる取り方の数 | T18: =COUNTIF($E$5:$E$344,">=5")
A19: 15 | B19: =IFERROR(INDEX('2_暦'!$A$7:$A$433,MATCH(A19,'2_暦'!$K$7:$K$433,0)),"") | C19: =IF(OR($A19=1,$B19=""),"",IF(OR(YEAR($B19-1)=$B$2,YEAR(INDEX($B$5:$B$344,$A19-1)+1)=$B$2),$B19-INDEX($B$5:$B$344,$A19-1)-1,"")) | D19: =IF(OR($A19=1,$B19="",$A19+D$3>340),"",IF(INDEX($B$5:$B$344,$A19+D$3)="","",IF(AND(YEAR($B19)=$B$2,YEAR(INDEX($B$5:$B$344,$A19+D$3-1))=$B$2),INDEX($B$5:$B$344,$A19+D$3)-INDEX($B$5:$B$344,$A19-1)-1,""))) | E19: =IF(OR($A19=1,$B19="",$A19+E$3>340),"",IF(INDEX($B$5:$B$344,$A19+E$3)="","",IF(AND(YEAR($B19)=$B$2,YEAR(INDEX($B$5:$B$344,$A19+E$3-1))=$B$2),INDEX($B$5:$B$344,$A19+E$3)-INDEX($B$5:$B$344,$A19-1)-1,""))) | F19: =IF(OR($A19=1,$B19="",$A19+F$3>340),"",IF(INDEX($B$5:$B$344,$A19+F$3)="","",IF(AND(YEAR($B19)=$B$2,YEAR(INDEX($B$5:$B$344,$A19+F$3-1))=$B$2),INDEX($B$5:$B$344,$A19+F$3)-INDEX($B$5:$B$344,$A19-1)-1,""))) | G19: =IF(OR($A19=1,$B19="",$A19+G$3>340),"",IF(INDEX($B$5:$B$344,$A19+G$3)="","",IF(AND(YEAR($B19)=$B$2,YEAR(INDEX($B$5:$B$344,$A19+G$3-1))=$B$2),INDEX($B$5:$B$344,$A19+G$3)-INDEX($B$5:$B$344,$A19-1)-1,""))) | H19: =IF(OR($A19=1,$B19="",$A19+H$3>340),"",IF(INDEX($B$5:$B$344,$A19+H$3)="","",IF(AND(YEAR($B19)=$B$2,YEAR(INDEX($B$5:$B$344,$A19+H$3-1))=$B$2),INDEX($B$5:$B$344,$A19+H$3)-INDEX($B$5:$B$344,$A19-1)-1,""))) | I19: =IF(OR($A19=1,$B19="",$A19+I$3>340),"",IF(INDEX($B$5:$B$344,$A19+I$3)="","",IF(AND(YEAR($B19)=$B$2,YEAR(INDEX($B$5:$B$344,$A19+I$3-1))=$B$2),INDEX($B$5:$B$344,$A19+I$3)-INDEX($B$5:$B$344,$A19-1)-1,""))) | J19: =IF(OR($A19=1,$B19="",$A19+J$3>340),"",IF(INDEX($B$5:$B$344,$A19+J$3)="","",IF(AND(YEAR($B19)=$B$2,YEAR(INDEX($B$5:$B$344,$A19+J$3-1))=$B$2),INDEX($B$5:$B$344,$A19+J$3)-INDEX($B$5:$B$344,$A19-1)-1,""))) | K19: =IF(OR($A19=1,$B19="",$A19+K$3>340),"",IF(INDEX($B$5:$B$344,$A19+K$3)="","",IF(AND(YEAR($B19)=$B$2,YEAR(INDEX($B$5:$B$344,$A19+K$3-1))=$B$2),INDEX($B$5:$B$344,$A19+K$3)-INDEX($B$5:$B$344,$A19-1)-1,""))) | ... M19: =IF(OR($A19=1,$B19="",$A19+M$3>340),"",IF(INDEX($B$5:$B$344,$A19+M$3)="","",IF(AND(YEAR($B19)=$B$2,YEAR(INDEX($B$5:$B$344,$A19+M$3-1))=$B$2),INDEX($B$5:$B$344,$A19+M$3)-INDEX($B$5:$B$344,$A19-1)-1,""))) | P19: 有給なしの3連休以上の回数 | T19: =COUNTIF($C$5:$C$344,">=3")
A20: 16 | B20: =IFERROR(INDEX('2_暦'!$A$7:$A$433,MATCH(A20,'2_暦'!$K$7:$K$433,0)),"") | C20: =IF(OR($A20=1,$B20=""),"",IF(OR(YEAR($B20-1)=$B$2,YEAR(INDEX($B$5:$B$344,$A20-1)+1)=$B$2),$B20-INDEX($B$5:$B$344,$A20-1)-1,"")) | D20: =IF(OR($A20=1,$B20="",$A20+D$3>340),"",IF(INDEX($B$5:$B$344,$A20+D$3)="","",IF(AND(YEAR($B20)=$B$2,YEAR(INDEX($B$5:$B$344,$A20+D$3-1))=$B$2),INDEX($B$5:$B$344,$A20+D$3)-INDEX($B$5:$B$344,$A20-1)-1,""))) | E20: =IF(OR($A20=1,$B20="",$A20+E$3>340),"",IF(INDEX($B$5:$B$344,$A20+E$3)="","",IF(AND(YEAR($B20)=$B$2,YEAR(INDEX($B$5:$B$344,$A20+E$3-1))=$B$2),INDEX($B$5:$B$344,$A20+E$3)-INDEX($B$5:$B$344,$A20-1)-1,""))) | F20: =IF(OR($A20=1,$B20="",$A20+F$3>340),"",IF(INDEX($B$5:$B$344,$A20+F$3)="","",IF(AND(YEAR($B20)=$B$2,YEAR(INDEX($B$5:$B$344,$A20+F$3-1))=$B$2),INDEX($B$5:$B$344,$A20+F$3)-INDEX($B$5:$B$344,$A20-1)-1,""))) | G20: =IF(OR($A20=1,$B20="",$A20+G$3>340),"",IF(INDEX($B$5:$B$344,$A20+G$3)="","",IF(AND(YEAR($B20)=$B$2,YEAR(INDEX($B$5:$B$344,$A20+G$3-1))=$B$2),INDEX($B$5:$B$344,$A20+G$3)-INDEX($B$5:$B$344,$A20-1)-1,""))) | H20: =IF(OR($A20=1,$B20="",$A20+H$3>340),"",IF(INDEX($B$5:$B$344,$A20+H$3)="","",IF(AND(YEAR($B20)=$B$2,YEAR(INDEX($B$5:$B$344,$A20+H$3-1))=$B$2),INDEX($B$5:$B$344,$A20+H$3)-INDEX($B$5:$B$344,$A20-1)-1,""))) | I20: =IF(OR($A20=1,$B20="",$A20+I$3>340),"",IF(INDEX($B$5:$B$344,$A20+I$3)="","",IF(AND(YEAR($B20)=$B$2,YEAR(INDEX($B$5:$B$344,$A20+I$3-1))=$B$2),INDEX($B$5:$B$344,$A20+I$3)-INDEX($B$5:$B$344,$A20-1)-1,""))) | J20: =IF(OR($A20=1,$B20="",$A20+J$3>340),"",IF(INDEX($B$5:$B$344,$A20+J$3)="","",IF(AND(YEAR($B20)=$B$2,YEAR(INDEX($B$5:$B$344,$A20+J$3-1))=$B$2),INDEX($B$5:$B$344,$A20+J$3)-INDEX($B$5:$B$344,$A20-1)-1,""))) | K20: =IF(OR($A20=1,$B20="",$A20+K$3>340),"",IF(INDEX($B$5:$B$344,$A20+K$3)="","",IF(AND(YEAR($B20)=$B$2,YEAR(INDEX($B$5:$B$344,$A20+K$3-1))=$B$2),INDEX($B$5:$B$344,$A20+K$3)-INDEX($B$5:$B$344,$A20-1)-1,""))) | ... M20: =IF(OR($A20=1,$B20="",$A20+M$3>340),"",IF(INDEX($B$5:$B$344,$A20+M$3)="","",IF(AND(YEAR($B20)=$B$2,YEAR(INDEX($B$5:$B$344,$A20+M$3-1))=$B$2),INDEX($B$5:$B$344,$A20+M$3)-INDEX($B$5:$B$344,$A20-1)-1,"")))
A21: 17 | B21: =IFERROR(INDEX('2_暦'!$A$7:$A$433,MATCH(A21,'2_暦'!$K$7:$K$433,0)),"") | C21: =IF(OR($A21=1,$B21=""),"",IF(OR(YEAR($B21-1)=$B$2,YEAR(INDEX($B$5:$B$344,$A21-1)+1)=$B$2),$B21-INDEX($B$5:$B$344,$A21-1)-1,"")) | D21: =IF(OR($A21=1,$B21="",$A21+D$3>340),"",IF(INDEX($B$5:$B$344,$A21+D$3)="","",IF(AND(YEAR($B21)=$B$2,YEAR(INDEX($B$5:$B$344,$A21+D$3-1))=$B$2),INDEX($B$5:$B$344,$A21+D$3)-INDEX($B$5:$B$344,$A21-1)-1,""))) | E21: =IF(OR($A21=1,$B21="",$A21+E$3>340),"",IF(INDEX($B$5:$B$344,$A21+E$3)="","",IF(AND(YEAR($B21)=$B$2,YEAR(INDEX($B$5:$B$344,$A21+E$3-1))=$B$2),INDEX($B$5:$B$344,$A21+E$3)-INDEX($B$5:$B$344,$A21-1)-1,""))) | F21: =IF(OR($A21=1,$B21="",$A21+F$3>340),"",IF(INDEX($B$5:$B$344,$A21+F$3)="","",IF(AND(YEAR($B21)=$B$2,YEAR(INDEX($B$5:$B$344,$A21+F$3-1))=$B$2),INDEX($B$5:$B$344,$A21+F$3)-INDEX($B$5:$B$344,$A21-1)-1,""))) | G21: =IF(OR($A21=1,$B21="",$A21+G$3>340),"",IF(INDEX($B$5:$B$344,$A21+G$3)="","",IF(AND(YEAR($B21)=$B$2,YEAR(INDEX($B$5:$B$344,$A21+G$3-1))=$B$2),INDEX($B$5:$B$344,$A21+G$3)-INDEX($B$5:$B$344,$A21-1)-1,""))) | H21: =IF(OR($A21=1,$B21="",$A21+H$3>340),"",IF(INDEX($B$5:$B$344,$A21+H$3)="","",IF(AND(YEAR($B21)=$B$2,YEAR(INDEX($B$5:$B$344,$A21+H$3-1))=$B$2),INDEX($B$5:$B$344,$A21+H$3)-INDEX($B$5:$B$344,$A21-1)-1,""))) | I21: =IF(OR($A21=1,$B21="",$A21+I$3>340),"",IF(INDEX($B$5:$B$344,$A21+I$3)="","",IF(AND(YEAR($B21)=$B$2,YEAR(INDEX($B$5:$B$344,$A21+I$3-1))=$B$2),INDEX($B$5:$B$344,$A21+I$3)-INDEX($B$5:$B$344,$A21-1)-1,""))) | J21: =IF(OR($A21=1,$B21="",$A21+J$3>340),"",IF(INDEX($B$5:$B$344,$A21+J$3)="","",IF(AND(YEAR($B21)=$B$2,YEAR(INDEX($B$5:$B$344,$A21+J$3-1))=$B$2),INDEX($B$5:$B$344,$A21+J$3)-INDEX($B$5:$B$344,$A21-1)-1,""))) | K21: =IF(OR($A21=1,$B21="",$A21+K$3>340),"",IF(INDEX($B$5:$B$344,$A21+K$3)="","",IF(AND(YEAR($B21)=$B$2,YEAR(INDEX($B$5:$B$344,$A21+K$3-1))=$B$2),INDEX($B$5:$B$344,$A21+K$3)-INDEX($B$5:$B$344,$A21-1)-1,""))) | ... M21: =IF(OR($A21=1,$B21="",$A21+M$3>340),"",IF(INDEX($B$5:$B$344,$A21+M$3)="","",IF(AND(YEAR($B21)=$B$2,YEAR(INDEX($B$5:$B$344,$A21+M$3-1))=$B$2),INDEX($B$5:$B$344,$A21+M$3)-INDEX($B$5:$B$344,$A21-1)-1,"")))
A22: 18 | B22: =IFERROR(INDEX('2_暦'!$A$7:$A$433,MATCH(A22,'2_暦'!$K$7:$K$433,0)),"") | C22: =IF(OR($A22=1,$B22=""),"",IF(OR(YEAR($B22-1)=$B$2,YEAR(INDEX($B$5:$B$344,$A22-1)+1)=$B$2),$B22-INDEX($B$5:$B$344,$A22-1)-1,"")) | D22: =IF(OR($A22=1,$B22="",$A22+D$3>340),"",IF(INDEX($B$5:$B$344,$A22+D$3)="","",IF(AND(YEAR($B22)=$B$2,YEAR(INDEX($B$5:$B$344,$A22+D$3-1))=$B$2),INDEX($B$5:$B$344,$A22+D$3)-INDEX($B$5:$B$344,$A22-1)-1,""))) | E22: =IF(OR($A22=1,$B22="",$A22+E$3>340),"",IF(INDEX($B$5:$B$344,$A22+E$3)="","",IF(AND(YEAR($B22)=$B$2,YEAR(INDEX($B$5:$B$344,$A22+E$3-1))=$B$2),INDEX($B$5:$B$344,$A22+E$3)-INDEX($B$5:$B$344,$A22-1)-1,""))) | F22: =IF(OR($A22=1,$B22="",$A22+F$3>340),"",IF(INDEX($B$5:$B$344,$A22+F$3)="","",IF(AND(YEAR($B22)=$B$2,YEAR(INDEX($B$5:$B$344,$A22+F$3-1))=$B$2),INDEX($B$5:$B$344,$A22+F$3)-INDEX($B$5:$B$344,$A22-1)-1,""))) | G22: =IF(OR($A22=1,$B22="",$A22+G$3>340),"",IF(INDEX($B$5:$B$344,$A22+G$3)="","",IF(AND(YEAR($B22)=$B$2,YEAR(INDEX($B$5:$B$344,$A22+G$3-1))=$B$2),INDEX($B$5:$B$344,$A22+G$3)-INDEX($B$5:$B$344,$A22-1)-1,""))) | H22: =IF(OR($A22=1,$B22="",$A22+H$3>340),"",IF(INDEX($B$5:$B$344,$A22+H$3)="","",IF(AND(YEAR($B22)=$B$2,YEAR(INDEX($B$5:$B$344,$A22+H$3-1))=$B$2),INDEX($B$5:$B$344,$A22+H$3)-INDEX($B$5:$B$344,$A22-1)-1,""))) | I22: =IF(OR($A22=1,$B22="",$A22+I$3>340),"",IF(INDEX($B$5:$B$344,$A22+I$3)="","",IF(AND(YEAR($B22)=$B$2,YEAR(INDEX($B$5:$B$344,$A22+I$3-1))=$B$2),INDEX($B$5:$B$344,$A22+I$3)-INDEX($B$5:$B$344,$A22-1)-1,""))) | J22: =IF(OR($A22=1,$B22="",$A22+J$3>340),"",IF(INDEX($B$5:$B$344,$A22+J$3)="","",IF(AND(YEAR($B22)=$B$2,YEAR(INDEX($B$5:$B$344,$A22+J$3-1))=$B$2),INDEX($B$5:$B$344,$A22+J$3)-INDEX($B$5:$B$344,$A22-1)-1,""))) | K22: =IF(OR($A22=1,$B22="",$A22+K$3>340),"",IF(INDEX($B$5:$B$344,$A22+K$3)="","",IF(AND(YEAR($B22)=$B$2,YEAR(INDEX($B$5:$B$344,$A22+K$3-1))=$B$2),INDEX($B$5:$B$344,$A22+K$3)-INDEX($B$5:$B$344,$A22-1)-1,""))) | ... M22: =IF(OR($A22=1,$B22="",$A22+M$3>340),"",IF(INDEX($B$5:$B$344,$A22+M$3)="","",IF(AND(YEAR($B22)=$B$2,YEAR(INDEX($B$5:$B$344,$A22+M$3-1))=$B$2),INDEX($B$5:$B$344,$A22+M$3)-INDEX($B$5:$B$344,$A22-1)-1,"")))
A23: 19 | B23: =IFERROR(INDEX('2_暦'!$A$7:$A$433,MATCH(A23,'2_暦'!$K$7:$K$433,0)),"") | C23: =IF(OR($A23=1,$B23=""),"",IF(OR(YEAR($B23-1)=$B$2,YEAR(INDEX($B$5:$B$344,$A23-1)+1)=$B$2),$B23-INDEX($B$5:$B$344,$A23-1)-1,"")) | D23: =IF(OR($A23=1,$B23="",$A23+D$3>340),"",IF(INDEX($B$5:$B$344,$A23+D$3)="","",IF(AND(YEAR($B23)=$B$2,YEAR(INDEX($B$5:$B$344,$A23+D$3-1))=$B$2),INDEX($B$5:$B$344,$A23+D$3)-INDEX($B$5:$B$344,$A23-1)-1,""))) | E23: =IF(OR($A23=1,$B23="",$A23+E$3>340),"",IF(INDEX($B$5:$B$344,$A23+E$3)="","",IF(AND(YEAR($B23)=$B$2,YEAR(INDEX($B$5:$B$344,$A23+E$3-1))=$B$2),INDEX($B$5:$B$344,$A23+E$3)-INDEX($B$5:$B$344,$A23-1)-1,""))) | F23: =IF(OR($A23=1,$B23="",$A23+F$3>340),"",IF(INDEX($B$5:$B$344,$A23+F$3)="","",IF(AND(YEAR($B23)=$B$2,YEAR(INDEX($B$5:$B$344,$A23+F$3-1))=$B$2),INDEX($B$5:$B$344,$A23+F$3)-INDEX($B$5:$B$344,$A23-1)-1,""))) | G23: =IF(OR($A23=1,$B23="",$A23+G$3>340),"",IF(INDEX($B$5:$B$344,$A23+G$3)="","",IF(AND(YEAR($B23)=$B$2,YEAR(INDEX($B$5:$B$344,$A23+G$3-1))=$B$2),INDEX($B$5:$B$344,$A23+G$3)-INDEX($B$5:$B$344,$A23-1)-1,""))) | H23: =IF(OR($A23=1,$B23="",$A23+H$3>340),"",IF(INDEX($B$5:$B$344,$A23+H$3)="","",IF(AND(YEAR($B23)=$B$2,YEAR(INDEX($B$5:$B$344,$A23+H$3-1))=$B$2),INDEX($B$5:$B$344,$A23+H$3)-INDEX($B$5:$B$344,$A23-1)-1,""))) | I23: =IF(OR($A23=1,$B23="",$A23+I$3>340),"",IF(INDEX($B$5:$B$344,$A23+I$3)="","",IF(AND(YEAR($B23)=$B$2,YEAR(INDEX($B$5:$B$344,$A23+I$3-1))=$B$2),INDEX($B$5:$B$344,$A23+I$3)-INDEX($B$5:$B$344,$A23-1)-1,""))) | J23: =IF(OR($A23=1,$B23="",$A23+J$3>340),"",IF(INDEX($B$5:$B$344,$A23+J$3)="","",IF(AND(YEAR($B23)=$B$2,YEAR(INDEX($B$5:$B$344,$A23+J$3-1))=$B$2),INDEX($B$5:$B$344,$A23+J$3)-INDEX($B$5:$B$344,$A23-1)-1,""))) | K23: =IF(OR($A23=1,$B23="",$A23+K$3>340),"",IF(INDEX($B$5:$B$344,$A23+K$3)="","",IF(AND(YEAR($B23)=$B$2,YEAR(INDEX($B$5:$B$344,$A23+K$3-1))=$B$2),INDEX($B$5:$B$344,$A23+K$3)-INDEX($B$5:$B$344,$A23-1)-1,""))) | ... M23: =IF(OR($A23=1,$B23="",$A23+M$3>340),"",IF(INDEX($B$5:$B$344,$A23+M$3)="","",IF(AND(YEAR($B23)=$B$2,YEAR(INDEX($B$5:$B$344,$A23+M$3-1))=$B$2),INDEX($B$5:$B$344,$A23+M$3)-INDEX($B$5:$B$344,$A23-1)-1,"")))
A24: 20 | B24: =IFERROR(INDEX('2_暦'!$A$7:$A$433,MATCH(A24,'2_暦'!$K$7:$K$433,0)),"") | C24: =IF(OR($A24=1,$B24=""),"",IF(OR(YEAR($B24-1)=$B$2,YEAR(INDEX($B$5:$B$344,$A24-1)+1)=$B$2),$B24-INDEX($B$5:$B$344,$A24-1)-1,"")) | D24: =IF(OR($A24=1,$B24="",$A24+D$3>340),"",IF(INDEX($B$5:$B$344,$A24+D$3)="","",IF(AND(YEAR($B24)=$B$2,YEAR(INDEX($B$5:$B$344,$A24+D$3-1))=$B$2),INDEX($B$5:$B$344,$A24+D$3)-INDEX($B$5:$B$344,$A24-1)-1,""))) | E24: =IF(OR($A24=1,$B24="",$A24+E$3>340),"",IF(INDEX($B$5:$B$344,$A24+E$3)="","",IF(AND(YEAR($B24)=$B$2,YEAR(INDEX($B$5:$B$344,$A24+E$3-1))=$B$2),INDEX($B$5:$B$344,$A24+E$3)-INDEX($B$5:$B$344,$A24-1)-1,""))) | F24: =IF(OR($A24=1,$B24="",$A24+F$3>340),"",IF(INDEX($B$5:$B$344,$A24+F$3)="","",IF(AND(YEAR($B24)=$B$2,YEAR(INDEX($B$5:$B$344,$A24+F$3-1))=$B$2),INDEX($B$5:$B$344,$A24+F$3)-INDEX($B$5:$B$344,$A24-1)-1,""))) | G24: =IF(OR($A24=1,$B24="",$A24+G$3>340),"",IF(INDEX($B$5:$B$344,$A24+G$3)="","",IF(AND(YEAR($B24)=$B$2,YEAR(INDEX($B$5:$B$344,$A24+G$3-1))=$B$2),INDEX($B$5:$B$344,$A24+G$3)-INDEX($B$5:$B$344,$A24-1)-1,""))) | H24: =IF(OR($A24=1,$B24="",$A24+H$3>340),"",IF(INDEX($B$5:$B$344,$A24+H$3)="","",IF(AND(YEAR($B24)=$B$2,YEAR(INDEX($B$5:$B$344,$A24+H$3-1))=$B$2),INDEX($B$5:$B$344,$A24+H$3)-INDEX($B$5:$B$344,$A24-1)-1,""))) | I24: =IF(OR($A24=1,$B24="",$A24+I$3>340),"",IF(INDEX($B$5:$B$344,$A24+I$3)="","",IF(AND(YEAR($B24)=$B$2,YEAR(INDEX($B$5:$B$344,$A24+I$3-1))=$B$2),INDEX($B$5:$B$344,$A24+I$3)-INDEX($B$5:$B$344,$A24-1)-1,""))) | J24: =IF(OR($A24=1,$B24="",$A24+J$3>340),"",IF(INDEX($B$5:$B$344,$A24+J$3)="","",IF(AND(YEAR($B24)=$B$2,YEAR(INDEX($B$5:$B$344,$A24+J$3-1))=$B$2),INDEX($B$5:$B$344,$A24+J$3)-INDEX($B$5:$B$344,$A24-1)-1,""))) | K24: =IF(OR($A24=1,$B24="",$A24+K$3>340),"",IF(INDEX($B$5:$B$344,$A24+K$3)="","",IF(AND(YEAR($B24)=$B$2,YEAR(INDEX($B$5:$B$344,$A24+K$3-1))=$B$2),INDEX($B$5:$B$344,$A24+K$3)-INDEX($B$5:$B$344,$A24-1)-1,""))) | ... M24: =IF(OR($A24=1,$B24="",$A24+M$3>340),"",IF(INDEX($B$5:$B$344,$A24+M$3)="","",IF(AND(YEAR($B24)=$B$2,YEAR(INDEX($B$5:$B$344,$A24+M$3-1))=$B$2),INDEX($B$5:$B$344,$A24+M$3)-INDEX($B$5:$B$344,$A24-1)-1,"")))
A25: 21 | B25: =IFERROR(INDEX('2_暦'!$A$7:$A$433,MATCH(A25,'2_暦'!$K$7:$K$433,0)),"") | C25: =IF(OR($A25=1,$B25=""),"",IF(OR(YEAR($B25-1)=$B$2,YEAR(INDEX($B$5:$B$344,$A25-1)+1)=$B$2),$B25-INDEX($B$5:$B$344,$A25-1)-1,"")) | D25: =IF(OR($A25=1,$B25="",$A25+D$3>340),"",IF(INDEX($B$5:$B$344,$A25+D$3)="","",IF(AND(YEAR($B25)=$B$2,YEAR(INDEX($B$5:$B$344,$A25+D$3-1))=$B$2),INDEX($B$5:$B$344,$A25+D$3)-INDEX($B$5:$B$344,$A25-1)-1,""))) | E25: =IF(OR($A25=1,$B25="",$A25+E$3>340),"",IF(INDEX($B$5:$B$344,$A25+E$3)="","",IF(AND(YEAR($B25)=$B$2,YEAR(INDEX($B$5:$B$344,$A25+E$3-1))=$B$2),INDEX($B$5:$B$344,$A25+E$3)-INDEX($B$5:$B$344,$A25-1)-1,""))) | F25: =IF(OR($A25=1,$B25="",$A25+F$3>340),"",IF(INDEX($B$5:$B$344,$A25+F$3)="","",IF(AND(YEAR($B25)=$B$2,YEAR(INDEX($B$5:$B$344,$A25+F$3-1))=$B$2),INDEX($B$5:$B$344,$A25+F$3)-INDEX($B$5:$B$344,$A25-1)-1,""))) | G25: =IF(OR($A25=1,$B25="",$A25+G$3>340),"",IF(INDEX($B$5:$B$344,$A25+G$3)="","",IF(AND(YEAR($B25)=$B$2,YEAR(INDEX($B$5:$B$344,$A25+G$3-1))=$B$2),INDEX($B$5:$B$344,$A25+G$3)-INDEX($B$5:$B$344,$A25-1)-1,""))) | H25: =IF(OR($A25=1,$B25="",$A25+H$3>340),"",IF(INDEX($B$5:$B$344,$A25+H$3)="","",IF(AND(YEAR($B25)=$B$2,YEAR(INDEX($B$5:$B$344,$A25+H$3-1))=$B$2),INDEX($B$5:$B$344,$A25+H$3)-INDEX($B$5:$B$344,$A25-1)-1,""))) | I25: =IF(OR($A25=1,$B25="",$A25+I$3>340),"",IF(INDEX($B$5:$B$344,$A25+I$3)="","",IF(AND(YEAR($B25)=$B$2,YEAR(INDEX($B$5:$B$344,$A25+I$3-1))=$B$2),INDEX($B$5:$B$344,$A25+I$3)-INDEX($B$5:$B$344,$A25-1)-1,""))) | J25: =IF(OR($A25=1,$B25="",$A25+J$3>340),"",IF(INDEX($B$5:$B$344,$A25+J$3)="","",IF(AND(YEAR($B25)=$B$2,YEAR(INDEX($B$5:$B$344,$A25+J$3-1))=$B$2),INDEX($B$5:$B$344,$A25+J$3)-INDEX($B$5:$B$344,$A25-1)-1,""))) | K25: =IF(OR($A25=1,$B25="",$A25+K$3>340),"",IF(INDEX($B$5:$B$344,$A25+K$3)="","",IF(AND(YEAR($B25)=$B$2,YEAR(INDEX($B$5:$B$344,$A25+K$3-1))=$B$2),INDEX($B$5:$B$344,$A25+K$3)-INDEX($B$5:$B$344,$A25-1)-1,""))) | ... M25: =IF(OR($A25=1,$B25="",$A25+M$3>340),"",IF(INDEX($B$5:$B$344,$A25+M$3)="","",IF(AND(YEAR($B25)=$B$2,YEAR(INDEX($B$5:$B$344,$A25+M$3-1))=$B$2),INDEX($B$5:$B$344,$A25+M$3)-INDEX($B$5:$B$344,$A25-1)-1,"")))
A26: 22 | B26: =IFERROR(INDEX('2_暦'!$A$7:$A$433,MATCH(A26,'2_暦'!$K$7:$K$433,0)),"") | C26: =IF(OR($A26=1,$B26=""),"",IF(OR(YEAR($B26-1)=$B$2,YEAR(INDEX($B$5:$B$344,$A26-1)+1)=$B$2),$B26-INDEX($B$5:$B$344,$A26-1)-1,"")) | D26: =IF(OR($A26=1,$B26="",$A26+D$3>340),"",IF(INDEX($B$5:$B$344,$A26+D$3)="","",IF(AND(YEAR($B26)=$B$2,YEAR(INDEX($B$5:$B$344,$A26+D$3-1))=$B$2),INDEX($B$5:$B$344,$A26+D$3)-INDEX($B$5:$B$344,$A26-1)-1,""))) | E26: =IF(OR($A26=1,$B26="",$A26+E$3>340),"",IF(INDEX($B$5:$B$344,$A26+E$3)="","",IF(AND(YEAR($B26)=$B$2,YEAR(INDEX($B$5:$B$344,$A26+E$3-1))=$B$2),INDEX($B$5:$B$344,$A26+E$3)-INDEX($B$5:$B$344,$A26-1)-1,""))) | F26: =IF(OR($A26=1,$B26="",$A26+F$3>340),"",IF(INDEX($B$5:$B$344,$A26+F$3)="","",IF(AND(YEAR($B26)=$B$2,YEAR(INDEX($B$5:$B$344,$A26+F$3-1))=$B$2),INDEX($B$5:$B$344,$A26+F$3)-INDEX($B$5:$B$344,$A26-1)-1,""))) | G26: =IF(OR($A26=1,$B26="",$A26+G$3>340),"",IF(INDEX($B$5:$B$344,$A26+G$3)="","",IF(AND(YEAR($B26)=$B$2,YEAR(INDEX($B$5:$B$344,$A26+G$3-1))=$B$2),INDEX($B$5:$B$344,$A26+G$3)-INDEX($B$5:$B$344,$A26-1)-1,""))) | H26: =IF(OR($A26=1,$B26="",$A26+H$3>340),"",IF(INDEX($B$5:$B$344,$A26+H$3)="","",IF(AND(YEAR($B26)=$B$2,YEAR(INDEX($B$5:$B$344,$A26+H$3-1))=$B$2),INDEX($B$5:$B$344,$A26+H$3)-INDEX($B$5:$B$344,$A26-1)-1,""))) | I26: =IF(OR($A26=1,$B26="",$A26+I$3>340),"",IF(INDEX($B$5:$B$344,$A26+I$3)="","",IF(AND(YEAR($B26)=$B$2,YEAR(INDEX($B$5:$B$344,$A26+I$3-1))=$B$2),INDEX($B$5:$B$344,$A26+I$3)-INDEX($B$5:$B$344,$A26-1)-1,""))) | J26: =IF(OR($A26=1,$B26="",$A26+J$3>340),"",IF(INDEX($B$5:$B$344,$A26+J$3)="","",IF(AND(YEAR($B26)=$B$2,YEAR(INDEX($B$5:$B$344,$A26+J$3-1))=$B$2),INDEX($B$5:$B$344,$A26+J$3)-INDEX($B$5:$B$344,$A26-1)-1,""))) | K26: =IF(OR($A26=1,$B26="",$A26+K$3>340),"",IF(INDEX($B$5:$B$344,$A26+K$3)="","",IF(AND(YEAR($B26)=$B$2,YEAR(INDEX($B$5:$B$344,$A26+K$3-1))=$B$2),INDEX($B$5:$B$344,$A26+K$3)-INDEX($B$5:$B$344,$A26-1)-1,""))) | ... M26: =IF(OR($A26=1,$B26="",$A26+M$3>340),"",IF(INDEX($B$5:$B$344,$A26+M$3)="","",IF(AND(YEAR($B26)=$B$2,YEAR(INDEX($B$5:$B$344,$A26+M$3-1))=$B$2),INDEX($B$5:$B$344,$A26+M$3)-INDEX($B$5:$B$344,$A26-1)-1,"")))
A27: 23 | B27: =IFERROR(INDEX('2_暦'!$A$7:$A$433,MATCH(A27,'2_暦'!$K$7:$K$433,0)),"") | C27: =IF(OR($A27=1,$B27=""),"",IF(OR(YEAR($B27-1)=$B$2,YEAR(INDEX($B$5:$B$344,$A27-1)+1)=$B$2),$B27-INDEX($B$5:$B$344,$A27-1)-1,"")) | D27: =IF(OR($A27=1,$B27="",$A27+D$3>340),"",IF(INDEX($B$5:$B$344,$A27+D$3)="","",IF(AND(YEAR($B27)=$B$2,YEAR(INDEX($B$5:$B$344,$A27+D$3-1))=$B$2),INDEX($B$5:$B$344,$A27+D$3)-INDEX($B$5:$B$344,$A27-1)-1,""))) | E27: =IF(OR($A27=1,$B27="",$A27+E$3>340),"",IF(INDEX($B$5:$B$344,$A27+E$3)="","",IF(AND(YEAR($B27)=$B$2,YEAR(INDEX($B$5:$B$344,$A27+E$3-1))=$B$2),INDEX($B$5:$B$344,$A27+E$3)-INDEX($B$5:$B$344,$A27-1)-1,""))) | F27: =IF(OR($A27=1,$B27="",$A27+F$3>340),"",IF(INDEX($B$5:$B$344,$A27+F$3)="","",IF(AND(YEAR($B27)=$B$2,YEAR(INDEX($B$5:$B$344,$A27+F$3-1))=$B$2),INDEX($B$5:$B$344,$A27+F$3)-INDEX($B$5:$B$344,$A27-1)-1,""))) | G27: =IF(OR($A27=1,$B27="",$A27+G$3>340),"",IF(INDEX($B$5:$B$344,$A27+G$3)="","",IF(AND(YEAR($B27)=$B$2,YEAR(INDEX($B$5:$B$344,$A27+G$3-1))=$B$2),INDEX($B$5:$B$344,$A27+G$3)-INDEX($B$5:$B$344,$A27-1)-1,""))) | H27: =IF(OR($A27=1,$B27="",$A27+H$3>340),"",IF(INDEX($B$5:$B$344,$A27+H$3)="","",IF(AND(YEAR($B27)=$B$2,YEAR(INDEX($B$5:$B$344,$A27+H$3-1))=$B$2),INDEX($B$5:$B$344,$A27+H$3)-INDEX($B$5:$B$344,$A27-1)-1,""))) | I27: =IF(OR($A27=1,$B27="",$A27+I$3>340),"",IF(INDEX($B$5:$B$344,$A27+I$3)="","",IF(AND(YEAR($B27)=$B$2,YEAR(INDEX($B$5:$B$344,$A27+I$3-1))=$B$2),INDEX($B$5:$B$344,$A27+I$3)-INDEX($B$5:$B$344,$A27-1)-1,""))) | J27: =IF(OR($A27=1,$B27="",$A27+J$3>340),"",IF(INDEX($B$5:$B$344,$A27+J$3)="","",IF(AND(YEAR($B27)=$B$2,YEAR(INDEX($B$5:$B$344,$A27+J$3-1))=$B$2),INDEX($B$5:$B$344,$A27+J$3)-INDEX($B$5:$B$344,$A27-1)-1,""))) | K27: =IF(OR($A27=1,$B27="",$A27+K$3>340),"",IF(INDEX($B$5:$B$344,$A27+K$3)="","",IF(AND(YEAR($B27)=$B$2,YEAR(INDEX($B$5:$B$344,$A27+K$3-1))=$B$2),INDEX($B$5:$B$344,$A27+K$3)-INDEX($B$5:$B$344,$A27-1)-1,""))) | ... M27: =IF(OR($A27=1,$B27="",$A27+M$3>340),"",IF(INDEX($B$5:$B$344,$A27+M$3)="","",IF(AND(YEAR($B27)=$B$2,YEAR(INDEX($B$5:$B$344,$A27+M$3-1))=$B$2),INDEX($B$5:$B$344,$A27+M$3)-INDEX($B$5:$B$344,$A27-1)-1,"")))
A28: 24 | B28: =IFERROR(INDEX('2_暦'!$A$7:$A$433,MATCH(A28,'2_暦'!$K$7:$K$433,0)),"") | C28: =IF(OR($A28=1,$B28=""),"",IF(OR(YEAR($B28-1)=$B$2,YEAR(INDEX($B$5:$B$344,$A28-1)+1)=$B$2),$B28-INDEX($B$5:$B$344,$A28-1)-1,"")) | D28: =IF(OR($A28=1,$B28="",$A28+D$3>340),"",IF(INDEX($B$5:$B$344,$A28+D$3)="","",IF(AND(YEAR($B28)=$B$2,YEAR(INDEX($B$5:$B$344,$A28+D$3-1))=$B$2),INDEX($B$5:$B$344,$A28+D$3)-INDEX($B$5:$B$344,$A28-1)-1,""))) | E28: =IF(OR($A28=1,$B28="",$A28+E$3>340),"",IF(INDEX($B$5:$B$344,$A28+E$3)="","",IF(AND(YEAR($B28)=$B$2,YEAR(INDEX($B$5:$B$344,$A28+E$3-1))=$B$2),INDEX($B$5:$B$344,$A28+E$3)-INDEX($B$5:$B$344,$A28-1)-1,""))) | F28: =IF(OR($A28=1,$B28="",$A28+F$3>340),"",IF(INDEX($B$5:$B$344,$A28+F$3)="","",IF(AND(YEAR($B28)=$B$2,YEAR(INDEX($B$5:$B$344,$A28+F$3-1))=$B$2),INDEX($B$5:$B$344,$A28+F$3)-INDEX($B$5:$B$344,$A28-1)-1,""))) | G28: =IF(OR($A28=1,$B28="",$A28+G$3>340),"",IF(INDEX($B$5:$B$344,$A28+G$3)="","",IF(AND(YEAR($B28)=$B$2,YEAR(INDEX($B$5:$B$344,$A28+G$3-1))=$B$2),INDEX($B$5:$B$344,$A28+G$3)-INDEX($B$5:$B$344,$A28-1)-1,""))) | H28: =IF(OR($A28=1,$B28="",$A28+H$3>340),"",IF(INDEX($B$5:$B$344,$A28+H$3)="","",IF(AND(YEAR($B28)=$B$2,YEAR(INDEX($B$5:$B$344,$A28+H$3-1))=$B$2),INDEX($B$5:$B$344,$A28+H$3)-INDEX($B$5:$B$344,$A28-1)-1,""))) | I28: =IF(OR($A28=1,$B28="",$A28+I$3>340),"",IF(INDEX($B$5:$B$344,$A28+I$3)="","",IF(AND(YEAR($B28)=$B$2,YEAR(INDEX($B$5:$B$344,$A28+I$3-1))=$B$2),INDEX($B$5:$B$344,$A28+I$3)-INDEX($B$5:$B$344,$A28-1)-1,""))) | J28: =IF(OR($A28=1,$B28="",$A28+J$3>340),"",IF(INDEX($B$5:$B$344,$A28+J$3)="","",IF(AND(YEAR($B28)=$B$2,YEAR(INDEX($B$5:$B$344,$A28+J$3-1))=$B$2),INDEX($B$5:$B$344,$A28+J$3)-INDEX($B$5:$B$344,$A28-1)-1,""))) | K28: =IF(OR($A28=1,$B28="",$A28+K$3>340),"",IF(INDEX($B$5:$B$344,$A28+K$3)="","",IF(AND(YEAR($B28)=$B$2,YEAR(INDEX($B$5:$B$344,$A28+K$3-1))=$B$2),INDEX($B$5:$B$344,$A28+K$3)-INDEX($B$5:$B$344,$A28-1)-1,""))) | ... M28: =IF(OR($A28=1,$B28="",$A28+M$3>340),"",IF(INDEX($B$5:$B$344,$A28+M$3)="","",IF(AND(YEAR($B28)=$B$2,YEAR(INDEX($B$5:$B$344,$A28+M$3-1))=$B$2),INDEX($B$5:$B$344,$A28+M$3)-INDEX($B$5:$B$344,$A28-1)-1,"")))
A29: 25 | B29: =IFERROR(INDEX('2_暦'!$A$7:$A$433,MATCH(A29,'2_暦'!$K$7:$K$433,0)),"") | C29: =IF(OR($A29=1,$B29=""),"",IF(OR(YEAR($B29-1)=$B$2,YEAR(INDEX($B$5:$B$344,$A29-1)+1)=$B$2),$B29-INDEX($B$5:$B$344,$A29-1)-1,"")) | D29: =IF(OR($A29=1,$B29="",$A29+D$3>340),"",IF(INDEX($B$5:$B$344,$A29+D$3)="","",IF(AND(YEAR($B29)=$B$2,YEAR(INDEX($B$5:$B$344,$A29+D$3-1))=$B$2),INDEX($B$5:$B$344,$A29+D$3)-INDEX($B$5:$B$344,$A29-1)-1,""))) | E29: =IF(OR($A29=1,$B29="",$A29+E$3>340),"",IF(INDEX($B$5:$B$344,$A29+E$3)="","",IF(AND(YEAR($B29)=$B$2,YEAR(INDEX($B$5:$B$344,$A29+E$3-1))=$B$2),INDEX($B$5:$B$344,$A29+E$3)-INDEX($B$5:$B$344,$A29-1)-1,""))) | F29: =IF(OR($A29=1,$B29="",$A29+F$3>340),"",IF(INDEX($B$5:$B$344,$A29+F$3)="","",IF(AND(YEAR($B29)=$B$2,YEAR(INDEX($B$5:$B$344,$A29+F$3-1))=$B$2),INDEX($B$5:$B$344,$A29+F$3)-INDEX($B$5:$B$344,$A29-1)-1,""))) | G29: =IF(OR($A29=1,$B29="",$A29+G$3>340),"",IF(INDEX($B$5:$B$344,$A29+G$3)="","",IF(AND(YEAR($B29)=$B$2,YEAR(INDEX($B$5:$B$344,$A29+G$3-1))=$B$2),INDEX($B$5:$B$344,$A29+G$3)-INDEX($B$5:$B$344,$A29-1)-1,""))) | H29: =IF(OR($A29=1,$B29="",$A29+H$3>340),"",IF(INDEX($B$5:$B$344,$A29+H$3)="","",IF(AND(YEAR($B29)=$B$2,YEAR(INDEX($B$5:$B$344,$A29+H$3-1))=$B$2),INDEX($B$5:$B$344,$A29+H$3)-INDEX($B$5:$B$344,$A29-1)-1,""))) | I29: =IF(OR($A29=1,$B29="",$A29+I$3>340),"",IF(INDEX($B$5:$B$344,$A29+I$3)="","",IF(AND(YEAR($B29)=$B$2,YEAR(INDEX($B$5:$B$344,$A29+I$3-1))=$B$2),INDEX($B$5:$B$344,$A29+I$3)-INDEX($B$5:$B$344,$A29-1)-1,""))) | J29: =IF(OR($A29=1,$B29="",$A29+J$3>340),"",IF(INDEX($B$5:$B$344,$A29+J$3)="","",IF(AND(YEAR($B29)=$B$2,YEAR(INDEX($B$5:$B$344,$A29+J$3-1))=$B$2),INDEX($B$5:$B$344,$A29+J$3)-INDEX($B$5:$B$344,$A29-1)-1,""))) | K29: =IF(OR($A29=1,$B29="",$A29+K$3>340),"",IF(INDEX($B$5:$B$344,$A29+K$3)="","",IF(AND(YEAR($B29)=$B$2,YEAR(INDEX($B$5:$B$344,$A29+K$3-1))=$B$2),INDEX($B$5:$B$344,$A29+K$3)-INDEX($B$5:$B$344,$A29-1)-1,""))) | ... M29: =IF(OR($A29=1,$B29="",$A29+M$3>340),"",IF(INDEX($B$5:$B$344,$A29+M$3)="","",IF(AND(YEAR($B29)=$B$2,YEAR(INDEX($B$5:$B$344,$A29+M$3-1))=$B$2),INDEX($B$5:$B$344,$A29+M$3)-INDEX($B$5:$B$344,$A29-1)-1,"")))
A30: 26 | B30: =IFERROR(INDEX('2_暦'!$A$7:$A$433,MATCH(A30,'2_暦'!$K$7:$K$433,0)),"") | C30: =IF(OR($A30=1,$B30=""),"",IF(OR(YEAR($B30-1)=$B$2,YEAR(INDEX($B$5:$B$344,$A30-1)+1)=$B$2),$B30-INDEX($B$5:$B$344,$A30-1)-1,"")) | D30: =IF(OR($A30=1,$B30="",$A30+D$3>340),"",IF(INDEX($B$5:$B$344,$A30+D$3)="","",IF(AND(YEAR($B30)=$B$2,YEAR(INDEX($B$5:$B$344,$A30+D$3-1))=$B$2),INDEX($B$5:$B$344,$A30+D$3)-INDEX($B$5:$B$344,$A30-1)-1,""))) | E30: =IF(OR($A30=1,$B30="",$A30+E$3>340),"",IF(INDEX($B$5:$B$344,$A30+E$3)="","",IF(AND(YEAR($B30)=$B$2,YEAR(INDEX($B$5:$B$344,$A30+E$3-1))=$B$2),INDEX($B$5:$B$344,$A30+E$3)-INDEX($B$5:$B$344,$A30-1)-1,""))) | F30: =IF(OR($A30=1,$B30="",$A30+F$3>340),"",IF(INDEX($B$5:$B$344,$A30+F$3)="","",IF(AND(YEAR($B30)=$B$2,YEAR(INDEX($B$5:$B$344,$A30+F$3-1))=$B$2),INDEX($B$5:$B$344,$A30+F$3)-INDEX($B$5:$B$344,$A30-1)-1,""))) | G30: =IF(OR($A30=1,$B30="",$A30+G$3>340),"",IF(INDEX($B$5:$B$344,$A30+G$3)="","",IF(AND(YEAR($B30)=$B$2,YEAR(INDEX($B$5:$B$344,$A30+G$3-1))=$B$2),INDEX($B$5:$B$344,$A30+G$3)-INDEX($B$5:$B$344,$A30-1)-1,""))) | H30: =IF(OR($A30=1,$B30="",$A30+H$3>340),"",IF(INDEX($B$5:$B$344,$A30+H$3)="","",IF(AND(YEAR($B30)=$B$2,YEAR(INDEX($B$5:$B$344,$A30+H$3-1))=$B$2),INDEX($B$5:$B$344,$A30+H$3)-INDEX($B$5:$B$344,$A30-1)-1,""))) | I30: =IF(OR($A30=1,$B30="",$A30+I$3>340),"",IF(INDEX($B$5:$B$344,$A30+I$3)="","",IF(AND(YEAR($B30)=$B$2,YEAR(INDEX($B$5:$B$344,$A30+I$3-1))=$B$2),INDEX($B$5:$B$344,$A30+I$3)-INDEX($B$5:$B$344,$A30-1)-1,""))) | J30: =IF(OR($A30=1,$B30="",$A30+J$3>340),"",IF(INDEX($B$5:$B$344,$A30+J$3)="","",IF(AND(YEAR($B30)=$B$2,YEAR(INDEX($B$5:$B$344,$A30+J$3-1))=$B$2),INDEX($B$5:$B$344,$A30+J$3)-INDEX($B$5:$B$344,$A30-1)-1,""))) | K30: =IF(OR($A30=1,$B30="",$A30+K$3>340),"",IF(INDEX($B$5:$B$344,$A30+K$3)="","",IF(AND(YEAR($B30)=$B$2,YEAR(INDEX($B$5:$B$344,$A30+K$3-1))=$B$2),INDEX($B$5:$B$344,$A30+K$3)-INDEX($B$5:$B$344,$A30-1)-1,""))) | ... M30: =IF(OR($A30=1,$B30="",$A30+M$3>340),"",IF(INDEX($B$5:$B$344,$A30+M$3)="","",IF(AND(YEAR($B30)=$B$2,YEAR(INDEX($B$5:$B$344,$A30+M$3-1))=$B$2),INDEX($B$5:$B$344,$A30+M$3)-INDEX($B$5:$B$344,$A30-1)-1,"")))
A31: 27 | B31: =IFERROR(INDEX('2_暦'!$A$7:$A$433,MATCH(A31,'2_暦'!$K$7:$K$433,0)),"") | C31: =IF(OR($A31=1,$B31=""),"",IF(OR(YEAR($B31-1)=$B$2,YEAR(INDEX($B$5:$B$344,$A31-1)+1)=$B$2),$B31-INDEX($B$5:$B$344,$A31-1)-1,"")) | D31: =IF(OR($A31=1,$B31="",$A31+D$3>340),"",IF(INDEX($B$5:$B$344,$A31+D$3)="","",IF(AND(YEAR($B31)=$B$2,YEAR(INDEX($B$5:$B$344,$A31+D$3-1))=$B$2),INDEX($B$5:$B$344,$A31+D$3)-INDEX($B$5:$B$344,$A31-1)-1,""))) | E31: =IF(OR($A31=1,$B31="",$A31+E$3>340),"",IF(INDEX($B$5:$B$344,$A31+E$3)="","",IF(AND(YEAR($B31)=$B$2,YEAR(INDEX($B$5:$B$344,$A31+E$3-1))=$B$2),INDEX($B$5:$B$344,$A31+E$3)-INDEX($B$5:$B$344,$A31-1)-1,""))) | F31: =IF(OR($A31=1,$B31="",$A31+F$3>340),"",IF(INDEX($B$5:$B$344,$A31+F$3)="","",IF(AND(YEAR($B31)=$B$2,YEAR(INDEX($B$5:$B$344,$A31+F$3-1))=$B$2),INDEX($B$5:$B$344,$A31+F$3)-INDEX($B$5:$B$344,$A31-1)-1,""))) | G31: =IF(OR($A31=1,$B31="",$A31+G$3>340),"",IF(INDEX($B$5:$B$344,$A31+G$3)="","",IF(AND(YEAR($B31)=$B$2,YEAR(INDEX($B$5:$B$344,$A31+G$3-1))=$B$2),INDEX($B$5:$B$344,$A31+G$3)-INDEX($B$5:$B$344,$A31-1)-1,""))) | H31: =IF(OR($A31=1,$B31="",$A31+H$3>340),"",IF(INDEX($B$5:$B$344,$A31+H$3)="","",IF(AND(YEAR($B31)=$B$2,YEAR(INDEX($B$5:$B$344,$A31+H$3-1))=$B$2),INDEX($B$5:$B$344,$A31+H$3)-INDEX($B$5:$B$344,$A31-1)-1,""))) | I31: =IF(OR($A31=1,$B31="",$A31+I$3>340),"",IF(INDEX($B$5:$B$344,$A31+I$3)="","",IF(AND(YEAR($B31)=$B$2,YEAR(INDEX($B$5:$B$344,$A31+I$3-1))=$B$2),INDEX($B$5:$B$344,$A31+I$3)-INDEX($B$5:$B$344,$A31-1)-1,""))) | J31: =IF(OR($A31=1,$B31="",$A31+J$3>340),"",IF(INDEX($B$5:$B$344,$A31+J$3)="","",IF(AND(YEAR($B31)=$B$2,YEAR(INDEX($B$5:$B$344,$A31+J$3-1))=$B$2),INDEX($B$5:$B$344,$A31+J$3)-INDEX($B$5:$B$344,$A31-1)-1,""))) | K31: =IF(OR($A31=1,$B31="",$A31+K$3>340),"",IF(INDEX($B$5:$B$344,$A31+K$3)="","",IF(AND(YEAR($B31)=$B$2,YEAR(INDEX($B$5:$B$344,$A31+K$3-1))=$B$2),INDEX($B$5:$B$344,$A31+K$3)-INDEX($B$5:$B$344,$A31-1)-1,""))) | ... M31: =IF(OR($A31=1,$B31="",$A31+M$3>340),"",IF(INDEX($B$5:$B$344,$A31+M$3)="","",IF(AND(YEAR($B31)=$B$2,YEAR(INDEX($B$5:$B$344,$A31+M$3-1))=$B$2),INDEX($B$5:$B$344,$A31+M$3)-INDEX($B$5:$B$344,$A31-1)-1,"")))
... A344: 340 | B344: =IFERROR(INDEX('2_暦'!$A$7:$A$433,MATCH(A344,'2_暦'!$K$7:$K$433,0)),"") | C344: =IF(OR($A344=1,$B344=""),"",IF(OR(YEAR($B344-1)=$B$2,YEAR(INDEX($B$5:$B$344,$A344-1)+1)=$B$2),$B344-INDEX($B$5:$B$344,$A344-1)-1,"")) | D344: =IF(OR($A344=1,$B344="",$A344+D$3>340),"",IF(INDEX($B$5:$B$344,$A344+D$3)="","",IF(AND(YEAR($B344)=$B$2,YEAR(INDEX($B$5:$B$344,$A344+D$3-1))=$B$2),INDEX($B$5:$B$344,$A344+D$3)-INDEX($B$5:$B$344,$A344-1)-1,""))) | E344: =IF(OR($A344=1,$B344="",$A344+E$3>340),"",IF(INDEX($B$5:$B$344,$A344+E$3)="","",IF(AND(YEAR($B344)=$B$2,YEAR(INDEX($B$5:$B$344,$A344+E$3-1))=$B$2),INDEX($B$5:$B$344,$A344+E$3)-INDEX($B$5:$B$344,$A344-1)-1,""))) | F344: =IF(OR($A344=1,$B344="",$A344+F$3>340),"",IF(INDEX($B$5:$B$344,$A344+F$3)="","",IF(AND(YEAR($B344)=$B$2,YEAR(INDEX($B$5:$B$344,$A344+F$3-1))=$B$2),INDEX($B$5:$B$344,$A344+F$3)-INDEX($B$5:$B$344,$A344-1)-1,""))) | G344: =IF(OR($A344=1,$B344="",$A344+G$3>340),"",IF(INDEX($B$5:$B$344,$A344+G$3)="","",IF(AND(YEAR($B344)=$B$2,YEAR(INDEX($B$5:$B$344,$A344+G$3-1))=$B$2),INDEX($B$5:$B$344,$A344+G$3)-INDEX($B$5:$B$344,$A344-1)-1,""))) | H344: =IF(OR($A344=1,$B344="",$A344+H$3>340),"",IF(INDEX($B$5:$B$344,$A344+H$3)="","",IF(AND(YEAR($B344)=$B$2,YEAR(INDEX($B$5:$B$344,$A344+H$3-1))=$B$2),INDEX($B$5:$B$344,$A344+H$3)-INDEX($B$5:$B$344,$A344-1)-1,""))) | I344: =IF(OR($A344=1,$B344="",$A344+I$3>340),"",IF(INDEX($B$5:$B$344,$A344+I$3)="","",IF(AND(YEAR($B344)=$B$2,YEAR(INDEX($B$5:$B$344,$A344+I$3-1))=$B$2),INDEX($B$5:$B$344,$A344+I$3)-INDEX($B$5:$B$344,$A344-1)-1,""))) | J344: =IF(OR($A344=1,$B344="",$A344+J$3>340),"",IF(INDEX($B$5:$B$344,$A344+J$3)="","",IF(AND(YEAR($B344)=$B$2,YEAR(INDEX($B$5:$B$344,$A344+J$3-1))=$B$2),INDEX($B$5:$B$344,$A344+J$3)-INDEX($B$5:$B$344,$A344-1)-1,""))) | K344: =IF(OR($A344=1,$B344="",$A344+K$3>340),"",IF(INDEX($B$5:$B$344,$A344+K$3)="","",IF(AND(YEAR($B344)=$B$2,YEAR(INDEX($B$5:$B$344,$A344+K$3-1))=$B$2),INDEX($B$5:$B$344,$A344+K$3)-INDEX($B$5:$B$344,$A344-1)-1,""))) | ... M344: =IF(OR($A344=1,$B344="",$A344+M$3>340),"",IF(INDEX($B$5:$B$344,$A344+M$3)="","",IF(AND(YEAR($B344)=$B$2,YEAR(INDEX($B$5:$B$344,$A344+M$3-1))=$B$2),INDEX($B$5:$B$344,$A344+M$3)-INDEX($B$5:$B$344,$A344-1)-1,"")))

Sheet 4_使い方
A1: 使い方
A3: 2_暦 のE列に、有給を取る日だけ 1 を入れる。J列にその日を含む連休の長さが出る。F4に今いちばん長い連休が出る。
A4: もとから休みの日に 1 を入れると、I列に「もとから休み」と出る。有給の日数には数えるが、休みは延びない。
A5: 2_暦 のB3を1にすると、12月29日から1月3日も休みとして数える。行政機関の休日に関する法律第1条と同じ決め方。
A6: 会社の休み（創立記念日、夏季休業など）は、1_祝日 のD列に日付を足す。
A8: 3_最長 は、有給をk日使ったときにいちばん長くなる連休を、k=0から10まで出す。E列の有給の入力とは関係なく、全部の取り方を数える。
A9: 出勤日を順に並べ、i番目からk日続けて有給にすると、連休は i-1番目の出勤日の翌日から i+k番目の出勤日の前日まで。
A10: 長さは（i+k番目の出勤日）−（i-1番目の出勤日）−1 で出る。D列からM列が、iごとのその長さ。
A11: 有給を飛び飛びに取ると、あいだに出勤日が残って連休が切れる。だから続けてk日取る場合だけ数えれば最長が見つかる。
A12: 数える年に入る有給だけを数え、連休は年をまたいでもよいことにしている。
A14: 祝日の一覧は2027年11月23日までしかない（内閣府のCSV）。2028年1月1日の元日だけは祝日法の日付から手で足した。
A15: 2028年の祝日は、例年2月ごろ内閣府のCSVに載る。載ったら 1_祝日 のA列の空いた行に足す。
... A24: 有給を取れる日は、会社の所定休日と時季変更権で変わる。この表は暦の上で数えたもの。
